{"text_format":"1","workbook":"xlsx","n_sheets":12,"sheets":["Read me - LAs","Level 1 Screening","Raw Areas","Flood map for planning","Present Day Fluvial","Fluvial + CC","Surface Water","Surface Water +CC","Reservoir extents","JBA Groundwater","Calculations","Sites"],"not_rendered":{"charts":0,"images":2,"macros":1,"external_links":0,"defined_names":4,"comments":16,"pivot_tables":0},"unopened":[],"bounds":{"document_bytes":16777216,"sheet_cells":100000,"rows_first":2000,"rows_last":500,"rows_between":2000,"halvings":0,"cell_chars":16384,"cell_head_chars":4096},"cells_cut":0,"cells_raw":0,"read":"whole","date_system":"1900"}

{"sheet":"Read me - LAs","index":0,"n_rows":16,"n_cols":3,"rows_kept":16,"cut":false,"hidden":true,"merged":[]}
[]
[]
[]
[]
[]
[]
[]
[null,null,"JBA Strategic Flood Risk Assessment Site Screening Tool - v1.0"]
[]
[null,null,"This spreadsheet has been designed to assist local authorities with the selection of development sites for inclusion within their local plan."]
[]
[null,null,"Note on calculations:"]
[null,null,"Site boundaries have been screened against flood risk information to determine the proportion of the site at risk.  The following flood risk information has been used in the assessment:\n●  Flood Zones - from the Environment Agency's Flood Map for Planning (hereafter named the 'Flood Map for Planning Flood Zones') and detailed hydraulic modelling (hereafter named 'SFRA Flood Zones'). \n●  Fluvial (river) flood risk plus climate change - detailed fluvial modelling with the appropriate climate change allowances (Central, Higher Central and Upper End) applied.\n●  Surface Water (present day) - from the Environment Agency's Risk of Flooding from Surface Water dataset. \n●  Surface Water (climate change) - climate change uplifts applied to the Environment Agency's Risk of Flooding from Surface Water dataset. \n●  Historic Flooding - from the Environment Agency's Historic Flood Map and Kent County Council's Flood Incident Database.\n●  Reservoirs - from the Environment Agency's Reservoir Flood Extents for a 'Dry Day' and 'Wet Day.'\n●  JBA Groundwater Flood Risk Dataset - Where groundwater levels are either at or very near (within 0.025m of) the ground surface or between 0.025m and 0.5m below the ground surface.\n●  Groundwater Pathways - derived from the JBA Groundwater and Risk of Flooding from Surface Water flow paths. \n●  Historic Flooding - from the Environment Agency's Historic Flood Map, and flooding incidents within 50m of recorded incidents in Kent County Council's Flood Incident Database. \n\nFurther details about the datasets used for this assessment can be found within the main SFRA report."]
[]
[null,null,"Note on SFRA Flood Zone percentages:"]
[null,null,"The values quoted in the Level 1 Screening tab show the percentage of the site at flood risk from that particular SFRA Flood Zone, excluding the percentage of the site at flood risk at a higher zone.  \nFor example\n60% of a site is within the SFRA Flood Zones.  Taking each Flood Zone individually, 60% is in Flood Zone 2 but only 30% is in Flood Zone 3a and only 10% is in Flood Zone 3b.\nIn the Level 1 Screening tab this will be displayed as 10% in Flood Zone 3b, 20% in Flood Zone 3a (as this excludes the 10% in Flood Zone 3b), 30% in Flood Zone 2 (as this excludes the 10% in Flood Zone 3b and 20% in Flood Zone 3a) and 40% in Flood Zone 1."]

{"sheet":"Level 1 Screening","index":1,"n_rows":302,"n_cols":25,"rows_kept":302,"cut":false,"hidden":false,"merged":[[1,24,2,24],[1,6,1,9],[0,0,2,0],[0,1,2,1],[0,2,2,2],[1,10,1,12],[0,3,0,23],[1,20,1,21],[1,13,1,15],[1,18,1,19],[1,16,1,17],[1,3,1,5]]}
["Site Reference","Site Name","Area (ha)","Proportion of site shown to be at risk (%)"]
[null,null,null,"Flood Map for Planning Flood Zones",null,null,"SFRA Flood Zones",null,null,null,"Fluvial Flood Risk plus climate change",null,null,"Environment Agency Risk of Flooding from Surface Water",null,null,"Environment Agency Risk of Flooding from Surface Water plus climate change",null,"Environment Agency Reservoir Flood Extent",null,"JBA Groundwater Flood Risk Dataset",null,"Groundwater Pathways","Historic Flooding","Sandwell Metropolitan Borough Council Comment"]
[null,null,null,"FZ1","FZ2","FZ3","FZ1","FZ2","FZ3a","FZ3b","FZ3a plus Central","FZ3a plus Higher Central","FZ3b plus Upper End","3.3% AEP","1% AEP","0.1% AEP","3.3%AEP+35","1%AEP +45%","Dry Day","Wet day","Groundwater levels are either at or very near (within 0.025m of) the ground surface","Groundwater levels between 0.025m and 0.5m below the ground surface","JBA Groundwater with Surface Water flow paths","EA Historic Flood Map"]
["SEC3-86",null,4.1029999999999998,{"$f":"'Flood map for planning'!O2","v":1},{"$f":"'Flood map for planning'!P2","v":0},{"$f":"'Flood map for planning'!Q2","v":0},{"$f":"'Present Day Fluvial'!P2","v":1},{"$f":"'Present Day Fluvial'!S2","v":0},{"$f":"'Present Day Fluvial'!R2","v":0},{"$f":"'Present Day Fluvial'!Q2","v":0},{"$f":"'Fluvial + CC'!J2","v":0},{"$f":"'Fluvial + CC'!K2","v":0},{"$f":"'Fluvial + CC'!L2","v":0},{"$f":"'Surface Water'!S2","v":4.9945599339135602E-3},{"$f":"'Surface Water'!T2","v":1.0916293829444638E-2},{"$f":"'Surface Water'!U2","v":0.14796900486739578},{"$f":"'Surface Water +CC'!I2","v":3.7087286935061102E-2},{"$f":"'Surface Water +CC'!J2","v":0.16280655756742798},{"$f":"'Reservoir extents'!P2","v":0},{"$f":"'Reservoir extents'!Q2","v":0},0,0,null,0]
["SCE4-9",null,0.35899999999999999,{"$f":"'Flood map for planning'!O3","v":1},{"$f":"'Flood map for planning'!P3","v":0},{"$f":"'Flood map for planning'!Q3","v":0},{"$f":"'Present Day Fluvial'!P3","v":1},{"$f":"'Present Day Fluvial'!S3","v":0},{"$f":"'Present Day Fluvial'!R3","v":0},{"$f":"'Present Day Fluvial'!Q3","v":0},{"$f":"'Fluvial + CC'!J3","v":0},{"$f":"'Fluvial + CC'!K3","v":0},{"$f":"'Fluvial + CC'!L3","v":0},{"$f":"'Surface Water'!S3","v":0},{"$f":"'Surface Water'!T3","v":0},{"$f":"'Surface Water'!U3","v":3.7083423226009002E-4},{"$f":"'Surface Water +CC'!I3","v":8.1227165341721895E-5},{"$f":"'Surface Water +CC'!J3","v":3.7083388152375004E-4},{"$f":"'Reservoir extents'!P3","v":0},{"$f":"'Reservoir extents'!Q3","v":0},0,0,null,0]
["SEC4-2","10-60 Dudley Rd East, Oldbury (3224)",2.0590000000000002,{"$f":"'Flood map for planning'!O4","v":1},{"$f":"'Flood map for planning'!P4","v":0},{"$f":"'Flood map for planning'!Q4","v":0},{"$f":"'Present Day Fluvial'!P4","v":1},{"$f":"'Present Day Fluvial'!S4","v":0},{"$f":"'Present Day Fluvial'!R4","v":0},{"$f":"'Present Day Fluvial'!Q4","v":0},{"$f":"'Fluvial + CC'!J4","v":0},{"$f":"'Fluvial + CC'!K4","v":0},{"$f":"'Fluvial + CC'!L4","v":0},{"$f":"'Surface Water'!S4","v":1.634865701084E-5},{"$f":"'Surface Water'!T4","v":2.4522770762173358E-2},{"$f":"'Surface Water'!U4","v":6.53155910994212E-2},{"$f":"'Surface Water +CC'!I4","v":4.9101823621320796E-2},{"$f":"'Surface Water +CC'!J4","v":9.2355566511235596E-2},{"$f":"'Reservoir extents'!P4","v":0},{"$f":"'Reservoir extents'!Q4","v":0},0,0,null,0]
["SEC3-165","230 Oldbury Rd (3016)",1.5269999999999999,{"$f":"'Flood map for planning'!O5","v":1},{"$f":"'Flood map for planning'!P5","v":0},{"$f":"'Flood map for planning'!Q5","v":0},{"$f":"'Present Day Fluvial'!P5","v":1},{"$f":"'Present Day Fluvial'!S5","v":0},{"$f":"'Present Day Fluvial'!R5","v":0},{"$f":"'Present Day Fluvial'!Q5","v":0},{"$f":"'Fluvial + CC'!J5","v":0},{"$f":"'Fluvial + CC'!K5","v":0},{"$f":"'Fluvial + CC'!L5","v":0},{"$f":"'Surface Water'!S5","v":0},{"$f":"'Surface Water'!T5","v":1.3370127405901999E-2},{"$f":"'Surface Water'!U5","v":4.0215617311487997E-2},{"$f":"'Surface Water +CC'!I5","v":4.30388153218762E-2},{"$f":"'Surface Water +CC'!J5","v":5.4634382216353597E-2},{"$f":"'Reservoir extents'!P5","v":0},{"$f":"'Reservoir extents'!Q5","v":0},0,0,null,0]
["SEC4-3","70-74 Crankhall Lane",1.7589999999999999,{"$f":"'Flood map for planning'!O6","v":1},{"$f":"'Flood map for planning'!P6","v":0},{"$f":"'Flood map for planning'!Q6","v":0},{"$f":"'Present Day Fluvial'!P6","v":1},{"$f":"'Present Day Fluvial'!S6","v":0},{"$f":"'Present Day Fluvial'!R6","v":0},{"$f":"'Present Day Fluvial'!Q6","v":0},{"$f":"'Fluvial + CC'!J6","v":0},{"$f":"'Fluvial + CC'!K6","v":0},{"$f":"'Fluvial + CC'!L6","v":0},{"$f":"'Surface Water'!S6","v":0},{"$f":"'Surface Water'!T6","v":1.35987131651947E-2},{"$f":"'Surface Water'!U6","v":1.9117608029972404E-2},{"$f":"'Surface Water +CC'!I6","v":2.2702336030226998E-2},{"$f":"'Surface Water +CC'!J6","v":3.27245290835496E-2},{"$f":"'Reservoir extents'!P6","v":0},{"$f":"'Reservoir extents'!Q6","v":0},0,0,null,0]
["SEC3-106","Aeroplas and Olympus Distribution, Great Western Way, Great Bridge",4.7839999999999998,{"$f":"'Flood map for planning'!O7","v":0.74497025055569499},{"$f":"'Flood map for planning'!P7","v":0.2512377445524121},{"$f":"'Flood map for planning'!Q7","v":3.7920048918928901E-3},{"$f":"'Present Day Fluvial'!P7","v":0.74497429514123903},{"$f":"'Present Day Fluvial'!S7","v":0.25123337970760473},{"$f":"'Present Day Fluvial'!R7","v":7.3296636659012961E-4},{"$f":"'Present Day Fluvial'!Q7","v":3.0593587845660903E-3},{"$f":"'Fluvial + CC'!J7","v":7.2494980132937203E-3},{"$f":"'Fluvial + CC'!K7","v":0.25502974942041701},{"$f":"'Fluvial + CC'!L7","v":3.79232515115622E-3},{"$f":"'Surface Water'!S7","v":2.3430636157411701E-3},{"$f":"'Surface Water'!T7","v":2.753099769137923E-2},{"$f":"'Surface Water'!U7","v":6.3536313681346018E-2},{"$f":"'Surface Water +CC'!I7","v":5.8104597387841503E-2},{"$f":"'Surface Water +CC'!J7","v":9.2229853481261198E-2},{"$f":"'Reservoir extents'!P7","v":0.136374141454838},{"$f":"'Reservoir extents'!Q7","v":0},0,0,null,0]
["SEC3-41","Albion Industrial Estate",9.0500000000000007,{"$f":"'Flood map for planning'!O8","v":0.58866367572056499},{"$f":"'Flood map for planning'!P8","v":0.41133632427943501},{"$f":"'Flood map for planning'!Q8","v":0},{"$f":"'Present Day Fluvial'!P8","v":0.94303814109636852},{"$f":"'Present Day Fluvial'!S8","v":5.69618589036315E-2},{"$f":"'Present Day Fluvial'!R8","v":0},{"$f":"'Present Day Fluvial'!Q8","v":0},{"$f":"'Fluvial + CC'!J8","v":1.7405699183021999E-4},{"$f":"'Fluvial + CC'!K8","v":0.41133632438505802},{"$f":"'Fluvial + CC'!L8","v":0},{"$f":"'Surface Water'!S8","v":3.2291389742479196E-3},{"$f":"'Surface Water'!T8","v":1.4293333523908181E-2},{"$f":"'Surface Water'!U8","v":6.1531056782867702E-2},{"$f":"'Surface Water +CC'!I8","v":4.7133893392453698E-2},{"$f":"'Surface Water +CC'!J8","v":8.1958670310003812E-2},{"$f":"'Reservoir extents'!P8","v":0},{"$f":"'Reservoir extents'!Q8","v":0},0,0,null,0]
["SEC3-182","Albion Road",0.91300000000000003,{"$f":"'Flood map for planning'!O9","v":1},{"$f":"'Flood map for planning'!P9","v":0},{"$f":"'Flood map for planning'!Q9","v":0},{"$f":"'Present Day Fluvial'!P9","v":1},{"$f":"'Present Day Fluvial'!S9","v":0},{"$f":"'Present Day Fluvial'!R9","v":0},{"$f":"'Present Day Fluvial'!Q9","v":0},{"$f":"'Fluvial + CC'!J9","v":0},{"$f":"'Fluvial + CC'!K9","v":0},{"$f":"'Fluvial + CC'!L9","v":0},{"$f":"'Surface Water'!S9","v":0},{"$f":"'Surface Water'!T9","v":5.6843251783124396E-2},{"$f":"'Surface Water'!U9","v":0.24859815017877462},{"$f":"'Surface Water +CC'!I9","v":0.15341148592791298},{"$f":"'Surface Water +CC'!J9","v":0.30500302077063801},{"$f":"'Reservoir extents'!P9","v":0},{"$f":"'Reservoir extents'!Q9","v":0},0,0,null,0]
["SEC3-9","Alexandra Ind Est, Locarno Rd/ Alexandra Rd, Tipto",1.875,{"$f":"'Flood map for planning'!O10","v":1},{"$f":"'Flood map for planning'!P10","v":0},{"$f":"'Flood map for planning'!Q10","v":0},{"$f":"'Present Day Fluvial'!P10","v":1},{"$f":"'Present Day Fluvial'!S10","v":0},{"$f":"'Present Day Fluvial'!R10","v":0},{"$f":"'Present Day Fluvial'!Q10","v":0},{"$f":"'Fluvial + CC'!J10","v":0},{"$f":"'Fluvial + CC'!K10","v":0},{"$f":"'Fluvial + CC'!L10","v":0},{"$f":"'Surface Water'!S10","v":0},{"$f":"'Surface Water'!T10","v":1.94238015330741E-2},{"$f":"'Surface Water'!U10","v":5.9483743132378392E-2},{"$f":"'Surface Water +CC'!I10","v":4.3425271004991099E-2},{"$f":"'Surface Water +CC'!J10","v":8.5426531971478911E-2},{"$f":"'Reservoir extents'!P10","v":0},{"$f":"'Reservoir extents'!Q10","v":0},0,0,null,0]
["SEC3-64","Alexandra Ind Est/Locarno Road, Tipton",2.5680000000000001,{"$f":"'Flood map for planning'!O11","v":1},{"$f":"'Flood map for planning'!P11","v":0},{"$f":"'Flood map for planning'!Q11","v":0},{"$f":"'Present Day Fluvial'!P11","v":1},{"$f":"'Present Day Fluvial'!S11","v":0},{"$f":"'Present Day Fluvial'!R11","v":0},{"$f":"'Present Day Fluvial'!Q11","v":0},{"$f":"'Fluvial + CC'!J11","v":0},{"$f":"'Fluvial + CC'!K11","v":0},{"$f":"'Fluvial + CC'!L11","v":0},{"$f":"'Surface Water'!S11","v":2.5457093814651999E-3},{"$f":"'Surface Water'!T11","v":6.7578164117478006E-3},{"$f":"'Surface Water'!U11","v":7.5934199857516788E-2},{"$f":"'Surface Water +CC'!I11","v":3.8681360703350799E-2},{"$f":"'Surface Water +CC'!J11","v":8.4907994895505504E-2},{"$f":"'Reservoir extents'!P11","v":0},{"$f":"'Reservoir extents'!Q11","v":0},0,0,null,0]
["SEC3-93","Alma Street, Smethwick",4.726,{"$f":"'Flood map for planning'!O12","v":1},{"$f":"'Flood map for planning'!P12","v":0},{"$f":"'Flood map for planning'!Q12","v":0},{"$f":"'Present Day Fluvial'!P12","v":1},{"$f":"'Present Day Fluvial'!S12","v":0},{"$f":"'Present Day Fluvial'!R12","v":0},{"$f":"'Present Day Fluvial'!Q12","v":0},{"$f":"'Fluvial + CC'!J12","v":0},{"$f":"'Fluvial + CC'!K12","v":0},{"$f":"'Fluvial + CC'!L12","v":0},{"$f":"'Surface Water'!S12","v":0},{"$f":"'Surface Water'!T12","v":3.5343066805514499E-3},{"$f":"'Surface Water'!U12","v":9.5917592663127854E-2},{"$f":"'Surface Water +CC'!I12","v":4.3443607638732902E-2},{"$f":"'Surface Water +CC'!J12","v":0.105895035012374},{"$f":"'Reservoir extents'!P12","v":2.49771937283266E-3},{"$f":"'Reservoir extents'!Q12","v":0},0.30634275013733903,0.44902613715168099,null,0]
["SEC3-137","Alutrade, Tat Bank Road",2.7050000000000001,{"$f":"'Flood map for planning'!O13","v":1},{"$f":"'Flood map for planning'!P13","v":0},{"$f":"'Flood map for planning'!Q13","v":0},{"$f":"'Present Day Fluvial'!P13","v":1},{"$f":"'Present Day Fluvial'!S13","v":0},{"$f":"'Present Day Fluvial'!R13","v":0},{"$f":"'Present Day Fluvial'!Q13","v":0},{"$f":"'Fluvial + CC'!J13","v":0},{"$f":"'Fluvial + CC'!K13","v":0},{"$f":"'Fluvial + CC'!L13","v":0},{"$f":"'Surface Water'!S13","v":0},{"$f":"'Surface Water'!T13","v":1.36425645076E-5},{"$f":"'Surface Water'!U13","v":4.2968847315982403E-3},{"$f":"'Surface Water +CC'!I13","v":3.5686735237718896E-3},{"$f":"'Surface Water +CC'!J13","v":4.5245866205760599E-3},{"$f":"'Reservoir extents'!P13","v":0},{"$f":"'Reservoir extents'!Q13","v":0},0,0,null,0]
["SEC3-30","Arnold Laver, Dudley Rd East, Oldbury (2944",1.0049999999999999,{"$f":"'Flood map for planning'!O14","v":1},{"$f":"'Flood map for planning'!P14","v":0},{"$f":"'Flood map for planning'!Q14","v":0},{"$f":"'Present Day Fluvial'!P14","v":1},{"$f":"'Present Day Fluvial'!S14","v":0},{"$f":"'Present Day Fluvial'!R14","v":0},{"$f":"'Present Day Fluvial'!Q14","v":0},{"$f":"'Fluvial + CC'!J14","v":0},{"$f":"'Fluvial + CC'!K14","v":0},{"$f":"'Fluvial + CC'!L14","v":0},{"$f":"'Surface Water'!S14","v":0},{"$f":"'Surface Water'!T14","v":4.1511191966014998E-3},{"$f":"'Surface Water'!U14","v":9.3809854991083984E-3},{"$f":"'Surface Water +CC'!I14","v":5.2948139378409297E-3},{"$f":"'Surface Water +CC'!J14","v":2.3314405879987898E-2},{"$f":"'Reservoir extents'!P14","v":0},{"$f":"'Reservoir extents'!Q14","v":0},0,0,null,0]
["SEC3-62","Autobase, Dudley Road, Oldbury",16.605,{"$f":"'Flood map for planning'!O15","v":1},{"$f":"'Flood map for planning'!P15","v":0},{"$f":"'Flood map for planning'!Q15","v":0},{"$f":"'Present Day Fluvial'!P15","v":1},{"$f":"'Present Day Fluvial'!S15","v":0},{"$f":"'Present Day Fluvial'!R15","v":0},{"$f":"'Present Day Fluvial'!Q15","v":0},{"$f":"'Fluvial + CC'!J15","v":0},{"$f":"'Fluvial + CC'!K15","v":0},{"$f":"'Fluvial + CC'!L15","v":0},{"$f":"'Surface Water'!S15","v":6.74720961269085E-3},{"$f":"'Surface Water'!T15","v":3.3768691279852048E-2},{"$f":"'Surface Water'!U15","v":0.1958862543496441},{"$f":"'Surface Water +CC'!I15","v":0.12554251204071198},{"$f":"'Surface Water +CC'!J15","v":0.23416013905475799},{"$f":"'Reservoir extents'!P15","v":0},{"$f":"'Reservoir extents'!Q15","v":0},0,0,null,0]
["SEC3-128","Barnfield Trading Est Tipton (5450)",2.2690000000000001,{"$f":"'Flood map for planning'!O16","v":0.19604159082526396},{"$f":"'Flood map for planning'!P16","v":0.80395840917473604},{"$f":"'Flood map for planning'!Q16","v":0},{"$f":"'Present Day Fluvial'!P16","v":0.19617330289147605},{"$f":"'Present Day Fluvial'!S16","v":0.80382669710852395},{"$f":"'Present Day Fluvial'!R16","v":0},{"$f":"'Present Day Fluvial'!Q16","v":0},{"$f":"'Fluvial + CC'!J16","v":0.24030798667769201},{"$f":"'Fluvial + CC'!K16","v":0.80395840919091199},{"$f":"'Fluvial + CC'!L16","v":0},{"$f":"'Surface Water'!S16","v":1.4518689664671701E-2},{"$f":"'Surface Water'!T16","v":2.0651104999493401E-2},{"$f":"'Surface Water'!U16","v":0.30379696097442094},{"$f":"'Surface Water +CC'!I16","v":0.20211350835953301},{"$f":"'Surface Water +CC'!J16","v":0.398982987913158},{"$f":"'Reservoir extents'!P16","v":0},{"$f":"'Reservoir extents'!Q16","v":0},0,0,null,0]
["SEC3-151","Beakes Road, Bearwood (825)",0.69699999999999995,{"$f":"'Flood map for planning'!O17","v":1},{"$f":"'Flood map for planning'!P17","v":0},{"$f":"'Flood map for planning'!Q17","v":0},{"$f":"'Present Day Fluvial'!P17","v":1},{"$f":"'Present Day Fluvial'!S17","v":0},{"$f":"'Present Day Fluvial'!R17","v":0},{"$f":"'Present Day Fluvial'!Q17","v":0},{"$f":"'Fluvial + CC'!J17","v":0},{"$f":"'Fluvial + CC'!K17","v":0},{"$f":"'Fluvial + CC'!L17","v":0},{"$f":"'Surface Water'!S17","v":0},{"$f":"'Surface Water'!T17","v":2.5804495673699997E-5},{"$f":"'Surface Water'!U17","v":1.4851989857011499E-3},{"$f":"'Surface Water +CC'!I17","v":4.9218010353985697E-4},{"$f":"'Surface Water +CC'!J17","v":2.1729214173439502E-3},{"$f":"'Reservoir extents'!P17","v":0},{"$f":"'Reservoir extents'!Q17","v":0},0,1,null,0]
["SEC3-152","Beakes Road, Bearwood (826)",0.92600000000000005,{"$f":"'Flood map for planning'!O18","v":1},{"$f":"'Flood map for planning'!P18","v":0},{"$f":"'Flood map for planning'!Q18","v":0},{"$f":"'Present Day Fluvial'!P18","v":1},{"$f":"'Present Day Fluvial'!S18","v":0},{"$f":"'Present Day Fluvial'!R18","v":0},{"$f":"'Present Day Fluvial'!Q18","v":0},{"$f":"'Fluvial + CC'!J18","v":0},{"$f":"'Fluvial + CC'!K18","v":0},{"$f":"'Fluvial + CC'!L18","v":0},{"$f":"'Surface Water'!S18","v":0},{"$f":"'Surface Water'!T18","v":0},{"$f":"'Surface Water'!U18","v":0.22513055169906998},{"$f":"'Surface Water +CC'!I18","v":3.4544806059210897E-2},{"$f":"'Surface Water +CC'!J18","v":0.25561752595697301},{"$f":"'Reservoir extents'!P18","v":0},{"$f":"'Reservoir extents'!Q18","v":0},0,1,null,0]
["SEC3-16","Bescot Industrial Estate, Wednesbury",7.9219999999999997,{"$f":"'Flood map for planning'!O19","v":1},{"$f":"'Flood map for planning'!P19","v":0},{"$f":"'Flood map for planning'!Q19","v":0},{"$f":"'Present Day Fluvial'!P19","v":1},{"$f":"'Present Day Fluvial'!S19","v":0},{"$f":"'Present Day Fluvial'!R19","v":0},{"$f":"'Present Day Fluvial'!Q19","v":0},{"$f":"'Fluvial + CC'!J19","v":0},{"$f":"'Fluvial + CC'!K19","v":0},{"$f":"'Fluvial + CC'!L19","v":0},{"$f":"'Surface Water'!S19","v":6.3304876323823601E-3},{"$f":"'Surface Water'!T19","v":7.2728631912102387E-3},{"$f":"'Surface Water'!U19","v":9.37512990369814E-2},{"$f":"'Surface Water +CC'!I19","v":3.1688489469021898E-2},{"$f":"'Surface Water +CC'!J19","v":0.106445019225204},{"$f":"'Reservoir extents'!P19","v":0},{"$f":"'Reservoir extents'!Q19","v":0},0,0,null,0]
["SEC3-138","Bevan Motor Bodies, Blakeley Hall Road",0.91200000000000003,{"$f":"'Flood map for planning'!O20","v":1},{"$f":"'Flood map for planning'!P20","v":0},{"$f":"'Flood map for planning'!Q20","v":0},{"$f":"'Present Day Fluvial'!P20","v":1},{"$f":"'Present Day Fluvial'!S20","v":0},{"$f":"'Present Day Fluvial'!R20","v":0},{"$f":"'Present Day Fluvial'!Q20","v":0},{"$f":"'Fluvial + CC'!J20","v":0},{"$f":"'Fluvial + CC'!K20","v":0},{"$f":"'Fluvial + CC'!L20","v":0},{"$f":"'Surface Water'!S20","v":0},{"$f":"'Surface Water'!T20","v":0},{"$f":"'Surface Water'!U20","v":6.5180871511549901E-3},{"$f":"'Surface Water +CC'!I20","v":2.2008168232272298E-3},{"$f":"'Surface Water +CC'!J20","v":3.6099712207221801E-2},{"$f":"'Reservoir extents'!P20","v":0},{"$f":"'Reservoir extents'!Q20","v":0},0,0,null,0]
["SEC3-90","Birchley, Oldbury",7.03,{"$f":"'Flood map for planning'!O21","v":0.46861561583501299},{"$f":"'Flood map for planning'!P21","v":0.20232279680348803},{"$f":"'Flood map for planning'!Q21","v":0.32906158736149899},{"$f":"'Present Day Fluvial'!P21","v":0.48662030149385205},{"$f":"'Present Day Fluvial'!S21","v":0.20132684706068993},{"$f":"'Present Day Fluvial'!R21","v":7.5661089813726018E-2},{"$f":"'Present Day Fluvial'!Q21","v":0.23639176163173201},{"$f":"'Fluvial + CC'!J21","v":0.36153436735225597},{"$f":"'Fluvial + CC'!K21","v":0.53139591386773399},{"$f":"'Fluvial + CC'!L21","v":0.32882835613808903},{"$f":"'Surface Water'!S21","v":4.4701393558837704E-2},{"$f":"'Surface Water'!T21","v":7.3443627330199296E-2},{"$f":"'Surface Water'!U21","v":0.22920852474893699},{"$f":"'Surface Water +CC'!I21","v":0.22462394866951199},{"$f":"'Surface Water +CC'!J21","v":0.35871767846851699},{"$f":"'Reservoir extents'!P21","v":0},{"$f":"'Reservoir extents'!Q21","v":0},0,0,null,0]
["EMP2-9","Black Country New Road, Wednesbury (Hallens Drive)",44.042999999999999,{"$f":"'Flood map for planning'!O22","v":0.79587050140024207},{"$f":"'Flood map for planning'!P22","v":0.167440462396027},{"$f":"'Flood map for planning'!Q22","v":3.6689036203730999E-2},{"$f":"'Present Day Fluvial'!P22","v":1},{"$f":"'Present Day Fluvial'!S22","v":0},{"$f":"'Present Day Fluvial'!R22","v":0},{"$f":"'Present Day Fluvial'!Q22","v":0},{"$f":"'Fluvial + CC'!J22","v":0},{"$f":"'Fluvial + CC'!K22","v":0.20412949862340898},{"$f":"'Fluvial + CC'!L22","v":0},{"$f":"'Surface Water'!S22","v":6.8736523109200094E-3},{"$f":"'Surface Water'!T22","v":2.378382351701629E-2},{"$f":"'Surface Water'!U22","v":0.12042009567128872},{"$f":"'Surface Water +CC'!I22","v":8.2560387972565208E-2},{"$f":"'Surface Water +CC'!J22","v":0.15143288175264299},{"$f":"'Reservoir extents'!P22","v":0},{"$f":"'Reservoir extents'!Q22","v":0},9.0773579528023091E-2,0,null,0]
["EMP2-10","Black Country New Road/ Pacific Avenue",23.117999999999999,{"$f":"'Flood map for planning'!O23","v":0.57560587168134802},{"$f":"'Flood map for planning'!P23","v":0.15177213881655},{"$f":"'Flood map for planning'!Q23","v":0.27262198950210198},{"$f":"'Present Day Fluvial'!P23","v":0.89808435797066599},{"$f":"'Present Day Fluvial'!S23","v":9.7819047893803954E-2},{"$f":"'Present Day Fluvial'!R23","v":1.0849388600097493E-3},{"$f":"'Present Day Fluvial'!Q23","v":3.0116552755202904E-3},{"$f":"'Fluvial + CC'!J23","v":9.8881820374761096E-3},{"$f":"'Fluvial + CC'!K23","v":0.42287356178339996},{"$f":"'Fluvial + CC'!L23","v":4.0965941355300397E-3},{"$f":"'Surface Water'!S23","v":1.03983106441582E-2},{"$f":"'Surface Water'!T23","v":1.6465965063252701E-2},{"$f":"'Surface Water'!U23","v":0.13770526176888209},{"$f":"'Surface Water +CC'!I23","v":6.3539301718850791E-2},{"$f":"'Surface Water +CC'!J23","v":0.15235098691330098},{"$f":"'Reservoir extents'!P23","v":6.3459918756462606E-4},{"$f":"'Reservoir extents'!Q23","v":0},0,0,null,0]
["EMP2-13","Black Country New Road/Golds Hill, Tipton",15.132999999999999,{"$f":"'Flood map for planning'!O24","v":0.76922441529006402},{"$f":"'Flood map for planning'!P24","v":0.16855793723320112},{"$f":"'Flood map for planning'!Q24","v":6.2217647476734896E-2},{"$f":"'Present Day Fluvial'!P24","v":0.76990365934754201},{"$f":"'Present Day Fluvial'!S24","v":0.16787429854570429},{"$f":"'Present Day Fluvial'!R24","v":6.1214390431508989E-3},{"$f":"'Present Day Fluvial'!Q24","v":5.6100603063602802E-2},{"$f":"'Fluvial + CC'!J24","v":7.8029344992036301E-2},{"$f":"'Fluvial + CC'!K24","v":0.23019458096099299},{"$f":"'Fluvial + CC'!L24","v":6.2222042106753701E-2},{"$f":"'Surface Water'!S24","v":1.7266842898077801E-2},{"$f":"'Surface Water'!T24","v":2.4117445078108004E-2},{"$f":"'Surface Water'!U24","v":8.164003874082619E-2},{"$f":"'Surface Water +CC'!I24","v":8.3589156264149395E-2},{"$f":"'Surface Water +CC'!J24","v":0.12246857647946101},{"$f":"'Reservoir extents'!P24","v":0.11342198400570699},{"$f":"'Reservoir extents'!Q24","v":0},0,0,null,0]
["SEC3-130","Bloomfield Park",5.1470000000000002,{"$f":"'Flood map for planning'!O25","v":0.99844838764814059},{"$f":"'Flood map for planning'!P25","v":1.55161235185936E-3},{"$f":"'Flood map for planning'!Q25","v":0},{"$f":"'Present Day Fluvial'!P25","v":0.99845274767383296},{"$f":"'Present Day Fluvial'!S25","v":1.54725232616704E-3},{"$f":"'Present Day Fluvial'!R25","v":0},{"$f":"'Present Day Fluvial'!Q25","v":0},{"$f":"'Fluvial + CC'!J25","v":0},{"$f":"'Fluvial + CC'!K25","v":1.55161235185936E-3},{"$f":"'Fluvial + CC'!L25","v":0},{"$f":"'Surface Water'!S25","v":2.2209879008747001E-2},{"$f":"'Surface Water'!T25","v":4.2179033163444977E-3},{"$f":"'Surface Water'!U25","v":4.5149678240356296E-2},{"$f":"'Surface Water +CC'!I25","v":5.2075393746603298E-2},{"$f":"'Surface Water +CC'!J25","v":7.6880517752575497E-2},{"$f":"'Reservoir extents'!P25","v":2.9534679095497003E-3},{"$f":"'Reservoir extents'!Q25","v":0},0,0,null,0]
["SEC3-19","Brades Road, Oldbury (Pearsall Drive)",7.03,{"$f":"'Flood map for planning'!O26","v":1},{"$f":"'Flood map for planning'!P26","v":0},{"$f":"'Flood map for planning'!Q26","v":0},{"$f":"'Present Day Fluvial'!P26","v":1},{"$f":"'Present Day Fluvial'!S26","v":0},{"$f":"'Present Day Fluvial'!R26","v":0},{"$f":"'Present Day Fluvial'!Q26","v":0},{"$f":"'Fluvial + CC'!J26","v":0},{"$f":"'Fluvial + CC'!K26","v":0},{"$f":"'Fluvial + CC'!L26","v":0},{"$f":"'Surface Water'!S26","v":2.8257345178865498E-2},{"$f":"'Surface Water'!T26","v":9.4182772747101504E-2},{"$f":"'Surface Water'!U26","v":0.13015387405175699},{"$f":"'Surface Water +CC'!I26","v":0.18940454546826299},{"$f":"'Surface Water +CC'!J26","v":0.29000115560466899},{"$f":"'Reservoir extents'!P26","v":0},{"$f":"'Reservoir extents'!Q26","v":0},0,0,null,0]
["SEC3-113","Brandon Way (east side)",0.47,{"$f":"'Flood map for planning'!O27","v":1},{"$f":"'Flood map for planning'!P27","v":0},{"$f":"'Flood map for planning'!Q27","v":0},{"$f":"'Present Day Fluvial'!P27","v":1},{"$f":"'Present Day Fluvial'!S27","v":0},{"$f":"'Present Day Fluvial'!R27","v":0},{"$f":"'Present Day Fluvial'!Q27","v":0},{"$f":"'Fluvial + CC'!J27","v":0},{"$f":"'Fluvial + CC'!K27","v":0},{"$f":"'Fluvial + CC'!L27","v":0},{"$f":"'Surface Water'!S27","v":0},{"$f":"'Surface Water'!T27","v":0},{"$f":"'Surface Water'!U27","v":0.203481956749166},{"$f":"'Surface Water +CC'!I27","v":4.7784747973913105E-2},{"$f":"'Surface Water +CC'!J27","v":0.19722352954675601},{"$f":"'Reservoir extents'!P27","v":0},{"$f":"'Reservoir extents'!Q27","v":0},0,0,null,0]
["SEC3-154","Brandon Way / Albion Rd, WB (2385 / WBPr32)",6.2249999999999996,{"$f":"'Flood map for planning'!O28","v":1},{"$f":"'Flood map for planning'!P28","v":0},{"$f":"'Flood map for planning'!Q28","v":0},{"$f":"'Present Day Fluvial'!P28","v":1},{"$f":"'Present Day Fluvial'!S28","v":0},{"$f":"'Present Day Fluvial'!R28","v":0},{"$f":"'Present Day Fluvial'!Q28","v":0},{"$f":"'Fluvial + CC'!J28","v":0},{"$f":"'Fluvial + CC'!K28","v":0},{"$f":"'Fluvial + CC'!L28","v":0},{"$f":"'Surface Water'!S28","v":2.3149267483515102E-3},{"$f":"'Surface Water'!T28","v":1.2989311267909292E-2},{"$f":"'Surface Water'!U28","v":4.9674121841828699E-2},{"$f":"'Surface Water +CC'!I28","v":3.55311525171986E-2},{"$f":"'Surface Water +CC'!J28","v":6.4303441556269103E-2},{"$f":"'Reservoir extents'!P28","v":0},{"$f":"'Reservoir extents'!Q28","v":0},0,0,null,0]
["SEC1-6","Brandon Way/ Albion Road, West Bromwich",3.0859999999999999,{"$f":"'Flood map for planning'!O29","v":1},{"$f":"'Flood map for planning'!P29","v":0},{"$f":"'Flood map for planning'!Q29","v":0},{"$f":"'Present Day Fluvial'!P29","v":1},{"$f":"'Present Day Fluvial'!S29","v":0},{"$f":"'Present Day Fluvial'!R29","v":0},{"$f":"'Present Day Fluvial'!Q29","v":0},{"$f":"'Fluvial + CC'!J29","v":0},{"$f":"'Fluvial + CC'!K29","v":0},{"$f":"'Fluvial + CC'!L29","v":0},{"$f":"'Surface Water'!S29","v":8.9940133925384511E-2},{"$f":"'Surface Water'!T29","v":8.87758442368735E-2},{"$f":"'Surface Water'!U29","v":0.211747531884347},{"$f":"'Surface Water +CC'!I29","v":0.24560207010952401},{"$f":"'Surface Water +CC'!J29","v":0.37661077701882101},{"$f":"'Reservoir extents'!P29","v":0},{"$f":"'Reservoir extents'!Q29","v":0},0,0,null,0]
["SEC3-71","Brickhouse Lane",3.883,{"$f":"'Flood map for planning'!O30","v":1},{"$f":"'Flood map for planning'!P30","v":0},{"$f":"'Flood map for planning'!Q30","v":0},{"$f":"'Present Day Fluvial'!P30","v":1},{"$f":"'Present Day Fluvial'!S30","v":0},{"$f":"'Present Day Fluvial'!R30","v":0},{"$f":"'Present Day Fluvial'!Q30","v":0},{"$f":"'Fluvial + CC'!J30","v":0},{"$f":"'Fluvial + CC'!K30","v":0},{"$f":"'Fluvial + CC'!L30","v":0},{"$f":"'Surface Water'!S30","v":0},{"$f":"'Surface Water'!T30","v":1.4228239129673298E-2},{"$f":"'Surface Water'!U30","v":0.16413642106513671},{"$f":"'Surface Water +CC'!I30","v":6.9697751094757496E-2},{"$f":"'Surface Water +CC'!J30","v":0.175975166615053},{"$f":"'Reservoir extents'!P30","v":0},{"$f":"'Reservoir extents'!Q30","v":0},0,0,null,0]
["SEC3-116","Bridge Street/ Potters Lane",3.6949999999999998,{"$f":"'Flood map for planning'!O31","v":1},{"$f":"'Flood map for planning'!P31","v":0},{"$f":"'Flood map for planning'!Q31","v":0},{"$f":"'Present Day Fluvial'!P31","v":1},{"$f":"'Present Day Fluvial'!S31","v":0},{"$f":"'Present Day Fluvial'!R31","v":0},{"$f":"'Present Day Fluvial'!Q31","v":0},{"$f":"'Fluvial + CC'!J31","v":0},{"$f":"'Fluvial + CC'!K31","v":0},{"$f":"'Fluvial + CC'!L31","v":0},{"$f":"'Surface Water'!S31","v":0},{"$f":"'Surface Water'!T31","v":1.3747984572943001E-3},{"$f":"'Surface Water'!U31","v":4.9784894205970799E-2},{"$f":"'Surface Water +CC'!I31","v":1.93207603363207E-2},{"$f":"'Surface Water +CC'!J31","v":4.9751376756450999E-2},{"$f":"'Reservoir extents'!P31","v":0},{"$f":"'Reservoir extents'!Q31","v":0},0,0,null,0]
["SEC1-2","British Gas, Land off Dudley Rd, Oldbury (2949)",1.056,{"$f":"'Flood map for planning'!O32","v":1},{"$f":"'Flood map for planning'!P32","v":0},{"$f":"'Flood map for planning'!Q32","v":0},{"$f":"'Present Day Fluvial'!P32","v":1},{"$f":"'Present Day Fluvial'!S32","v":0},{"$f":"'Present Day Fluvial'!R32","v":0},{"$f":"'Present Day Fluvial'!Q32","v":0},{"$f":"'Fluvial + CC'!J32","v":0},{"$f":"'Fluvial + CC'!K32","v":0},{"$f":"'Fluvial + CC'!L32","v":0},{"$f":"'Surface Water'!S32","v":0},{"$f":"'Surface Water'!T32","v":1.6672352803078799E-2},{"$f":"'Surface Water'!U32","v":0.14426557980927021},{"$f":"'Surface Water +CC'!I32","v":0.13413665623832499},{"$f":"'Surface Water +CC'!J32","v":0.163206803261811},{"$f":"'Reservoir extents'!P32","v":0},{"$f":"'Reservoir extents'!Q32","v":0},0,0,null,0]
["SEC3-177","Broadcott Industrial Estate, Cradley Heath",1.361,{"$f":"'Flood map for planning'!O33","v":1},{"$f":"'Flood map for planning'!P33","v":0},{"$f":"'Flood map for planning'!Q33","v":0},{"$f":"'Present Day Fluvial'!P33","v":1},{"$f":"'Present Day Fluvial'!S33","v":0},{"$f":"'Present Day Fluvial'!R33","v":0},{"$f":"'Present Day Fluvial'!Q33","v":0},{"$f":"'Fluvial + CC'!J33","v":0},{"$f":"'Fluvial + CC'!K33","v":0},{"$f":"'Fluvial + CC'!L33","v":0},{"$f":"'Surface Water'!S33","v":0},{"$f":"'Surface Water'!T33","v":0},{"$f":"'Surface Water'!U33","v":3.8011893173739E-2},{"$f":"'Surface Water +CC'!I33","v":2.1200394511899902E-2},{"$f":"'Surface Water +CC'!J33","v":5.1349568690603704E-2},{"$f":"'Reservoir extents'!P33","v":0},{"$f":"'Reservoir extents'!Q33","v":0},0,0,null,0]
["EMP2-12","Broadwell Road, Oldbury",23.771000000000001,{"$f":"'Flood map for planning'!O34","v":0.593132442919172},{"$f":"'Flood map for planning'!P34","v":0.40639955348016227},{"$f":"'Flood map for planning'!Q34","v":4.6800360066571995E-4},{"$f":"'Present Day Fluvial'!P34","v":0.59683062778918305},{"$f":"'Present Day Fluvial'!S34","v":0.40276826610824645},{"$f":"'Present Day Fluvial'!R34","v":2.7060562016389793E-4},{"$f":"'Present Day Fluvial'!Q34","v":1.3050048240667499E-4},{"$f":"'Fluvial + CC'!J34","v":6.0207045524751498E-3},{"$f":"'Fluvial + CC'!K34","v":0.40686334691368503},{"$f":"'Fluvial + CC'!L34","v":4.0110610257057294E-4},{"$f":"'Surface Water'!S34","v":1.23344269088603E-2},{"$f":"'Surface Water'!T34","v":2.5514191902617001E-2},{"$f":"'Surface Water'!U34","v":0.23121763587452368},{"$f":"'Surface Water +CC'!I34","v":0.10455205933357301},{"$f":"'Surface Water +CC'!J34","v":0.34272387585236103},{"$f":"'Reservoir extents'!P34","v":0},{"$f":"'Reservoir extents'!Q34","v":0},0,0,null,0]
["SEC3-100","Bromford Road Industrial Estate",7.8810000000000002,{"$f":"'Flood map for planning'!O35","v":0.72159841679505998},{"$f":"'Flood map for planning'!P35","v":0.21936828756407423},{"$f":"'Flood map for planning'!Q35","v":5.9033295640865804E-2},{"$f":"'Present Day Fluvial'!P35","v":0.86208983927273297},{"$f":"'Present Day Fluvial'!S35","v":8.02249394931034E-2},{"$f":"'Present Day Fluvial'!R35","v":5.7088282147795287E-2},{"$f":"'Present Day Fluvial'!Q35","v":5.9693908636830996E-4},{"$f":"'Fluvial + CC'!J35","v":6.9497097614567599E-2},{"$f":"'Fluvial + CC'!K35","v":0.27840158333224102},{"$f":"'Fluvial + CC'!L35","v":5.76852212341636E-2},{"$f":"'Surface Water'!S35","v":4.4531830588690001E-5},{"$f":"'Surface Water'!T35","v":7.46420816150958E-3},{"$f":"'Surface Water'!U35","v":0.15957894983421672},{"$f":"'Surface Water +CC'!I35","v":0.13392403736525701},{"$f":"'Surface Water +CC'!J35","v":0.18991650964595599},{"$f":"'Reservoir extents'!P35","v":0},{"$f":"'Reservoir extents'!Q35","v":0},0,0,null,0]
["SEC3-129","Brook St Bus Centre, Brook St Comm Centre, Tipton",1.538,{"$f":"'Flood map for planning'!O36","v":1.278282943862008E-3},{"$f":"'Flood map for planning'!P36","v":0.99872171705613799},{"$f":"'Flood map for planning'!Q36","v":0},{"$f":"'Present Day Fluvial'!P36","v":1.2935680215560019E-3},{"$f":"'Present Day Fluvial'!S36","v":0.998706431978444},{"$f":"'Present Day Fluvial'!R36","v":0},{"$f":"'Present Day Fluvial'!Q36","v":0},{"$f":"'Fluvial + CC'!J36","v":0.664368723318705},{"$f":"'Fluvial + CC'!K36","v":0.99872171705613799},{"$f":"'Fluvial + CC'!L36","v":0},{"$f":"'Surface Water'!S36","v":8.5436954808059101E-2},{"$f":"'Surface Water'!T36","v":4.8925207010339894E-2},{"$f":"'Surface Water'!U36","v":0.72594949312365198},{"$f":"'Surface Water +CC'!I36","v":0.62045111986881896},{"$f":"'Surface Water +CC'!J36","v":0.93236712939747302},{"$f":"'Reservoir extents'!P36","v":0},{"$f":"'Reservoir extents'!Q36","v":0},0,0,null,0]
["SEC3-133","Brymill Industrial Estate, Brown Lion St, Tipton",1.7829999999999999,{"$f":"'Flood map for planning'!O37","v":1},{"$f":"'Flood map for planning'!P37","v":0},{"$f":"'Flood map for planning'!Q37","v":0},{"$f":"'Present Day Fluvial'!P37","v":1},{"$f":"'Present Day Fluvial'!S37","v":0},{"$f":"'Present Day Fluvial'!R37","v":0},{"$f":"'Present Day Fluvial'!Q37","v":0},{"$f":"'Fluvial + CC'!J37","v":0},{"$f":"'Fluvial + CC'!K37","v":0},{"$f":"'Fluvial + CC'!L37","v":0},{"$f":"'Surface Water'!S37","v":0},{"$f":"'Surface Water'!T37","v":0},{"$f":"'Surface Water'!U37","v":7.8007675439327795E-2},{"$f":"'Surface Water +CC'!I37","v":4.7592862396773503E-2},{"$f":"'Surface Water +CC'!J37","v":8.7932900876722592E-2},{"$f":"'Reservoir extents'!P37","v":0},{"$f":"'Reservoir extents'!Q37","v":0},0,0,null,0]
["SEC3-123","Burnt Tree Industrial Estate",1.57,{"$f":"'Flood map for planning'!O38","v":1},{"$f":"'Flood map for planning'!P38","v":0},{"$f":"'Flood map for planning'!Q38","v":0},{"$f":"'Present Day Fluvial'!P38","v":1},{"$f":"'Present Day Fluvial'!S38","v":0},{"$f":"'Present Day Fluvial'!R38","v":0},{"$f":"'Present Day Fluvial'!Q38","v":0},{"$f":"'Fluvial + CC'!J38","v":0},{"$f":"'Fluvial + CC'!K38","v":0},{"$f":"'Fluvial + CC'!L38","v":0},{"$f":"'Surface Water'!S38","v":0},{"$f":"'Surface Water'!T38","v":7.3942890804058903E-3},{"$f":"'Surface Water'!U38","v":2.4196935195822812E-2},{"$f":"'Surface Water +CC'!I38","v":1.66996677491578E-2},{"$f":"'Surface Water +CC'!J38","v":3.3630749493427203E-2},{"$f":"'Reservoir extents'!P38","v":0},{"$f":"'Reservoir extents'!Q38","v":0},0,0,null,0]
["SEC3-25","Cakemore Road, Rowley Regis",7.5090000000000003,{"$f":"'Flood map for planning'!O39","v":1},{"$f":"'Flood map for planning'!P39","v":0},{"$f":"'Flood map for planning'!Q39","v":0},{"$f":"'Present Day Fluvial'!P39","v":1},{"$f":"'Present Day Fluvial'!S39","v":0},{"$f":"'Present Day Fluvial'!R39","v":0},{"$f":"'Present Day Fluvial'!Q39","v":0},{"$f":"'Fluvial + CC'!J39","v":0},{"$f":"'Fluvial + CC'!K39","v":0},{"$f":"'Fluvial + CC'!L39","v":0},{"$f":"'Surface Water'!S39","v":9.8489585210708094E-2},{"$f":"'Surface Water'!T39","v":0.1123678788124829},{"$f":"'Surface Water'!U39","v":0.25273759857082906},{"$f":"'Surface Water +CC'!I39","v":0.407827393480515},{"$f":"'Surface Water +CC'!J39","v":0.47464757427554999},{"$f":"'Reservoir extents'!P39","v":0},{"$f":"'Reservoir extents'!Q39","v":0},0,0.60642443447881,null,0]
["SEC3-50","Cakemore Road, Rowley Regis",0.60299999999999998,{"$f":"'Flood map for planning'!O40","v":1},{"$f":"'Flood map for planning'!P40","v":0},{"$f":"'Flood map for planning'!Q40","v":0},{"$f":"'Present Day Fluvial'!P40","v":1},{"$f":"'Present Day Fluvial'!S40","v":0},{"$f":"'Present Day Fluvial'!R40","v":0},{"$f":"'Present Day Fluvial'!Q40","v":0},{"$f":"'Fluvial + CC'!J40","v":0},{"$f":"'Fluvial + CC'!K40","v":0},{"$f":"'Fluvial + CC'!L40","v":0},{"$f":"'Surface Water'!S40","v":2.7177502242768398E-3},{"$f":"'Surface Water'!T40","v":4.8059480723489506E-3},{"$f":"'Surface Water'!U40","v":5.710036358701211E-3},{"$f":"'Surface Water +CC'!I40","v":1.22666071070935E-2},{"$f":"'Surface Water +CC'!J40","v":1.38341676556642E-2},{"$f":"'Reservoir extents'!P40","v":0},{"$f":"'Reservoir extents'!Q40","v":0},0,0,null,0]
["EMP2-4","Car Craft, Darlaston Rd/ Old Park Rd, Kings Hill",5.1859999999999999,{"$f":"'Flood map for planning'!O41","v":1},{"$f":"'Flood map for planning'!P41","v":0},{"$f":"'Flood map for planning'!Q41","v":0},{"$f":"'Present Day Fluvial'!P41","v":1},{"$f":"'Present Day Fluvial'!S41","v":0},{"$f":"'Present Day Fluvial'!R41","v":0},{"$f":"'Present Day Fluvial'!Q41","v":0},{"$f":"'Fluvial + CC'!J41","v":0},{"$f":"'Fluvial + CC'!K41","v":0},{"$f":"'Fluvial + CC'!L41","v":0},{"$f":"'Surface Water'!S41","v":2.5647521484131398E-2},{"$f":"'Surface Water'!T41","v":1.0351095330877701E-2},{"$f":"'Surface Water'!U41","v":1.5004177313555203E-2},{"$f":"'Surface Water +CC'!I41","v":4.4667555800872505E-2},{"$f":"'Surface Water +CC'!J41","v":5.0924499187728997E-2},{"$f":"'Reservoir extents'!P41","v":0},{"$f":"'Reservoir extents'!Q41","v":0},0,0,null,0]
["SEC3-115","Carlyle Bus and Coach, Carlyle Business Park",0.38700000000000001,{"$f":"'Flood map for planning'!O42","v":1},{"$f":"'Flood map for planning'!P42","v":0},{"$f":"'Flood map for planning'!Q42","v":0},{"$f":"'Present Day Fluvial'!P42","v":1},{"$f":"'Present Day Fluvial'!S42","v":0},{"$f":"'Present Day Fluvial'!R42","v":0},{"$f":"'Present Day Fluvial'!Q42","v":0},{"$f":"'Fluvial + CC'!J42","v":0},{"$f":"'Fluvial + CC'!K42","v":0},{"$f":"'Fluvial + CC'!L42","v":0},{"$f":"'Surface Water'!S42","v":4.7876675941600002E-6},{"$f":"'Surface Water'!T42","v":1.3098033348460141E-2},{"$f":"'Surface Water'!U42","v":1.7847643191222198E-2},{"$f":"'Surface Water +CC'!I42","v":2.1184879387946699E-2},{"$f":"'Surface Water +CC'!J42","v":3.0950465513216702E-2},{"$f":"'Reservoir extents'!P42","v":0},{"$f":"'Reservoir extents'!Q42","v":0},0,0,null,0]
["SEC4-7","Castle St, High St Tipton (2942)",0.70499999999999996,{"$f":"'Flood map for planning'!O43","v":1},{"$f":"'Flood map for planning'!P43","v":0},{"$f":"'Flood map for planning'!Q43","v":0},{"$f":"'Present Day Fluvial'!P43","v":1},{"$f":"'Present Day Fluvial'!S43","v":0},{"$f":"'Present Day Fluvial'!R43","v":0},{"$f":"'Present Day Fluvial'!Q43","v":0},{"$f":"'Fluvial + CC'!J43","v":0},{"$f":"'Fluvial + CC'!K43","v":0},{"$f":"'Fluvial + CC'!L43","v":0},{"$f":"'Surface Water'!S43","v":1.31230036097628E-2},{"$f":"'Surface Water'!T43","v":3.8391787364726399E-2},{"$f":"'Surface Water'!U43","v":0.11474676974871879},{"$f":"'Surface Water +CC'!I43","v":0.116690553907109},{"$f":"'Surface Water +CC'!J43","v":0.16626156288597599},{"$f":"'Reservoir extents'!P43","v":0},{"$f":"'Reservoir extents'!Q43","v":0},0,0,null,0]
["SEC3-148","Castle St, Tipton (2938)",1.494,{"$f":"'Flood map for planning'!O44","v":1},{"$f":"'Flood map for planning'!P44","v":0},{"$f":"'Flood map for planning'!Q44","v":0},{"$f":"'Present Day Fluvial'!P44","v":1},{"$f":"'Present Day Fluvial'!S44","v":0},{"$f":"'Present Day Fluvial'!R44","v":0},{"$f":"'Present Day Fluvial'!Q44","v":0},{"$f":"'Fluvial + CC'!J44","v":0},{"$f":"'Fluvial + CC'!K44","v":0},{"$f":"'Fluvial + CC'!L44","v":0},{"$f":"'Surface Water'!S44","v":1.53131887738308E-2},{"$f":"'Surface Water'!T44","v":5.1512343289028706E-2},{"$f":"'Surface Water'!U44","v":8.6030212943794496E-2},{"$f":"'Surface Water +CC'!I44","v":0.11489941265843999},{"$f":"'Surface Water +CC'!J44","v":0.15802033653251601},{"$f":"'Reservoir extents'!P44","v":0},{"$f":"'Reservoir extents'!Q44","v":0},0,0,null,0]
["SEC3-51","Causeway Green Rd / Wolverhampton Road",0.84799999999999998,{"$f":"'Flood map for planning'!O45","v":1},{"$f":"'Flood map for planning'!P45","v":0},{"$f":"'Flood map for planning'!Q45","v":0},{"$f":"'Present Day Fluvial'!P45","v":1},{"$f":"'Present Day Fluvial'!S45","v":0},{"$f":"'Present Day Fluvial'!R45","v":0},{"$f":"'Present Day Fluvial'!Q45","v":0},{"$f":"'Fluvial + CC'!J45","v":0},{"$f":"'Fluvial + CC'!K45","v":0},{"$f":"'Fluvial + CC'!L45","v":0},{"$f":"'Surface Water'!S45","v":0.101395792561847},{"$f":"'Surface Water'!T45","v":4.5438583521550002E-2},{"$f":"'Surface Water'!U45","v":0.27595054698144394},{"$f":"'Surface Water +CC'!I45","v":0.32289549256479605},{"$f":"'Surface Water +CC'!J45","v":0.46349895483161901},{"$f":"'Reservoir extents'!P45","v":0},{"$f":"'Reservoir extents'!Q45","v":0},0,0,null,0]
["SEC3-170","Charles Street, West Bromwich",9.0559999999999992,{"$f":"'Flood map for planning'!O46","v":1},{"$f":"'Flood map for planning'!P46","v":0},{"$f":"'Flood map for planning'!Q46","v":0},{"$f":"'Present Day Fluvial'!P46","v":1},{"$f":"'Present Day Fluvial'!S46","v":0},{"$f":"'Present Day Fluvial'!R46","v":0},{"$f":"'Present Day Fluvial'!Q46","v":0},{"$f":"'Fluvial + CC'!J46","v":0},{"$f":"'Fluvial + CC'!K46","v":0},{"$f":"'Fluvial + CC'!L46","v":0},{"$f":"'Surface Water'!S46","v":0},{"$f":"'Surface Water'!T46","v":3.5391403691029098E-3},{"$f":"'Surface Water'!U46","v":6.7522241283235085E-2},{"$f":"'Surface Water +CC'!I46","v":3.1899721195252105E-2},{"$f":"'Surface Water +CC'!J46","v":7.0369246256778595E-2},{"$f":"'Reservoir extents'!P46","v":0},{"$f":"'Reservoir extents'!Q46","v":0},0,0,null,0]
["SEC3-109","Chaters Close, Tipton",0.57799999999999996,{"$f":"'Flood map for planning'!O47","v":1},{"$f":"'Flood map for planning'!P47","v":0},{"$f":"'Flood map for planning'!Q47","v":0},{"$f":"'Present Day Fluvial'!P47","v":1},{"$f":"'Present Day Fluvial'!S47","v":0},{"$f":"'Present Day Fluvial'!R47","v":0},{"$f":"'Present Day Fluvial'!Q47","v":0},{"$f":"'Fluvial + CC'!J47","v":0},{"$f":"'Fluvial + CC'!K47","v":0},{"$f":"'Fluvial + CC'!L47","v":0},{"$f":"'Surface Water'!S47","v":4.2261051251435997E-4},{"$f":"'Surface Water'!T47","v":2.5780993764021303E-3},{"$f":"'Surface Water'!U47","v":1.211142548045851E-2},{"$f":"'Surface Water +CC'!I47","v":8.6503087418917102E-3},{"$f":"'Surface Water +CC'!J47","v":1.5112134102510799E-2},{"$f":"'Reservoir extents'!P47","v":0},{"$f":"'Reservoir extents'!Q47","v":0},0,0,null,0]
["SEC3-38","Church Lane / Gladstone Street, WB (2389 / WBPr38)",2.2050000000000001,{"$f":"'Flood map for planning'!O48","v":0.80821340683853904},{"$f":"'Flood map for planning'!P48","v":0.19178659316146099},{"$f":"'Flood map for planning'!Q48","v":0},{"$f":"'Present Day Fluvial'!P48","v":0.80860799487662605},{"$f":"'Present Day Fluvial'!S48","v":0.19139200512337401},{"$f":"'Present Day Fluvial'!R48","v":0},{"$f":"'Present Day Fluvial'!Q48","v":0},{"$f":"'Fluvial + CC'!J48","v":6.19320400335011E-3},{"$f":"'Fluvial + CC'!K48","v":0.19178738947129401},{"$f":"'Fluvial + CC'!L48","v":0},{"$f":"'Surface Water'!S48","v":1.0350576166407E-2},{"$f":"'Surface Water'!T48","v":6.4784456322404607E-2},{"$f":"'Surface Water'!U48","v":0.19960311958480342},{"$f":"'Surface Water +CC'!I48","v":0.191599884987257},{"$f":"'Surface Water +CC'!J48","v":0.28440146130705901},{"$f":"'Reservoir extents'!P48","v":0},{"$f":"'Reservoir extents'!Q48","v":0},0,0,null,0]
["EMP2-18","Churchbridge, Oldbury",14.035,{"$f":"'Flood map for planning'!O49","v":0.78793185324244097},{"$f":"'Flood map for planning'!P49","v":0.10037329582979801},{"$f":"'Flood map for planning'!Q49","v":0.11169485092776099},{"$f":"'Present Day Fluvial'!P49","v":0.79464323742517695},{"$f":"'Present Day Fluvial'!S49","v":9.6689172778006025E-2},{"$f":"'Present Day Fluvial'!R49","v":1.6330154809834588E-2},{"$f":"'Present Day Fluvial'!Q49","v":9.2337434986982408E-2},{"$f":"'Fluvial + CC'!J49","v":0.117992337537075},{"$f":"'Fluvial + CC'!K49","v":0.212069672733463},{"$f":"'Fluvial + CC'!L49","v":0.111649033971861},{"$f":"'Surface Water'!S49","v":3.1699476774590101E-3},{"$f":"'Surface Water'!T49","v":4.328134143059359E-2},{"$f":"'Surface Water'!U49","v":0.3284385148247384},{"$f":"'Surface Water +CC'!I49","v":0.24944753912283901},{"$f":"'Surface Water +CC'!J49","v":0.39212316663677299},{"$f":"'Reservoir extents'!P49","v":0},{"$f":"'Reservoir extents'!Q49","v":0},0,9.3205643082048206E-2,null,0]
["SEC3-89","Churchbridge, Oldbury (opposite Thurston Avenue)",0.75700000000000001,{"$f":"'Flood map for planning'!O50","v":0.26186952583107204},{"$f":"'Flood map for planning'!P50","v":0.10728075979426199},{"$f":"'Flood map for planning'!Q50","v":0.63084971437466597},{"$f":"'Present Day Fluvial'!P50","v":0.26411338765487702},{"$f":"'Present Day Fluvial'!S50","v":0.10811178138388799},{"$f":"'Present Day Fluvial'!R50","v":5.5884978851807987E-2},{"$f":"'Present Day Fluvial'!Q50","v":0.571889852109427},{"$f":"'Fluvial + CC'!J50","v":0.65329604649692097},{"$f":"'Fluvial + CC'!K50","v":0.73814389751202103},{"$f":"'Fluvial + CC'!L50","v":0.63059371854670199},{"$f":"'Surface Water'!S50","v":0},{"$f":"'Surface Water'!T50","v":6.6721903927914203E-2},{"$f":"'Surface Water'!U50","v":0.45370079052777679},{"$f":"'Surface Water +CC'!I50","v":0.28457797017414599},{"$f":"'Surface Water +CC'!J50","v":0.84586326438307002},{"$f":"'Reservoir extents'!P50","v":0},{"$f":"'Reservoir extents'!Q50","v":0},0,0,null,0]
["SEC4-10","Clay Lane, Oldbury",0.22700000000000001,{"$f":"'Flood map for planning'!O51","v":1},{"$f":"'Flood map for planning'!P51","v":0},{"$f":"'Flood map for planning'!Q51","v":0},{"$f":"'Present Day Fluvial'!P51","v":1},{"$f":"'Present Day Fluvial'!S51","v":0},{"$f":"'Present Day Fluvial'!R51","v":0},{"$f":"'Present Day Fluvial'!Q51","v":0},{"$f":"'Fluvial + CC'!J51","v":0},{"$f":"'Fluvial + CC'!K51","v":0},{"$f":"'Fluvial + CC'!L51","v":0},{"$f":"'Surface Water'!S51","v":0},{"$f":"'Surface Water'!T51","v":1.5198072470513598E-3},{"$f":"'Surface Water'!U51","v":7.6278574125937509E-3},{"$f":"'Surface Water +CC'!I51","v":3.81174199150332E-3},{"$f":"'Surface Water +CC'!J51","v":1.09150458958022E-2},{"$f":"'Reservoir extents'!P51","v":0},{"$f":"'Reservoir extents'!Q51","v":0},0,0,null,0]
["SEC3-23","Cleton Street Business Park, Oldbury",2.0129999999999999,{"$f":"'Flood map for planning'!O52","v":1},{"$f":"'Flood map for planning'!P52","v":0},{"$f":"'Flood map for planning'!Q52","v":0},{"$f":"'Present Day Fluvial'!P52","v":1},{"$f":"'Present Day Fluvial'!S52","v":0},{"$f":"'Present Day Fluvial'!R52","v":0},{"$f":"'Present Day Fluvial'!Q52","v":0},{"$f":"'Fluvial + CC'!J52","v":0},{"$f":"'Fluvial + CC'!K52","v":0},{"$f":"'Fluvial + CC'!L52","v":0},{"$f":"'Surface Water'!S52","v":0},{"$f":"'Surface Water'!T52","v":8.2513426363531699E-3},{"$f":"'Surface Water'!U52","v":6.7231508422774325E-2},{"$f":"'Surface Water +CC'!I52","v":2.4380694554984501E-2},{"$f":"'Surface Water +CC'!J52","v":8.1443257887644491E-2},{"$f":"'Reservoir extents'!P52","v":0},{"$f":"'Reservoir extents'!Q52","v":0},0,0,null,0]
["SEC1-5","Coneygre Business Park (open land)",7.234,{"$f":"'Flood map for planning'!O53","v":1},{"$f":"'Flood map for planning'!P53","v":0},{"$f":"'Flood map for planning'!Q53","v":0},{"$f":"'Present Day Fluvial'!P53","v":1},{"$f":"'Present Day Fluvial'!S53","v":0},{"$f":"'Present Day Fluvial'!R53","v":0},{"$f":"'Present Day Fluvial'!Q53","v":0},{"$f":"'Fluvial + CC'!J53","v":0},{"$f":"'Fluvial + CC'!K53","v":0},{"$f":"'Fluvial + CC'!L53","v":0},{"$f":"'Surface Water'!S53","v":1.28405193238737E-2},{"$f":"'Surface Water'!T53","v":1.1138334996807601E-2},{"$f":"'Surface Water'!U53","v":4.7171309801419294E-2},{"$f":"'Surface Water +CC'!I53","v":3.8909483033805599E-2},{"$f":"'Surface Water +CC'!J53","v":6.4656064821928302E-2},{"$f":"'Reservoir extents'!P53","v":0},{"$f":"'Reservoir extents'!Q53","v":0},0,0,null,0]
["SEC3-20","Coneygre Business Park, Tipton",17.754999999999999,{"$f":"'Flood map for planning'!O54","v":1},{"$f":"'Flood map for planning'!P54","v":0},{"$f":"'Flood map for planning'!Q54","v":0},{"$f":"'Present Day Fluvial'!P54","v":1},{"$f":"'Present Day Fluvial'!S54","v":0},{"$f":"'Present Day Fluvial'!R54","v":0},{"$f":"'Present Day Fluvial'!Q54","v":0},{"$f":"'Fluvial + CC'!J54","v":0},{"$f":"'Fluvial + CC'!K54","v":0},{"$f":"'Fluvial + CC'!L54","v":0},{"$f":"'Surface Water'!S54","v":1.7328195116957198E-2},{"$f":"'Surface Water'!T54","v":3.8746511742937799E-2},{"$f":"'Surface Water'!U54","v":0.23614537839819402},{"$f":"'Surface Water +CC'!I54","v":0.15782791213872399},{"$f":"'Surface Water +CC'!J54","v":0.28850471633686398},{"$f":"'Reservoir extents'!P54","v":0},{"$f":"'Reservoir extents'!Q54","v":0},0,0,null,0]
["SEC3-175","Coneygre Rd, Burnt Tree, Tipton",1.02,{"$f":"'Flood map for planning'!O55","v":1},{"$f":"'Flood map for planning'!P55","v":0},{"$f":"'Flood map for planning'!Q55","v":0},{"$f":"'Present Day Fluvial'!P55","v":1},{"$f":"'Present Day Fluvial'!S55","v":0},{"$f":"'Present Day Fluvial'!R55","v":0},{"$f":"'Present Day Fluvial'!Q55","v":0},{"$f":"'Fluvial + CC'!J55","v":0},{"$f":"'Fluvial + CC'!K55","v":0},{"$f":"'Fluvial + CC'!L55","v":0},{"$f":"'Surface Water'!S55","v":0},{"$f":"'Surface Water'!T55","v":0},{"$f":"'Surface Water'!U55","v":1.7118077326855302E-2},{"$f":"'Surface Water +CC'!I55","v":0},{"$f":"'Surface Water +CC'!J55","v":1.7118077234319899E-2},{"$f":"'Reservoir extents'!P55","v":0},{"$f":"'Reservoir extents'!Q55","v":0},0,0,null,0]
["SEC3-174","Corner of Bromford Lane / Brandon Way",3.9529999999999998,{"$f":"'Flood map for planning'!O56","v":1},{"$f":"'Flood map for planning'!P56","v":0},{"$f":"'Flood map for planning'!Q56","v":0},{"$f":"'Present Day Fluvial'!P56","v":1},{"$f":"'Present Day Fluvial'!S56","v":0},{"$f":"'Present Day Fluvial'!R56","v":0},{"$f":"'Present Day Fluvial'!Q56","v":0},{"$f":"'Fluvial + CC'!J56","v":0},{"$f":"'Fluvial + CC'!K56","v":0},{"$f":"'Fluvial + CC'!L56","v":0},{"$f":"'Surface Water'!S56","v":5.46910701055053E-3},{"$f":"'Surface Water'!T56","v":4.8033211016535876E-2},{"$f":"'Surface Water'!U56","v":0.12367105235826359},{"$f":"'Surface Water +CC'!I56","v":0.122669481073703},{"$f":"'Surface Water +CC'!J56","v":0.17602341876001598},{"$f":"'Reservoir extents'!P56","v":0},{"$f":"'Reservoir extents'!Q56","v":0},0,0,null,0]
["SEC3-85","Corngreaves Rd (City Estate Hillcrest Ind Est) Pal",2.8079999999999998,{"$f":"'Flood map for planning'!O57","v":1},{"$f":"'Flood map for planning'!P57","v":0},{"$f":"'Flood map for planning'!Q57","v":0},{"$f":"'Present Day Fluvial'!P57","v":1},{"$f":"'Present Day Fluvial'!S57","v":0},{"$f":"'Present Day Fluvial'!R57","v":0},{"$f":"'Present Day Fluvial'!Q57","v":0},{"$f":"'Fluvial + CC'!J57","v":0},{"$f":"'Fluvial + CC'!K57","v":0},{"$f":"'Fluvial + CC'!L57","v":0},{"$f":"'Surface Water'!S57","v":2.8338424060138203E-3},{"$f":"'Surface Water'!T57","v":4.3954928352108198E-3},{"$f":"'Surface Water'!U57","v":3.1920539215372558E-2},{"$f":"'Surface Water +CC'!I57","v":2.4824518906738802E-2},{"$f":"'Surface Water +CC'!J57","v":4.7465481630650695E-2},{"$f":"'Reservoir extents'!P57","v":0},{"$f":"'Reservoir extents'!Q57","v":0},0,0,null,0]
["SEC3-24","Corngreaves Road, Cradley Heath",19.739999999999998,{"$f":"'Flood map for planning'!O58","v":0.99316484646656278},{"$f":"'Flood map for planning'!P58","v":6.4802300968689209E-3},{"$f":"'Flood map for planning'!Q58","v":3.5492343656832E-4},{"$f":"'Present Day Fluvial'!P58","v":0.99316402076829535},{"$f":"'Present Day Fluvial'!S58","v":6.487486434511378E-3},{"$f":"'Present Day Fluvial'!R58","v":1.1425321346156904E-4},{"$f":"'Present Day Fluvial'!Q58","v":2.3423958373165299E-4},{"$f":"'Fluvial + CC'!J58","v":6.8351535674287698E-3},{"$f":"'Fluvial + CC'!K58","v":6.8351535674287698E-3},{"$f":"'Fluvial + CC'!L58","v":3.4849279719322202E-4},{"$f":"'Surface Water'!S58","v":9.2677425381971195E-3},{"$f":"'Surface Water'!T58","v":1.9784695978737978E-2},{"$f":"'Surface Water'!U58","v":0.13854793346225691},{"$f":"'Surface Water +CC'!I58","v":0.1129523132161},{"$f":"'Surface Water +CC'!J58","v":0.19961371871351702},{"$f":"'Reservoir extents'!P58","v":0},{"$f":"'Reservoir extents'!Q58","v":4.85673003948087E-2},0,0,null,0]
["SEC3-80","Corngreaves Road, Cradley Heath",3.6509999999999998,{"$f":"'Flood map for planning'!O59","v":1},{"$f":"'Flood map for planning'!P59","v":0},{"$f":"'Flood map for planning'!Q59","v":0},{"$f":"'Present Day Fluvial'!P59","v":1},{"$f":"'Present Day Fluvial'!S59","v":0},{"$f":"'Present Day Fluvial'!R59","v":0},{"$f":"'Present Day Fluvial'!Q59","v":0},{"$f":"'Fluvial + CC'!J59","v":0},{"$f":"'Fluvial + CC'!K59","v":0},{"$f":"'Fluvial + CC'!L59","v":0},{"$f":"'Surface Water'!S59","v":0},{"$f":"'Surface Water'!T59","v":1.4144080914951E-2},{"$f":"'Surface Water'!U59","v":6.7619965956486505E-2},{"$f":"'Surface Water +CC'!I59","v":3.4229765188330798E-2},{"$f":"'Surface Water +CC'!J59","v":9.1179484972278804E-2},{"$f":"'Reservoir extents'!P59","v":0},{"$f":"'Reservoir extents'!Q59","v":0},0,0,null,0]
["SEC3-96","Cornwall Road",4.0250000000000004,{"$f":"'Flood map for planning'!O60","v":1},{"$f":"'Flood map for planning'!P60","v":0},{"$f":"'Flood map for planning'!Q60","v":0},{"$f":"'Present Day Fluvial'!P60","v":1},{"$f":"'Present Day Fluvial'!S60","v":0},{"$f":"'Present Day Fluvial'!R60","v":0},{"$f":"'Present Day Fluvial'!Q60","v":0},{"$f":"'Fluvial + CC'!J60","v":0},{"$f":"'Fluvial + CC'!K60","v":0},{"$f":"'Fluvial + CC'!L60","v":0},{"$f":"'Surface Water'!S60","v":1.0680416781096E-2},{"$f":"'Surface Water'!T60","v":7.5885822851702395E-2},{"$f":"'Surface Water'!U60","v":0.30994301964259763},{"$f":"'Surface Water +CC'!I60","v":0.24590860200700199},{"$f":"'Surface Water +CC'!J60","v":0.39773479482010798},{"$f":"'Reservoir extents'!P60","v":2.11493011944924E-2},{"$f":"'Reservoir extents'!Q60","v":0},0,0,null,0]
["SEC3-11","Cornwall Road/Foundary Lane, Smethwick",0.35499999999999998,{"$f":"'Flood map for planning'!O61","v":0.96267151715296062},{"$f":"'Flood map for planning'!P61","v":5.8632167826222006E-3},{"$f":"'Flood map for planning'!Q61","v":3.1465266064417199E-2},{"$f":"'Present Day Fluvial'!P61","v":1},{"$f":"'Present Day Fluvial'!S61","v":0},{"$f":"'Present Day Fluvial'!R61","v":0},{"$f":"'Present Day Fluvial'!Q61","v":0},{"$f":"'Fluvial + CC'!J61","v":0},{"$f":"'Fluvial + CC'!K61","v":3.73284828470394E-2},{"$f":"'Fluvial + CC'!L61","v":0},{"$f":"'Surface Water'!S61","v":0},{"$f":"'Surface Water'!T61","v":0},{"$f":"'Surface Water'!U61","v":1.3350366876356101E-3},{"$f":"'Surface Water +CC'!I61","v":1.7277581317002699E-4},{"$f":"'Surface Water +CC'!J61","v":1.5465961264870501E-3},{"$f":"'Reservoir extents'!P61","v":0},{"$f":"'Reservoir extents'!Q61","v":5.6338975645207397E-3},0.17676705330714898,0,null,0]
["SEC3-97","Cornwall Road/Foundary Lane, Smethwick",2.8839999999999999,{"$f":"'Flood map for planning'!O62","v":1},{"$f":"'Flood map for planning'!P62","v":0},{"$f":"'Flood map for planning'!Q62","v":0},{"$f":"'Present Day Fluvial'!P62","v":1},{"$f":"'Present Day Fluvial'!S62","v":0},{"$f":"'Present Day Fluvial'!R62","v":0},{"$f":"'Present Day Fluvial'!Q62","v":0},{"$f":"'Fluvial + CC'!J62","v":0},{"$f":"'Fluvial + CC'!K62","v":0},{"$f":"'Fluvial + CC'!L62","v":0},{"$f":"'Surface Water'!S62","v":0},{"$f":"'Surface Water'!T62","v":0},{"$f":"'Surface Water'!U62","v":1.6773880908863403E-2},{"$f":"'Surface Water +CC'!I62","v":2.2865547053095001E-3},{"$f":"'Surface Water +CC'!J62","v":1.7910512201348702E-2},{"$f":"'Reservoir extents'!P62","v":0},{"$f":"'Reservoir extents'!Q62","v":0},0,0.78420090728688607,null,0]
["SEC3-28","Cornwall Road/Foundary Lane, Smethwick (north of Anne Road)",2.3319999999999999,{"$f":"'Flood map for planning'!O63","v":0.9991863165606325},{"$f":"'Flood map for planning'!P63","v":8.1368343936746E-4},{"$f":"'Flood map for planning'!Q63","v":0},{"$f":"'Present Day Fluvial'!P63","v":1},{"$f":"'Present Day Fluvial'!S63","v":0},{"$f":"'Present Day Fluvial'!R63","v":0},{"$f":"'Present Day Fluvial'!Q63","v":0},{"$f":"'Fluvial + CC'!J63","v":0},{"$f":"'Fluvial + CC'!K63","v":8.1368343936746E-4},{"$f":"'Fluvial + CC'!L63","v":0},{"$f":"'Surface Water'!S63","v":5.9716266491940994E-3},{"$f":"'Surface Water'!T63","v":4.0305475539710997E-3},{"$f":"'Surface Water'!U63","v":7.7322324221241016E-3},{"$f":"'Surface Water +CC'!I63","v":1.3083903672030099E-2},{"$f":"'Surface Water +CC'!J63","v":1.82500498419523E-2},{"$f":"'Reservoir extents'!P63","v":2.0341773295285198E-4},{"$f":"'Reservoir extents'!Q63","v":3.2986519644764151E-2},0.92759603079108399,4.0755135936643094E-2,null,0]
["SEC3-79","Cradley Business Patrk, Cradley Heath",3.706,{"$f":"'Flood map for planning'!O64","v":1},{"$f":"'Flood map for planning'!P64","v":0},{"$f":"'Flood map for planning'!Q64","v":0},{"$f":"'Present Day Fluvial'!P64","v":1},{"$f":"'Present Day Fluvial'!S64","v":0},{"$f":"'Present Day Fluvial'!R64","v":0},{"$f":"'Present Day Fluvial'!Q64","v":0},{"$f":"'Fluvial + CC'!J64","v":0},{"$f":"'Fluvial + CC'!K64","v":0},{"$f":"'Fluvial + CC'!L64","v":0},{"$f":"'Surface Water'!S64","v":0},{"$f":"'Surface Water'!T64","v":2.0921666252577503E-2},{"$f":"'Surface Water'!U64","v":4.5337735498758497E-2},{"$f":"'Surface Water +CC'!I64","v":4.8774332564489598E-2},{"$f":"'Surface Water +CC'!J64","v":7.2126464450584599E-2},{"$f":"'Reservoir extents'!P64","v":0},{"$f":"'Reservoir extents'!Q64","v":0},0,0,null,0]
["SEC3-52","Crosswells Road / Hall Street, Oldbury",0.8,{"$f":"'Flood map for planning'!O65","v":1},{"$f":"'Flood map for planning'!P65","v":0},{"$f":"'Flood map for planning'!Q65","v":0},{"$f":"'Present Day Fluvial'!P65","v":1},{"$f":"'Present Day Fluvial'!S65","v":0},{"$f":"'Present Day Fluvial'!R65","v":0},{"$f":"'Present Day Fluvial'!Q65","v":0},{"$f":"'Fluvial + CC'!J65","v":0},{"$f":"'Fluvial + CC'!K65","v":0},{"$f":"'Fluvial + CC'!L65","v":0},{"$f":"'Surface Water'!S65","v":3.0034587841783499E-2},{"$f":"'Surface Water'!T65","v":3.2965342095531008E-3},{"$f":"'Surface Water'!U65","v":8.3293289337040388E-2},{"$f":"'Surface Water +CC'!I65","v":8.1335074042275302E-2},{"$f":"'Surface Water +CC'!J65","v":0.129777052858254},{"$f":"'Reservoir extents'!P65","v":0},{"$f":"'Reservoir extents'!Q65","v":0},0,0,null,0]
["SEC3-166","Crystal Drive, Smethwick",14.358000000000001,{"$f":"'Flood map for planning'!O66","v":1},{"$f":"'Flood map for planning'!P66","v":0},{"$f":"'Flood map for planning'!Q66","v":0},{"$f":"'Present Day Fluvial'!P66","v":1},{"$f":"'Present Day Fluvial'!S66","v":0},{"$f":"'Present Day Fluvial'!R66","v":0},{"$f":"'Present Day Fluvial'!Q66","v":0},{"$f":"'Fluvial + CC'!J66","v":0},{"$f":"'Fluvial + CC'!K66","v":0},{"$f":"'Fluvial + CC'!L66","v":0},{"$f":"'Surface Water'!S66","v":4.0427385548363701E-3},{"$f":"'Surface Water'!T66","v":2.336993648082733E-2},{"$f":"'Surface Water'!U66","v":9.5430597111031301E-2},{"$f":"'Surface Water +CC'!I66","v":8.4767208692627799E-2},{"$f":"'Surface Water +CC'!J66","v":0.13457580512119502},{"$f":"'Reservoir extents'!P66","v":0},{"$f":"'Reservoir extents'!Q66","v":0},0,0.244204811972632,null,0]
["SEC3-102","Cygnus Way, West Bromwich",12.579000000000001,{"$f":"'Flood map for planning'!O67","v":1},{"$f":"'Flood map for planning'!P67","v":0},{"$f":"'Flood map for planning'!Q67","v":0},{"$f":"'Present Day Fluvial'!P67","v":1},{"$f":"'Present Day Fluvial'!S67","v":0},{"$f":"'Present Day Fluvial'!R67","v":0},{"$f":"'Present Day Fluvial'!Q67","v":0},{"$f":"'Fluvial + CC'!J67","v":0},{"$f":"'Fluvial + CC'!K67","v":0},{"$f":"'Fluvial + CC'!L67","v":0},{"$f":"'Surface Water'!S67","v":5.8443330668707001E-3},{"$f":"'Surface Water'!T67","v":2.8361818547854297E-2},{"$f":"'Surface Water'!U67","v":0.118124465871231},{"$f":"'Surface Water +CC'!I67","v":9.0657424452308108E-2},{"$f":"'Surface Water +CC'!J67","v":0.15108000900343299},{"$f":"'Reservoir extents'!P67","v":0},{"$f":"'Reservoir extents'!Q67","v":0},0,0,null,0]
["EMP2-2","Danks Way, Hill Top, West Bromwich",7.6260000000000003,{"$f":"'Flood map for planning'!O68","v":1},{"$f":"'Flood map for planning'!P68","v":0},{"$f":"'Flood map for planning'!Q68","v":0},{"$f":"'Present Day Fluvial'!P68","v":1},{"$f":"'Present Day Fluvial'!S68","v":0},{"$f":"'Present Day Fluvial'!R68","v":0},{"$f":"'Present Day Fluvial'!Q68","v":0},{"$f":"'Fluvial + CC'!J68","v":0},{"$f":"'Fluvial + CC'!K68","v":0},{"$f":"'Fluvial + CC'!L68","v":0},{"$f":"'Surface Water'!S68","v":4.6418648867267397E-3},{"$f":"'Surface Water'!T68","v":3.6562197087072354E-2},{"$f":"'Surface Water'!U68","v":0.16825271494148891},{"$f":"'Surface Water +CC'!I68","v":0.109603647154984},{"$f":"'Surface Water +CC'!J68","v":0.20509944752356699},{"$f":"'Reservoir extents'!P68","v":0},{"$f":"'Reservoir extents'!Q68","v":0},0,0,null,0]
["SEC3-178","Dart Products, Garratts Lane",7.85,{"$f":"'Flood map for planning'!O69","v":1},{"$f":"'Flood map for planning'!P69","v":0},{"$f":"'Flood map for planning'!Q69","v":0},{"$f":"'Present Day Fluvial'!P69","v":1},{"$f":"'Present Day Fluvial'!S69","v":0},{"$f":"'Present Day Fluvial'!R69","v":0},{"$f":"'Present Day Fluvial'!Q69","v":0},{"$f":"'Fluvial + CC'!J69","v":0},{"$f":"'Fluvial + CC'!K69","v":0},{"$f":"'Fluvial + CC'!L69","v":0},{"$f":"'Surface Water'!S69","v":0},{"$f":"'Surface Water'!T69","v":4.6407430952644206E-3},{"$f":"'Surface Water'!U69","v":0.11469103209490658},{"$f":"'Surface Water +CC'!I69","v":4.4074253048158193E-2},{"$f":"'Surface Water +CC'!J69","v":0.13142642128638199},{"$f":"'Reservoir extents'!P69","v":0},{"$f":"'Reservoir extents'!Q69","v":0},0,0,null,0]
["SEC3-183","Dartmouth Road, Smethwick",23.757999999999999,{"$f":"'Flood map for planning'!O70","v":1},{"$f":"'Flood map for planning'!P70","v":0},{"$f":"'Flood map for planning'!Q70","v":0},{"$f":"'Present Day Fluvial'!P70","v":1},{"$f":"'Present Day Fluvial'!S70","v":0},{"$f":"'Present Day Fluvial'!R70","v":0},{"$f":"'Present Day Fluvial'!Q70","v":0},{"$f":"'Fluvial + CC'!J70","v":0},{"$f":"'Fluvial + CC'!K70","v":0},{"$f":"'Fluvial + CC'!L70","v":0},{"$f":"'Surface Water'!S70","v":7.70006677016403E-3},{"$f":"'Surface Water'!T70","v":1.8746477190662372E-2},{"$f":"'Surface Water'!U70","v":0.1090386691377476},{"$f":"'Surface Water +CC'!I70","v":7.2300107404764002E-2},{"$f":"'Surface Water +CC'!J70","v":0.142084881176719},{"$f":"'Reservoir extents'!P70","v":0},{"$f":"'Reservoir extents'!Q70","v":0},0,0.97458687675202393,null,0]
["EMP2-16","Dartmouth Road/ Piaro Way, Smethwick",6.96,{"$f":"'Flood map for planning'!O71","v":1},{"$f":"'Flood map for planning'!P71","v":0},{"$f":"'Flood map for planning'!Q71","v":0},{"$f":"'Present Day Fluvial'!P71","v":1},{"$f":"'Present Day Fluvial'!S71","v":0},{"$f":"'Present Day Fluvial'!R71","v":0},{"$f":"'Present Day Fluvial'!Q71","v":0},{"$f":"'Fluvial + CC'!J71","v":0},{"$f":"'Fluvial + CC'!K71","v":0},{"$f":"'Fluvial + CC'!L71","v":0},{"$f":"'Surface Water'!S71","v":9.2117683925013513E-3},{"$f":"'Surface Water'!T71","v":7.7824061443310475E-3},{"$f":"'Surface Water'!U71","v":2.5933891536294204E-2},{"$f":"'Surface Water +CC'!I71","v":2.9641032862017899E-2},{"$f":"'Surface Water +CC'!J71","v":4.3330703448113794E-2},{"$f":"'Reservoir extents'!P71","v":0},{"$f":"'Reservoir extents'!Q71","v":0},0,0.16822334040274101,null,0]
["SEC3-56","Delta Point, Greets Green Road",8.1829999999999998,{"$f":"'Flood map for planning'!O72","v":1},{"$f":"'Flood map for planning'!P72","v":0},{"$f":"'Flood map for planning'!Q72","v":0},{"$f":"'Present Day Fluvial'!P72","v":1},{"$f":"'Present Day Fluvial'!S72","v":0},{"$f":"'Present Day Fluvial'!R72","v":0},{"$f":"'Present Day Fluvial'!Q72","v":0},{"$f":"'Fluvial + CC'!J72","v":0},{"$f":"'Fluvial + CC'!K72","v":0},{"$f":"'Fluvial + CC'!L72","v":0},{"$f":"'Surface Water'!S72","v":1.28297231143902E-2},{"$f":"'Surface Water'!T72","v":1.17116029013534E-2},{"$f":"'Surface Water'!U72","v":9.5125920132180394E-2},{"$f":"'Surface Water +CC'!I72","v":6.2759566322797902E-2},{"$f":"'Surface Water +CC'!J72","v":0.118297482255146},{"$f":"'Reservoir extents'!P72","v":0},{"$f":"'Reservoir extents'!Q72","v":0},0,0,null,0]
["EMP2-3","Direct 2, Roway Lane, Oldbury",8.1809999999999992,{"$f":"'Flood map for planning'!O73","v":0.82603093810112993},{"$f":"'Flood map for planning'!P73","v":0.17396906189887001},{"$f":"'Flood map for planning'!Q73","v":0},{"$f":"'Present Day Fluvial'!P73","v":1},{"$f":"'Present Day Fluvial'!S73","v":0},{"$f":"'Present Day Fluvial'!R73","v":0},{"$f":"'Present Day Fluvial'!Q73","v":0},{"$f":"'Fluvial + CC'!J73","v":0},{"$f":"'Fluvial + CC'!K73","v":0.17164488882547602},{"$f":"'Fluvial + CC'!L73","v":0},{"$f":"'Surface Water'!S73","v":3.8803455118546098E-3},{"$f":"'Surface Water'!T73","v":6.1365923838659089E-2},{"$f":"'Surface Water'!U73","v":0.28907582064692527},{"$f":"'Surface Water +CC'!I73","v":0.214017991528174},{"$f":"'Surface Water +CC'!J73","v":0.43104708027891397},{"$f":"'Reservoir extents'!P73","v":0},{"$f":"'Reservoir extents'!Q73","v":0},0,0,null,0]
["EMP2-6","Doranda Way",13.967000000000001,{"$f":"'Flood map for planning'!O74","v":1},{"$f":"'Flood map for planning'!P74","v":0},{"$f":"'Flood map for planning'!Q74","v":0},{"$f":"'Present Day Fluvial'!P74","v":1},{"$f":"'Present Day Fluvial'!S74","v":0},{"$f":"'Present Day Fluvial'!R74","v":0},{"$f":"'Present Day Fluvial'!Q74","v":0},{"$f":"'Fluvial + CC'!J74","v":0},{"$f":"'Fluvial + CC'!K74","v":0},{"$f":"'Fluvial + CC'!L74","v":0},{"$f":"'Surface Water'!S74","v":1.1722706404159599E-2},{"$f":"'Surface Water'!T74","v":2.6483571510086498E-2},{"$f":"'Surface Water'!U74","v":8.345575575937389E-2},{"$f":"'Surface Water +CC'!I74","v":7.7995398728052501E-2},{"$f":"'Surface Water +CC'!J74","v":0.12562434098185801},{"$f":"'Reservoir extents'!P74","v":0},{"$f":"'Reservoir extents'!Q74","v":0},0,0.89223424167187404,null,0]
["SEC3-160","Doulton Road, Rowley Regis (east of canal)",3.52,{"$f":"'Flood map for planning'!O75","v":1},{"$f":"'Flood map for planning'!P75","v":0},{"$f":"'Flood map for planning'!Q75","v":0},{"$f":"'Present Day Fluvial'!P75","v":1},{"$f":"'Present Day Fluvial'!S75","v":0},{"$f":"'Present Day Fluvial'!R75","v":0},{"$f":"'Present Day Fluvial'!Q75","v":0},{"$f":"'Fluvial + CC'!J75","v":0},{"$f":"'Fluvial + CC'!K75","v":0},{"$f":"'Fluvial + CC'!L75","v":0},{"$f":"'Surface Water'!S75","v":5.6912439436592396E-3},{"$f":"'Surface Water'!T75","v":4.8179660619321607E-3},{"$f":"'Surface Water'!U75","v":8.9689506641514594E-2},{"$f":"'Surface Water +CC'!I75","v":5.0259184799096496E-2},{"$f":"'Surface Water +CC'!J75","v":0.107600414134494},{"$f":"'Reservoir extents'!P75","v":0},{"$f":"'Reservoir extents'!Q75","v":0},0,0.25749747977575099,null,0]
["EMP2-11","DPD, Roebuck Lane",8.9339999999999993,{"$f":"'Flood map for planning'!O76","v":1},{"$f":"'Flood map for planning'!P76","v":0},{"$f":"'Flood map for planning'!Q76","v":0},{"$f":"'Present Day Fluvial'!P76","v":1},{"$f":"'Present Day Fluvial'!S76","v":0},{"$f":"'Present Day Fluvial'!R76","v":0},{"$f":"'Present Day Fluvial'!Q76","v":0},{"$f":"'Fluvial + CC'!J76","v":0},{"$f":"'Fluvial + CC'!K76","v":0},{"$f":"'Fluvial + CC'!L76","v":0},{"$f":"'Surface Water'!S76","v":7.5727148061922401E-3},{"$f":"'Surface Water'!T76","v":1.306551808009666E-2},{"$f":"'Surface Water'!U76","v":0.10602884307119111},{"$f":"'Surface Water +CC'!I76","v":5.8657407207339099E-2},{"$f":"'Surface Water +CC'!J76","v":0.12975889407125099},{"$f":"'Reservoir extents'!P76","v":0},{"$f":"'Reservoir extents'!Q76","v":0},0,0.99995595554967598,null,0]
["SEC3-46","Droicon Ind Est, Portway Road",0.872,{"$f":"'Flood map for planning'!O77","v":1},{"$f":"'Flood map for planning'!P77","v":0},{"$f":"'Flood map for planning'!Q77","v":0},{"$f":"'Present Day Fluvial'!P77","v":1},{"$f":"'Present Day Fluvial'!S77","v":0},{"$f":"'Present Day Fluvial'!R77","v":0},{"$f":"'Present Day Fluvial'!Q77","v":0},{"$f":"'Fluvial + CC'!J77","v":0},{"$f":"'Fluvial + CC'!K77","v":0},{"$f":"'Fluvial + CC'!L77","v":0},{"$f":"'Surface Water'!S77","v":1.889068955766E-2},{"$f":"'Surface Water'!T77","v":2.25764332650733E-2},{"$f":"'Surface Water'!U77","v":6.7565453264783693E-2},{"$f":"'Surface Water +CC'!I77","v":7.1282078106704894E-2},{"$f":"'Surface Water +CC'!J77","v":0.11707208963550601},{"$f":"'Reservoir extents'!P77","v":0},{"$f":"'Reservoir extents'!Q77","v":0},0,0,null,0]
["SEC3-124","Dudley Rd, 28 Dudley Rd West (2957)",1.786,{"$f":"'Flood map for planning'!O78","v":1},{"$f":"'Flood map for planning'!P78","v":0},{"$f":"'Flood map for planning'!Q78","v":0},{"$f":"'Present Day Fluvial'!P78","v":1},{"$f":"'Present Day Fluvial'!S78","v":0},{"$f":"'Present Day Fluvial'!R78","v":0},{"$f":"'Present Day Fluvial'!Q78","v":0},{"$f":"'Fluvial + CC'!J78","v":0},{"$f":"'Fluvial + CC'!K78","v":0},{"$f":"'Fluvial + CC'!L78","v":0},{"$f":"'Surface Water'!S78","v":4.9528353765545298E-2},{"$f":"'Surface Water'!T78","v":7.0983770881333702E-2},{"$f":"'Surface Water'!U78","v":9.7295838417356006E-2},{"$f":"'Surface Water +CC'!I78","v":0.161299446536532},{"$f":"'Surface Water +CC'!J78","v":0.21825616395776201},{"$f":"'Reservoir extents'!P78","v":0},{"$f":"'Reservoir extents'!Q78","v":0},0,0,null,0]
["SEC3-61","Dudley Road, Oldbury",4.915,{"$f":"'Flood map for planning'!O79","v":1},{"$f":"'Flood map for planning'!P79","v":0},{"$f":"'Flood map for planning'!Q79","v":0},{"$f":"'Present Day Fluvial'!P79","v":1},{"$f":"'Present Day Fluvial'!S79","v":0},{"$f":"'Present Day Fluvial'!R79","v":0},{"$f":"'Present Day Fluvial'!Q79","v":0},{"$f":"'Fluvial + CC'!J79","v":0},{"$f":"'Fluvial + CC'!K79","v":0},{"$f":"'Fluvial + CC'!L79","v":0},{"$f":"'Surface Water'!S79","v":3.5019932920057799E-3},{"$f":"'Surface Water'!T79","v":9.6989516214047201E-3},{"$f":"'Surface Water'!U79","v":2.1242341402332401E-2},{"$f":"'Surface Water +CC'!I79","v":2.3093015438198701E-2},{"$f":"'Surface Water +CC'!J79","v":3.74616873351373E-2},{"$f":"'Reservoir extents'!P79","v":0},{"$f":"'Reservoir extents'!Q79","v":0},0,0,null,0]
["SEC3-185","Eel Street, Oldbury",3.1680000000000001,{"$f":"'Flood map for planning'!O80","v":0.46827758714815093},{"$f":"'Flood map for planning'!P80","v":2.8530578409245E-2},{"$f":"'Flood map for planning'!Q80","v":0.50319183444260407},{"$f":"'Present Day Fluvial'!P80","v":0.46865950672643797},{"$f":"'Present Day Fluvial'!S80","v":2.825931412565108E-2},{"$f":"'Present Day Fluvial'!R80","v":7.4951798769009592E-3},{"$f":"'Present Day Fluvial'!Q80","v":0.49558599927100999},{"$f":"'Fluvial + CC'!J80","v":0.51051228161269702},{"$f":"'Fluvial + CC'!K80","v":0.53173219149433892},{"$f":"'Fluvial + CC'!L80","v":0.50308117914791095},{"$f":"'Surface Water'!S80","v":3.5470230118340003E-5},{"$f":"'Surface Water'!T80","v":0.21064331650697965},{"$f":"'Surface Water'!U80","v":0.30949230006873801},{"$f":"'Surface Water +CC'!I80","v":0.38721164717308704},{"$f":"'Surface Water +CC'!J80","v":0.52798224595462895},{"$f":"'Reservoir extents'!P80","v":0},{"$f":"'Reservoir extents'!Q80","v":0},0,0,null,0]
["SEC3-143","EMR Oldbury",7.5579999999999998,{"$f":"'Flood map for planning'!O81","v":1},{"$f":"'Flood map for planning'!P81","v":0},{"$f":"'Flood map for planning'!Q81","v":0},{"$f":"'Present Day Fluvial'!P81","v":1},{"$f":"'Present Day Fluvial'!S81","v":0},{"$f":"'Present Day Fluvial'!R81","v":0},{"$f":"'Present Day Fluvial'!Q81","v":0},{"$f":"'Fluvial + CC'!J81","v":0},{"$f":"'Fluvial + CC'!K81","v":0},{"$f":"'Fluvial + CC'!L81","v":0},{"$f":"'Surface Water'!S81","v":2.3304915505385402E-3},{"$f":"'Surface Water'!T81","v":1.0910937636056059E-2},{"$f":"'Surface Water'!U81","v":5.6670055600395508E-2},{"$f":"'Surface Water +CC'!I81","v":1.7372755134906298E-2},{"$f":"'Surface Water +CC'!J81","v":5.4021769780598895E-2},{"$f":"'Reservoir extents'!P81","v":0},{"$f":"'Reservoir extents'!Q81","v":0},0,0,null,0]
["SEC3-14","Engine Street, Oldbury",1.643,{"$f":"'Flood map for planning'!O82","v":1},{"$f":"'Flood map for planning'!P82","v":0},{"$f":"'Flood map for planning'!Q82","v":0},{"$f":"'Present Day Fluvial'!P82","v":1},{"$f":"'Present Day Fluvial'!S82","v":0},{"$f":"'Present Day Fluvial'!R82","v":0},{"$f":"'Present Day Fluvial'!Q82","v":0},{"$f":"'Fluvial + CC'!J82","v":0},{"$f":"'Fluvial + CC'!K82","v":0},{"$f":"'Fluvial + CC'!L82","v":0},{"$f":"'Surface Water'!S82","v":3.6119458254276998E-3},{"$f":"'Surface Water'!T82","v":3.7823749758718601E-3},{"$f":"'Surface Water'!U82","v":4.0235585888614242E-2},{"$f":"'Surface Water +CC'!I82","v":2.0398370282778001E-2},{"$f":"'Surface Water +CC'!J82","v":4.7933093740237492E-2},{"$f":"'Reservoir extents'!P82","v":0},{"$f":"'Reservoir extents'!Q82","v":0},0,0,null,0]
["SEC3-163","Exchange Works, Kelvin Way, West Bromwich",1.498,{"$f":"'Flood map for planning'!O83","v":1},{"$f":"'Flood map for planning'!P83","v":0},{"$f":"'Flood map for planning'!Q83","v":0},{"$f":"'Present Day Fluvial'!P83","v":1},{"$f":"'Present Day Fluvial'!S83","v":0},{"$f":"'Present Day Fluvial'!R83","v":0},{"$f":"'Present Day Fluvial'!Q83","v":0},{"$f":"'Fluvial + CC'!J83","v":0},{"$f":"'Fluvial + CC'!K83","v":0},{"$f":"'Fluvial + CC'!L83","v":0},{"$f":"'Surface Water'!S83","v":0},{"$f":"'Surface Water'!T83","v":0},{"$f":"'Surface Water'!U83","v":0},{"$f":"'Surface Water +CC'!I83","v":0},{"$f":"'Surface Water +CC'!J83","v":6.6788764729034901E-3},{"$f":"'Reservoir extents'!P83","v":0},{"$f":"'Reservoir extents'!Q83","v":0},0,0,null,0]
["SEC3-155","Fisher St / Coneygre Rd, Tipton",1.744,{"$f":"'Flood map for planning'!O84","v":1},{"$f":"'Flood map for planning'!P84","v":0},{"$f":"'Flood map for planning'!Q84","v":0},{"$f":"'Present Day Fluvial'!P84","v":1},{"$f":"'Present Day Fluvial'!S84","v":0},{"$f":"'Present Day Fluvial'!R84","v":0},{"$f":"'Present Day Fluvial'!Q84","v":0},{"$f":"'Fluvial + CC'!J84","v":0},{"$f":"'Fluvial + CC'!K84","v":0},{"$f":"'Fluvial + CC'!L84","v":0},{"$f":"'Surface Water'!S84","v":3.5664076662535099E-2},{"$f":"'Surface Water'!T84","v":5.1221693459788109E-2},{"$f":"'Surface Water'!U84","v":9.8393857868265794E-2},{"$f":"'Surface Water +CC'!I84","v":0.13545685508851299},{"$f":"'Surface Water +CC'!J84","v":0.18528105221698901},{"$f":"'Reservoir extents'!P84","v":0},{"$f":"'Reservoir extents'!Q84","v":0},0,0,null,0]
["SEC3-149","Fitzgerald Lighting Ltd, Rood End Rd (2009)",1.393,{"$f":"'Flood map for planning'!O85","v":1},{"$f":"'Flood map for planning'!P85","v":0},{"$f":"'Flood map for planning'!Q85","v":0},{"$f":"'Present Day Fluvial'!P85","v":1},{"$f":"'Present Day Fluvial'!S85","v":0},{"$f":"'Present Day Fluvial'!R85","v":0},{"$f":"'Present Day Fluvial'!Q85","v":0},{"$f":"'Fluvial + CC'!J85","v":0},{"$f":"'Fluvial + CC'!K85","v":0},{"$f":"'Fluvial + CC'!L85","v":0},{"$f":"'Surface Water'!S85","v":0},{"$f":"'Surface Water'!T85","v":0},{"$f":"'Surface Water'!U85","v":5.9199439828189404E-3},{"$f":"'Surface Water +CC'!I85","v":8.4075278282860798E-4},{"$f":"'Surface Water +CC'!J85","v":8.9217572333800607E-3},{"$f":"'Reservoir extents'!P85","v":0},{"$f":"'Reservoir extents'!Q85","v":0},0,0.684528989608296,null,0]
["SEC3-132","Former Corus Premises, Bloomfield Rd, Tipton (5972",0.57599999999999996,{"$f":"'Flood map for planning'!O86","v":0.56958016539510903},{"$f":"'Flood map for planning'!P86","v":0.43041983460489097},{"$f":"'Flood map for planning'!Q86","v":0},{"$f":"'Present Day Fluvial'!P86","v":0.60530143006015102},{"$f":"'Present Day Fluvial'!S86","v":0.39469856993984898},{"$f":"'Present Day Fluvial'!R86","v":0},{"$f":"'Present Day Fluvial'!Q86","v":0},{"$f":"'Fluvial + CC'!J86","v":0},{"$f":"'Fluvial + CC'!K86","v":0.43041983634891801},{"$f":"'Fluvial + CC'!L86","v":0},{"$f":"'Surface Water'!S86","v":0},{"$f":"'Surface Water'!T86","v":0},{"$f":"'Surface Water'!U86","v":0.135071075887158},{"$f":"'Surface Water +CC'!I86","v":2.0483006132734698E-4},{"$f":"'Surface Water +CC'!J86","v":0.134877024497154},{"$f":"'Reservoir extents'!P86","v":0},{"$f":"'Reservoir extents'!Q86","v":0},0,0,null,0]
["SEC3-66","Foundry Lane (south)",11.765000000000001,{"$f":"'Flood map for planning'!O87","v":0.97728565311611137},{"$f":"'Flood map for planning'!P87","v":2.2714346883888598E-2},{"$f":"'Flood map for planning'!Q87","v":0},{"$f":"'Present Day Fluvial'!P87","v":1},{"$f":"'Present Day Fluvial'!S87","v":0},{"$f":"'Present Day Fluvial'!R87","v":0},{"$f":"'Present Day Fluvial'!Q87","v":0},{"$f":"'Fluvial + CC'!J87","v":0},{"$f":"'Fluvial + CC'!K87","v":2.2714346902158199E-2},{"$f":"'Fluvial + CC'!L87","v":0},{"$f":"'Surface Water'!S87","v":0},{"$f":"'Surface Water'!T87","v":7.9959074642662904E-3},{"$f":"'Surface Water'!U87","v":0.10156599899615672},{"$f":"'Surface Water +CC'!I87","v":3.1479267511676401E-2},{"$f":"'Surface Water +CC'!J87","v":0.118898618750321},{"$f":"'Reservoir extents'!P87","v":0.38065286024370498},{"$f":"'Reservoir extents'!Q87","v":1.9596765763288004E-2},0.97863763748564692,2.1575019791258299E-2,null,0]
["SEC3-73","Foundry Lane/ Anne Road",5.2569999999999997,{"$f":"'Flood map for planning'!O88","v":0.69770251714114506},{"$f":"'Flood map for planning'!P88","v":0.25191286974568089},{"$f":"'Flood map for planning'!Q88","v":5.0384613113174097E-2},{"$f":"'Present Day Fluvial'!P88","v":1},{"$f":"'Present Day Fluvial'!S88","v":0},{"$f":"'Present Day Fluvial'!R88","v":0},{"$f":"'Present Day Fluvial'!Q88","v":0},{"$f":"'Fluvial + CC'!J88","v":0},{"$f":"'Fluvial + CC'!K88","v":0.30136256296963299},{"$f":"'Fluvial + CC'!L88","v":0},{"$f":"'Surface Water'!S88","v":3.0394650781865196E-2},{"$f":"'Surface Water'!T88","v":4.2693999296088803E-2},{"$f":"'Surface Water'!U88","v":0.25405620649941202},{"$f":"'Surface Water +CC'!I88","v":0.15480453562242999},{"$f":"'Surface Water +CC'!J88","v":0.34169968874507295},{"$f":"'Reservoir extents'!P88","v":0.29882189952344701},{"$f":"'Reservoir extents'!Q88","v":0.11976973282956294},0.25414203566837501,1.4279123894370498E-3,null,0]
["SEC3-159","Fountain Lane",1.3160000000000001,{"$f":"'Flood map for planning'!O89","v":0.16645610725430704},{"$f":"'Flood map for planning'!P89","v":0.82035649779286124},{"$f":"'Flood map for planning'!Q89","v":1.3187394952831699E-2},{"$f":"'Present Day Fluvial'!P89","v":0.17683551769835704},{"$f":"'Present Day Fluvial'!S89","v":0.8134497610411261},{"$f":"'Present Day Fluvial'!R89","v":9.7147212605169196E-3},{"$f":"'Present Day Fluvial'!Q89","v":0},{"$f":"'Fluvial + CC'!J89","v":3.0128791296715297E-2},{"$f":"'Fluvial + CC'!K89","v":0.83354389274569296},{"$f":"'Fluvial + CC'!L89","v":9.7147212605169196E-3},{"$f":"'Surface Water'!S89","v":0},{"$f":"'Surface Water'!T89","v":2.4038808407872E-4},{"$f":"'Surface Water'!U89","v":8.7317215997696984E-2},{"$f":"'Surface Water +CC'!I89","v":3.82531690878141E-2},{"$f":"'Surface Water +CC'!J89","v":0.10820656026971501},{"$f":"'Reservoir extents'!P89","v":0},{"$f":"'Reservoir extents'!Q89","v":0},0,0,null,0]
["SEC3-139","Garratts Lane/ Powke Lane",9.3840000000000003,{"$f":"'Flood map for planning'!O90","v":1},{"$f":"'Flood map for planning'!P90","v":0},{"$f":"'Flood map for planning'!Q90","v":0},{"$f":"'Present Day Fluvial'!P90","v":1},{"$f":"'Present Day Fluvial'!S90","v":0},{"$f":"'Present Day Fluvial'!R90","v":0},{"$f":"'Present Day Fluvial'!Q90","v":0},{"$f":"'Fluvial + CC'!J90","v":0},{"$f":"'Fluvial + CC'!K90","v":0},{"$f":"'Fluvial + CC'!L90","v":0},{"$f":"'Surface Water'!S90","v":3.28463559455485E-3},{"$f":"'Surface Water'!T90","v":7.7617261410445485E-3},{"$f":"'Surface Water'!U90","v":4.8555618261995205E-2},{"$f":"'Surface Water +CC'!I90","v":3.4182855201739498E-2},{"$f":"'Surface Water +CC'!J90","v":6.7795944141185005E-2},{"$f":"'Reservoir extents'!P90","v":0},{"$f":"'Reservoir extents'!Q90","v":0},0,0,null,0]
["SEC3-47","Garretts Lane, Cradley Heath",0.70699999999999996,{"$f":"'Flood map for planning'!O91","v":1},{"$f":"'Flood map for planning'!P91","v":0},{"$f":"'Flood map for planning'!Q91","v":0},{"$f":"'Present Day Fluvial'!P91","v":1},{"$f":"'Present Day Fluvial'!S91","v":0},{"$f":"'Present Day Fluvial'!R91","v":0},{"$f":"'Present Day Fluvial'!Q91","v":0},{"$f":"'Fluvial + CC'!J91","v":0},{"$f":"'Fluvial + CC'!K91","v":0},{"$f":"'Fluvial + CC'!L91","v":0},{"$f":"'Surface Water'!S91","v":0},{"$f":"'Surface Water'!T91","v":0},{"$f":"'Surface Water'!U91","v":0.10417174136523601},{"$f":"'Surface Water +CC'!I91","v":1.53446267508183E-2},{"$f":"'Surface Water +CC'!J91","v":0.13631586336965498},{"$f":"'Reservoir extents'!P91","v":0},{"$f":"'Reservoir extents'!Q91","v":0},0,0,null,0]
["SEC3-68","George Henry Road",19.87,{"$f":"'Flood map for planning'!O92","v":0.99991954808132255},{"$f":"'Flood map for planning'!P92","v":8.0451918677489989E-5},{"$f":"'Flood map for planning'!Q92","v":0},{"$f":"'Present Day Fluvial'!P92","v":0.99991963162048847},{"$f":"'Present Day Fluvial'!S92","v":8.0368379511476295E-5},{"$f":"'Present Day Fluvial'!R92","v":0},{"$f":"'Present Day Fluvial'!Q92","v":0},{"$f":"'Fluvial + CC'!J92","v":0},{"$f":"'Fluvial + CC'!K92","v":8.0451940522840008E-5},{"$f":"'Fluvial + CC'!L92","v":0},{"$f":"'Surface Water'!S92","v":1.76146582009809E-2},{"$f":"'Surface Water'!T92","v":3.9569257431054702E-2},{"$f":"'Surface Water'!U92","v":9.1836161526615404E-2},{"$f":"'Surface Water +CC'!I92","v":9.9995844708122894E-2},{"$f":"'Surface Water +CC'!J92","v":0.14816089368636398},{"$f":"'Reservoir extents'!P92","v":0},{"$f":"'Reservoir extents'!Q92","v":0},0,0,null,0]
["SEC3-57","Great Bridge Ind Est / Harrold Street",4.5919999999999996,{"$f":"'Flood map for planning'!O93","v":3.6313781511373988E-2},{"$f":"'Flood map for planning'!P93","v":0.34776562260603094},{"$f":"'Flood map for planning'!Q93","v":0.61592059588259507},{"$f":"'Present Day Fluvial'!P93","v":4.412955085397996E-2},{"$f":"'Present Day Fluvial'!S93","v":0.33986715844002902},{"$f":"'Present Day Fluvial'!R93","v":0.61600329070599102},{"$f":"'Present Day Fluvial'!Q93","v":0},{"$f":"'Fluvial + CC'!J93","v":0.79173160727881797},{"$f":"'Fluvial + CC'!K93","v":0.96368697495943489},{"$f":"'Fluvial + CC'!L93","v":0.61600329070599102},{"$f":"'Surface Water'!S93","v":1.6449738081655101E-2},{"$f":"'Surface Water'!T93","v":4.8056898480037705E-2},{"$f":"'Surface Water'!U93","v":0.22612896005992322},{"$f":"'Surface Water +CC'!I93","v":0.156474908741912},{"$f":"'Surface Water +CC'!J93","v":0.28929915297227399},{"$f":"'Reservoir extents'!P93","v":0},{"$f":"'Reservoir extents'!Q93","v":0},0,0,null,0]
["SEC3-15","Great Western Street, Wednesbury",3.8319999999999999,{"$f":"'Flood map for planning'!O94","v":0.581945409097547},{"$f":"'Flood map for planning'!P94","v":0.41804950123460188},{"$f":"'Flood map for planning'!Q94","v":5.08966785111E-6},{"$f":"'Present Day Fluvial'!P94","v":0.58474693888643503},{"$f":"'Present Day Fluvial'!S94","v":0.41524797063417518},{"$f":"'Present Day Fluvial'!R94","v":5.0904793898108895E-6},{"$f":"'Present Day Fluvial'!Q94","v":0},{"$f":"'Fluvial + CC'!J94","v":1.2025241949687999E-2},{"$f":"'Fluvial + CC'!K94","v":0.41805459105152304},{"$f":"'Fluvial + CC'!L94","v":5.0904793898108895E-6},{"$f":"'Surface Water'!S94","v":7.6877541928668997E-4},{"$f":"'Surface Water'!T94","v":2.48521687107433E-3},{"$f":"'Surface Water'!U94","v":5.6236437220935978E-2},{"$f":"'Surface Water +CC'!I94","v":9.8466418293927608E-3},{"$f":"'Surface Water +CC'!J94","v":5.8639455345448399E-2},{"$f":"'Reservoir extents'!P94","v":0},{"$f":"'Reservoir extents'!Q94","v":0},0.117539803569688,0,null,0]
["SEC3-60","Griffin Ind Est, Penncricket Lane",3.323,{"$f":"'Flood map for planning'!O95","v":0.99633172839296902},{"$f":"'Flood map for planning'!P95","v":1.19786636062912E-3},{"$f":"'Flood map for planning'!Q95","v":2.4704052464018899E-3},{"$f":"'Present Day Fluvial'!P95","v":0.71623973710859001},{"$f":"'Present Day Fluvial'!S95","v":0.28071023677704127},{"$f":"'Present Day Fluvial'!R95","v":9.0699415035769282E-10},{"$f":"'Present Day Fluvial'!Q95","v":3.0500252073745898E-3},{"$f":"'Fluvial + CC'!J95","v":3.0350520907507601E-3},{"$f":"'Fluvial + CC'!K95","v":3.66827160703101E-3},{"$f":"'Fluvial + CC'!L95","v":3.0500261143687401E-3},{"$f":"'Surface Water'!S95","v":3.7340780085610798E-3},{"$f":"'Surface Water'!T95","v":3.2047673098728219E-2},{"$f":"'Surface Water'!U95","v":0.59562409687775464},{"$f":"'Surface Water +CC'!I95","v":0.34944062637024698},{"$f":"'Surface Water +CC'!J95","v":0.66664526432770699},{"$f":"'Reservoir extents'!P95","v":0},{"$f":"'Reservoir extents'!Q95","v":0},0,0,null,0]
["SEC3-122","Groveland Rd (2963)",1.1830000000000001,{"$f":"'Flood map for planning'!O96","v":1},{"$f":"'Flood map for planning'!P96","v":0},{"$f":"'Flood map for planning'!Q96","v":0},{"$f":"'Present Day Fluvial'!P96","v":1},{"$f":"'Present Day Fluvial'!S96","v":0},{"$f":"'Present Day Fluvial'!R96","v":0},{"$f":"'Present Day Fluvial'!Q96","v":0},{"$f":"'Fluvial + CC'!J96","v":0},{"$f":"'Fluvial + CC'!K96","v":0},{"$f":"'Fluvial + CC'!L96","v":0},{"$f":"'Surface Water'!S96","v":0},{"$f":"'Surface Water'!T96","v":0},{"$f":"'Surface Water'!U96","v":1.8999035152878201E-2},{"$f":"'Surface Water +CC'!I96","v":7.6207490702580208E-4},{"$f":"'Surface Water +CC'!J96","v":1.9337421872849501E-2},{"$f":"'Reservoir extents'!P96","v":0},{"$f":"'Reservoir extents'!Q96","v":0},0,0,null,0]
["SEC3-21","Hainge Road, Oldbury",14.332000000000001,{"$f":"'Flood map for planning'!O97","v":1},{"$f":"'Flood map for planning'!P97","v":0},{"$f":"'Flood map for planning'!Q97","v":0},{"$f":"'Present Day Fluvial'!P97","v":1},{"$f":"'Present Day Fluvial'!S97","v":0},{"$f":"'Present Day Fluvial'!R97","v":0},{"$f":"'Present Day Fluvial'!Q97","v":0},{"$f":"'Fluvial + CC'!J97","v":0},{"$f":"'Fluvial + CC'!K97","v":0},{"$f":"'Fluvial + CC'!L97","v":0},{"$f":"'Surface Water'!S97","v":1.9753259978403801E-2},{"$f":"'Surface Water'!T97","v":2.3978042786023893E-2},{"$f":"'Surface Water'!U97","v":0.14183774437409533},{"$f":"'Surface Water +CC'!I97","v":0.10219715141085001},{"$f":"'Surface Water +CC'!J97","v":0.19243451383902802},{"$f":"'Reservoir extents'!P97","v":0},{"$f":"'Reservoir extents'!Q97","v":0},0,0,null,0]
["SEC3-22","Hale Trading Estate, Tipton",2.74,{"$f":"'Flood map for planning'!O98","v":1},{"$f":"'Flood map for planning'!P98","v":0},{"$f":"'Flood map for planning'!Q98","v":0},{"$f":"'Present Day Fluvial'!P98","v":1},{"$f":"'Present Day Fluvial'!S98","v":0},{"$f":"'Present Day Fluvial'!R98","v":0},{"$f":"'Present Day Fluvial'!Q98","v":0},{"$f":"'Fluvial + CC'!J98","v":0},{"$f":"'Fluvial + CC'!K98","v":0},{"$f":"'Fluvial + CC'!L98","v":0},{"$f":"'Surface Water'!S98","v":0},{"$f":"'Surface Water'!T98","v":1.6218963888499999E-2},{"$f":"'Surface Water'!U98","v":3.2335227418720802E-2},{"$f":"'Surface Water +CC'!I98","v":3.1015196376062502E-2},{"$f":"'Surface Water +CC'!J98","v":4.8115841100976199E-2},{"$f":"'Reservoir extents'!P98","v":0},{"$f":"'Reservoir extents'!Q98","v":0},0,0,null,0]
["EMP2-8","Hales Way, Oldbury",1.5169999999999999,{"$f":"'Flood map for planning'!O99","v":1},{"$f":"'Flood map for planning'!P99","v":0},{"$f":"'Flood map for planning'!Q99","v":0},{"$f":"'Present Day Fluvial'!P99","v":1},{"$f":"'Present Day Fluvial'!S99","v":0},{"$f":"'Present Day Fluvial'!R99","v":0},{"$f":"'Present Day Fluvial'!Q99","v":0},{"$f":"'Fluvial + CC'!J99","v":0},{"$f":"'Fluvial + CC'!K99","v":0},{"$f":"'Fluvial + CC'!L99","v":0},{"$f":"'Surface Water'!S99","v":0},{"$f":"'Surface Water'!T99","v":1.5919548786903998E-4},{"$f":"'Surface Water'!U99","v":4.2376228579727962E-2},{"$f":"'Surface Water +CC'!I99","v":3.3032247806515802E-4},{"$f":"'Surface Water +CC'!J99","v":6.7196133922314799E-2},{"$f":"'Reservoir extents'!P99","v":0},{"$f":"'Reservoir extents'!Q99","v":0},0,0,null,0]
["SEC3-95","Halfords Lane",24.248000000000001,{"$f":"'Flood map for planning'!O100","v":0.94485462663009789},{"$f":"'Flood map for planning'!P100","v":4.8087776396075532E-2},{"$f":"'Flood map for planning'!Q100","v":7.0575969738265699E-3},{"$f":"'Present Day Fluvial'!P100","v":1},{"$f":"'Present Day Fluvial'!S100","v":0},{"$f":"'Present Day Fluvial'!R100","v":0},{"$f":"'Present Day Fluvial'!Q100","v":0},{"$f":"'Fluvial + CC'!J100","v":0},{"$f":"'Fluvial + CC'!K100","v":5.4503789387588E-2},{"$f":"'Fluvial + CC'!L100","v":0},{"$f":"'Surface Water'!S100","v":7.2048560728609897E-3},{"$f":"'Surface Water'!T100","v":1.1589483256104011E-2},{"$f":"'Surface Water'!U100","v":8.3819373902618996E-2},{"$f":"'Surface Water +CC'!I100","v":4.4030006772264298E-2},{"$f":"'Surface Water +CC'!J100","v":0.112246361937079},{"$f":"'Reservoir extents'!P100","v":9.7523290607515103E-4},{"$f":"'Reservoir extents'!Q100","v":1.576217546774691E-4},0.14840128020738699,0.286646413380718,null,0]
["SEC3-103","Hill Top, West Bromwich",15.186999999999999,{"$f":"'Flood map for planning'!O101","v":0.45517112097579104},{"$f":"'Flood map for planning'!P101","v":0.28518253247923098},{"$f":"'Flood map for planning'!Q101","v":0.25964634654497798},{"$f":"'Present Day Fluvial'!P101","v":0.45546555235719499},{"$f":"'Present Day Fluvial'!S101","v":0.28490261618248403},{"$f":"'Present Day Fluvial'!R101","v":1.7401586648036982E-2},{"$f":"'Present Day Fluvial'!Q101","v":0.242230244812284},{"$f":"'Fluvial + CC'!J101","v":0.40389604087618503},{"$f":"'Fluvial + CC'!K101","v":0.54482887878387098},{"$f":"'Fluvial + CC'!L101","v":0.25963183146032098},{"$f":"'Surface Water'!S101","v":9.8860504136961402E-3},{"$f":"'Surface Water'!T101","v":3.2434284684185459E-2},{"$f":"'Surface Water'!U101","v":0.17149513066204639},{"$f":"'Surface Water +CC'!I101","v":0.124599396308368},{"$f":"'Surface Water +CC'!J101","v":0.23335757674394},{"$f":"'Reservoir extents'!P101","v":0.12605269558187499},{"$f":"'Reservoir extents'!Q101","v":0},0,1.4607109447313802E-3,null,0]
["SEC3-18","Holloway Bank",1.034,{"$f":"'Flood map for planning'!O102","v":1},{"$f":"'Flood map for planning'!P102","v":0},{"$f":"'Flood map for planning'!Q102","v":0},{"$f":"'Present Day Fluvial'!P102","v":1},{"$f":"'Present Day Fluvial'!S102","v":0},{"$f":"'Present Day Fluvial'!R102","v":0},{"$f":"'Present Day Fluvial'!Q102","v":0},{"$f":"'Fluvial + CC'!J102","v":0},{"$f":"'Fluvial + CC'!K102","v":0},{"$f":"'Fluvial + CC'!L102","v":0},{"$f":"'Surface Water'!S102","v":3.8279687901282002E-4},{"$f":"'Surface Water'!T102","v":1.7947433711335881E-2},{"$f":"'Surface Water'!U102","v":2.1953203032065698E-2},{"$f":"'Surface Water +CC'!I102","v":3.3077554347255199E-2},{"$f":"'Surface Water +CC'!J102","v":3.9896351284738903E-2},{"$f":"'Reservoir extents'!P102","v":0},{"$f":"'Reservoir extents'!Q102","v":0},0.208754086339631,0.45699979732287999,null,0]
["SEC3-104","Holloway Bank, Wednesbury",5.3079999999999998,{"$f":"'Flood map for planning'!O103","v":0.94597031764252915},{"$f":"'Flood map for planning'!P103","v":3.6517822183249699E-2},{"$f":"'Flood map for planning'!Q103","v":1.7511860174221201E-2},{"$f":"'Present Day Fluvial'!P103","v":0.9491051563449926},{"$f":"'Present Day Fluvial'!S103","v":3.3384574568415301E-2},{"$f":"'Present Day Fluvial'!R103","v":1.9867153311495991E-3},{"$f":"'Present Day Fluvial'!Q103","v":1.5523553755442501E-2},{"$f":"'Fluvial + CC'!J103","v":1.9878274169351399E-2},{"$f":"'Fluvial + CC'!K103","v":5.4029682456841199E-2},{"$f":"'Fluvial + CC'!L103","v":1.75102690865921E-2},{"$f":"'Surface Water'!S103","v":8.3342045275967905E-3},{"$f":"'Surface Water'!T103","v":1.4797288620709208E-2},{"$f":"'Surface Water'!U103","v":7.5174971776412913E-2},{"$f":"'Surface Water +CC'!I103","v":4.7814884082844504E-2},{"$f":"'Surface Water +CC'!J103","v":9.8702747382161601E-2},{"$f":"'Reservoir extents'!P103","v":2.7757440263094599E-3},{"$f":"'Reservoir extents'!Q103","v":0},0.62563108145731194,0.17780195594847001,null,0]
["SEC3-67","Holloway Bank/ Bilport Lane",1.776,{"$f":"'Flood map for planning'!O104","v":0.59838768002479492},{"$f":"'Flood map for planning'!P104","v":0.16321670255808204},{"$f":"'Flood map for planning'!Q104","v":0.23839561741712298},{"$f":"'Present Day Fluvial'!P104","v":0.606005218461102},{"$f":"'Present Day Fluvial'!S104","v":0.155594201798399},{"$f":"'Present Day Fluvial'!R104","v":6.5963409803446005E-2},{"$f":"'Present Day Fluvial'!Q104","v":0.17243716993705299},{"$f":"'Fluvial + CC'!J104","v":0.30474272666505597},{"$f":"'Fluvial + CC'!K104","v":0.39411796074534},{"$f":"'Fluvial + CC'!L104","v":0.238400579740499},{"$f":"'Surface Water'!S104","v":1.9603830646038701E-2},{"$f":"'Surface Water'!T104","v":1.7089850051655194E-2},{"$f":"'Surface Water'!U104","v":0.17797387615086513},{"$f":"'Surface Water +CC'!I104","v":0.109203679352814},{"$f":"'Surface Water +CC'!J104","v":0.247743984243078},{"$f":"'Reservoir extents'!P104","v":1.6942504164883399E-2},{"$f":"'Reservoir extents'!Q104","v":0},0.96004301230112998,1.5542078524526699E-2,null,0]
["SEC3-88","Houghton Street, Oldbury",1.4390000000000001,{"$f":"'Flood map for planning'!O105","v":0.99770916069502413},{"$f":"'Flood map for planning'!P105","v":2.1294416550972899E-3},{"$f":"'Flood map for planning'!Q105","v":1.6139764987856998E-4},{"$f":"'Present Day Fluvial'!P105","v":0.99773666438828623},{"$f":"'Present Day Fluvial'!S105","v":2.1057309779069083E-3},{"$f":"'Present Day Fluvial'!R105","v":1.5760463380689202E-4},{"$f":"'Present Day Fluvial'!Q105","v":0},{"$f":"'Fluvial + CC'!J105","v":5.6914136883240906E-4},{"$f":"'Fluvial + CC'!K105","v":2.29367326695283E-3},{"$f":"'Fluvial + CC'!L105","v":1.5760463380689202E-4},{"$f":"'Surface Water'!S105","v":0},{"$f":"'Surface Water'!T105","v":1.51423889439026E-2},{"$f":"'Surface Water'!U105","v":0.20338996764849238},{"$f":"'Surface Water +CC'!I105","v":3.7028132027010399E-2},{"$f":"'Surface Water +CC'!J105","v":0.26798014671019099},{"$f":"'Reservoir extents'!P105","v":0},{"$f":"'Reservoir extents'!Q105","v":0},0,0,null,0]
["SEC3-69","Howard Street",27.937999999999999,{"$f":"'Flood map for planning'!O106","v":1},{"$f":"'Flood map for planning'!P106","v":0},{"$f":"'Flood map for planning'!Q106","v":0},{"$f":"'Present Day Fluvial'!P106","v":1},{"$f":"'Present Day Fluvial'!S106","v":0},{"$f":"'Present Day Fluvial'!R106","v":0},{"$f":"'Present Day Fluvial'!Q106","v":0},{"$f":"'Fluvial + CC'!J106","v":0},{"$f":"'Fluvial + CC'!K106","v":0},{"$f":"'Fluvial + CC'!L106","v":0},{"$f":"'Surface Water'!S106","v":7.3793899817651502E-3},{"$f":"'Surface Water'!T106","v":2.6967013509771751E-2},{"$f":"'Surface Water'!U106","v":7.4004720797502088E-2},{"$f":"'Surface Water +CC'!I106","v":6.8893758470566308E-2},{"$f":"'Surface Water +CC'!J106","v":0.107190482421041},{"$f":"'Reservoir extents'!P106","v":0},{"$f":"'Reservoir extents'!Q106","v":0},0,0,null,0]
["SEC3-78","James Watt Industrial Park",3.6389999999999998,{"$f":"'Flood map for planning'!O107","v":1},{"$f":"'Flood map for planning'!P107","v":0},{"$f":"'Flood map for planning'!Q107","v":0},{"$f":"'Present Day Fluvial'!P107","v":1},{"$f":"'Present Day Fluvial'!S107","v":0},{"$f":"'Present Day Fluvial'!R107","v":0},{"$f":"'Present Day Fluvial'!Q107","v":0},{"$f":"'Fluvial + CC'!J107","v":0},{"$f":"'Fluvial + CC'!K107","v":0},{"$f":"'Fluvial + CC'!L107","v":0},{"$f":"'Surface Water'!S107","v":0},{"$f":"'Surface Water'!T107","v":0},{"$f":"'Surface Water'!U107","v":2.0855129204761701E-2},{"$f":"'Surface Water +CC'!I107","v":3.9455530383828702E-5},{"$f":"'Surface Water +CC'!J107","v":2.6152224975982602E-2},{"$f":"'Reservoir extents'!P107","v":8.8132394188672805E-4},{"$f":"'Reservoir extents'!Q107","v":0},0.18317499297415399,0.82232571444471203,null,0]
["SEC3-136","JAS Ind Park, Titford Lane, Oldbury (3013)",0.94,{"$f":"'Flood map for planning'!O108","v":1},{"$f":"'Flood map for planning'!P108","v":0},{"$f":"'Flood map for planning'!Q108","v":0},{"$f":"'Present Day Fluvial'!P108","v":0.99911062559872077},{"$f":"'Present Day Fluvial'!S108","v":8.8937440127920806E-4},{"$f":"'Present Day Fluvial'!R108","v":0},{"$f":"'Present Day Fluvial'!Q108","v":0},{"$f":"'Fluvial + CC'!J108","v":0},{"$f":"'Fluvial + CC'!K108","v":0},{"$f":"'Fluvial + CC'!L108","v":0},{"$f":"'Surface Water'!S108","v":0},{"$f":"'Surface Water'!T108","v":9.2300920165388906E-2},{"$f":"'Surface Water'!U108","v":0.24791797330965912},{"$f":"'Surface Water +CC'!I108","v":0.235534457310377},{"$f":"'Surface Water +CC'!J108","v":0.35652154155486299},{"$f":"'Reservoir extents'!P108","v":0},{"$f":"'Reservoir extents'!Q108","v":0},0,0,null,0]
["SEC3-146","JerseyTex Ltd, Upper Church Lane, Princes End",1.5820000000000001,{"$f":"'Flood map for planning'!O109","v":1},{"$f":"'Flood map for planning'!P109","v":0},{"$f":"'Flood map for planning'!Q109","v":0},{"$f":"'Present Day Fluvial'!P109","v":1},{"$f":"'Present Day Fluvial'!S109","v":0},{"$f":"'Present Day Fluvial'!R109","v":0},{"$f":"'Present Day Fluvial'!Q109","v":0},{"$f":"'Fluvial + CC'!J109","v":0},{"$f":"'Fluvial + CC'!K109","v":0},{"$f":"'Fluvial + CC'!L109","v":0},{"$f":"'Surface Water'!S109","v":1.4221134708281E-4},{"$f":"'Surface Water'!T109","v":8.4006808735772702E-3},{"$f":"'Surface Water'!U109","v":7.4300879860469224E-2},{"$f":"'Surface Water +CC'!I109","v":4.2405611533723499E-2},{"$f":"'Surface Water +CC'!J109","v":8.1993993557873901E-2},{"$f":"'Reservoir extents'!P109","v":0},{"$f":"'Reservoir extents'!Q109","v":0},0,0,null,0]
["SEC3-169","JH Lavender & Co, Crankhall Lane, West Bromwich",1.3140000000000001,{"$f":"'Flood map for planning'!O110","v":1},{"$f":"'Flood map for planning'!P110","v":0},{"$f":"'Flood map for planning'!Q110","v":0},{"$f":"'Present Day Fluvial'!P110","v":1},{"$f":"'Present Day Fluvial'!S110","v":0},{"$f":"'Present Day Fluvial'!R110","v":0},{"$f":"'Present Day Fluvial'!Q110","v":0},{"$f":"'Fluvial + CC'!J110","v":0},{"$f":"'Fluvial + CC'!K110","v":0},{"$f":"'Fluvial + CC'!L110","v":0},{"$f":"'Surface Water'!S110","v":0},{"$f":"'Surface Water'!T110","v":4.9009387022772494E-2},{"$f":"'Surface Water'!U110","v":3.2957879951350896E-2},{"$f":"'Surface Water +CC'!I110","v":5.9365924410439898E-2},{"$f":"'Surface Water +CC'!J110","v":8.1967266979893497E-2},{"$f":"'Reservoir extents'!P110","v":0},{"$f":"'Reservoir extents'!Q110","v":0},0,0,null,0]
["SEC3-91","Joseph Street, Oldbury",2.9660000000000002,{"$f":"'Flood map for planning'!O111","v":0.50067176309823902},{"$f":"'Flood map for planning'!P111","v":5.7754280653603995E-2},{"$f":"'Flood map for planning'!Q111","v":0.44157395624815698},{"$f":"'Present Day Fluvial'!P111","v":0.50836139825626292},{"$f":"'Present Day Fluvial'!S111","v":6.4245596044587017E-2},{"$f":"'Present Day Fluvial'!R111","v":3.2215850485288022E-2},{"$f":"'Present Day Fluvial'!Q111","v":0.39517715521386199},{"$f":"'Fluvial + CC'!J111","v":0.44862048631227502},{"$f":"'Fluvial + CC'!K111","v":0.49933155843660598},{"$f":"'Fluvial + CC'!L111","v":0.44149479052382196},{"$f":"'Surface Water'!S111","v":4.5534089395615297E-2},{"$f":"'Surface Water'!T111","v":0.21221461050013971},{"$f":"'Surface Water'!U111","v":0.24201144968434202},{"$f":"'Surface Water +CC'!I111","v":0.39410198514456701},{"$f":"'Surface Water +CC'!J111","v":0.52537057717853597},{"$f":"'Reservoir extents'!P111","v":0},{"$f":"'Reservoir extents'!Q111","v":0},0,0,null,0]
["EMP2-15","Junction 9 (Opus 9)",2.343,{"$f":"'Flood map for planning'!O112","v":0.32765970899256103},{"$f":"'Flood map for planning'!P112","v":9.1324924684622943E-2},{"$f":"'Flood map for planning'!Q112","v":0.58101536632281603},{"$f":"'Present Day Fluvial'!P112","v":0.32771970171266107},{"$f":"'Present Day Fluvial'!S112","v":9.4082778863636918E-2},{"$f":"'Present Day Fluvial'!R112","v":3.7843974784934953E-2},{"$f":"'Present Day Fluvial'!Q112","v":0.54035354463876706},{"$f":"'Fluvial + CC'!J112","v":0.63349403039612806},{"$f":"'Fluvial + CC'!K112","v":0.67234029100743897},{"$f":"'Fluvial + CC'!L112","v":0.58101521302831893},{"$f":"'Surface Water'!S112","v":4.38901815115711E-3},{"$f":"'Surface Water'!T112","v":5.2891290046953691E-2},{"$f":"'Surface Water'!U112","v":0.20103920161947519},{"$f":"'Surface Water +CC'!I112","v":0.146667842211782},{"$f":"'Surface Water +CC'!J112","v":0.27583085916669303},{"$f":"'Reservoir extents'!P112","v":7.51102889848699E-3},{"$f":"'Reservoir extents'!Q112","v":0.67469626795241211},0,0,null,0]
["SEC3-12","Junction One, Oldbury",4.7169999999999996,{"$f":"'Flood map for planning'!O113","v":1},{"$f":"'Flood map for planning'!P113","v":0},{"$f":"'Flood map for planning'!Q113","v":0},{"$f":"'Present Day Fluvial'!P113","v":1},{"$f":"'Present Day Fluvial'!S113","v":0},{"$f":"'Present Day Fluvial'!R113","v":0},{"$f":"'Present Day Fluvial'!Q113","v":0},{"$f":"'Fluvial + CC'!J113","v":0},{"$f":"'Fluvial + CC'!K113","v":0},{"$f":"'Fluvial + CC'!L113","v":0},{"$f":"'Surface Water'!S113","v":0},{"$f":"'Surface Water'!T113","v":0},{"$f":"'Surface Water'!U113","v":2.92643319911139E-2},{"$f":"'Surface Water +CC'!I113","v":1.17040082347244E-2},{"$f":"'Surface Water +CC'!J113","v":3.6138831170083596E-2},{"$f":"'Reservoir extents'!P113","v":0},{"$f":"'Reservoir extents'!Q113","v":0},0,0,null,0]
["SEC1-3","Junction Two, Oldbury",1.1279999999999999,{"$f":"'Flood map for planning'!O114","v":1},{"$f":"'Flood map for planning'!P114","v":0},{"$f":"'Flood map for planning'!Q114","v":0},{"$f":"'Present Day Fluvial'!P114","v":1},{"$f":"'Present Day Fluvial'!S114","v":0},{"$f":"'Present Day Fluvial'!R114","v":0},{"$f":"'Present Day Fluvial'!Q114","v":0},{"$f":"'Fluvial + CC'!J114","v":0},{"$f":"'Fluvial + CC'!K114","v":0},{"$f":"'Fluvial + CC'!L114","v":0},{"$f":"'Surface Water'!S114","v":0},{"$f":"'Surface Water'!T114","v":5.3872746600884004E-4},{"$f":"'Surface Water'!U114","v":7.2422616261204456E-2},{"$f":"'Surface Water +CC'!I114","v":9.7677833654237207E-4},{"$f":"'Surface Water +CC'!J114","v":0.112263285195047},{"$f":"'Reservoir extents'!P114","v":0},{"$f":"'Reservoir extents'!Q114","v":0},0,0.69435650097020796,null,0]
["SEC3-98","Kelvin Way WBPr35",33.9,{"$f":"'Flood map for planning'!O115","v":0.99129594732715143},{"$f":"'Flood map for planning'!P115","v":8.7040526728485602E-3},{"$f":"'Flood map for planning'!Q115","v":0},{"$f":"'Present Day Fluvial'!P115","v":1},{"$f":"'Present Day Fluvial'!S115","v":0},{"$f":"'Present Day Fluvial'!R115","v":0},{"$f":"'Present Day Fluvial'!Q115","v":0},{"$f":"'Fluvial + CC'!J115","v":0},{"$f":"'Fluvial + CC'!K115","v":8.7040526876404293E-3},{"$f":"'Fluvial + CC'!L115","v":0},{"$f":"'Surface Water'!S115","v":4.7849295231547602E-3},{"$f":"'Surface Water'!T115","v":1.4527964147855243E-2},{"$f":"'Surface Water'!U115","v":6.8990029303127587E-2},{"$f":"'Surface Water +CC'!I115","v":5.2959127022519203E-2},{"$f":"'Surface Water +CC'!J115","v":9.3835328303836008E-2},{"$f":"'Reservoir extents'!P115","v":0},{"$f":"'Reservoir extents'!Q115","v":0},0,0.14765166082508199,null,0]
["EMP2-5","Kings Hill Business Park",3.2679999999999998,{"$f":"'Flood map for planning'!O116","v":1},{"$f":"'Flood map for planning'!P116","v":0},{"$f":"'Flood map for planning'!Q116","v":0},{"$f":"'Present Day Fluvial'!P116","v":1},{"$f":"'Present Day Fluvial'!S116","v":0},{"$f":"'Present Day Fluvial'!R116","v":0},{"$f":"'Present Day Fluvial'!Q116","v":0},{"$f":"'Fluvial + CC'!J116","v":0},{"$f":"'Fluvial + CC'!K116","v":0},{"$f":"'Fluvial + CC'!L116","v":0},{"$f":"'Surface Water'!S116","v":5.8795886004483601E-3},{"$f":"'Surface Water'!T116","v":2.777933054617274E-2},{"$f":"'Surface Water'!U116","v":0.11880398621467091},{"$f":"'Surface Water +CC'!I116","v":9.2769831767693295E-2},{"$f":"'Surface Water +CC'!J116","v":0.151482974362289},{"$f":"'Reservoir extents'!P116","v":0},{"$f":"'Reservoir extents'!Q116","v":0},0,0,null,0]
["SEC3-193","Kitchener Street, Smethwick",1.3939999999999999,{"$f":"'Flood map for planning'!O117","v":1},{"$f":"'Flood map for planning'!P117","v":0},{"$f":"'Flood map for planning'!Q117","v":0},{"$f":"'Present Day Fluvial'!P117","v":1},{"$f":"'Present Day Fluvial'!S117","v":0},{"$f":"'Present Day Fluvial'!R117","v":0},{"$f":"'Present Day Fluvial'!Q117","v":0},{"$f":"'Fluvial + CC'!J117","v":0},{"$f":"'Fluvial + CC'!K117","v":0},{"$f":"'Fluvial + CC'!L117","v":0},{"$f":"'Surface Water'!S117","v":1.7976625579138001E-4},{"$f":"'Surface Water'!T117","v":2.2816568013839995E-4},{"$f":"'Surface Water'!U117","v":7.2818969855072316E-2},{"$f":"'Surface Water +CC'!I117","v":3.61061291215269E-2},{"$f":"'Surface Water +CC'!J117","v":7.5524163946621703E-2},{"$f":"'Reservoir extents'!P117","v":1.85802662211309E-2},{"$f":"'Reservoir extents'!Q117","v":5.8281726724210975E-3},0.98817416281847004,3.8996993508788004E-3,null,0]
["SEC3-131","Land & premises Barnfield Rd, Brook St, Bloomfield",0.83499999999999996,{"$f":"'Flood map for planning'!O118","v":0},{"$f":"'Flood map for planning'!P118","v":1},{"$f":"'Flood map for planning'!Q118","v":0},{"$f":"'Present Day Fluvial'!P118","v":0},{"$f":"'Present Day Fluvial'!S118","v":1},{"$f":"'Present Day Fluvial'!R118","v":0},{"$f":"'Present Day Fluvial'!Q118","v":0},{"$f":"'Fluvial + CC'!J118","v":0.163723259098184},{"$f":"'Fluvial + CC'!K118","v":1},{"$f":"'Fluvial + CC'!L118","v":0},{"$f":"'Surface Water'!S118","v":1.2866570042077499E-3},{"$f":"'Surface Water'!T118","v":7.8810832102751104E-3},{"$f":"'Surface Water'!U118","v":0.17875881561707116},{"$f":"'Surface Water +CC'!I118","v":5.0340440392146704E-2},{"$f":"'Surface Water +CC'!J118","v":0.29068253362944502},{"$f":"'Reservoir extents'!P118","v":0},{"$f":"'Reservoir extents'!Q118","v":0},0,0,null,0]
["SEC3-43","Land at Birmingham Road / Roebuck Lane",6.806,{"$f":"'Flood map for planning'!O119","v":1},{"$f":"'Flood map for planning'!P119","v":0},{"$f":"'Flood map for planning'!Q119","v":0},{"$f":"'Present Day Fluvial'!P119","v":1},{"$f":"'Present Day Fluvial'!S119","v":0},{"$f":"'Present Day Fluvial'!R119","v":0},{"$f":"'Present Day Fluvial'!Q119","v":0},{"$f":"'Fluvial + CC'!J119","v":0},{"$f":"'Fluvial + CC'!K119","v":0},{"$f":"'Fluvial + CC'!L119","v":0},{"$f":"'Surface Water'!S119","v":5.8691865143991892E-3},{"$f":"'Surface Water'!T119","v":3.2280128588302306E-3},{"$f":"'Surface Water'!U119","v":6.6109745588414481E-2},{"$f":"'Surface Water +CC'!I119","v":4.3351867601232996E-2},{"$f":"'Surface Water +CC'!J119","v":7.7350390255648896E-2},{"$f":"'Reservoir extents'!P119","v":0},{"$f":"'Reservoir extents'!Q119","v":0},3.67618848949245E-3,0.49214312735497401,null,0]
["SEC3-156","Land at corner of Birmingham Road",0.48,{"$f":"'Flood map for planning'!O120","v":1},{"$f":"'Flood map for planning'!P120","v":0},{"$f":"'Flood map for planning'!Q120","v":0},{"$f":"'Present Day Fluvial'!P120","v":1},{"$f":"'Present Day Fluvial'!S120","v":0},{"$f":"'Present Day Fluvial'!R120","v":0},{"$f":"'Present Day Fluvial'!Q120","v":0},{"$f":"'Fluvial + CC'!J120","v":0},{"$f":"'Fluvial + CC'!K120","v":0},{"$f":"'Fluvial + CC'!L120","v":0},{"$f":"'Surface Water'!S120","v":0},{"$f":"'Surface Water'!T120","v":4.8692975273025704E-3},{"$f":"'Surface Water'!U120","v":2.7475699075390995E-3},{"$f":"'Surface Water +CC'!I120","v":6.5376422201332898E-3},{"$f":"'Surface Water +CC'!J120","v":2.7637003745043399E-2},{"$f":"'Reservoir extents'!P120","v":0},{"$f":"'Reservoir extents'!Q120","v":0},0,0,null,0]
["SEC3-127","Land at Doulton Way, bt Factory Rd, Bloomfield Rd, Tipton",2.7589999999999999,{"$f":"'Flood map for planning'!O121","v":0.93530036891711554},{"$f":"'Flood map for planning'!P121","v":6.4699631082884401E-2},{"$f":"'Flood map for planning'!Q121","v":0},{"$f":"'Present Day Fluvial'!P121","v":0.93566024909187617},{"$f":"'Present Day Fluvial'!S121","v":6.4339750908123799E-2},{"$f":"'Present Day Fluvial'!R121","v":0},{"$f":"'Present Day Fluvial'!Q121","v":0},{"$f":"'Fluvial + CC'!J121","v":0},{"$f":"'Fluvial + CC'!K121","v":6.4699630473493697E-2},{"$f":"'Fluvial + CC'!L121","v":0},{"$f":"'Surface Water'!S121","v":2.2876076399418702E-2},{"$f":"'Surface Water'!T121","v":3.0832523841863996E-2},{"$f":"'Surface Water'!U121","v":0.22245710490791332},{"$f":"'Surface Water +CC'!I121","v":0.148903522532424},{"$f":"'Surface Water +CC'!J121","v":0.40624995128236002},{"$f":"'Reservoir extents'!P121","v":0},{"$f":"'Reservoir extents'!Q121","v":0},0,0,null,0]
["SEC3-42","Land at Junction 1 / Kenrick Way",4.1459999999999999,{"$f":"'Flood map for planning'!O122","v":1},{"$f":"'Flood map for planning'!P122","v":0},{"$f":"'Flood map for planning'!Q122","v":0},{"$f":"'Present Day Fluvial'!P122","v":1},{"$f":"'Present Day Fluvial'!S122","v":0},{"$f":"'Present Day Fluvial'!R122","v":0},{"$f":"'Present Day Fluvial'!Q122","v":0},{"$f":"'Fluvial + CC'!J122","v":0},{"$f":"'Fluvial + CC'!K122","v":0},{"$f":"'Fluvial + CC'!L122","v":0},{"$f":"'Surface Water'!S122","v":2.6072855335649496E-3},{"$f":"'Surface Water'!T122","v":1.273382530798165E-2},{"$f":"'Surface Water'!U122","v":6.6051068016110701E-2},{"$f":"'Surface Water +CC'!I122","v":4.7184517834577902E-2},{"$f":"'Surface Water +CC'!J122","v":8.53777258904026E-2},{"$f":"'Reservoir extents'!P122","v":0},{"$f":"'Reservoir extents'!Q122","v":0},0,0.86361140637406708,null,0]
["SEC4-15","Land at Potters Lane & Stafford St, Weds (5642)",0.85599999999999998,{"$f":"'Flood map for planning'!O123","v":1},{"$f":"'Flood map for planning'!P123","v":0},{"$f":"'Flood map for planning'!Q123","v":0},{"$f":"'Present Day Fluvial'!P123","v":1},{"$f":"'Present Day Fluvial'!S123","v":0},{"$f":"'Present Day Fluvial'!R123","v":0},{"$f":"'Present Day Fluvial'!Q123","v":0},{"$f":"'Fluvial + CC'!J123","v":0},{"$f":"'Fluvial + CC'!K123","v":0},{"$f":"'Fluvial + CC'!L123","v":0},{"$f":"'Surface Water'!S123","v":0},{"$f":"'Surface Water'!T123","v":7.7021075563520004E-4},{"$f":"'Surface Water'!U123","v":3.0575822928455995E-2},{"$f":"'Surface Water +CC'!I123","v":9.0949880465345E-4},{"$f":"'Surface Water +CC'!J123","v":3.0878101612856697E-2},{"$f":"'Reservoir extents'!P123","v":0},{"$f":"'Reservoir extents'!Q123","v":0},0,0,null,0]
["SEC3-118","Land bt Great Bridge St & William St, Tipton (2965",1.081,{"$f":"'Flood map for planning'!O124","v":1},{"$f":"'Flood map for planning'!P124","v":0},{"$f":"'Flood map for planning'!Q124","v":0},{"$f":"'Present Day Fluvial'!P124","v":1},{"$f":"'Present Day Fluvial'!S124","v":0},{"$f":"'Present Day Fluvial'!R124","v":0},{"$f":"'Present Day Fluvial'!Q124","v":0},{"$f":"'Fluvial + CC'!J124","v":0},{"$f":"'Fluvial + CC'!K124","v":0},{"$f":"'Fluvial + CC'!L124","v":0},{"$f":"'Surface Water'!S124","v":0},{"$f":"'Surface Water'!T124","v":0},{"$f":"'Surface Water'!U124","v":1.8372954072203899E-2},{"$f":"'Surface Water +CC'!I124","v":1.2848504410408601E-2},{"$f":"'Surface Water +CC'!J124","v":1.8287533924830301E-2},{"$f":"'Reservoir extents'!P124","v":0},{"$f":"'Reservoir extents'!Q124","v":0},0,0,null,0]
["SEC3-117","Land by Whitehall Road and Walsall Canal",1.04,{"$f":"'Flood map for planning'!O125","v":1},{"$f":"'Flood map for planning'!P125","v":0},{"$f":"'Flood map for planning'!Q125","v":0},{"$f":"'Present Day Fluvial'!P125","v":1},{"$f":"'Present Day Fluvial'!S125","v":0},{"$f":"'Present Day Fluvial'!R125","v":0},{"$f":"'Present Day Fluvial'!Q125","v":0},{"$f":"'Fluvial + CC'!J125","v":0},{"$f":"'Fluvial + CC'!K125","v":0},{"$f":"'Fluvial + CC'!L125","v":0},{"$f":"'Surface Water'!S125","v":0},{"$f":"'Surface Water'!T125","v":0},{"$f":"'Surface Water'!U125","v":3.5984417609392395E-2},{"$f":"'Surface Water +CC'!I125","v":9.2398521026850998E-3},{"$f":"'Surface Water +CC'!J125","v":3.4582653774443604E-2},{"$f":"'Reservoir extents'!P125","v":0},{"$f":"'Reservoir extents'!Q125","v":0},0,0,null,0]
["SEC3-31","land off dudley rd, oldbury",0.98099999999999998,{"$f":"'Flood map for planning'!O126","v":1},{"$f":"'Flood map for planning'!P126","v":0},{"$f":"'Flood map for planning'!Q126","v":0},{"$f":"'Present Day Fluvial'!P126","v":1},{"$f":"'Present Day Fluvial'!S126","v":0},{"$f":"'Present Day Fluvial'!R126","v":0},{"$f":"'Present Day Fluvial'!Q126","v":0},{"$f":"'Fluvial + CC'!J126","v":0},{"$f":"'Fluvial + CC'!K126","v":0},{"$f":"'Fluvial + CC'!L126","v":0},{"$f":"'Surface Water'!S126","v":0},{"$f":"'Surface Water'!T126","v":1.2253270092665001E-4},{"$f":"'Surface Water'!U126","v":4.1020278978066106E-3},{"$f":"'Surface Water +CC'!I126","v":8.7046773350174804E-4},{"$f":"'Surface Water +CC'!J126","v":3.9118824871994098E-2},{"$f":"'Reservoir extents'!P126","v":0},{"$f":"'Reservoir extents'!Q126","v":0},0,0,null,0]
["SEC3-65","Land off Tipton Road, Oldbury",0.81200000000000006,{"$f":"'Flood map for planning'!O127","v":1},{"$f":"'Flood map for planning'!P127","v":0},{"$f":"'Flood map for planning'!Q127","v":0},{"$f":"'Present Day Fluvial'!P127","v":1},{"$f":"'Present Day Fluvial'!S127","v":0},{"$f":"'Present Day Fluvial'!R127","v":0},{"$f":"'Present Day Fluvial'!Q127","v":0},{"$f":"'Fluvial + CC'!J127","v":0},{"$f":"'Fluvial + CC'!K127","v":0},{"$f":"'Fluvial + CC'!L127","v":0},{"$f":"'Surface Water'!S127","v":0},{"$f":"'Surface Water'!T127","v":0},{"$f":"'Surface Water'!U127","v":7.8959847383006293E-2},{"$f":"'Surface Water +CC'!I127","v":4.0699010277725399E-2},{"$f":"'Surface Water +CC'!J127","v":7.8959847049233103E-2},{"$f":"'Reservoir extents'!P127","v":0},{"$f":"'Reservoir extents'!Q127","v":0},0,0,null,0]
["SEC3-17","Leabrook Road, Tipton",7.4790000000000001,{"$f":"'Flood map for planning'!O128","v":1},{"$f":"'Flood map for planning'!P128","v":0},{"$f":"'Flood map for planning'!Q128","v":0},{"$f":"'Present Day Fluvial'!P128","v":1},{"$f":"'Present Day Fluvial'!S128","v":0},{"$f":"'Present Day Fluvial'!R128","v":0},{"$f":"'Present Day Fluvial'!Q128","v":0},{"$f":"'Fluvial + CC'!J128","v":0},{"$f":"'Fluvial + CC'!K128","v":0},{"$f":"'Fluvial + CC'!L128","v":0},{"$f":"'Surface Water'!S128","v":1.7127156069812299E-3},{"$f":"'Surface Water'!T128","v":8.8753309040535723E-3},{"$f":"'Surface Water'!U128","v":5.8550367185223801E-2},{"$f":"'Surface Water +CC'!I128","v":3.8067476353183596E-2},{"$f":"'Surface Water +CC'!J128","v":6.7796370960940294E-2},{"$f":"'Reservoir extents'!P128","v":0},{"$f":"'Reservoir extents'!Q128","v":0},0,0,null,0]
["SEC1-8","Legacy 43, Ryder Street, West Bromwich",0.88300000000000001,{"$f":"'Flood map for planning'!O129","v":1},{"$f":"'Flood map for planning'!P129","v":0},{"$f":"'Flood map for planning'!Q129","v":0},{"$f":"'Present Day Fluvial'!P129","v":1},{"$f":"'Present Day Fluvial'!S129","v":0},{"$f":"'Present Day Fluvial'!R129","v":0},{"$f":"'Present Day Fluvial'!Q129","v":0},{"$f":"'Fluvial + CC'!J129","v":0},{"$f":"'Fluvial + CC'!K129","v":0},{"$f":"'Fluvial + CC'!L129","v":0},{"$f":"'Surface Water'!S129","v":0},{"$f":"'Surface Water'!T129","v":0},{"$f":"'Surface Water'!U129","v":2.5779647938551698E-3},{"$f":"'Surface Water +CC'!I129","v":0},{"$f":"'Surface Water +CC'!J129","v":2.4236083610665602E-3},{"$f":"'Reservoir extents'!P129","v":0},{"$f":"'Reservoir extents'!Q129","v":0},0,0,null,0]
["EMP2-14","Lidl, Junction 9 (Opus 9)",8.7070000000000007,{"$f":"'Flood map for planning'!O130","v":0.30647989439703693},{"$f":"'Flood map for planning'!P130","v":0.17321925545116601},{"$f":"'Flood map for planning'!Q130","v":0.52030085015179706},{"$f":"'Present Day Fluvial'!P130","v":0.31721561421365096},{"$f":"'Present Day Fluvial'!S130","v":0.17182091323383697},{"$f":"'Present Day Fluvial'!R130","v":6.0809475947452063E-2},{"$f":"'Present Day Fluvial'!Q130","v":0.45015399660506},{"$f":"'Fluvial + CC'!J130","v":0.59978454495989997},{"$f":"'Fluvial + CC'!K130","v":0.68698543794338307},{"$f":"'Fluvial + CC'!L130","v":0.51351539975432603},{"$f":"'Surface Water'!S130","v":0},{"$f":"'Surface Water'!T130","v":1.5171570188212099E-3},{"$f":"'Surface Water'!U130","v":0.3509598324990888},{"$f":"'Surface Water +CC'!I130","v":3.6894352956223397E-2},{"$f":"'Surface Water +CC'!J130","v":0.44105277942542798},{"$f":"'Reservoir extents'!P130","v":0},{"$f":"'Reservoir extents'!Q130","v":0.51053746246773901},0,0,null,0]
["SEC3-40","Newlyn Road, Cradley Heath",3.411,{"$f":"'Flood map for planning'!O131","v":1},{"$f":"'Flood map for planning'!P131","v":0},{"$f":"'Flood map for planning'!Q131","v":0},{"$f":"'Present Day Fluvial'!P131","v":1},{"$f":"'Present Day Fluvial'!S131","v":0},{"$f":"'Present Day Fluvial'!R131","v":0},{"$f":"'Present Day Fluvial'!Q131","v":0},{"$f":"'Fluvial + CC'!J131","v":0},{"$f":"'Fluvial + CC'!K131","v":0},{"$f":"'Fluvial + CC'!L131","v":0},{"$f":"'Surface Water'!S131","v":4.2244088067843197E-3},{"$f":"'Surface Water'!T131","v":6.3453599497797801E-3},{"$f":"'Surface Water'!U131","v":2.5186060823185998E-2},{"$f":"'Surface Water +CC'!I131","v":1.89722522466363E-2},{"$f":"'Surface Water +CC'!J131","v":4.10363412106374E-2},{"$f":"'Reservoir extents'!P131","v":0},{"$f":"'Reservoir extents'!Q131","v":0},0,0,null,0]
["SEC3-84","Old Park Trading Estate, Old Park Rd (2922)",2.6419999999999999,{"$f":"'Flood map for planning'!O132","v":1},{"$f":"'Flood map for planning'!P132","v":0},{"$f":"'Flood map for planning'!Q132","v":0},{"$f":"'Present Day Fluvial'!P132","v":1},{"$f":"'Present Day Fluvial'!S132","v":0},{"$f":"'Present Day Fluvial'!R132","v":0},{"$f":"'Present Day Fluvial'!Q132","v":0},{"$f":"'Fluvial + CC'!J132","v":0},{"$f":"'Fluvial + CC'!K132","v":0},{"$f":"'Fluvial + CC'!L132","v":0},{"$f":"'Surface Water'!S132","v":3.2412733365392098E-2},{"$f":"'Surface Water'!T132","v":3.4162499714068505E-2},{"$f":"'Surface Water'!U132","v":0.11829616851403942},{"$f":"'Surface Water +CC'!I132","v":0.12256272598274799},{"$f":"'Surface Water +CC'!J132","v":0.18366277027522598},{"$f":"'Reservoir extents'!P132","v":0},{"$f":"'Reservoir extents'!Q132","v":0},0,0,null,0]
["SEC3-53","Oldbury Point Ind Est, Rood End Road",3.2320000000000002,{"$f":"'Flood map for planning'!O133","v":1},{"$f":"'Flood map for planning'!P133","v":0},{"$f":"'Flood map for planning'!Q133","v":0},{"$f":"'Present Day Fluvial'!P133","v":1},{"$f":"'Present Day Fluvial'!S133","v":0},{"$f":"'Present Day Fluvial'!R133","v":0},{"$f":"'Present Day Fluvial'!Q133","v":0},{"$f":"'Fluvial + CC'!J133","v":0},{"$f":"'Fluvial + CC'!K133","v":0},{"$f":"'Fluvial + CC'!L133","v":0},{"$f":"'Surface Water'!S133","v":1.19393631177406E-2},{"$f":"'Surface Water'!T133","v":5.5672343118538498E-2},{"$f":"'Surface Water'!U133","v":0.11214432991612092},{"$f":"'Surface Water +CC'!I133","v":0.10501908689888101},{"$f":"'Surface Water +CC'!J133","v":0.18696616525995199},{"$f":"'Reservoir extents'!P133","v":0},{"$f":"'Reservoir extents'!Q133","v":0},0,0,null,0]
["SEC3-150","Oldbury Rd Ind Est, Oldbury Rd (2994)",0.57399999999999995,{"$f":"'Flood map for planning'!O134","v":1},{"$f":"'Flood map for planning'!P134","v":0},{"$f":"'Flood map for planning'!Q134","v":0},{"$f":"'Present Day Fluvial'!P134","v":1},{"$f":"'Present Day Fluvial'!S134","v":0},{"$f":"'Present Day Fluvial'!R134","v":0},{"$f":"'Present Day Fluvial'!Q134","v":0},{"$f":"'Fluvial + CC'!J134","v":0},{"$f":"'Fluvial + CC'!K134","v":0},{"$f":"'Fluvial + CC'!L134","v":0},{"$f":"'Surface Water'!S134","v":0},{"$f":"'Surface Water'!T134","v":0},{"$f":"'Surface Water'!U134","v":0},{"$f":"'Surface Water +CC'!I134","v":0},{"$f":"'Surface Water +CC'!J134","v":0},{"$f":"'Reservoir extents'!P134","v":0},{"$f":"'Reservoir extents'!Q134","v":0},0,1,null,0]
["SEC3-168","Oldbury Rd, Oldbury (3014)",2.4159999999999999,{"$f":"'Flood map for planning'!O135","v":1},{"$f":"'Flood map for planning'!P135","v":0},{"$f":"'Flood map for planning'!Q135","v":0},{"$f":"'Present Day Fluvial'!P135","v":1},{"$f":"'Present Day Fluvial'!S135","v":0},{"$f":"'Present Day Fluvial'!R135","v":0},{"$f":"'Present Day Fluvial'!Q135","v":0},{"$f":"'Fluvial + CC'!J135","v":0},{"$f":"'Fluvial + CC'!K135","v":0},{"$f":"'Fluvial + CC'!L135","v":0},{"$f":"'Surface Water'!S135","v":0},{"$f":"'Surface Water'!T135","v":0},{"$f":"'Surface Water'!U135","v":1.2117406200776998E-2},{"$f":"'Surface Water +CC'!I135","v":5.2080372280673901E-3},{"$f":"'Surface Water +CC'!J135","v":1.6756080134923499E-2},{"$f":"'Reservoir extents'!P135","v":0},{"$f":"'Reservoir extents'!Q135","v":0},0,0.39867045825855896,null,0]
["SEC3-153","Oldbury Rd, WB (2384 / WBPr31)",18.937999999999999,{"$f":"'Flood map for planning'!O136","v":1},{"$f":"'Flood map for planning'!P136","v":0},{"$f":"'Flood map for planning'!Q136","v":0},{"$f":"'Present Day Fluvial'!P136","v":1},{"$f":"'Present Day Fluvial'!S136","v":0},{"$f":"'Present Day Fluvial'!R136","v":0},{"$f":"'Present Day Fluvial'!Q136","v":0},{"$f":"'Fluvial + CC'!J136","v":0},{"$f":"'Fluvial + CC'!K136","v":0},{"$f":"'Fluvial + CC'!L136","v":0},{"$f":"'Surface Water'!S136","v":4.4701239820628706E-3},{"$f":"'Surface Water'!T136","v":1.4382601156473329E-2},{"$f":"'Surface Water'!U136","v":7.3379414303674395E-2},{"$f":"'Surface Water +CC'!I136","v":5.1269504182573901E-2},{"$f":"'Surface Water +CC'!J136","v":9.1086952576342708E-2},{"$f":"'Reservoir extents'!P136","v":0},{"$f":"'Reservoir extents'!Q136","v":0},0,0,null,0]
["SEC3-191","Oldfield Trading Estate, Cradley Heath",1.766,{"$f":"'Flood map for planning'!O137","v":1},{"$f":"'Flood map for planning'!P137","v":0},{"$f":"'Flood map for planning'!Q137","v":0},{"$f":"'Present Day Fluvial'!P137","v":1},{"$f":"'Present Day Fluvial'!S137","v":0},{"$f":"'Present Day Fluvial'!R137","v":0},{"$f":"'Present Day Fluvial'!Q137","v":0},{"$f":"'Fluvial + CC'!J137","v":0},{"$f":"'Fluvial + CC'!K137","v":0},{"$f":"'Fluvial + CC'!L137","v":0},{"$f":"'Surface Water'!S137","v":9.296244551761949E-3},{"$f":"'Surface Water'!T137","v":1.1336883595205351E-2},{"$f":"'Surface Water'!U137","v":4.2294027460652805E-2},{"$f":"'Surface Water +CC'!I137","v":3.7886509638166199E-2},{"$f":"'Surface Water +CC'!J137","v":6.5665094955351611E-2},{"$f":"'Reservoir extents'!P137","v":0},{"$f":"'Reservoir extents'!Q137","v":0},0,0,null,0]
["SEC3-176","Palmers Timber Site, Station Rd, Old Hill (3043)",3.149,{"$f":"'Flood map for planning'!O138","v":1},{"$f":"'Flood map for planning'!P138","v":0},{"$f":"'Flood map for planning'!Q138","v":0},{"$f":"'Present Day Fluvial'!P138","v":1},{"$f":"'Present Day Fluvial'!S138","v":0},{"$f":"'Present Day Fluvial'!R138","v":0},{"$f":"'Present Day Fluvial'!Q138","v":0},{"$f":"'Fluvial + CC'!J138","v":0},{"$f":"'Fluvial + CC'!K138","v":0},{"$f":"'Fluvial + CC'!L138","v":0},{"$f":"'Surface Water'!S138","v":1.0242608049736901E-2},{"$f":"'Surface Water'!T138","v":9.3830002131840996E-3},{"$f":"'Surface Water'!U138","v":0.19464237151841202},{"$f":"'Surface Water +CC'!I138","v":0.13545597963008299},{"$f":"'Surface Water +CC'!J138","v":0.22711556025996502},{"$f":"'Reservoir extents'!P138","v":0},{"$f":"'Reservoir extents'!Q138","v":0},0,5.24733908456399E-2,null,0]
["EMP2-7","Park Lane Trading Estate, Oldbury",2.1819999999999999,{"$f":"'Flood map for planning'!O139","v":0.99714341421888608},{"$f":"'Flood map for planning'!P139","v":2.7586519310331902E-3},{"$f":"'Flood map for planning'!Q139","v":9.7933850080710006E-5},{"$f":"'Present Day Fluvial'!P139","v":0.99745788343954356},{"$f":"'Present Day Fluvial'!S139","v":2.4477060651627957E-3},{"$f":"'Present Day Fluvial'!R139","v":8.2071146711264876E-6},{"$f":"'Present Day Fluvial'!Q139","v":8.6203380622478008E-5},{"$f":"'Fluvial + CC'!J139","v":4.00061533010988E-4},{"$f":"'Fluvial + CC'!K139","v":2.8597208632660399E-3},{"$f":"'Fluvial + CC'!L139","v":9.4410495293604496E-5},{"$f":"'Surface Water'!S139","v":4.1483954666240806E-3},{"$f":"'Surface Water'!T139","v":3.6265959165761419E-2},{"$f":"'Surface Water'!U139","v":0.14423761412078351},{"$f":"'Surface Water +CC'!I139","v":8.5022542788826497E-2},{"$f":"'Surface Water +CC'!J139","v":0.202236864286685},{"$f":"'Reservoir extents'!P139","v":0},{"$f":"'Reservoir extents'!Q139","v":0},0,0,null,0]
["SEC4-5","Park Lane West",2.9529999999999998,{"$f":"'Flood map for planning'!O140","v":1},{"$f":"'Flood map for planning'!P140","v":0},{"$f":"'Flood map for planning'!Q140","v":0},{"$f":"'Present Day Fluvial'!P140","v":1},{"$f":"'Present Day Fluvial'!S140","v":0},{"$f":"'Present Day Fluvial'!R140","v":0},{"$f":"'Present Day Fluvial'!Q140","v":0},{"$f":"'Fluvial + CC'!J140","v":0},{"$f":"'Fluvial + CC'!K140","v":0},{"$f":"'Fluvial + CC'!L140","v":0},{"$f":"'Surface Water'!S140","v":0},{"$f":"'Surface Water'!T140","v":3.8739882701978702E-3},{"$f":"'Surface Water'!U140","v":7.510713077768473E-2},{"$f":"'Surface Water +CC'!I140","v":3.3938807345227896E-2},{"$f":"'Surface Water +CC'!J140","v":7.9116685123009192E-2},{"$f":"'Reservoir extents'!P140","v":0},{"$f":"'Reservoir extents'!Q140","v":0},0,0,null,0]
["SEC3-186","Park Lane, West Bromwich",10.103999999999999,{"$f":"'Flood map for planning'!O141","v":1},{"$f":"'Flood map for planning'!P141","v":0},{"$f":"'Flood map for planning'!Q141","v":0},{"$f":"'Present Day Fluvial'!P141","v":1},{"$f":"'Present Day Fluvial'!S141","v":0},{"$f":"'Present Day Fluvial'!R141","v":0},{"$f":"'Present Day Fluvial'!Q141","v":0},{"$f":"'Fluvial + CC'!J141","v":0},{"$f":"'Fluvial + CC'!K141","v":0},{"$f":"'Fluvial + CC'!L141","v":0},{"$f":"'Surface Water'!S141","v":2.9716178610077696E-3},{"$f":"'Surface Water'!T141","v":1.1450360595946231E-2},{"$f":"'Surface Water'!U141","v":7.0977963889292395E-2},{"$f":"'Surface Water +CC'!I141","v":4.7063961809453006E-2},{"$f":"'Surface Water +CC'!J141","v":8.9496459746478199E-2},{"$f":"'Reservoir extents'!P141","v":0},{"$f":"'Reservoir extents'!Q141","v":0},0,0.99631024989947603,null,0]
["SEC3-187","Park Lane, West Bromwich",2.452,{"$f":"'Flood map for planning'!O142","v":1},{"$f":"'Flood map for planning'!P142","v":0},{"$f":"'Flood map for planning'!Q142","v":0},{"$f":"'Present Day Fluvial'!P142","v":1},{"$f":"'Present Day Fluvial'!S142","v":0},{"$f":"'Present Day Fluvial'!R142","v":0},{"$f":"'Present Day Fluvial'!Q142","v":0},{"$f":"'Fluvial + CC'!J142","v":0},{"$f":"'Fluvial + CC'!K142","v":0},{"$f":"'Fluvial + CC'!L142","v":0},{"$f":"'Surface Water'!S142","v":0},{"$f":"'Surface Water'!T142","v":0},{"$f":"'Surface Water'!U142","v":1.7303453047202599E-2},{"$f":"'Surface Water +CC'!I142","v":9.9576475083827491E-3},{"$f":"'Surface Water +CC'!J142","v":1.7303453046782699E-2},{"$f":"'Reservoir extents'!P142","v":0},{"$f":"'Reservoir extents'!Q142","v":0},0,1,null,0]
["SEC3-184","Parkroase Estate, Rounds Green Road, Oldbury",2.5880000000000001,{"$f":"'Flood map for planning'!O143","v":1},{"$f":"'Flood map for planning'!P143","v":0},{"$f":"'Flood map for planning'!Q143","v":0},{"$f":"'Present Day Fluvial'!P143","v":1},{"$f":"'Present Day Fluvial'!S143","v":0},{"$f":"'Present Day Fluvial'!R143","v":0},{"$f":"'Present Day Fluvial'!Q143","v":0},{"$f":"'Fluvial + CC'!J143","v":0},{"$f":"'Fluvial + CC'!K143","v":0},{"$f":"'Fluvial + CC'!L143","v":0},{"$f":"'Surface Water'!S143","v":0},{"$f":"'Surface Water'!T143","v":0},{"$f":"'Surface Water'!U143","v":2.2775984563908599E-2},{"$f":"'Surface Water +CC'!I143","v":9.5086768699138898E-3},{"$f":"'Surface Water +CC'!J143","v":3.1785201092737997E-2},{"$f":"'Reservoir extents'!P143","v":0},{"$f":"'Reservoir extents'!Q143","v":0},0,0,null,0]
["SEC3-105","Parsonage Street, Oldbury",10.189,{"$f":"'Flood map for planning'!O144","v":1},{"$f":"'Flood map for planning'!P144","v":0},{"$f":"'Flood map for planning'!Q144","v":0},{"$f":"'Present Day Fluvial'!P144","v":1},{"$f":"'Present Day Fluvial'!S144","v":0},{"$f":"'Present Day Fluvial'!R144","v":0},{"$f":"'Present Day Fluvial'!Q144","v":0},{"$f":"'Fluvial + CC'!J144","v":0},{"$f":"'Fluvial + CC'!K144","v":0},{"$f":"'Fluvial + CC'!L144","v":0},{"$f":"'Surface Water'!S144","v":1.25752960653515E-2},{"$f":"'Surface Water'!T144","v":3.1178514364879492E-2},{"$f":"'Surface Water'!U144","v":0.11723343171731401},{"$f":"'Surface Water +CC'!I144","v":0.117088490634458},{"$f":"'Surface Water +CC'!J144","v":0.17301866029549998},{"$f":"'Reservoir extents'!P144","v":0},{"$f":"'Reservoir extents'!Q144","v":0},0,0.26963524981109399,null,0]
["SEC3-173","Pennington Close",4.22,{"$f":"'Flood map for planning'!O145","v":1},{"$f":"'Flood map for planning'!P145","v":0},{"$f":"'Flood map for planning'!Q145","v":0},{"$f":"'Present Day Fluvial'!P145","v":1},{"$f":"'Present Day Fluvial'!S145","v":0},{"$f":"'Present Day Fluvial'!R145","v":0},{"$f":"'Present Day Fluvial'!Q145","v":0},{"$f":"'Fluvial + CC'!J145","v":0},{"$f":"'Fluvial + CC'!K145","v":0},{"$f":"'Fluvial + CC'!L145","v":0},{"$f":"'Surface Water'!S145","v":3.4759725498194E-3},{"$f":"'Surface Water'!T145","v":2.4006051058087698E-2},{"$f":"'Surface Water'!U145","v":0.21872000931363889},{"$f":"'Surface Water +CC'!I145","v":0.117164302584724},{"$f":"'Surface Water +CC'!J145","v":0.24221908120102997},{"$f":"'Reservoir extents'!P145","v":0},{"$f":"'Reservoir extents'!Q145","v":0},0,0,null,0]
["SEC4-13","Ph 9, The Parkway, bt Stafford St/ Victoria st/ Po",0.94199999999999995,{"$f":"'Flood map for planning'!O146","v":1},{"$f":"'Flood map for planning'!P146","v":0},{"$f":"'Flood map for planning'!Q146","v":0},{"$f":"'Present Day Fluvial'!P146","v":1},{"$f":"'Present Day Fluvial'!S146","v":0},{"$f":"'Present Day Fluvial'!R146","v":0},{"$f":"'Present Day Fluvial'!Q146","v":0},{"$f":"'Fluvial + CC'!J146","v":0},{"$f":"'Fluvial + CC'!K146","v":0},{"$f":"'Fluvial + CC'!L146","v":0},{"$f":"'Surface Water'!S146","v":6.0741810269133098E-2},{"$f":"'Surface Water'!T146","v":0.11766070935872992},{"$f":"'Surface Water'!U146","v":0.23617083434378999},{"$f":"'Surface Water +CC'!I146","v":0.30455858722749896},{"$f":"'Surface Water +CC'!J146","v":0.414148585388455},{"$f":"'Reservoir extents'!P146","v":0},{"$f":"'Reservoir extents'!Q146","v":0},0,0,null,0]
["SEC3-171","Phoenix St / Belper Ind Est Greets Green Road, Wes",5.5679999999999996,{"$f":"'Flood map for planning'!O147","v":1},{"$f":"'Flood map for planning'!P147","v":0},{"$f":"'Flood map for planning'!Q147","v":0},{"$f":"'Present Day Fluvial'!P147","v":1},{"$f":"'Present Day Fluvial'!S147","v":0},{"$f":"'Present Day Fluvial'!R147","v":0},{"$f":"'Present Day Fluvial'!Q147","v":0},{"$f":"'Fluvial + CC'!J147","v":0},{"$f":"'Fluvial + CC'!K147","v":0},{"$f":"'Fluvial + CC'!L147","v":0},{"$f":"'Surface Water'!S147","v":1.7153657695003E-3},{"$f":"'Surface Water'!T147","v":1.24909722917671E-2},{"$f":"'Surface Water'!U147","v":7.0217997083178413E-2},{"$f":"'Surface Water +CC'!I147","v":3.4225135120387405E-2},{"$f":"'Surface Water +CC'!J147","v":8.0051587500140298E-2},{"$f":"'Reservoir extents'!P147","v":0},{"$f":"'Reservoir extents'!Q147","v":0},0,0,null,0]
["SEC3-172","Phoenix Street (west), West Bromwich",3.4510000000000001,{"$f":"'Flood map for planning'!O148","v":1},{"$f":"'Flood map for planning'!P148","v":0},{"$f":"'Flood map for planning'!Q148","v":0},{"$f":"'Present Day Fluvial'!P148","v":1},{"$f":"'Present Day Fluvial'!S148","v":0},{"$f":"'Present Day Fluvial'!R148","v":0},{"$f":"'Present Day Fluvial'!Q148","v":0},{"$f":"'Fluvial + CC'!J148","v":0},{"$f":"'Fluvial + CC'!K148","v":0},{"$f":"'Fluvial + CC'!L148","v":0},{"$f":"'Surface Water'!S148","v":0},{"$f":"'Surface Water'!T148","v":1.7208862860383E-4},{"$f":"'Surface Water'!U148","v":4.9321836478446672E-2},{"$f":"'Surface Water +CC'!I148","v":1.1580705803016799E-2},{"$f":"'Surface Water +CC'!J148","v":4.7637668235356895E-2},{"$f":"'Reservoir extents'!P148","v":0},{"$f":"'Reservoir extents'!Q148","v":0},0,0,null,0]
["SEC3-70","Pikehelve Street, Hill Top, West Bromwich",5.93,{"$f":"'Flood map for planning'!O149","v":1},{"$f":"'Flood map for planning'!P149","v":0},{"$f":"'Flood map for planning'!Q149","v":0},{"$f":"'Present Day Fluvial'!P149","v":1},{"$f":"'Present Day Fluvial'!S149","v":0},{"$f":"'Present Day Fluvial'!R149","v":0},{"$f":"'Present Day Fluvial'!Q149","v":0},{"$f":"'Fluvial + CC'!J149","v":0},{"$f":"'Fluvial + CC'!K149","v":0},{"$f":"'Fluvial + CC'!L149","v":0},{"$f":"'Surface Water'!S149","v":2.6328823844094201E-3},{"$f":"'Surface Water'!T149","v":2.3523209522856594E-3},{"$f":"'Surface Water'!U149","v":4.758567778985822E-2},{"$f":"'Surface Water +CC'!I149","v":2.3842561098605598E-2},{"$f":"'Surface Water +CC'!J149","v":5.2165822912884803E-2},{"$f":"'Reservoir extents'!P149","v":0},{"$f":"'Reservoir extents'!Q149","v":0},0,0,null,0]
["SEC3-74","Popes Lane, Oldbury",10.856,{"$f":"'Flood map for planning'!O150","v":1},{"$f":"'Flood map for planning'!P150","v":0},{"$f":"'Flood map for planning'!Q150","v":0},{"$f":"'Present Day Fluvial'!P150","v":1},{"$f":"'Present Day Fluvial'!S150","v":0},{"$f":"'Present Day Fluvial'!R150","v":0},{"$f":"'Present Day Fluvial'!Q150","v":0},{"$f":"'Fluvial + CC'!J150","v":0},{"$f":"'Fluvial + CC'!K150","v":0},{"$f":"'Fluvial + CC'!L150","v":0},{"$f":"'Surface Water'!S150","v":3.23379103112152E-3},{"$f":"'Surface Water'!T150","v":7.1490787717993793E-3},{"$f":"'Surface Water'!U150","v":0.14903281421858111},{"$f":"'Surface Water +CC'!I150","v":4.4602606760265298E-2},{"$f":"'Surface Water +CC'!J150","v":0.17090877630576198},{"$f":"'Reservoir extents'!P150","v":0},{"$f":"'Reservoir extents'!Q150","v":0},0,0,null,0]
["SEC3-75","Popes Lane, Oldbury",2.919,{"$f":"'Flood map for planning'!O151","v":1},{"$f":"'Flood map for planning'!P151","v":0},{"$f":"'Flood map for planning'!Q151","v":0},{"$f":"'Present Day Fluvial'!P151","v":1},{"$f":"'Present Day Fluvial'!S151","v":0},{"$f":"'Present Day Fluvial'!R151","v":0},{"$f":"'Present Day Fluvial'!Q151","v":0},{"$f":"'Fluvial + CC'!J151","v":0},{"$f":"'Fluvial + CC'!K151","v":0},{"$f":"'Fluvial + CC'!L151","v":0},{"$f":"'Surface Water'!S151","v":3.3047291463419999E-3},{"$f":"'Surface Water'!T151","v":4.1458016725757305E-3},{"$f":"'Surface Water'!U151","v":7.7429154551917664E-2},{"$f":"'Surface Water +CC'!I151","v":4.71596941486042E-2},{"$f":"'Surface Water +CC'!J151","v":8.9481637624980501E-2},{"$f":"'Reservoir extents'!P151","v":0},{"$f":"'Reservoir extents'!Q151","v":0},0,6.9451448394415194E-2,null,0]
["SEC3-10","Portway Rd, Weds (5129)",3.782,{"$f":"'Flood map for planning'!O152","v":1},{"$f":"'Flood map for planning'!P152","v":0},{"$f":"'Flood map for planning'!Q152","v":0},{"$f":"'Present Day Fluvial'!P152","v":1},{"$f":"'Present Day Fluvial'!S152","v":0},{"$f":"'Present Day Fluvial'!R152","v":0},{"$f":"'Present Day Fluvial'!Q152","v":0},{"$f":"'Fluvial + CC'!J152","v":0},{"$f":"'Fluvial + CC'!K152","v":0},{"$f":"'Fluvial + CC'!L152","v":0},{"$f":"'Surface Water'!S152","v":2.99146651610162E-2},{"$f":"'Surface Water'!T152","v":2.2889125935724494E-2},{"$f":"'Surface Water'!U152","v":0.17162564062781432},{"$f":"'Surface Water +CC'!I152","v":0.111732936960765},{"$f":"'Surface Water +CC'!J152","v":0.21584813805744701},{"$f":"'Reservoir extents'!P152","v":0},{"$f":"'Reservoir extents'!Q152","v":0},0,0,null,0]
["SEC3-81","Portway Rd, Weds (5129)",4.5259999999999998,{"$f":"'Flood map for planning'!O153","v":1},{"$f":"'Flood map for planning'!P153","v":0},{"$f":"'Flood map for planning'!Q153","v":0},{"$f":"'Present Day Fluvial'!P153","v":1},{"$f":"'Present Day Fluvial'!S153","v":0},{"$f":"'Present Day Fluvial'!R153","v":0},{"$f":"'Present Day Fluvial'!Q153","v":0},{"$f":"'Fluvial + CC'!J153","v":0},{"$f":"'Fluvial + CC'!K153","v":0},{"$f":"'Fluvial + CC'!L153","v":0},{"$f":"'Surface Water'!S153","v":6.2799614413963801E-3},{"$f":"'Surface Water'!T153","v":1.2824734944735921E-2},{"$f":"'Surface Water'!U153","v":0.1033022726410467},{"$f":"'Surface Water +CC'!I153","v":6.6326427883273698E-2},{"$f":"'Surface Water +CC'!J153","v":0.120046512001864},{"$f":"'Reservoir extents'!P153","v":0},{"$f":"'Reservoir extents'!Q153","v":0},0,0,null,0]
["SEC3-188","Portway Road",3.028,{"$f":"'Flood map for planning'!O154","v":0.99918994299041541},{"$f":"'Flood map for planning'!P154","v":5.7407474242144002E-4},{"$f":"'Flood map for planning'!Q154","v":2.3598226716314E-4},{"$f":"'Present Day Fluvial'!P154","v":0.99919560454609169},{"$f":"'Present Day Fluvial'!S154","v":5.711638702458569E-4},{"$f":"'Present Day Fluvial'!R154","v":1.4410041556037922E-4},{"$f":"'Present Day Fluvial'!Q154","v":8.9131168102055805E-5},{"$f":"'Fluvial + CC'!J154","v":2.4822562227545201E-4},{"$f":"'Fluvial + CC'!K154","v":8.1085004484755005E-4},{"$f":"'Fluvial + CC'!L154","v":2.3323158366243501E-4},{"$f":"'Surface Water'!S154","v":0},{"$f":"'Surface Water'!T154","v":1.13686722027564E-2},{"$f":"'Surface Water'!U154","v":0.10770338067285261},{"$f":"'Surface Water +CC'!I154","v":5.4057832142224503E-2},{"$f":"'Surface Water +CC'!J154","v":0.135224298061208},{"$f":"'Reservoir extents'!P154","v":0},{"$f":"'Reservoir extents'!Q154","v":0},0,0,null,0]
["SEC3-158","Portway Road Industrial Estate",2.1280000000000001,{"$f":"'Flood map for planning'!O155","v":1},{"$f":"'Flood map for planning'!P155","v":0},{"$f":"'Flood map for planning'!Q155","v":0},{"$f":"'Present Day Fluvial'!P155","v":1},{"$f":"'Present Day Fluvial'!S155","v":0},{"$f":"'Present Day Fluvial'!R155","v":0},{"$f":"'Present Day Fluvial'!Q155","v":0},{"$f":"'Fluvial + CC'!J155","v":0},{"$f":"'Fluvial + CC'!K155","v":0},{"$f":"'Fluvial + CC'!L155","v":0},{"$f":"'Surface Water'!S155","v":0},{"$f":"'Surface Water'!T155","v":2.6079337694814398E-2},{"$f":"'Surface Water'!U155","v":0.13387123034131659},{"$f":"'Surface Water +CC'!I155","v":0.10172943557303499},{"$f":"'Surface Water +CC'!J155","v":0.17122693298724401},{"$f":"'Reservoir extents'!P155","v":0},{"$f":"'Reservoir extents'!Q155","v":0},0,0,null,0]
["SEC4-11","Potters Lane, Wednesbury (actually between Stafford St/ Albert St)",0.39500000000000002,{"$f":"'Flood map for planning'!O156","v":1},{"$f":"'Flood map for planning'!P156","v":0},{"$f":"'Flood map for planning'!Q156","v":0},{"$f":"'Present Day Fluvial'!P156","v":1},{"$f":"'Present Day Fluvial'!S156","v":0},{"$f":"'Present Day Fluvial'!R156","v":0},{"$f":"'Present Day Fluvial'!Q156","v":0},{"$f":"'Fluvial + CC'!J156","v":0},{"$f":"'Fluvial + CC'!K156","v":0},{"$f":"'Fluvial + CC'!L156","v":0},{"$f":"'Surface Water'!S156","v":0},{"$f":"'Surface Water'!T156","v":0},{"$f":"'Surface Water'!U156","v":4.4332212219490003E-5},{"$f":"'Surface Water +CC'!I156","v":0},{"$f":"'Surface Water +CC'!J156","v":4.4330476563669601E-5},{"$f":"'Reservoir extents'!P156","v":0},{"$f":"'Reservoir extents'!Q156","v":0},0,0,null,0]
["SEC3-141","Powke Lane (east side)",3.5070000000000001,{"$f":"'Flood map for planning'!O157","v":1},{"$f":"'Flood map for planning'!P157","v":0},{"$f":"'Flood map for planning'!Q157","v":0},{"$f":"'Present Day Fluvial'!P157","v":1},{"$f":"'Present Day Fluvial'!S157","v":0},{"$f":"'Present Day Fluvial'!R157","v":0},{"$f":"'Present Day Fluvial'!Q157","v":0},{"$f":"'Fluvial + CC'!J157","v":0},{"$f":"'Fluvial + CC'!K157","v":0},{"$f":"'Fluvial + CC'!L157","v":0},{"$f":"'Surface Water'!S157","v":0},{"$f":"'Surface Water'!T157","v":0},{"$f":"'Surface Water'!U157","v":6.1482708467281301E-2},{"$f":"'Surface Water +CC'!I157","v":1.4168449420058699E-2},{"$f":"'Surface Water +CC'!J157","v":7.1208827851236098E-2},{"$f":"'Reservoir extents'!P157","v":0},{"$f":"'Reservoir extents'!Q157","v":0},0,0,null,0]
["SEC3-140","Powke Lane (west side)",6.3819999999999997,{"$f":"'Flood map for planning'!O158","v":1},{"$f":"'Flood map for planning'!P158","v":0},{"$f":"'Flood map for planning'!Q158","v":0},{"$f":"'Present Day Fluvial'!P158","v":1},{"$f":"'Present Day Fluvial'!S158","v":0},{"$f":"'Present Day Fluvial'!R158","v":0},{"$f":"'Present Day Fluvial'!Q158","v":0},{"$f":"'Fluvial + CC'!J158","v":0},{"$f":"'Fluvial + CC'!K158","v":0},{"$f":"'Fluvial + CC'!L158","v":0},{"$f":"'Surface Water'!S158","v":2.2400917396790802E-3},{"$f":"'Surface Water'!T158","v":2.9061571119212919E-2},{"$f":"'Surface Water'!U158","v":0.11079907869514602},{"$f":"'Surface Water +CC'!I158","v":8.9850904009483604E-2},{"$f":"'Surface Water +CC'!J158","v":0.15403097993304798},{"$f":"'Reservoir extents'!P158","v":0},{"$f":"'Reservoir extents'!Q158","v":0},0,0,null,0]
["SEC3-179","Powke Lane Industrial Estate, Cradley Heath",2.181,{"$f":"'Flood map for planning'!O159","v":1},{"$f":"'Flood map for planning'!P159","v":0},{"$f":"'Flood map for planning'!Q159","v":0},{"$f":"'Present Day Fluvial'!P159","v":1},{"$f":"'Present Day Fluvial'!S159","v":0},{"$f":"'Present Day Fluvial'!R159","v":0},{"$f":"'Present Day Fluvial'!Q159","v":0},{"$f":"'Fluvial + CC'!J159","v":0},{"$f":"'Fluvial + CC'!K159","v":0},{"$f":"'Fluvial + CC'!L159","v":0},{"$f":"'Surface Water'!S159","v":0.170288611525475},{"$f":"'Surface Water'!T159","v":0.10013845381372602},{"$f":"'Surface Water'!U159","v":0.25530603256486806},{"$f":"'Surface Water +CC'!I159","v":0.47765448982850001},{"$f":"'Surface Water +CC'!J159","v":0.53414345289424703},{"$f":"'Reservoir extents'!P159","v":0},{"$f":"'Reservoir extents'!Q159","v":0},0,0,null,0]
["SEC3-142","Powke Lane/ Doulton Road",9.1140000000000008,{"$f":"'Flood map for planning'!O160","v":1},{"$f":"'Flood map for planning'!P160","v":0},{"$f":"'Flood map for planning'!Q160","v":0},{"$f":"'Present Day Fluvial'!P160","v":1},{"$f":"'Present Day Fluvial'!S160","v":0},{"$f":"'Present Day Fluvial'!R160","v":0},{"$f":"'Present Day Fluvial'!Q160","v":0},{"$f":"'Fluvial + CC'!J160","v":0},{"$f":"'Fluvial + CC'!K160","v":0},{"$f":"'Fluvial + CC'!L160","v":0},{"$f":"'Surface Water'!S160","v":1.74622326429573E-2},{"$f":"'Surface Water'!T160","v":3.1700888781190296E-2},{"$f":"'Surface Water'!U160","v":0.1302802712425874},{"$f":"'Surface Water +CC'!I160","v":0.10338409214193099},{"$f":"'Surface Water +CC'!J160","v":0.194534948265078},{"$f":"'Reservoir extents'!P160","v":0},{"$f":"'Reservoir extents'!Q160","v":0},0,0,null,0]
["SEC-145","Princes End Garage",0.191,{"$f":"'Flood map for planning'!O161","v":1},{"$f":"'Flood map for planning'!P161","v":0},{"$f":"'Flood map for planning'!Q161","v":0},{"$f":"'Present Day Fluvial'!P161","v":1},{"$f":"'Present Day Fluvial'!S161","v":0},{"$f":"'Present Day Fluvial'!R161","v":0},{"$f":"'Present Day Fluvial'!Q161","v":0},{"$f":"'Fluvial + CC'!J161","v":0},{"$f":"'Fluvial + CC'!K161","v":0},{"$f":"'Fluvial + CC'!L161","v":0},{"$f":"'Surface Water'!S161","v":0},{"$f":"'Surface Water'!T161","v":4.8013576586284495E-2},{"$f":"'Surface Water'!U161","v":3.6547272444440296E-2},{"$f":"'Surface Water +CC'!I161","v":6.6819807130544404E-2},{"$f":"'Surface Water +CC'!J161","v":8.4560856193943407E-2},{"$f":"'Reservoir extents'!P161","v":0},{"$f":"'Reservoir extents'!Q161","v":0},0,0,null,0]
["SEC3-111","Purity Soft Drinks Limited, Mounts Road",0.34699999999999998,{"$f":"'Flood map for planning'!O162","v":1},{"$f":"'Flood map for planning'!P162","v":0},{"$f":"'Flood map for planning'!Q162","v":0},{"$f":"'Present Day Fluvial'!P162","v":1},{"$f":"'Present Day Fluvial'!S162","v":0},{"$f":"'Present Day Fluvial'!R162","v":0},{"$f":"'Present Day Fluvial'!Q162","v":0},{"$f":"'Fluvial + CC'!J162","v":0},{"$f":"'Fluvial + CC'!K162","v":0},{"$f":"'Fluvial + CC'!L162","v":0},{"$f":"'Surface Water'!S162","v":0},{"$f":"'Surface Water'!T162","v":0},{"$f":"'Surface Water'!U162","v":5.7907704663791E-3},{"$f":"'Surface Water +CC'!I162","v":0},{"$f":"'Surface Water +CC'!J162","v":5.79077457056859E-3},{"$f":"'Reservoir extents'!P162","v":0},{"$f":"'Reservoir extents'!Q162","v":0},0,0,null,0]
["SEC3-94","Rabone Lane, Smethwick (2372)",4.7359999999999998,{"$f":"'Flood map for planning'!O163","v":1},{"$f":"'Flood map for planning'!P163","v":0},{"$f":"'Flood map for planning'!Q163","v":0},{"$f":"'Present Day Fluvial'!P163","v":1},{"$f":"'Present Day Fluvial'!S163","v":0},{"$f":"'Present Day Fluvial'!R163","v":0},{"$f":"'Present Day Fluvial'!Q163","v":0},{"$f":"'Fluvial + CC'!J163","v":0},{"$f":"'Fluvial + CC'!K163","v":0},{"$f":"'Fluvial + CC'!L163","v":0},{"$f":"'Surface Water'!S163","v":1.30628051145865E-2},{"$f":"'Surface Water'!T163","v":2.2634372345943798E-2},{"$f":"'Surface Water'!U163","v":0.26427383561509171},{"$f":"'Surface Water +CC'!I163","v":0.28491755106127103},{"$f":"'Surface Water +CC'!J163","v":0.30278501724020901},{"$f":"'Reservoir extents'!P163","v":0},{"$f":"'Reservoir extents'!Q163","v":0},1.0686657739299699E-3,0.28499170673848501,null,0]
["SEC3-72","Rabone Park",3.948,{"$f":"'Flood map for planning'!O164","v":1},{"$f":"'Flood map for planning'!P164","v":0},{"$f":"'Flood map for planning'!Q164","v":0},{"$f":"'Present Day Fluvial'!P164","v":1},{"$f":"'Present Day Fluvial'!S164","v":0},{"$f":"'Present Day Fluvial'!R164","v":0},{"$f":"'Present Day Fluvial'!Q164","v":0},{"$f":"'Fluvial + CC'!J164","v":0},{"$f":"'Fluvial + CC'!K164","v":0},{"$f":"'Fluvial + CC'!L164","v":0},{"$f":"'Surface Water'!S164","v":3.75208099333324E-3},{"$f":"'Surface Water'!T164","v":2.8394126438548292E-3},{"$f":"'Surface Water'!U164","v":5.2988784994184031E-2},{"$f":"'Surface Water +CC'!I164","v":3.2267561731419397E-2},{"$f":"'Surface Water +CC'!J164","v":6.3217766025798705E-2},{"$f":"'Reservoir extents'!P164","v":0},{"$f":"'Reservoir extents'!Q164","v":0},1.4787210640367201E-2,0.86492692470067301,null,0]
["SEC3-48","Reddal Hill Rd/ Newtown St, Cradley Heath",4.452,{"$f":"'Flood map for planning'!O165","v":0.99156407730724039},{"$f":"'Flood map for planning'!P165","v":2.8861151410231991E-3},{"$f":"'Flood map for planning'!Q165","v":5.54980755173638E-3},{"$f":"'Present Day Fluvial'!P165","v":0.96887568695179693},{"$f":"'Present Day Fluvial'!S165","v":3.3460040294031046E-13},{"$f":"'Present Day Fluvial'!R165","v":1.6739734598480993E-13},{"$f":"'Present Day Fluvial'!Q165","v":3.1124313047701101E-2},{"$f":"'Fluvial + CC'!J165","v":8.4359227779558094E-3},{"$f":"'Fluvial + CC'!K165","v":8.4359227779558094E-3},{"$f":"'Fluvial + CC'!L165","v":3.1230867999518699E-2},{"$f":"'Surface Water'!S165","v":2.2199734186515198E-3},{"$f":"'Surface Water'!T165","v":1.2049980165123379E-2},{"$f":"'Surface Water'!U165","v":1.3979572001910804E-2},{"$f":"'Surface Water +CC'!I165","v":2.2532428274003702E-2},{"$f":"'Surface Water +CC'!J165","v":2.9747428519499103E-2},{"$f":"'Reservoir extents'!P165","v":0},{"$f":"'Reservoir extents'!Q165","v":0},0.38123206594397097,0,null,0]
["EMP2-1","Richmond Street, West Bromwich",10.239000000000001,{"$f":"'Flood map for planning'!O166","v":1},{"$f":"'Flood map for planning'!P166","v":0},{"$f":"'Flood map for planning'!Q166","v":0},{"$f":"'Present Day Fluvial'!P166","v":1},{"$f":"'Present Day Fluvial'!S166","v":0},{"$f":"'Present Day Fluvial'!R166","v":0},{"$f":"'Present Day Fluvial'!Q166","v":0},{"$f":"'Fluvial + CC'!J166","v":0},{"$f":"'Fluvial + CC'!K166","v":0},{"$f":"'Fluvial + CC'!L166","v":0},{"$f":"'Surface Water'!S166","v":1.0789689506005401E-2},{"$f":"'Surface Water'!T166","v":3.9222231399473E-2},{"$f":"'Surface Water'!U166","v":9.8710532877246598E-2},{"$f":"'Surface Water +CC'!I166","v":9.3992733275045204E-2},{"$f":"'Surface Water +CC'!J166","v":0.14798323216293499},{"$f":"'Reservoir extents'!P166","v":0},{"$f":"'Reservoir extents'!Q166","v":0},0,0,null,0]
["SEC3-2","Ridgacre Road (north)",0.80200000000000005,{"$f":"'Flood map for planning'!O167","v":1},{"$f":"'Flood map for planning'!P167","v":0},{"$f":"'Flood map for planning'!Q167","v":0},{"$f":"'Present Day Fluvial'!P167","v":1},{"$f":"'Present Day Fluvial'!S167","v":0},{"$f":"'Present Day Fluvial'!R167","v":0},{"$f":"'Present Day Fluvial'!Q167","v":0},{"$f":"'Fluvial + CC'!J167","v":0},{"$f":"'Fluvial + CC'!K167","v":0},{"$f":"'Fluvial + CC'!L167","v":0},{"$f":"'Surface Water'!S167","v":0},{"$f":"'Surface Water'!T167","v":0},{"$f":"'Surface Water'!U167","v":3.5758257493444202E-3},{"$f":"'Surface Water +CC'!I167","v":9.3111837741734497E-4},{"$f":"'Surface Water +CC'!J167","v":3.5758286337525202E-3},{"$f":"'Reservoir extents'!P167","v":0},{"$f":"'Reservoir extents'!Q167","v":0},0,0,null,0]
["SEC3-3","Ridgacre Road (south)",1.052,{"$f":"'Flood map for planning'!O168","v":1},{"$f":"'Flood map for planning'!P168","v":0},{"$f":"'Flood map for planning'!Q168","v":0},{"$f":"'Present Day Fluvial'!P168","v":1},{"$f":"'Present Day Fluvial'!S168","v":0},{"$f":"'Present Day Fluvial'!R168","v":0},{"$f":"'Present Day Fluvial'!Q168","v":0},{"$f":"'Fluvial + CC'!J168","v":0},{"$f":"'Fluvial + CC'!K168","v":0},{"$f":"'Fluvial + CC'!L168","v":0},{"$f":"'Surface Water'!S168","v":0},{"$f":"'Surface Water'!T168","v":0},{"$f":"'Surface Water'!U168","v":1.5576201682336599E-3},{"$f":"'Surface Water +CC'!I168","v":0},{"$f":"'Surface Water +CC'!J168","v":1.55762106878697E-3},{"$f":"'Reservoir extents'!P168","v":0},{"$f":"'Reservoir extents'!Q168","v":0},0,0,null,0]
["SEC3-107","Ridgacre Road Church Lane, West Bromwich (New build) (former Express and Star)",1.4219999999999999,{"$f":"'Flood map for planning'!O169","v":1},{"$f":"'Flood map for planning'!P169","v":0},{"$f":"'Flood map for planning'!Q169","v":0},{"$f":"'Present Day Fluvial'!P169","v":1},{"$f":"'Present Day Fluvial'!S169","v":0},{"$f":"'Present Day Fluvial'!R169","v":0},{"$f":"'Present Day Fluvial'!Q169","v":0},{"$f":"'Fluvial + CC'!J169","v":0},{"$f":"'Fluvial + CC'!K169","v":0},{"$f":"'Fluvial + CC'!L169","v":0},{"$f":"'Surface Water'!S169","v":2.13912498717156E-2},{"$f":"'Surface Water'!T169","v":3.0961019497795398E-2},{"$f":"'Surface Water'!U169","v":9.5709408239843016E-2},{"$f":"'Surface Water +CC'!I169","v":7.8286345004598801E-2},{"$f":"'Surface Water +CC'!J169","v":0.14806361951695901},{"$f":"'Reservoir extents'!P169","v":0},{"$f":"'Reservoir extents'!Q169","v":0},0,0,null,0]
["SEC3-108","Ridgacre Road Church Lane, West Bromwich (old part)",0.92400000000000004,{"$f":"'Flood map for planning'!O170","v":1},{"$f":"'Flood map for planning'!P170","v":0},{"$f":"'Flood map for planning'!Q170","v":0},{"$f":"'Present Day Fluvial'!P170","v":1},{"$f":"'Present Day Fluvial'!S170","v":0},{"$f":"'Present Day Fluvial'!R170","v":0},{"$f":"'Present Day Fluvial'!Q170","v":0},{"$f":"'Fluvial + CC'!J170","v":0},{"$f":"'Fluvial + CC'!K170","v":0},{"$f":"'Fluvial + CC'!L170","v":0},{"$f":"'Surface Water'!S170","v":0},{"$f":"'Surface Water'!T170","v":0},{"$f":"'Surface Water'!U170","v":5.1272403983541999E-2},{"$f":"'Surface Water +CC'!I170","v":0},{"$f":"'Surface Water +CC'!J170","v":5.0839256216725304E-2},{"$f":"'Reservoir extents'!P170","v":0},{"$f":"'Reservoir extents'!Q170","v":0},0,0,null,0]
["SEC3-32","Ridgarce Road, West Bromwich",1.139,{"$f":"'Flood map for planning'!O171","v":1},{"$f":"'Flood map for planning'!P171","v":0},{"$f":"'Flood map for planning'!Q171","v":0},{"$f":"'Present Day Fluvial'!P171","v":1},{"$f":"'Present Day Fluvial'!S171","v":0},{"$f":"'Present Day Fluvial'!R171","v":0},{"$f":"'Present Day Fluvial'!Q171","v":0},{"$f":"'Fluvial + CC'!J171","v":0},{"$f":"'Fluvial + CC'!K171","v":0},{"$f":"'Fluvial + CC'!L171","v":0},{"$f":"'Surface Water'!S171","v":0},{"$f":"'Surface Water'!T171","v":1.0189753336297101E-2},{"$f":"'Surface Water'!U171","v":4.984979811500459E-2},{"$f":"'Surface Water +CC'!I171","v":2.7406153391671403E-2},{"$f":"'Surface Water +CC'!J171","v":6.0390906037414094E-2},{"$f":"'Reservoir extents'!P171","v":0},{"$f":"'Reservoir extents'!Q171","v":0},0,0,null,0]
["SEC3-33","Ridgarce Road, West Bromwich",1.641,{"$f":"'Flood map for planning'!O172","v":1},{"$f":"'Flood map for planning'!P172","v":0},{"$f":"'Flood map for planning'!Q172","v":0},{"$f":"'Present Day Fluvial'!P172","v":1},{"$f":"'Present Day Fluvial'!S172","v":0},{"$f":"'Present Day Fluvial'!R172","v":0},{"$f":"'Present Day Fluvial'!Q172","v":0},{"$f":"'Fluvial + CC'!J172","v":0},{"$f":"'Fluvial + CC'!K172","v":0},{"$f":"'Fluvial + CC'!L172","v":0},{"$f":"'Surface Water'!S172","v":0},{"$f":"'Surface Water'!T172","v":0},{"$f":"'Surface Water'!U172","v":4.1219391233655006E-2},{"$f":"'Surface Water +CC'!I172","v":7.0731499691681502E-3},{"$f":"'Surface Water +CC'!J172","v":4.1707194698865996E-2},{"$f":"'Reservoir extents'!P172","v":0},{"$f":"'Reservoir extents'!Q172","v":0},0,0,null,0]
["SEC3-34","Ridgarce Road, West Bromwich",0.75600000000000001,{"$f":"'Flood map for planning'!O173","v":1},{"$f":"'Flood map for planning'!P173","v":0},{"$f":"'Flood map for planning'!Q173","v":0},{"$f":"'Present Day Fluvial'!P173","v":1},{"$f":"'Present Day Fluvial'!S173","v":0},{"$f":"'Present Day Fluvial'!R173","v":0},{"$f":"'Present Day Fluvial'!Q173","v":0},{"$f":"'Fluvial + CC'!J173","v":0},{"$f":"'Fluvial + CC'!K173","v":0},{"$f":"'Fluvial + CC'!L173","v":0},{"$f":"'Surface Water'!S173","v":2.12499010999134E-3},{"$f":"'Surface Water'!T173","v":3.2778495865861956E-2},{"$f":"'Surface Water'!U173","v":0.14611480187321971},{"$f":"'Surface Water +CC'!I173","v":0.117313583087539},{"$f":"'Surface Water +CC'!J173","v":0.17784308119591899},{"$f":"'Reservoir extents'!P173","v":0},{"$f":"'Reservoir extents'!Q173","v":0},0,0,null,0]
["EMP2-19","Rounds Green Road/Shidas Lane, Oldbury",2.7879999999999998,{"$f":"'Flood map for planning'!O174","v":1},{"$f":"'Flood map for planning'!P174","v":0},{"$f":"'Flood map for planning'!Q174","v":0},{"$f":"'Present Day Fluvial'!P174","v":1},{"$f":"'Present Day Fluvial'!S174","v":0},{"$f":"'Present Day Fluvial'!R174","v":0},{"$f":"'Present Day Fluvial'!Q174","v":0},{"$f":"'Fluvial + CC'!J174","v":0},{"$f":"'Fluvial + CC'!K174","v":0},{"$f":"'Fluvial + CC'!L174","v":0},{"$f":"'Surface Water'!S174","v":3.5890422852435998E-3},{"$f":"'Surface Water'!T174","v":2.5841104444758998E-3},{"$f":"'Surface Water'!U174","v":5.7837265891173599E-2},{"$f":"'Surface Water +CC'!I174","v":2.1821377031018399E-2},{"$f":"'Surface Water +CC'!J174","v":7.9558960324427899E-2},{"$f":"'Reservoir extents'!P174","v":0},{"$f":"'Reservoir extents'!Q174","v":0},0,0,null,0]
["SEC3-161","Roway Lane, Oldbury",6.024,{"$f":"'Flood map for planning'!O175","v":0.99435618853907159},{"$f":"'Flood map for planning'!P175","v":5.6438114609284294E-3},{"$f":"'Flood map for planning'!Q175","v":0},{"$f":"'Present Day Fluvial'!P175","v":1},{"$f":"'Present Day Fluvial'!S175","v":0},{"$f":"'Present Day Fluvial'!R175","v":0},{"$f":"'Present Day Fluvial'!Q175","v":0},{"$f":"'Fluvial + CC'!J175","v":0},{"$f":"'Fluvial + CC'!K175","v":5.64381188780258E-3},{"$f":"'Fluvial + CC'!L175","v":0},{"$f":"'Surface Water'!S175","v":9.5114294795800006E-5},{"$f":"'Surface Water'!T175","v":4.7934590694052601E-3},{"$f":"'Surface Water'!U175","v":2.9608269984847245E-2},{"$f":"'Surface Water +CC'!I175","v":1.5938851174622699E-2},{"$f":"'Surface Water +CC'!J175","v":3.6238914263857003E-2},{"$f":"'Reservoir extents'!P175","v":0},{"$f":"'Reservoir extents'!Q175","v":0},0,0,null,0]
["SEC1-4","Roway Lane, Oldbury (Call for Sites)",3.6629999999999998,{"$f":"'Flood map for planning'!O176","v":1},{"$f":"'Flood map for planning'!P176","v":0},{"$f":"'Flood map for planning'!Q176","v":0},{"$f":"'Present Day Fluvial'!P176","v":1},{"$f":"'Present Day Fluvial'!S176","v":0},{"$f":"'Present Day Fluvial'!R176","v":0},{"$f":"'Present Day Fluvial'!Q176","v":0},{"$f":"'Fluvial + CC'!J176","v":0},{"$f":"'Fluvial + CC'!K176","v":0},{"$f":"'Fluvial + CC'!L176","v":0},{"$f":"'Surface Water'!S176","v":1.0424838716408201E-2},{"$f":"'Surface Water'!T176","v":7.7995179475813994E-3},{"$f":"'Surface Water'!U176","v":7.1297124377841706E-2},{"$f":"'Surface Water +CC'!I176","v":3.2675066993207297E-2},{"$f":"'Surface Water +CC'!J176","v":8.3646845790949997E-2},{"$f":"'Reservoir extents'!P176","v":0},{"$f":"'Reservoir extents'!Q176","v":0},0,0,null,0]
["SEC3-167","Ryder, Euroway Park",2.2480000000000002,{"$f":"'Flood map for planning'!O177","v":1},{"$f":"'Flood map for planning'!P177","v":0},{"$f":"'Flood map for planning'!Q177","v":0},{"$f":"'Present Day Fluvial'!P177","v":1},{"$f":"'Present Day Fluvial'!S177","v":0},{"$f":"'Present Day Fluvial'!R177","v":0},{"$f":"'Present Day Fluvial'!Q177","v":0},{"$f":"'Fluvial + CC'!J177","v":0},{"$f":"'Fluvial + CC'!K177","v":0},{"$f":"'Fluvial + CC'!L177","v":0},{"$f":"'Surface Water'!S177","v":0},{"$f":"'Surface Water'!T177","v":0},{"$f":"'Surface Water'!U177","v":2.9022531235843002E-2},{"$f":"'Surface Water +CC'!I177","v":6.8240902960150594E-3},{"$f":"'Surface Water +CC'!J177","v":3.8103145786280497E-2},{"$f":"'Reservoir extents'!P177","v":0},{"$f":"'Reservoir extents'!Q177","v":0},0,0,null,0]
["SEC3-54","Ryders Green Rd, Greets Green Ind Est, Greets Green",2.9569999999999999,{"$f":"'Flood map for planning'!O178","v":1},{"$f":"'Flood map for planning'!P178","v":0},{"$f":"'Flood map for planning'!Q178","v":0},{"$f":"'Present Day Fluvial'!P178","v":1},{"$f":"'Present Day Fluvial'!S178","v":0},{"$f":"'Present Day Fluvial'!R178","v":0},{"$f":"'Present Day Fluvial'!Q178","v":0},{"$f":"'Fluvial + CC'!J178","v":0},{"$f":"'Fluvial + CC'!K178","v":0},{"$f":"'Fluvial + CC'!L178","v":0},{"$f":"'Surface Water'!S178","v":0},{"$f":"'Surface Water'!T178","v":2.9246017385242999E-4},{"$f":"'Surface Water'!U178","v":0.10547500029106957},{"$f":"'Surface Water +CC'!I178","v":2.4436433210624001E-2},{"$f":"'Surface Water +CC'!J178","v":0.10246170438086001},{"$f":"'Reservoir extents'!P178","v":0},{"$f":"'Reservoir extents'!Q178","v":0},0,0,null,0]
["SEC3-164","Sandwell Business Dev Centre, Oldbury Road",0.67200000000000004,{"$f":"'Flood map for planning'!O179","v":1},{"$f":"'Flood map for planning'!P179","v":0},{"$f":"'Flood map for planning'!Q179","v":0},{"$f":"'Present Day Fluvial'!P179","v":1},{"$f":"'Present Day Fluvial'!S179","v":0},{"$f":"'Present Day Fluvial'!R179","v":0},{"$f":"'Present Day Fluvial'!Q179","v":0},{"$f":"'Fluvial + CC'!J179","v":0},{"$f":"'Fluvial + CC'!K179","v":0},{"$f":"'Fluvial + CC'!L179","v":0},{"$f":"'Surface Water'!S179","v":0},{"$f":"'Surface Water'!T179","v":0},{"$f":"'Surface Water'!U179","v":9.7755897336323797E-2},{"$f":"'Surface Water +CC'!I179","v":3.98645616336777E-2},{"$f":"'Surface Water +CC'!J179","v":9.9824239657868893E-2},{"$f":"'Reservoir extents'!P179","v":0},{"$f":"'Reservoir extents'!Q179","v":0},0,0,null,0]
["SEC3-126","Sedgley Road West/Hurst Lane, Tipton",3.073,{"$f":"'Flood map for planning'!O180","v":1},{"$f":"'Flood map for planning'!P180","v":0},{"$f":"'Flood map for planning'!Q180","v":0},{"$f":"'Present Day Fluvial'!P180","v":1},{"$f":"'Present Day Fluvial'!S180","v":0},{"$f":"'Present Day Fluvial'!R180","v":0},{"$f":"'Present Day Fluvial'!Q180","v":0},{"$f":"'Fluvial + CC'!J180","v":0},{"$f":"'Fluvial + CC'!K180","v":0},{"$f":"'Fluvial + CC'!L180","v":0},{"$f":"'Surface Water'!S180","v":1.8138966491225702E-2},{"$f":"'Surface Water'!T180","v":4.5328460640579396E-2},{"$f":"'Surface Water'!U180","v":0.1799851787755089},{"$f":"'Surface Water +CC'!I180","v":0.14089106625970702},{"$f":"'Surface Water +CC'!J180","v":0.26945149337484198},{"$f":"'Reservoir extents'!P180","v":0},{"$f":"'Reservoir extents'!Q180","v":0},0,0,null,0]
["SEC3-83","Seven Stars Rd, Oldbury (586)",2.5179999999999998,{"$f":"'Flood map for planning'!O181","v":1},{"$f":"'Flood map for planning'!P181","v":0},{"$f":"'Flood map for planning'!Q181","v":0},{"$f":"'Present Day Fluvial'!P181","v":1},{"$f":"'Present Day Fluvial'!S181","v":0},{"$f":"'Present Day Fluvial'!R181","v":0},{"$f":"'Present Day Fluvial'!Q181","v":0},{"$f":"'Fluvial + CC'!J181","v":0},{"$f":"'Fluvial + CC'!K181","v":0},{"$f":"'Fluvial + CC'!L181","v":0},{"$f":"'Surface Water'!S181","v":0},{"$f":"'Surface Water'!T181","v":4.2603898957042302E-3},{"$f":"'Surface Water'!U181","v":0.2542420333495628},{"$f":"'Surface Water +CC'!I181","v":3.1801142818310105E-2},{"$f":"'Surface Water +CC'!J181","v":0.28841182672439503},{"$f":"'Reservoir extents'!P181","v":0},{"$f":"'Reservoir extents'!Q181","v":0},0,0,null,0]
["SEC3-45","Seven Stars Road, Oldbury",1.472,{"$f":"'Flood map for planning'!O182","v":0.97415895994015489},{"$f":"'Flood map for planning'!P182","v":2.2061390184502479E-2},{"$f":"'Flood map for planning'!Q182","v":3.7796498753426199E-3},{"$f":"'Present Day Fluvial'!P182","v":0.9741910541809311},{"$f":"'Present Day Fluvial'!S182","v":4.718447780976999E-3},{"$f":"'Present Day Fluvial'!R182","v":4.1090764852001992E-3},{"$f":"'Present Day Fluvial'!Q182","v":1.6981421552891701E-2},{"$f":"'Fluvial + CC'!J182","v":2.20280763231104E-2},{"$f":"'Fluvial + CC'!K182","v":2.5843813320508099E-2},{"$f":"'Fluvial + CC'!L182","v":2.10904980380919E-2},{"$f":"'Surface Water'!S182","v":2.3328876557410401E-2},{"$f":"'Surface Water'!T182","v":3.7149414505454899E-2},{"$f":"'Surface Water'!U182","v":0.31800131224868872},{"$f":"'Surface Water +CC'!I182","v":9.3740627669110094E-2},{"$f":"'Surface Water +CC'!J182","v":0.45084161883156298},{"$f":"'Reservoir extents'!P182","v":0},{"$f":"'Reservoir extents'!Q182","v":0},0,0,null,0]
["SEC3-36","Silverthorne Lane",1.0509999999999999,{"$f":"'Flood map for planning'!O183","v":1},{"$f":"'Flood map for planning'!P183","v":0},{"$f":"'Flood map for planning'!Q183","v":0},{"$f":"'Present Day Fluvial'!P183","v":1},{"$f":"'Present Day Fluvial'!S183","v":0},{"$f":"'Present Day Fluvial'!R183","v":0},{"$f":"'Present Day Fluvial'!Q183","v":0},{"$f":"'Fluvial + CC'!J183","v":0},{"$f":"'Fluvial + CC'!K183","v":0},{"$f":"'Fluvial + CC'!L183","v":0},{"$f":"'Surface Water'!S183","v":0},{"$f":"'Surface Water'!T183","v":1.33372985079954E-2},{"$f":"'Surface Water'!U183","v":0.13674524538550761},{"$f":"'Surface Water +CC'!I183","v":9.1231761731738109E-2},{"$f":"'Surface Water +CC'!J183","v":0.15470634560767901},{"$f":"'Reservoir extents'!P183","v":0},{"$f":"'Reservoir extents'!Q183","v":0},0,0,null,0]
["SEC3-135","Site at Bloomfield Rd, Fountaihn Lane & Bradleys Lane, Tipton",1.4379999999999999,{"$f":"'Flood map for planning'!O184","v":1},{"$f":"'Flood map for planning'!P184","v":0},{"$f":"'Flood map for planning'!Q184","v":0},{"$f":"'Present Day Fluvial'!P184","v":1},{"$f":"'Present Day Fluvial'!S184","v":0},{"$f":"'Present Day Fluvial'!R184","v":0},{"$f":"'Present Day Fluvial'!Q184","v":0},{"$f":"'Fluvial + CC'!J184","v":0},{"$f":"'Fluvial + CC'!K184","v":0},{"$f":"'Fluvial + CC'!L184","v":0},{"$f":"'Surface Water'!S184","v":0},{"$f":"'Surface Water'!T184","v":4.6330636409928398E-2},{"$f":"'Surface Water'!U184","v":8.24574616705466E-2},{"$f":"'Surface Water +CC'!I184","v":0.11050086725365099},{"$f":"'Surface Water +CC'!J184","v":0.12642972852444001},{"$f":"'Reservoir extents'!P184","v":0},{"$f":"'Reservoir extents'!Q184","v":0},0,0,null,0]
["SEC4-14","Site at Great Wester St & Potters Lane, Weds (5641",2.1469999999999998,{"$f":"'Flood map for planning'!O185","v":1},{"$f":"'Flood map for planning'!P185","v":0},{"$f":"'Flood map for planning'!Q185","v":0},{"$f":"'Present Day Fluvial'!P185","v":1},{"$f":"'Present Day Fluvial'!S185","v":0},{"$f":"'Present Day Fluvial'!R185","v":0},{"$f":"'Present Day Fluvial'!Q185","v":0},{"$f":"'Fluvial + CC'!J185","v":0},{"$f":"'Fluvial + CC'!K185","v":0},{"$f":"'Fluvial + CC'!L185","v":0},{"$f":"'Surface Water'!S185","v":1.1606694430329E-4},{"$f":"'Surface Water'!T185","v":1.3656457463534411E-2},{"$f":"'Surface Water'!U185","v":5.517495135169849E-2},{"$f":"'Surface Water +CC'!I185","v":3.5627675810798599E-2},{"$f":"'Surface Water +CC'!J185","v":6.9320373329787202E-2},{"$f":"'Reservoir extents'!P185","v":0},{"$f":"'Reservoir extents'!Q185","v":0},0,0,null,0]
["SEC3-82","Site bt Charles St & Walsall Canal Great Bridge (2",2.1829999999999998,{"$f":"'Flood map for planning'!O186","v":1},{"$f":"'Flood map for planning'!P186","v":0},{"$f":"'Flood map for planning'!Q186","v":0},{"$f":"'Present Day Fluvial'!P186","v":1},{"$f":"'Present Day Fluvial'!S186","v":0},{"$f":"'Present Day Fluvial'!R186","v":0},{"$f":"'Present Day Fluvial'!Q186","v":0},{"$f":"'Fluvial + CC'!J186","v":0},{"$f":"'Fluvial + CC'!K186","v":0},{"$f":"'Fluvial + CC'!L186","v":0},{"$f":"'Surface Water'!S186","v":4.0399424597648698E-3},{"$f":"'Surface Water'!T186","v":3.2877692568237728E-2},{"$f":"'Surface Water'!U186","v":0.19550169210601642},{"$f":"'Surface Water +CC'!I186","v":0.118568146831717},{"$f":"'Surface Water +CC'!J186","v":0.230534155781071},{"$f":"'Reservoir extents'!P186","v":0},{"$f":"'Reservoir extents'!Q186","v":0},0,0,null,0]
["SEC1-7","Site off Bilport Lane, Wednesbury",5.31,{"$f":"'Flood map for planning'!O187","v":0.74682796819113095},{"$f":"'Flood map for planning'!P187","v":0.2401181256020701},{"$f":"'Flood map for planning'!Q187","v":1.30539062067989E-2},{"$f":"'Present Day Fluvial'!P187","v":0.75516533612123604},{"$f":"'Present Day Fluvial'!S187","v":0.2318583877228042},{"$f":"'Present Day Fluvial'!R187","v":2.8645854047018998E-3},{"$f":"'Present Day Fluvial'!Q187","v":1.0111690751257901E-2},{"$f":"'Fluvial + CC'!J187","v":0.152803745656069},{"$f":"'Fluvial + CC'!K187","v":0.24810179105103297},{"$f":"'Fluvial + CC'!L187","v":1.2976276155959801E-2},{"$f":"'Surface Water'!S187","v":5.7190069210930191E-3},{"$f":"'Surface Water'!T187","v":2.3188972469578878E-2},{"$f":"'Surface Water'!U187","v":0.17129464548954709},{"$f":"'Surface Water +CC'!I187","v":9.6852788889882205E-2},{"$f":"'Surface Water +CC'!J187","v":0.195654630541781},{"$f":"'Reservoir extents'!P187","v":2.1842456755006602E-3},{"$f":"'Reservoir extents'!Q187","v":0},0,3.9264250318759998E-5,null,0]
["SEC3-29","Site off Richmond St, West Bromwich",1.109,{"$f":"'Flood map for planning'!O188","v":1},{"$f":"'Flood map for planning'!P188","v":0},{"$f":"'Flood map for planning'!Q188","v":0},{"$f":"'Present Day Fluvial'!P188","v":1},{"$f":"'Present Day Fluvial'!S188","v":0},{"$f":"'Present Day Fluvial'!R188","v":0},{"$f":"'Present Day Fluvial'!Q188","v":0},{"$f":"'Fluvial + CC'!J188","v":0},{"$f":"'Fluvial + CC'!K188","v":0},{"$f":"'Fluvial + CC'!L188","v":0},{"$f":"'Surface Water'!S188","v":0},{"$f":"'Surface Water'!T188","v":2.1998998221441402E-2},{"$f":"'Surface Water'!U188","v":2.5970184746329703E-2},{"$f":"'Surface Water +CC'!I188","v":2.88590583409826E-2},{"$f":"'Surface Water +CC'!J188","v":4.8330239323638308E-2},{"$f":"'Reservoir extents'!P188","v":0},{"$f":"'Reservoir extents'!Q188","v":0},0,0,null,0]
["EMP4-8","Site on Railway Street, Horseley Heath, Tipton",0.18,{"$f":"'Flood map for planning'!O189","v":1},{"$f":"'Flood map for planning'!P189","v":0},{"$f":"'Flood map for planning'!Q189","v":0},{"$f":"'Present Day Fluvial'!P189","v":1},{"$f":"'Present Day Fluvial'!S189","v":0},{"$f":"'Present Day Fluvial'!R189","v":0},{"$f":"'Present Day Fluvial'!Q189","v":0},{"$f":"'Fluvial + CC'!J189","v":0},{"$f":"'Fluvial + CC'!K189","v":0},{"$f":"'Fluvial + CC'!L189","v":0},{"$f":"'Surface Water'!S189","v":0},{"$f":"'Surface Water'!T189","v":0},{"$f":"'Surface Water'!U189","v":0},{"$f":"'Surface Water +CC'!I189","v":0},{"$f":"'Surface Water +CC'!J189","v":0},{"$f":"'Reservoir extents'!P189","v":0},{"$f":"'Reservoir extents'!Q189","v":0},0,0,null,0]
["SEC3-6","Site on Stafford St, Weds (5646)",1.4590000000000001,{"$f":"'Flood map for planning'!O190","v":1},{"$f":"'Flood map for planning'!P190","v":0},{"$f":"'Flood map for planning'!Q190","v":0},{"$f":"'Present Day Fluvial'!P190","v":1},{"$f":"'Present Day Fluvial'!S190","v":0},{"$f":"'Present Day Fluvial'!R190","v":0},{"$f":"'Present Day Fluvial'!Q190","v":0},{"$f":"'Fluvial + CC'!J190","v":0},{"$f":"'Fluvial + CC'!K190","v":0},{"$f":"'Fluvial + CC'!L190","v":0},{"$f":"'Surface Water'!S190","v":0},{"$f":"'Surface Water'!T190","v":8.4663947794771405E-2},{"$f":"'Surface Water'!U190","v":0.18455151158542663},{"$f":"'Surface Water +CC'!I190","v":0.154571538130441},{"$f":"'Surface Water +CC'!J190","v":0.26784362059780897},{"$f":"'Reservoir extents'!P190","v":0},{"$f":"'Reservoir extents'!Q190","v":0},0,0,null,0]
["SEC4-4","Soho Triangle",1.7170000000000001,{"$f":"'Flood map for planning'!O191","v":1},{"$f":"'Flood map for planning'!P191","v":0},{"$f":"'Flood map for planning'!Q191","v":0},{"$f":"'Present Day Fluvial'!P191","v":1},{"$f":"'Present Day Fluvial'!S191","v":0},{"$f":"'Present Day Fluvial'!R191","v":0},{"$f":"'Present Day Fluvial'!Q191","v":0},{"$f":"'Fluvial + CC'!J191","v":0},{"$f":"'Fluvial + CC'!K191","v":0},{"$f":"'Fluvial + CC'!L191","v":0},{"$f":"'Surface Water'!S191","v":0},{"$f":"'Surface Water'!T191","v":5.9286076174621999E-4},{"$f":"'Surface Water'!U191","v":1.8181034812765583E-2},{"$f":"'Surface Water +CC'!I191","v":4.6670631265796399E-3},{"$f":"'Surface Water +CC'!J191","v":1.9471871476287803E-2},{"$f":"'Reservoir extents'!P191","v":1.9751277437759101E-2},{"$f":"'Reservoir extents'!Q191","v":3.8309266548146002E-3},0.46053894212799101,0.47150731344931995,null,0]
["SEC3-37","Spinners End Industrial Estate, Cradley Heath",0.65100000000000002,{"$f":"'Flood map for planning'!O192","v":1},{"$f":"'Flood map for planning'!P192","v":0},{"$f":"'Flood map for planning'!Q192","v":0},{"$f":"'Present Day Fluvial'!P192","v":1},{"$f":"'Present Day Fluvial'!S192","v":0},{"$f":"'Present Day Fluvial'!R192","v":0},{"$f":"'Present Day Fluvial'!Q192","v":0},{"$f":"'Fluvial + CC'!J192","v":0},{"$f":"'Fluvial + CC'!K192","v":0},{"$f":"'Fluvial + CC'!L192","v":0},{"$f":"'Surface Water'!S192","v":2.4678282159012799E-2},{"$f":"'Surface Water'!T192","v":5.0452286909365499E-2},{"$f":"'Surface Water'!U192","v":0.25947326747655075},{"$f":"'Surface Water +CC'!I192","v":0.17336306590724998},{"$f":"'Surface Water +CC'!J192","v":0.36653829259193399},{"$f":"'Reservoir extents'!P192","v":0},{"$f":"'Reservoir extents'!Q192","v":0},0,0,null,0]
["SEC4-12","Stafford Street/ Albert Street, Wednesbury",0.73699999999999999,{"$f":"'Flood map for planning'!O193","v":1},{"$f":"'Flood map for planning'!P193","v":0},{"$f":"'Flood map for planning'!Q193","v":0},{"$f":"'Present Day Fluvial'!P193","v":1},{"$f":"'Present Day Fluvial'!S193","v":0},{"$f":"'Present Day Fluvial'!R193","v":0},{"$f":"'Present Day Fluvial'!Q193","v":0},{"$f":"'Fluvial + CC'!J193","v":0},{"$f":"'Fluvial + CC'!K193","v":0},{"$f":"'Fluvial + CC'!L193","v":0},{"$f":"'Surface Water'!S193","v":0},{"$f":"'Surface Water'!T193","v":4.3472174019899998E-5},{"$f":"'Surface Water'!U193","v":4.9473737198420097E-2},{"$f":"'Surface Water +CC'!I193","v":4.1476531581796303E-4},{"$f":"'Surface Water +CC'!J193","v":4.6549053010403602E-2},{"$f":"'Reservoir extents'!P193","v":0},{"$f":"'Reservoir extents'!Q193","v":0},0,0,null,0]
["SEC3-44","Station Road / Avenue Road / Cardale Street Rowley",3.1909999999999998,{"$f":"'Flood map for planning'!O194","v":1},{"$f":"'Flood map for planning'!P194","v":0},{"$f":"'Flood map for planning'!Q194","v":0},{"$f":"'Present Day Fluvial'!P194","v":1},{"$f":"'Present Day Fluvial'!S194","v":0},{"$f":"'Present Day Fluvial'!R194","v":0},{"$f":"'Present Day Fluvial'!Q194","v":0},{"$f":"'Fluvial + CC'!J194","v":0},{"$f":"'Fluvial + CC'!K194","v":0},{"$f":"'Fluvial + CC'!L194","v":0},{"$f":"'Surface Water'!S194","v":3.4246123133628799E-2},{"$f":"'Surface Water'!T194","v":7.1535117351232191E-2},{"$f":"'Surface Water'!U194","v":0.191905010181527},{"$f":"'Surface Water +CC'!I194","v":0.21320128943203098},{"$f":"'Surface Water +CC'!J194","v":0.30416223409215898},{"$f":"'Reservoir extents'!P194","v":0},{"$f":"'Reservoir extents'!Q194","v":0},0,0.548259390702589,null,0]
["SEC3-49","Station Road Industrial Est, Rowley Regis",3.2240000000000002,{"$f":"'Flood map for planning'!O195","v":1},{"$f":"'Flood map for planning'!P195","v":0},{"$f":"'Flood map for planning'!Q195","v":0},{"$f":"'Present Day Fluvial'!P195","v":1},{"$f":"'Present Day Fluvial'!S195","v":0},{"$f":"'Present Day Fluvial'!R195","v":0},{"$f":"'Present Day Fluvial'!Q195","v":0},{"$f":"'Fluvial + CC'!J195","v":0},{"$f":"'Fluvial + CC'!K195","v":0},{"$f":"'Fluvial + CC'!L195","v":0},{"$f":"'Surface Water'!S195","v":3.6764435073069104E-2},{"$f":"'Surface Water'!T195","v":2.3602371719843002E-2},{"$f":"'Surface Water'!U195","v":0.11363018988797992},{"$f":"'Surface Water +CC'!I195","v":0.11438235543396899},{"$f":"'Surface Water +CC'!J195","v":0.19033821584010402},{"$f":"'Reservoir extents'!P195","v":0},{"$f":"'Reservoir extents'!Q195","v":0},0,0.66630099528616693,null,0]
["SEC3-147","Station St, Tipton (1448)",1.37,{"$f":"'Flood map for planning'!O196","v":1},{"$f":"'Flood map for planning'!P196","v":0},{"$f":"'Flood map for planning'!Q196","v":0},{"$f":"'Present Day Fluvial'!P196","v":1},{"$f":"'Present Day Fluvial'!S196","v":0},{"$f":"'Present Day Fluvial'!R196","v":0},{"$f":"'Present Day Fluvial'!Q196","v":0},{"$f":"'Fluvial + CC'!J196","v":0},{"$f":"'Fluvial + CC'!K196","v":0},{"$f":"'Fluvial + CC'!L196","v":0},{"$f":"'Surface Water'!S196","v":0},{"$f":"'Surface Water'!T196","v":3.9673449797455905E-3},{"$f":"'Surface Water'!U196","v":1.462543858735391E-2},{"$f":"'Surface Water +CC'!I196","v":6.4497437604917E-3},{"$f":"'Surface Water +CC'!J196","v":1.8592782850102602E-2},{"$f":"'Reservoir extents'!P196","v":0},{"$f":"'Reservoir extents'!Q196","v":0},0,0,null,0]
["SEC3-35","Station Street/Graingers Lane, Cradley Heath",2.2810000000000001,{"$f":"'Flood map for planning'!O197","v":1},{"$f":"'Flood map for planning'!P197","v":0},{"$f":"'Flood map for planning'!Q197","v":0},{"$f":"'Present Day Fluvial'!P197","v":1},{"$f":"'Present Day Fluvial'!S197","v":0},{"$f":"'Present Day Fluvial'!R197","v":0},{"$f":"'Present Day Fluvial'!Q197","v":0},{"$f":"'Fluvial + CC'!J197","v":0},{"$f":"'Fluvial + CC'!K197","v":0},{"$f":"'Fluvial + CC'!L197","v":0},{"$f":"'Surface Water'!S197","v":4.8612943212307497E-2},{"$f":"'Surface Water'!T197","v":0.12342735935106453},{"$f":"'Surface Water'!U197","v":0.26983527866879098},{"$f":"'Surface Water +CC'!I197","v":0.29003136478170799},{"$f":"'Surface Water +CC'!J197","v":0.46233822307769401},{"$f":"'Reservoir extents'!P197","v":0},{"$f":"'Reservoir extents'!Q197","v":0},0,0,null,0]
["SEC4-6","Summerton Rd, Oldbury (3223)",0.56499999999999995,{"$f":"'Flood map for planning'!O198","v":1},{"$f":"'Flood map for planning'!P198","v":0},{"$f":"'Flood map for planning'!Q198","v":0},{"$f":"'Present Day Fluvial'!P198","v":1},{"$f":"'Present Day Fluvial'!S198","v":0},{"$f":"'Present Day Fluvial'!R198","v":0},{"$f":"'Present Day Fluvial'!Q198","v":0},{"$f":"'Fluvial + CC'!J198","v":0},{"$f":"'Fluvial + CC'!K198","v":0},{"$f":"'Fluvial + CC'!L198","v":0},{"$f":"'Surface Water'!S198","v":0},{"$f":"'Surface Water'!T198","v":1.78070621026882E-2},{"$f":"'Surface Water'!U198","v":8.5292687206833792E-2},{"$f":"'Surface Water +CC'!I198","v":4.6023379684747096E-2},{"$f":"'Surface Water +CC'!J198","v":0.10726125301716699},{"$f":"'Reservoir extents'!P198","v":0},{"$f":"'Reservoir extents'!Q198","v":0},0,0,null,0]
["SEC3-63","Summit Crescent, Smethwick (east)",4.03,{"$f":"'Flood map for planning'!O199","v":1},{"$f":"'Flood map for planning'!P199","v":0},{"$f":"'Flood map for planning'!Q199","v":0},{"$f":"'Present Day Fluvial'!P199","v":1},{"$f":"'Present Day Fluvial'!S199","v":0},{"$f":"'Present Day Fluvial'!R199","v":0},{"$f":"'Present Day Fluvial'!Q199","v":0},{"$f":"'Fluvial + CC'!J199","v":0},{"$f":"'Fluvial + CC'!K199","v":0},{"$f":"'Fluvial + CC'!L199","v":0},{"$f":"'Surface Water'!S199","v":0},{"$f":"'Surface Water'!T199","v":4.4703520307876497E-3},{"$f":"'Surface Water'!U199","v":2.1358348560859549E-2},{"$f":"'Surface Water +CC'!I199","v":1.9570207754912701E-2},{"$f":"'Surface Water +CC'!J199","v":2.6623429840900201E-2},{"$f":"'Reservoir extents'!P199","v":0},{"$f":"'Reservoir extents'!Q199","v":0},0,0.23043027836851601,null,0]
["SEC3-27","Summit Crescent, Smethwick (west)",5.98,{"$f":"'Flood map for planning'!O200","v":1},{"$f":"'Flood map for planning'!P200","v":0},{"$f":"'Flood map for planning'!Q200","v":0},{"$f":"'Present Day Fluvial'!P200","v":1},{"$f":"'Present Day Fluvial'!S200","v":0},{"$f":"'Present Day Fluvial'!R200","v":0},{"$f":"'Present Day Fluvial'!Q200","v":0},{"$f":"'Fluvial + CC'!J200","v":0},{"$f":"'Fluvial + CC'!K200","v":0},{"$f":"'Fluvial + CC'!L200","v":0},{"$f":"'Surface Water'!S200","v":2.1017323308E-7},{"$f":"'Surface Water'!T200","v":8.2276102019896609E-3},{"$f":"'Surface Water'!U200","v":8.0695640378526959E-2},{"$f":"'Surface Water +CC'!I200","v":4.4149045777273702E-2},{"$f":"'Surface Water +CC'!J200","v":9.1593251026721598E-2},{"$f":"'Reservoir extents'!P200","v":0},{"$f":"'Reservoir extents'!Q200","v":0},0,0.52958444863885001,null,0]
["SEC3-39","Swan Lane, West Bromwich",0.83399999999999996,{"$f":"'Flood map for planning'!O201","v":1},{"$f":"'Flood map for planning'!P201","v":0},{"$f":"'Flood map for planning'!Q201","v":0},{"$f":"'Present Day Fluvial'!P201","v":1},{"$f":"'Present Day Fluvial'!S201","v":0},{"$f":"'Present Day Fluvial'!R201","v":0},{"$f":"'Present Day Fluvial'!Q201","v":0},{"$f":"'Fluvial + CC'!J201","v":0},{"$f":"'Fluvial + CC'!K201","v":0},{"$f":"'Fluvial + CC'!L201","v":0},{"$f":"'Surface Water'!S201","v":0},{"$f":"'Surface Water'!T201","v":0},{"$f":"'Surface Water'!U201","v":7.3564626422332302E-2},{"$f":"'Surface Water +CC'!I201","v":1.16764612337301E-2},{"$f":"'Surface Water +CC'!J201","v":7.3564625354585397E-2},{"$f":"'Reservoir extents'!P201","v":0},{"$f":"'Reservoir extents'!Q201","v":0},0,0,null,0]
["SEC3-87","Swan Lane, West Bromwich",1.28,{"$f":"'Flood map for planning'!O202","v":1},{"$f":"'Flood map for planning'!P202","v":0},{"$f":"'Flood map for planning'!Q202","v":0},{"$f":"'Present Day Fluvial'!P202","v":1},{"$f":"'Present Day Fluvial'!S202","v":0},{"$f":"'Present Day Fluvial'!R202","v":0},{"$f":"'Present Day Fluvial'!Q202","v":0},{"$f":"'Fluvial + CC'!J202","v":0},{"$f":"'Fluvial + CC'!K202","v":0},{"$f":"'Fluvial + CC'!L202","v":0},{"$f":"'Surface Water'!S202","v":1.91973646744E-6},{"$f":"'Surface Water'!T202","v":1.4852599381580999E-4},{"$f":"'Surface Water'!U202","v":0.18163145460764676},{"$f":"'Surface Water +CC'!I202","v":7.2564014941690097E-2},{"$f":"'Surface Water +CC'!J202","v":0.18285935135084},{"$f":"'Reservoir extents'!P202","v":0},{"$f":"'Reservoir extents'!Q202","v":0},0,0,null,0]
["SEC3-92","Tatbak Road",8.657,{"$f":"'Flood map for planning'!O203","v":1},{"$f":"'Flood map for planning'!P203","v":0},{"$f":"'Flood map for planning'!Q203","v":0},{"$f":"'Present Day Fluvial'!P203","v":1},{"$f":"'Present Day Fluvial'!S203","v":0},{"$f":"'Present Day Fluvial'!R203","v":0},{"$f":"'Present Day Fluvial'!Q203","v":0},{"$f":"'Fluvial + CC'!J203","v":0},{"$f":"'Fluvial + CC'!K203","v":0},{"$f":"'Fluvial + CC'!L203","v":0},{"$f":"'Surface Water'!S203","v":1.47882784610318E-3},{"$f":"'Surface Water'!T203","v":2.1058619293095323E-2},{"$f":"'Surface Water'!U203","v":0.12740055988157351},{"$f":"'Surface Water +CC'!I203","v":8.7862033805239298E-2},{"$f":"'Surface Water +CC'!J203","v":0.16430642642329499},{"$f":"'Reservoir extents'!P203","v":0},{"$f":"'Reservoir extents'!Q203","v":0},0,0,null,0]
["SEC3-162","Taylors Lane, Oldbury",4.1909999999999998,{"$f":"'Flood map for planning'!O204","v":1},{"$f":"'Flood map for planning'!P204","v":0},{"$f":"'Flood map for planning'!Q204","v":0},{"$f":"'Present Day Fluvial'!P204","v":1},{"$f":"'Present Day Fluvial'!S204","v":0},{"$f":"'Present Day Fluvial'!R204","v":0},{"$f":"'Present Day Fluvial'!Q204","v":0},{"$f":"'Fluvial + CC'!J204","v":0},{"$f":"'Fluvial + CC'!K204","v":0},{"$f":"'Fluvial + CC'!L204","v":0},{"$f":"'Surface Water'!S204","v":2.4174225715297801E-2},{"$f":"'Surface Water'!T204","v":1.2690226620599904E-2},{"$f":"'Surface Water'!U204","v":4.9603101111577994E-2},{"$f":"'Surface Water +CC'!I204","v":7.5125663238077692E-2},{"$f":"'Surface Water +CC'!J204","v":9.9024727036400098E-2},{"$f":"'Reservoir extents'!P204","v":0},{"$f":"'Reservoir extents'!Q204","v":0},0,0,null,0]
["SEC3-157","Tennants Ryders Green Rd / SCA Tasker St",1.0249999999999999,{"$f":"'Flood map for planning'!O205","v":1},{"$f":"'Flood map for planning'!P205","v":0},{"$f":"'Flood map for planning'!Q205","v":0},{"$f":"'Present Day Fluvial'!P205","v":1},{"$f":"'Present Day Fluvial'!S205","v":0},{"$f":"'Present Day Fluvial'!R205","v":0},{"$f":"'Present Day Fluvial'!Q205","v":0},{"$f":"'Fluvial + CC'!J205","v":0},{"$f":"'Fluvial + CC'!K205","v":0},{"$f":"'Fluvial + CC'!L205","v":0},{"$f":"'Surface Water'!S205","v":2.8142753532690599E-2},{"$f":"'Surface Water'!T205","v":4.4749972234801504E-2},{"$f":"'Surface Water'!U205","v":7.1062327702793901E-2},{"$f":"'Surface Water +CC'!I205","v":0.116526823074503},{"$f":"'Surface Water +CC'!J205","v":0.14240009331197501},{"$f":"'Reservoir extents'!P205","v":0},{"$f":"'Reservoir extents'!Q205","v":0},0,0,null,0]
["SEC3-55","Tennants Ryders Green Rd, West Bromwich",2.9159999999999999,{"$f":"'Flood map for planning'!O206","v":1},{"$f":"'Flood map for planning'!P206","v":0},{"$f":"'Flood map for planning'!Q206","v":0},{"$f":"'Present Day Fluvial'!P206","v":1},{"$f":"'Present Day Fluvial'!S206","v":0},{"$f":"'Present Day Fluvial'!R206","v":0},{"$f":"'Present Day Fluvial'!Q206","v":0},{"$f":"'Fluvial + CC'!J206","v":0},{"$f":"'Fluvial + CC'!K206","v":0},{"$f":"'Fluvial + CC'!L206","v":0},{"$f":"'Surface Water'!S206","v":6.0676432930948402E-3},{"$f":"'Surface Water'!T206","v":2.3100605247175859E-2},{"$f":"'Surface Water'!U206","v":0.23291202583941331},{"$f":"'Surface Water +CC'!I206","v":0.159513694509158},{"$f":"'Surface Water +CC'!J206","v":0.25342310535346901},{"$f":"'Reservoir extents'!P206","v":0},{"$f":"'Reservoir extents'!Q206","v":0},0,0,null,0]
["SEC3-134","The Angle Ring Co. Ltd",1.706,{"$f":"'Flood map for planning'!O207","v":1},{"$f":"'Flood map for planning'!P207","v":0},{"$f":"'Flood map for planning'!Q207","v":0},{"$f":"'Present Day Fluvial'!P207","v":1},{"$f":"'Present Day Fluvial'!S207","v":0},{"$f":"'Present Day Fluvial'!R207","v":0},{"$f":"'Present Day Fluvial'!Q207","v":0},{"$f":"'Fluvial + CC'!J207","v":0},{"$f":"'Fluvial + CC'!K207","v":0},{"$f":"'Fluvial + CC'!L207","v":0},{"$f":"'Surface Water'!S207","v":0},{"$f":"'Surface Water'!T207","v":2.3702827235314299E-2},{"$f":"'Surface Water'!U207","v":5.3965104731331794E-2},{"$f":"'Surface Water +CC'!I207","v":5.0865342979147299E-2},{"$f":"'Surface Water +CC'!J207","v":7.6348461195650502E-2},{"$f":"'Reservoir extents'!P207","v":0},{"$f":"'Reservoir extents'!Q207","v":0},0,0,null,0]
["SEC3-13","The Bridge Trading Estate",3.34,{"$f":"'Flood map for planning'!O208","v":0.99891962865603456},{"$f":"'Flood map for planning'!P208","v":1.0803713439654201E-3},{"$f":"'Flood map for planning'!Q208","v":0},{"$f":"'Present Day Fluvial'!P208","v":1},{"$f":"'Present Day Fluvial'!S208","v":0},{"$f":"'Present Day Fluvial'!R208","v":0},{"$f":"'Present Day Fluvial'!Q208","v":0},{"$f":"'Fluvial + CC'!J208","v":0},{"$f":"'Fluvial + CC'!K208","v":1.0803713439654201E-3},{"$f":"'Fluvial + CC'!L208","v":0},{"$f":"'Surface Water'!S208","v":0},{"$f":"'Surface Water'!T208","v":1.6781359514158701E-2},{"$f":"'Surface Water'!U208","v":0.1868354270787343},{"$f":"'Surface Water +CC'!I208","v":8.2827549207290213E-2},{"$f":"'Surface Water +CC'!J208","v":0.23290260078189998},{"$f":"'Reservoir extents'!P208","v":5.4403285049197997E-7},{"$f":"'Reservoir extents'!Q208","v":0},0.427228707612611,0.25396240664254099,null,0]
["SEC4-16","The Lyng Industrial Estate, West Bromwich",9.8450000000000006,{"$f":"'Flood map for planning'!O209","v":1},{"$f":"'Flood map for planning'!P209","v":0},{"$f":"'Flood map for planning'!Q209","v":0},{"$f":"'Present Day Fluvial'!P209","v":1},{"$f":"'Present Day Fluvial'!S209","v":0},{"$f":"'Present Day Fluvial'!R209","v":0},{"$f":"'Present Day Fluvial'!Q209","v":0},{"$f":"'Fluvial + CC'!J209","v":0},{"$f":"'Fluvial + CC'!K209","v":0},{"$f":"'Fluvial + CC'!L209","v":0},{"$f":"'Surface Water'!S209","v":1.61837919144702E-2},{"$f":"'Surface Water'!T209","v":2.3068108351074004E-2},{"$f":"'Surface Water'!U209","v":6.6184591921843797E-2},{"$f":"'Surface Water +CC'!I209","v":7.2836265939929104E-2},{"$f":"'Surface Water +CC'!J209","v":0.108866080394894},{"$f":"'Reservoir extents'!P209","v":0},{"$f":"'Reservoir extents'!Q209","v":0},0,0,null,0]
["SEC3-120","Tipton Rd, Oldbury (2958)",1.7629999999999999,{"$f":"'Flood map for planning'!O210","v":1},{"$f":"'Flood map for planning'!P210","v":0},{"$f":"'Flood map for planning'!Q210","v":0},{"$f":"'Present Day Fluvial'!P210","v":1},{"$f":"'Present Day Fluvial'!S210","v":0},{"$f":"'Present Day Fluvial'!R210","v":0},{"$f":"'Present Day Fluvial'!Q210","v":0},{"$f":"'Fluvial + CC'!J210","v":0},{"$f":"'Fluvial + CC'!K210","v":0},{"$f":"'Fluvial + CC'!L210","v":0},{"$f":"'Surface Water'!S210","v":2.2390228330928998E-2},{"$f":"'Surface Water'!T210","v":3.2230830727949397E-2},{"$f":"'Surface Water'!U210","v":0.39483413756695362},{"$f":"'Surface Water +CC'!I210","v":0.20556385708056599},{"$f":"'Surface Water +CC'!J210","v":0.45940812857637098},{"$f":"'Reservoir extents'!P210","v":0},{"$f":"'Reservoir extents'!Q210","v":0},0,0,null,0]
["SEC3-119","Tipton Road",3.1850000000000001,{"$f":"'Flood map for planning'!O211","v":1},{"$f":"'Flood map for planning'!P211","v":0},{"$f":"'Flood map for planning'!Q211","v":0},{"$f":"'Present Day Fluvial'!P211","v":1},{"$f":"'Present Day Fluvial'!S211","v":0},{"$f":"'Present Day Fluvial'!R211","v":0},{"$f":"'Present Day Fluvial'!Q211","v":0},{"$f":"'Fluvial + CC'!J211","v":0},{"$f":"'Fluvial + CC'!K211","v":0},{"$f":"'Fluvial + CC'!L211","v":0},{"$f":"'Surface Water'!S211","v":0},{"$f":"'Surface Water'!T211","v":2.8800718797382E-4},{"$f":"'Surface Water'!U211","v":3.8623195085507184E-2},{"$f":"'Surface Water +CC'!I211","v":1.5342941824435701E-2},{"$f":"'Surface Water +CC'!J211","v":4.2178616743984799E-2},{"$f":"'Reservoir extents'!P211","v":0},{"$f":"'Reservoir extents'!Q211","v":0},0,0,null,0]
["SEC3-58","Toll End Road, Tipton 2",5.9029999999999996,{"$f":"'Flood map for planning'!O212","v":0.23537031449999601},{"$f":"'Flood map for planning'!P212","v":0.70935884253277914},{"$f":"'Flood map for planning'!Q212","v":5.5270842967224801E-2},{"$f":"'Present Day Fluvial'!P212","v":0.23921982389818097},{"$f":"'Present Day Fluvial'!S212","v":0.70550153917923175},{"$f":"'Present Day Fluvial'!R212","v":5.5278636922587304E-2},{"$f":"'Present Day Fluvial'!Q212","v":0},{"$f":"'Fluvial + CC'!J212","v":0.20581992405932803},{"$f":"'Fluvial + CC'!K212","v":0.76462968569296508},{"$f":"'Fluvial + CC'!L212","v":5.5278636922587304E-2},{"$f":"'Surface Water'!S212","v":0},{"$f":"'Surface Water'!T212","v":2.08382953518963E-2},{"$f":"'Surface Water'!U212","v":0.16832653458756769},{"$f":"'Surface Water +CC'!I212","v":4.2865085745410501E-2},{"$f":"'Surface Water +CC'!J212","v":0.19699147552868801},{"$f":"'Reservoir extents'!P212","v":0},{"$f":"'Reservoir extents'!Q212","v":0},0,0,null,0]
["SEC3-180","Trinity Street, Oldbury",26.986000000000001,{"$f":"'Flood map for planning'!O213","v":1},{"$f":"'Flood map for planning'!P213","v":0},{"$f":"'Flood map for planning'!Q213","v":0},{"$f":"'Present Day Fluvial'!P213","v":1},{"$f":"'Present Day Fluvial'!S213","v":0},{"$f":"'Present Day Fluvial'!R213","v":0},{"$f":"'Present Day Fluvial'!Q213","v":0},{"$f":"'Fluvial + CC'!J213","v":0},{"$f":"'Fluvial + CC'!K213","v":0},{"$f":"'Fluvial + CC'!L213","v":0},{"$f":"'Surface Water'!S213","v":1.2538696473721401E-2},{"$f":"'Surface Water'!T213","v":5.3846015122502505E-2},{"$f":"'Surface Water'!U213","v":0.1677047917615751},{"$f":"'Surface Water +CC'!I213","v":0.14968209442994701},{"$f":"'Surface Water +CC'!J213","v":0.24073087288988201},{"$f":"'Reservoir extents'!P213","v":0},{"$f":"'Reservoir extents'!Q213","v":0},0,0,null,0]
["SEC-144","Union Road",12.159000000000001,{"$f":"'Flood map for planning'!O214","v":0.99816011498751878},{"$f":"'Flood map for planning'!P214","v":1.4417906090533699E-3},{"$f":"'Flood map for planning'!Q214","v":3.9809440342788999E-4},{"$f":"'Present Day Fluvial'!P214","v":0.99949069878143415},{"$f":"'Present Day Fluvial'!S214","v":1.1847179289999602E-4},{"$f":"'Present Day Fluvial'!R214","v":6.0964966615111949E-5},{"$f":"'Present Day Fluvial'!Q214","v":3.2986445905078504E-4},{"$f":"'Fluvial + CC'!J214","v":4.3226192842558497E-4},{"$f":"'Fluvial + CC'!K214","v":1.83988541120672E-3},{"$f":"'Fluvial + CC'!L214","v":3.9082942566589699E-4},{"$f":"'Surface Water'!S214","v":1.32624437223434E-3},{"$f":"'Surface Water'!T214","v":8.4650966352056208E-3},{"$f":"'Surface Water'!U214","v":7.2339243240682041E-2},{"$f":"'Surface Water +CC'!I214","v":3.6693846110185203E-2},{"$f":"'Surface Water +CC'!J214","v":9.19966030779827E-2},{"$f":"'Reservoir extents'!P214","v":0},{"$f":"'Reservoir extents'!Q214","v":0},0,0,null,0]
["SEC3-59","unit 7,8,9 Coneygree Ind Est, Coneygree Road",1.0329999999999999,{"$f":"'Flood map for planning'!O215","v":1},{"$f":"'Flood map for planning'!P215","v":0},{"$f":"'Flood map for planning'!Q215","v":0},{"$f":"'Present Day Fluvial'!P215","v":1},{"$f":"'Present Day Fluvial'!S215","v":0},{"$f":"'Present Day Fluvial'!R215","v":0},{"$f":"'Present Day Fluvial'!Q215","v":0},{"$f":"'Fluvial + CC'!J215","v":0},{"$f":"'Fluvial + CC'!K215","v":0},{"$f":"'Fluvial + CC'!L215","v":0},{"$f":"'Surface Water'!S215","v":0},{"$f":"'Surface Water'!T215","v":1.2395715577196299E-2},{"$f":"'Surface Water'!U215","v":8.7400884248674017E-3},{"$f":"'Surface Water +CC'!I215","v":1.6269376700519301E-2},{"$f":"'Surface Water +CC'!J215","v":2.1135804553936901E-2},{"$f":"'Reservoir extents'!P215","v":0},{"$f":"'Reservoir extents'!Q215","v":0},0,0,null,0]
["SEC3-121","Upper Chapel St, Bittania St, 70-74 Dudley Rd West",0.64100000000000001,{"$f":"'Flood map for planning'!O216","v":1},{"$f":"'Flood map for planning'!P216","v":0},{"$f":"'Flood map for planning'!Q216","v":0},{"$f":"'Present Day Fluvial'!P216","v":1},{"$f":"'Present Day Fluvial'!S216","v":0},{"$f":"'Present Day Fluvial'!R216","v":0},{"$f":"'Present Day Fluvial'!Q216","v":0},{"$f":"'Fluvial + CC'!J216","v":0},{"$f":"'Fluvial + CC'!K216","v":0},{"$f":"'Fluvial + CC'!L216","v":0},{"$f":"'Surface Water'!S216","v":0},{"$f":"'Surface Water'!T216","v":0},{"$f":"'Surface Water'!U216","v":6.974534889616E-5},{"$f":"'Surface Water +CC'!I216","v":4.7182824551276502E-6},{"$f":"'Surface Water +CC'!J216","v":6.9744018483199497E-5},{"$f":"'Reservoir extents'!P216","v":0},{"$f":"'Reservoir extents'!Q216","v":0},0,0,null,0]
["SEC3-99","various sites (3034, 3226, 1436)",6.359,{"$f":"'Flood map for planning'!O217","v":0.99928475576547682},{"$f":"'Flood map for planning'!P217","v":3.6059721732028003E-4},{"$f":"'Flood map for planning'!Q217","v":3.546470172029E-4},{"$f":"'Present Day Fluvial'!P217","v":0.98537336762343664},{"$f":"'Present Day Fluvial'!S217","v":0},{"$f":"'Present Day Fluvial'!R217","v":0},{"$f":"'Present Day Fluvial'!Q217","v":1.4626632376563399E-2},{"$f":"'Fluvial + CC'!J217","v":7.15244162278024E-4},{"$f":"'Fluvial + CC'!K217","v":7.1524416227802009E-4},{"$f":"'Fluvial + CC'!L217","v":1.48420276974419E-2},{"$f":"'Surface Water'!S217","v":3.95827029505782E-3},{"$f":"'Surface Water'!T217","v":2.1145372445634081E-2},{"$f":"'Surface Water'!U217","v":0.14174662809026209},{"$f":"'Surface Water +CC'!I217","v":0.11369361566569801},{"$f":"'Surface Water +CC'!J217","v":0.230990529740281},{"$f":"'Reservoir extents'!P217","v":0},{"$f":"'Reservoir extents'!Q217","v":2.04408792593182E-4},4.26306333092005E-2,0,null,0]
["SEC3-110","Various sites on Mounts Rd, (2926, 2911, 2927, 290",6.3419999999999996,{"$f":"'Flood map for planning'!O218","v":0.98306148816751859},{"$f":"'Flood map for planning'!P218","v":1.69385118324814E-2},{"$f":"'Flood map for planning'!Q218","v":0},{"$f":"'Present Day Fluvial'!P218","v":0.99200933758803744},{"$f":"'Present Day Fluvial'!S218","v":7.9906624119625604E-3},{"$f":"'Present Day Fluvial'!R218","v":0},{"$f":"'Present Day Fluvial'!Q218","v":0},{"$f":"'Fluvial + CC'!J218","v":0},{"$f":"'Fluvial + CC'!K218","v":1.6938511792782499E-2},{"$f":"'Fluvial + CC'!L218","v":0},{"$f":"'Surface Water'!S218","v":1.04155022073135E-2},{"$f":"'Surface Water'!T218","v":1.3461758541987501E-2},{"$f":"'Surface Water'!U218","v":7.1766110013859713E-2},{"$f":"'Surface Water +CC'!I218","v":4.8373436347252802E-2},{"$f":"'Surface Water +CC'!J218","v":9.5581433822202702E-2},{"$f":"'Reservoir extents'!P218","v":0},{"$f":"'Reservoir extents'!Q218","v":0},7.3244513735241004E-2,0,null,0]
["EMP3-181","Varney Business Park",0.73099999999999998,{"$f":"'Flood map for planning'!O219","v":1},{"$f":"'Flood map for planning'!P219","v":0},{"$f":"'Flood map for planning'!Q219","v":0},{"$f":"'Present Day Fluvial'!P219","v":1},{"$f":"'Present Day Fluvial'!S219","v":0},{"$f":"'Present Day Fluvial'!R219","v":0},{"$f":"'Present Day Fluvial'!Q219","v":0},{"$f":"'Fluvial + CC'!J219","v":0},{"$f":"'Fluvial + CC'!K219","v":0},{"$f":"'Fluvial + CC'!L219","v":0},{"$f":"'Surface Water'!S219","v":0},{"$f":"'Surface Water'!T219","v":3.0883100046796001E-4},{"$f":"'Surface Water'!U219","v":0.10712459141898904},{"$f":"'Surface Water +CC'!I219","v":1.6330250077022899E-2},{"$f":"'Surface Water +CC'!J219","v":0.109625405209179},{"$f":"'Reservoir extents'!P219","v":0},{"$f":"'Reservoir extents'!Q219","v":0},0,0,null,0]
["EMP2-17","Vaughan Trading Estate, Dudley Road East",19.998000000000001,{"$f":"'Flood map for planning'!O220","v":0.83842479209655896},{"$f":"'Flood map for planning'!P220","v":0.16157520790344101},{"$f":"'Flood map for planning'!Q220","v":0},{"$f":"'Present Day Fluvial'!P220","v":0.84223928325226405},{"$f":"'Present Day Fluvial'!S220","v":0.15776071674773601},{"$f":"'Present Day Fluvial'!R220","v":0},{"$f":"'Present Day Fluvial'!Q220","v":0},{"$f":"'Fluvial + CC'!J220","v":0},{"$f":"'Fluvial + CC'!K220","v":0.16157520776548601},{"$f":"'Fluvial + CC'!L220","v":0},{"$f":"'Surface Water'!S220","v":1.54136698766782E-2},{"$f":"'Surface Water'!T220","v":9.7824310521805791E-2},{"$f":"'Surface Water'!U220","v":0.28145447958067005},{"$f":"'Surface Water +CC'!I220","v":0.24916017614309699},{"$f":"'Surface Water +CC'!J220","v":0.39529661888427903},{"$f":"'Reservoir extents'!P220","v":0},{"$f":"'Reservoir extents'!Q220","v":0},0,0,null,0]
["SEC3-1","Vector Ind Park, Church Lane, WB (5556)",5.2229999999999999,{"$f":"'Flood map for planning'!O221","v":1},{"$f":"'Flood map for planning'!P221","v":0},{"$f":"'Flood map for planning'!Q221","v":0},{"$f":"'Present Day Fluvial'!P221","v":1},{"$f":"'Present Day Fluvial'!S221","v":0},{"$f":"'Present Day Fluvial'!R221","v":0},{"$f":"'Present Day Fluvial'!Q221","v":0},{"$f":"'Fluvial + CC'!J221","v":0},{"$f":"'Fluvial + CC'!K221","v":0},{"$f":"'Fluvial + CC'!L221","v":0},{"$f":"'Surface Water'!S221","v":0},{"$f":"'Surface Water'!T221","v":1.51498828773693E-2},{"$f":"'Surface Water'!U221","v":8.8750671293750694E-2},{"$f":"'Surface Water +CC'!I221","v":3.7140307510650297E-2},{"$f":"'Surface Water +CC'!J221","v":0.104283756036011},{"$f":"'Reservoir extents'!P221","v":0},{"$f":"'Reservoir extents'!Q221","v":0},0,0,null,0]
["SEC3-125","Wade Building Services, Groveland Road, Tividale",1.43,{"$f":"'Flood map for planning'!O222","v":1},{"$f":"'Flood map for planning'!P222","v":0},{"$f":"'Flood map for planning'!Q222","v":0},{"$f":"'Present Day Fluvial'!P222","v":1},{"$f":"'Present Day Fluvial'!S222","v":0},{"$f":"'Present Day Fluvial'!R222","v":0},{"$f":"'Present Day Fluvial'!Q222","v":0},{"$f":"'Fluvial + CC'!J222","v":0},{"$f":"'Fluvial + CC'!K222","v":0},{"$f":"'Fluvial + CC'!L222","v":0},{"$f":"'Surface Water'!S222","v":0},{"$f":"'Surface Water'!T222","v":6.4190192033412006E-4},{"$f":"'Surface Water'!U222","v":2.0856308862986079E-2},{"$f":"'Surface Water +CC'!I222","v":1.1747324424501599E-2},{"$f":"'Surface Water +CC'!J222","v":2.2480728324283699E-2},{"$f":"'Reservoir extents'!P222","v":0},{"$f":"'Reservoir extents'!Q222","v":0},0,0,null,0]
["SEC3-189","Waterfall Lane",2.7050000000000001,{"$f":"'Flood map for planning'!O223","v":1},{"$f":"'Flood map for planning'!P223","v":0},{"$f":"'Flood map for planning'!Q223","v":0},{"$f":"'Present Day Fluvial'!P223","v":1},{"$f":"'Present Day Fluvial'!S223","v":0},{"$f":"'Present Day Fluvial'!R223","v":0},{"$f":"'Present Day Fluvial'!Q223","v":0},{"$f":"'Fluvial + CC'!J223","v":0},{"$f":"'Fluvial + CC'!K223","v":0},{"$f":"'Fluvial + CC'!L223","v":0},{"$f":"'Surface Water'!S223","v":2.6461493415886001E-4},{"$f":"'Surface Water'!T223","v":3.396617344813084E-2},{"$f":"'Surface Water'!U223","v":0.16356364132153228},{"$f":"'Surface Water +CC'!I223","v":0.12082953633536199},{"$f":"'Surface Water +CC'!J223","v":0.21301718130223299},{"$f":"'Reservoir extents'!P223","v":0},{"$f":"'Reservoir extents'!Q223","v":0},0,2.5039895052184403E-3,null,0]
["SEC3-190","Waterfall Lane Trading Estate, Cradley Heath",5.7629999999999999,{"$f":"'Flood map for planning'!O224","v":1},{"$f":"'Flood map for planning'!P224","v":0},{"$f":"'Flood map for planning'!Q224","v":0},{"$f":"'Present Day Fluvial'!P224","v":1},{"$f":"'Present Day Fluvial'!S224","v":0},{"$f":"'Present Day Fluvial'!R224","v":0},{"$f":"'Present Day Fluvial'!Q224","v":0},{"$f":"'Fluvial + CC'!J224","v":0},{"$f":"'Fluvial + CC'!K224","v":0},{"$f":"'Fluvial + CC'!L224","v":0},{"$f":"'Surface Water'!S224","v":0},{"$f":"'Surface Water'!T224","v":0},{"$f":"'Surface Water'!U224","v":3.3660590113937898E-2},{"$f":"'Surface Water +CC'!I224","v":1.3382958284102599E-2},{"$f":"'Surface Water +CC'!J224","v":3.8508235731128597E-2},{"$f":"'Reservoir extents'!P224","v":0},{"$f":"'Reservoir extents'!Q224","v":0},0,0,null,0]
["SEC3-77","Wednesbury Trading Estate, Wednesbury",8.734,{"$f":"'Flood map for planning'!O225","v":1},{"$f":"'Flood map for planning'!P225","v":0},{"$f":"'Flood map for planning'!Q225","v":0},{"$f":"'Present Day Fluvial'!P225","v":1},{"$f":"'Present Day Fluvial'!S225","v":0},{"$f":"'Present Day Fluvial'!R225","v":0},{"$f":"'Present Day Fluvial'!Q225","v":0},{"$f":"'Fluvial + CC'!J225","v":0},{"$f":"'Fluvial + CC'!K225","v":0},{"$f":"'Fluvial + CC'!L225","v":0},{"$f":"'Surface Water'!S225","v":5.29192825586849E-3},{"$f":"'Surface Water'!T225","v":3.5379105176210207E-2},{"$f":"'Surface Water'!U225","v":0.14430204603988928},{"$f":"'Surface Water +CC'!I225","v":0.132055938300041},{"$f":"'Surface Water +CC'!J225","v":0.18410222786248301},{"$f":"'Reservoir extents'!P225","v":0},{"$f":"'Reservoir extents'!Q225","v":0},0,0,null,0]
["SEC3-76","Wharfeside, Oldbury",6.1970000000000001,{"$f":"'Flood map for planning'!O226","v":1},{"$f":"'Flood map for planning'!P226","v":0},{"$f":"'Flood map for planning'!Q226","v":0},{"$f":"'Present Day Fluvial'!P226","v":1},{"$f":"'Present Day Fluvial'!S226","v":0},{"$f":"'Present Day Fluvial'!R226","v":0},{"$f":"'Present Day Fluvial'!Q226","v":0},{"$f":"'Fluvial + CC'!J226","v":0},{"$f":"'Fluvial + CC'!K226","v":0},{"$f":"'Fluvial + CC'!L226","v":0},{"$f":"'Surface Water'!S226","v":1.69657716258905E-3},{"$f":"'Surface Water'!T226","v":2.2551659497736846E-2},{"$f":"'Surface Water'!U226","v":0.3672459821378451},{"$f":"'Surface Water +CC'!I226","v":0.29726994413194402},{"$f":"'Surface Water +CC'!J226","v":0.52237305924237798},{"$f":"'Reservoir extents'!P226","v":0},{"$f":"'Reservoir extents'!Q226","v":0},0,0,null,0]
["SEC3-192","Whitehall Rd Ind Est, West Brom (2916)",2.59,{"$f":"'Flood map for planning'!O227","v":1},{"$f":"'Flood map for planning'!P227","v":0},{"$f":"'Flood map for planning'!Q227","v":0},{"$f":"'Present Day Fluvial'!P227","v":1},{"$f":"'Present Day Fluvial'!S227","v":0},{"$f":"'Present Day Fluvial'!R227","v":0},{"$f":"'Present Day Fluvial'!Q227","v":0},{"$f":"'Fluvial + CC'!J227","v":0},{"$f":"'Fluvial + CC'!K227","v":0},{"$f":"'Fluvial + CC'!L227","v":0},{"$f":"'Surface Water'!S227","v":0},{"$f":"'Surface Water'!T227","v":1.5118889159021501E-2},{"$f":"'Surface Water'!U227","v":4.1545939908461095E-2},{"$f":"'Surface Water +CC'!I227","v":3.6206225790312997E-2},{"$f":"'Surface Water +CC'!J227","v":5.5858015099135204E-2},{"$f":"'Reservoir extents'!P227","v":0},{"$f":"'Reservoir extents'!Q227","v":0},0,0,null,0]
["SEC1-1","Whitehall Road, Tipton",5.319,{"$f":"'Flood map for planning'!O228","v":1},{"$f":"'Flood map for planning'!P228","v":0},{"$f":"'Flood map for planning'!Q228","v":0},{"$f":"'Present Day Fluvial'!P228","v":1},{"$f":"'Present Day Fluvial'!S228","v":0},{"$f":"'Present Day Fluvial'!R228","v":0},{"$f":"'Present Day Fluvial'!Q228","v":0},{"$f":"'Fluvial + CC'!J228","v":0},{"$f":"'Fluvial + CC'!K228","v":0},{"$f":"'Fluvial + CC'!L228","v":0},{"$f":"'Surface Water'!S228","v":2.7999357807743198E-2},{"$f":"'Surface Water'!T228","v":4.2969971609779001E-2},{"$f":"'Surface Water'!U228","v":0.12611215488528377},{"$f":"'Surface Water +CC'!I228","v":0.115112872171325},{"$f":"'Surface Water +CC'!J228","v":0.201527306141211},{"$f":"'Reservoir extents'!P228","v":0},{"$f":"'Reservoir extents'!Q228","v":0},0,0,null,0]
["SEC3-114","Wrights Plastics, Brandon Way/ Brandon Close",0.58699999999999997,{"$f":"'Flood map for planning'!O229","v":1},{"$f":"'Flood map for planning'!P229","v":0},{"$f":"'Flood map for planning'!Q229","v":0},{"$f":"'Present Day Fluvial'!P229","v":1},{"$f":"'Present Day Fluvial'!S229","v":0},{"$f":"'Present Day Fluvial'!R229","v":0},{"$f":"'Present Day Fluvial'!Q229","v":0},{"$f":"'Fluvial + CC'!J229","v":0},{"$f":"'Fluvial + CC'!K229","v":0},{"$f":"'Fluvial + CC'!L229","v":0},{"$f":"'Surface Water'!S229","v":0},{"$f":"'Surface Water'!T229","v":0},{"$f":"'Surface Water'!U229","v":5.6928258498121194E-3},{"$f":"'Surface Water +CC'!I229","v":1.6943734356612999E-3},{"$f":"'Surface Water +CC'!J229","v":5.6928256295344301E-3},{"$f":"'Reservoir extents'!P229","v":0},{"$f":"'Reservoir extents'!Q229","v":0},0,0,null,0]
["SEC4-1","Zion Street, Tipton",2.4390000000000001,{"$f":"'Flood map for planning'!O230","v":1},{"$f":"'Flood map for planning'!P230","v":0},{"$f":"'Flood map for planning'!Q230","v":0},{"$f":"'Present Day Fluvial'!P230","v":1},{"$f":"'Present Day Fluvial'!S230","v":0},{"$f":"'Present Day Fluvial'!R230","v":0},{"$f":"'Present Day Fluvial'!Q230","v":0},{"$f":"'Fluvial + CC'!J230","v":0},{"$f":"'Fluvial + CC'!K230","v":0},{"$f":"'Fluvial + CC'!L230","v":0},{"$f":"'Surface Water'!S230","v":1.8290365775117202E-2},{"$f":"'Surface Water'!T230","v":1.9585427950952902E-2},{"$f":"'Surface Water'!U230","v":0.1307665663558249},{"$f":"'Surface Water +CC'!I230","v":0.101725459147967},{"$f":"'Surface Water +CC'!J230","v":0.16453759982001198},{"$f":"'Reservoir extents'!P230","v":0},{"$f":"'Reservoir extents'!Q230","v":0},0,0,null,0]
["SH63","192-200 Dudley Road, Oldbury",0.57999999999999996,100,0,0,100,0,0,0,0,0,0,0,0,5.7009822892318702,2.9794287869221798,5.7702713307546203,0,0,0,0,null,0]
["SH23","28-64 High Street, West Bromwich",0.97,100,0,0,100,0,0,0,0,0,0,0,0,3.0908256529829101,6.4678782063149996E-3,3.1321271045499399,0,0,0,0,null,0]
["SH58","Abberley Street Grove Lane Master Plan",2.48,100,0,0,100,0,0,0,0,0,0,0.70392587761980097,0.16379146875439202,9.2707236974612073,7.5476174203296704,12.2965515016508,0,0,1.6363359481639002,0,null,0]
["SH8","Alma Street, Wednesbury",0.54,100,0,0,100,0,0,0,0,0,0,0,0,1.8478720440384697,0,1.8478720440384699,0,0,0,0,null,0]
["SM4","Army Reserve, Carters Green",1.17,100,0,0,100,0,0,0,0,0,0,1.33439536196685,3.1134898884221496,6.3909321777079002,7.54134094683047,10.7361716304104,0,0,0,0,null,0]
["SH32","Bank Street (West), Hateley Heath",0.85,100,0,0,100,0,0,0,0,0,0,0,0,0.739827008669524,0.35683035214957498,0.82812971277849401,0,0,0,0,null,0]
["SH59","Beever Road",0.84,46.351499128618102,53.470323686678469,0.17817718470343,46.381964616313795,35.794915126160703,7.4955493090313974,10.327570948494101,20.637638635040599,53.648500871381898,17.197463236600701,0,4.3581125853877901E-4,5.1460921932418806,0.13202739102385,4.9074700785598102,6.2806435349473704,0,0,0,null,0]
["SH38","Brades Road, Oldbury",1.2,100,0,0,100,0,0,0,0,0,0,1.1348977752348699,1.2350358104047501,25.692391351220177,17.793144635842499,29.349066509402501,0,0,0,0,null,0]
["SH25","Bradleys Lane / High Street, Tipton",5.32,100,0,0,100,0,0,0,0,0,0,0.80497213967803305,1.5648056541577169,5.1327256948691602,4.8569574015013703,7.6153500494549604,0,0,0,0,null,0]
["SH34","Brandhall Golf Course",5.19,100,0,0,100,0,0,0,0,0,0,0,0,0,0,0,0,0,0,0,null,0]
["SH1","Brown Lion Street",0.47,100,0,0,100,0,0,0,0,0,0,0,0,2.0894985964821902,0,0,0,0,0,0,null,0]
["SH55","Cape Arm Cranford Street",2.14,100,0,0,100,0,0,0,0,0,0,2.89998393481283,5.8310240399666897,81.463656141103669,47.351202771905598,90.819605990040998,0,0,6.1937833438250802,0,null,0]
["SM1","Chances Glass Works",3.39,100,0,0,100,0,0,0,0,0,0,0.49355506214016698,0.89553002040171292,6.5376359094571495,5.3365650808773903,8.2080572485752299,0,0,0,50.362656299855502,null,0]
["SH24","Cokeland Place / Graingers Lane, Cradley Heath",0.37,100,0,0,100,0,0,0,0,0,0,0,9.5596078262147905E-3,1.1028211744325651,0.107031951866099,1.3739588837396199,0,0,0,0,null,0]
["SH16","Cradley Heath Factory Centre, Woods Lane, Cradley",5.57,97.110798513598866,2.8607015433480059,2.8499943053134E-2,97.110819377336625,3.7642430432109977E-2,7.885000779659021E-2,2.77268818443468,2.88918062266338,2.8892014864011402,2.8500517515541799,0.36130997706883999,1.1348777829964201,5.9390871854390799,4.1940227782320303,7.6895294021678202,5.36686411163587,4.9353966499317306,0,0,null,0]
["SH54","Cranford Street / Heath Street / Canal",5.01,100,0,0,100,0,0,0,0,0,0,10.6521278969972,11.434586830500299,28.620712207545694,43.255774971873201,53.1911607852917,12.922342669871201,0.12786660459550014,78.3707835189348,0.299687359421967,null,0]
["SM5","cultural quarter, west brom",1.0900000000000001,100,0,0,100,0,0,0,0,0,0,0,0,0,0,0,0,0,0,0,null,0]
["SH21","Dudley Road East",2.66,100,0,0,100,0,0,0,0,0,0,0,0,1.11332531618426,0.14017396143887001,1.4241399935659,0,0,0,0,null,0]
["SH37","Edwin Richards Quarry, Portway Road, Rowley Regis",51.26,100,0,0,100,0,0,0,0,0,0,1.34489374746003,1.8223765570994199,6.2139899693177707,6.6626291354942202,10.0470909069761,0,0,0,0,null,0]
["SH20","Elbow Street, Old Hill",0.72,100,0,0,100,0,0,0,0,0,0,0,9.9648690241644395,35.828915019045155,41.563683839404398,47.535399212926997,0,0,19.767240242197801,0,null,0]
["SM3","Evans Halshaw car showroom",0.89,100,0,0,100,0,0,0,0,0,0,6.4099769105754101E-2,1.1836202964833058,4.7552309371107704,2.9402806152094398,6.0481292782394096,0,0,0,0,null,0]
["SH28","Friar Street, Wednesbury",1.02,78.921877008380108,21.020017240360204,5.8105751259697101E-2,100,0,0,0,0,21.0781229916199,0,0,2.7594348325261699,15.227295441004129,10.0352466915708,19.1571080039176,0,0,0,0,null,0]
["SM8","George Street Living",2.36,100,0,0,100,0,0,0,0,0,0,7.7755600451063396E-3,0.92790838262111175,2.4379636719410813,2.1574332639343301,3.4246168535694101,0,0,0,0,null,0]
["SH53","Grove Lane/ Cranford Street/ London Street",2.09,100,0,0,100,0,0,0,0,0,0,0,8.6124797512337307E-3,3.1917013004701564,9.4584901692989998E-2,4.1772259177184301,0,0,0,0,null,0]
["SH57","Grove Street / MMUH / School - Grove Lane MP",2.19,100,0,0,100,0,0,0,0,0,0,1.06906146682424,0.83814404638660012,3.5214664897822989,3.58878606480343,5.7852549529634398,0,0,0,0,null,0]
["SH17","Land adj to Droicon Estate, Portway Road, Rowley R",0.66,100,0,0,100,0,0,0,0,0,0,6.2438913447722094E-2,0.16659781424956494,8.0079184735081022,4.5586220331137799,10.814998340923699,0,0,0,0,null,0]
["SH2","Land adjacent To Asda Wolverhampton Road, Oldbury",1.61,96.943674996886372,3.0563250031136202,0,96.057483024485805,0.22981521472304964,3.7421185995530765E-2,3.6752805747956199,3.7631334297922598,3.0563250031136202,3.7127017607911501,1.85857722599607,4.4516178339577195,6.1996825177654102,9.3208541738645003,15.316060898284,0,0,0,0,null,0]
["SH19","Land at Horseley Heath, Alexandra Road, and Lower",2.27,100,0,0,100,0,0,0,0,0,0,0.533469327850847,0.68817648778332308,9.2740056700263303,7.8103775206401904,10.462029035594099,0,0,0,0,null,0]
["SH36","Land between Addington Way and River Tame, Temple",0.89,67.066387508390605,32.83242610591094,0.101186385698465,67.065327984015397,22.8175632398674,0.41343375409394062,9.7036750220232602,11.1814247245585,32.933612491609402,10.117108776117201,1.65446391935212,2.3858753871123697,7.1868465317049104,5.3909497294707398,11.3613808560397,0,0,0,0,null,0]
["SH43","Land of Tanhouse Avenue, Great Barr",1.66,100,0,0,100,0,0,0,0,0,0,0,0.17056870508463901,22.956793949376163,4.9240794426445902,24.317996551441802,0,0,0,0,null,0]
["SH30","Land to east of Black Lake, west Bromwich",2.46,100,0,0,100,0,0,0,0,0,0,0,0,4.2426759618375502,0.55146454801551503,4.3241348823347403,0,0,0,0,null,0]
["SH14","Langley Maltings, Western Road, Langly",2.73,100,0,0,100,0,0,0,0,0,0,11.131136309472099,14.121422553186303,20.887599410278401,38.411184765287402,46.486058927315902,0,0,0,0,null,0]
["SH40","Langley Swimming Centre, Vicarage Road, Oldbury",0.49,100,0,0,100,0,0,0,0,0,0,3.8639327848463396,17.06966011671906,50.847356979717397,47.346854974555399,72.754180534764899,0,0,0,0,null,0]
["SM2","Lion Farm",21,90.614392183675022,9.3199787043549058,6.5629111970073803E-2,90.620146821561164,2.8219478058884402,5.3608001343391107,1.1971052382112799,6.9930823280781702,9.3858228778160697,6.4160985067674998,1.7224255883005599,6.0654289254173603,17.09688021968838,18.6882462495849,26.494398640963698,0,0,0,0,null,0]
["SH26","Lower City Road,Oldbury",2.33,100,0,0,100,0,0,0,0,0,0,0.63238842230748005,0.96779448349782993,5.7740566842790901,4.4646931251754998,7.2517417663296797,0,0,0,0,null,0]
["SH4","Lower High Street (Station hotel & Dunns Site).",0.28000000000000003,100,0,0,100,0,0,0,0,0,0,0,0,5.7865788725168201,2.23331924536018,5.9281602620373599,0,0,0,0,null,0]
["SH15","Macarthur Road Industrial Estate Cradley Heath",0.3,100,0,0,100,0,0,0,0,0,0,0,0,3.3320762470662899,0,3.4646494633513898,0,0,0,0,null,0]
["SH5","Mill Street, Great Bridge",0.88,39.643613930932901,60.332834584321468,2.3551484745633702E-2,39.642528644695794,58.000850164697596,1.0655450668764801,1.29107612373013,8.8525095412389607,58.652770241347497,2.3566211906066101,2.2221201023324402,1.6573679377141,8.0716102761503592,6.4318248803593203,11.8824721985821,57.753669358632798,0,0.67573323169278598,57.826880277660599,null,0]
["SH56","Moilliett Street Park - Grove Lane masterplan",0.78,100,0,0,100,0,0,0,0,0,0,0,0,0,0,0,0,0,0,0,null,0]
["SH41","North Smethwick Canalside",8.81,98.973044114103189,1.02695588589681,0,100,0,0,0,0,1.02695588589681,0,0.52283079268980404,1.5711125074155259,6.0236418298104004,5.1442145666750596,8.5851679195488,6.2799906414012108E-3,0,0.74393034294445703,76.044499770694799,null,0]
["SH52","overend street, west bromwich",0.71,100,0,0,100,0,0,0,0,0,0,0,0,0,0,0,0,0,0,0,null,0]
["SH51","Providence Place / Bratt St",0.74,100,0,0,100,0,0,0,0,0,0,2.918128941547E-3,5.8900404567323102E-2,2.0884936050600698,0.57398518828989398,2.1510962602528201,0,0,0,0,null,0]
["SM6","queens square living",3.07,100,0,0,100,0,0,0,0,0,0,0.41455173917410898,0.80750144642966104,5.4118006335399294,3.4557357133269799,6.6991480330567397,0,0,0,0,null,0]
["SH35","Rattlechain Site Land to the north of Temple Way,",14.86,97.937560870454561,2.0494795598630113,1.29595696824285E-2,97.940231501339184,0.76379823432433991,5.7228817314810068E-2,1.23874144702167,1.3757570962060699,2.0624391295454401,1.2959702643364801,1.9358168717431401,18.935205103172358,9.7522153458179002,27.583729875209201,30.6582497468174,0,0,0,0,null,0]
["SH11","Sandwell District & General Hospital,",0.82,100,0,0,100,0,0,0,0,0,0,0,0,2.2895031777589399,0,2.33821601103261,0,0,0,0,null,0]
["SH13","Silverthorne Lane/ Forge Lane Cradley Heath",2.41,100,0,0,100,0,0,0,0,0,0,0,0,3.6180998358114005,0.48887601973033901,4.4349943254962003,0,0,0,0,null,0]
["SH45","Site of 30-144 Mounts Road, Wednesbury",1.07,100,0,0,100,0,0,0,0,0,0,1.15635656419271,2.7603350236591599,7.6517716662134303,8.1190277160925906,11.5684632540653,0,0,0,0,null,0]
["SH47","Site Of Former Stone Cross Neighbourhood Office",0.28000000000000003,100,0,0,100,0,0,0,0,0,0,4.98224200683606,0.4872905620300495,4.8376034914591903,6.8348232512494702,10.367351011579499,0,0,0,0,null,0]
["SH27","Site surrounding former Post office and Telephone",1.17,100,0,0,100,0,0,0,0,0,0,0,0,1.4354737207586801,0,1.4354737207586801,0,0,0,0,null,0]
["SH65","Smethwick Police Station, Piddock Road, Smethwick",0.22,100,0,0,100,0,0,0,0,0,0,0,0,0,0,0,0,0,0,100,null,0]
["SH49","St Johns St, Carters Green",0.82,100,0,0,100,0,0,0,0,0,0,4.4533151872565302,4.3793909520328693,9.1021599502977981,13.313145797895601,17.7884756470383,0,0,0,0,null,0]
["SH62","Star and Garter, 252 Duchess Parade, West Bromwich",0.05,100,0,0,100,0,0,0,0,0,0,0,0,14.6683422740652,0.78075385825492705,14.6683422740652,0,0,0,0,null,0]
["SH18","STW/SMBC Land",28.18,99.641991251156426,0.35781445136763362,1.94297475937327E-4,99.641984750423177,0.33860233696026903,1.9412912616554999E-2,0,5.9665225792883997E-2,0.35800874884357098,1.9412912616554999E-2,2.6876143164047499,3.1418909705376308,13.150384383574121,12.003698746481,19.0529946354883,0,2.3901903731926901,4.0905917894430202,16.230927965457099,null,0]
["SH31","Summerton Road, Oldbury",0.89,100,0,0,100,0,0,0,0,0,0,3.1697588975516497,2.3709812696858403,22.322511770125114,14.6286155133861,30.5664510148547,0,0,0,0,null,0]
["SH6","Swan Lane",3.79,100,0,0,100,0,0,0,0,0,0,0,1.9247866601711503,11.012935321279151,7.0328743520249999,12.9156120017545,0,0,0,0,null,0]
["SH22","Tatbank Road Oldbury",1.1499999999999999,100,0,0,100,0,0,0,0,0,0,0,0.86660918065372905,8.3967393610092014,6.00091675745246,10.1435931593016,0,0,0,0,null,0]
["SH50","tentec, guns lane",0.6,100,0,0,100,0,0,0,0,0,0,0,0,0,0,0,0,0,0,0,null,0]
["SH61","Thandi Coach Station",0.45,100,0,0,100,0,0,0,0,0,0,3.1756174067229104,7.8901353894251898,56.78556961078209,43.672681924344801,73.555687462879305,0,0,0,22.253841969559801,null,0]
["SH7","The Boat Gauging House & Adjoining Land, Factory R",0.56999999999999995,100,0,0,100,0,0,0,0,0,0,0,13.4793550386711,7.3959398535236973,19.563182465485401,29.991764187606599,0,0,0,0,null,0]
["SH42","The Forge Tavern, junction Franchise Street and B",0.14000000000000001,100,0,0,100,0,0,0,0,0,0,0,0,9.5922264305940601,0.15200960352118001,9.5482889891557097,0,0,0,0,null,0]
["SH9","The Phoenix Collegiate, Friar Park Road, Wednesbur",4.82,100,0,0,100,0,0,0,0,0,0,0,0.60019323388659596,2.1112698200364641,1.7216698719205601,2.6442862564270899,0,0,0,0,null,0]
["SH10","Tipton Conservative And Unionist Club, 64 Union St",0.14000000000000001,100,0,0,100,0,0,0,0,0,0,0,0,0,0,0,0,0,0,0,null,0]
["SH29","Used Car Sales site on corner of Lower Church Lane",0.56999999999999995,100,0,0,100,0,0,0,0,0,0,2.7630125069187801,29.587833810506027,42.136859789391103,39.6577773811157,74.487706106815907,0,0,0,0,null,0]
["SH66","Wednesbury Police Station, Albert St, Wednesbury",0.33,100,0,0,100,0,0,0,0,0,0,0,0,8.3361260515809991E-3,0,8.3361260515809991E-3,0,0,0,0,null,0]
["SH33","Wellington Road, Tipton",0.86,100,0,0,100,0,0,0,0,0,0,0,1.2495021031773199,2.2795490944241403,2.2729731253654202,3.6220940184587098,0,0,0,0,null,0]
["SM7","west bromwich central",3.84,100,0,0,100,0,0,0,0,0,0,1.87303217195865,2.1312852218889597,9.0361531094721883,6.3968235106435696,13.121930674443901,0,0,0,0,null,0]
["SH64","Windmill House, Windmill Lane, Smethwick",0.21,100,0,0,100,0,0,0,0,0,0,0,0,0,0,0,0,0,0,0,null,0]
["SH44","Wyndmill crescent, West Bromwich",0.19,100,0,0,100,0,0,0,0,0,0,0,0,1.12144753013225,2.2167708677172E-2,1.2571590414488001,0,0,0,0,null,0]
["SG1","Brierley Lane, Tipton",0.626,100,0,0,100,0,0,0,0,0,0,8.3117705652375697,5.7392434939693286,17.8124815983027,20.332401032300901,30.635363388991301,0,0,0,0,null,0]
["SG2","Brierley Lane, Tipton",0.75700000000000001,100,0,0,100,0,0,0,0,0,0,0,4.1780281781415001,6.1348261805275994,4.1251417414954101,9.5724443021155299,0,0,0,0,null,0]

{"sheet":"Raw Areas","index":2,"n_rows":232,"n_cols":25,"rows_kept":232,"cut":false,"hidden":true,"merged":[[0,3,0,24],[0,0,2,0],[0,1,2,1],[0,2,2,2],[1,20,1,21],[1,23,1,24],[1,3,1,5],[1,6,1,9],[1,13,1,15],[1,18,1,19],[1,16,1,17],[1,10,1,12]]}
["Site Reference","Site Name","Area (ha)","Proportion of site shown to be at risk (%)"]
[null,null,null,"Flood Map for Planning Flood Zones",null,null,"SFRA Flood Zones",null,null,null,"Fluvial and Tidal Flood Risk plus climate change",null,null,"EA Risk of Flooding from Surface Water",null,null,"EA Risk of Flooding from Surface Water plus CC",null,"EA Reservoir Flood Extent",null,"JBA Groundwater Flood Risk Dataset",null,"Groundwater Pathways","Historic Flooding"]
[null,null,null,"FZ1","FZ2","FZ3","FZ1","FZ2","FZ3a","FZ3b","1%AEP plus Central","1%AEP plus Higher Central","1%AEP plus Upper End","30 year","100 year","1000 year ","3.3%AEP+35%","1%AEP +45%","Dry Day","Wet Day","Groundwater levels are either at or very near (within 0.025m of) the ground surface.","Groundwater levels between 0.025m and 0.5m below the ground surface.","JBA Groundwater with Surface Water flow paths","EA Historic Flood Map","Kent County Council (within 50m of the site)"]
["SEC3-86",null,4.1029999999999998]
["SCE4-9",null,0.35899999999999999]
["SEC4-2","10-60 Dudley Rd East, Oldbury (3224)",2.0590000000000002]
["SEC3-165","230 Oldbury Rd (3016)",1.5269999999999999]
["SEC4-3","70-74 Crankhall Lane",1.7589999999999999]
["SEC3-106","Aeroplas and Olympus Distribution, Great Western Way, Great Bridge",4.7839999999999998]
["SEC3-41","Albion Industrial Estate",9.0500000000000007]
["SEC3-182","Albion Road",0.91300000000000003]
["SEC3-9","Alexandra Ind Est, Locarno Rd/ Alexandra Rd, Tipto",1.875]
["SEC3-64","Alexandra Ind Est/Locarno Road, Tipton",2.5680000000000001]
["SEC3-93","Alma Street, Smethwick",4.726]
["SEC3-137","Alutrade, Tat Bank Road",2.7050000000000001]
["SEC3-30","Arnold Laver, Dudley Rd East, Oldbury (2944",1.0049999999999999]
["SEC3-62","Autobase, Dudley Road, Oldbury",16.605]
["SEC3-128","Barnfield Trading Est Tipton (5450)",2.2690000000000001]
["SEC3-151","Beakes Road, Bearwood (825)",0.69699999999999995]
["SEC3-152","Beakes Road, Bearwood (826)",0.92600000000000005]
["SEC3-16","Bescot Industrial Estate, Wednesbury",7.9219999999999997]
["SEC3-138","Bevan Motor Bodies, Blakeley Hall Road",0.91200000000000003]
["SEC3-90","Birchley, Oldbury",7.03]
["EMP2-9","Black Country New Road, Wednesbury (Hallens Drive)",44.042999999999999]
["EMP2-10","Black Country New Road/ Pacific Avenue",23.117999999999999]
["EMP2-13","Black Country New Road/Golds Hill, Tipton",15.132999999999999]
["SEC3-130","Bloomfield Park",5.1470000000000002]
["SEC3-19","Brades Road, Oldbury (Pearsall Drive)",7.03]
["SEC3-113","Brandon Way (east side)",0.47]
["SEC3-154","Brandon Way / Albion Rd, WB (2385 / WBPr32)",6.2249999999999996]
["SEC1-6","Brandon Way/ Albion Road, West Bromwich",3.0859999999999999]
["SEC3-71","Brickhouse Lane",3.883]
["SEC3-116","Bridge Street/ Potters Lane",3.6949999999999998]
["SEC1-2","British Gas, Land off Dudley Rd, Oldbury (2949)",1.056]
["SEC3-177","Broadcott Industrial Estate, Cradley Heath",1.361]
["EMP2-12","Broadwell Road, Oldbury",23.771000000000001]
["SEC3-100","Bromford Road Industrial Estate",7.8810000000000002]
["SEC3-129","Brook St Bus Centre, Brook St Comm Centre, Tipton",1.538]
["SEC3-133","Brymill Industrial Estate, Brown Lion St, Tipton",1.7829999999999999]
["SEC3-123","Burnt Tree Industrial Estate",1.57]
["SEC3-25","Cakemore Road, Rowley Regis",7.5090000000000003]
["SEC3-50","Cakemore Road, Rowley Regis",0.60299999999999998]
["EMP2-4","Car Craft, Darlaston Rd/ Old Park Rd, Kings Hill",5.1859999999999999]
["SEC3-115","Carlyle Bus and Coach, Carlyle Business Park",0.38700000000000001]
["SEC4-7","Castle St, High St Tipton (2942)",0.70499999999999996]
["SEC3-148","Castle St, Tipton (2938)",1.494]
["SEC3-51","Causeway Green Rd / Wolverhampton Road",0.84799999999999998]
["SEC3-170","Charles Street, West Bromwich",9.0559999999999992]
["SEC3-109","Chaters Close, Tipton",0.57799999999999996]
["SEC3-38","Church Lane / Gladstone Street, WB (2389 / WBPr38)",2.2050000000000001]
["EMP2-18","Churchbridge, Oldbury",14.035]
["SEC3-89","Churchbridge, Oldbury (opposite Thurston Avenue)",0.75700000000000001]
["SEC4-10","Clay Lane, Oldbury",0.22700000000000001]
["SEC3-23","Cleton Street Business Park, Oldbury",2.0129999999999999]
["SEC1-5","Coneygre Business Park (open land)",7.234]
["SEC3-20","Coneygre Business Park, Tipton",17.754999999999999]
["SEC3-175","Coneygre Rd, Burnt Tree, Tipton",1.02]
["SEC3-174","Corner of Bromford Lane / Brandon Way",3.9529999999999998]
["SEC3-85","Corngreaves Rd (City Estate Hillcrest Ind Est) Pal",2.8079999999999998]
["SEC3-24","Corngreaves Road, Cradley Heath",19.739999999999998]
["SEC3-80","Corngreaves Road, Cradley Heath",3.6509999999999998]
["SEC3-96","Cornwall Road",4.0250000000000004]
["SEC3-11","Cornwall Road/Foundary Lane, Smethwick",0.35499999999999998]
["SEC3-97","Cornwall Road/Foundary Lane, Smethwick",2.8839999999999999]
["SEC3-28","Cornwall Road/Foundary Lane, Smethwick (north of Anne Road)",2.3319999999999999]
["SEC3-79","Cradley Business Patrk, Cradley Heath",3.706]
["SEC3-52","Crosswells Road / Hall Street, Oldbury",0.8]
["SEC3-166","Crystal Drive, Smethwick",14.358000000000001]
["SEC3-102","Cygnus Way, West Bromwich",12.579000000000001]
["EMP2-2","Danks Way, Hill Top, West Bromwich",7.6260000000000003]
["SEC3-178","Dart Products, Garratts Lane",7.85]
["SEC3-183","Dartmouth Road, Smethwick",23.757999999999999]
["EMP2-16","Dartmouth Road/ Piaro Way, Smethwick",6.96]
["SEC3-56","Delta Point, Greets Green Road",8.1829999999999998]
["EMP2-3","Direct 2, Roway Lane, Oldbury",8.1809999999999992]
["EMP2-6","Doranda Way",13.967000000000001]
["SEC3-160","Doulton Road, Rowley Regis (east of canal)",3.52]
["EMP2-11","DPD, Roebuck Lane",8.9339999999999993]
["SEC3-46","Droicon Ind Est, Portway Road",0.872]
["SEC3-124","Dudley Rd, 28 Dudley Rd West (2957)",1.786]
["SEC3-61","Dudley Road, Oldbury",4.915]
["SEC3-185","Eel Street, Oldbury",3.1680000000000001]
["SEC3-143","EMR Oldbury",7.5579999999999998]
["SEC3-14","Engine Street, Oldbury",1.643]
["SEC3-163","Exchange Works, Kelvin Way, West Bromwich",1.498]
["SEC3-155","Fisher St / Coneygre Rd, Tipton",1.744]
["SEC3-149","Fitzgerald Lighting Ltd, Rood End Rd (2009)",1.393]
["SEC3-132","Former Corus Premises, Bloomfield Rd, Tipton (5972",0.57599999999999996]
["SEC3-66","Foundry Lane (south)",11.765000000000001]
["SEC3-73","Foundry Lane/ Anne Road",5.2569999999999997]
["SEC3-159","Fountain Lane",1.3160000000000001]
["SEC3-139","Garratts Lane/ Powke Lane",9.3840000000000003]
["SEC3-47","Garretts Lane, Cradley Heath",0.70699999999999996]
["SEC3-68","George Henry Road",19.87]
["SEC3-57","Great Bridge Ind Est / Harrold Street",4.5919999999999996]
["SEC3-15","Great Western Street, Wednesbury",3.8319999999999999]
["SEC3-60","Griffin Ind Est, Penncricket Lane",3.323]
["SEC3-122","Groveland Rd (2963)",1.1830000000000001]
["SEC3-21","Hainge Road, Oldbury",14.332000000000001]
["SEC3-22","Hale Trading Estate, Tipton",2.74]
["EMP2-8","Hales Way, Oldbury",1.5169999999999999]
["SEC3-95","Halfords Lane",24.248000000000001]
["SEC3-103","Hill Top, West Bromwich",15.186999999999999]
["SEC3-18","Holloway Bank",1.034]
["SEC3-104","Holloway Bank, Wednesbury",5.3079999999999998]
["SEC3-67","Holloway Bank/ Bilport Lane",1.776]
["SEC3-88","Houghton Street, Oldbury",1.4390000000000001]
["SEC3-69","Howard Street",27.937999999999999]
["SEC3-78","James Watt Industrial Park",3.6389999999999998]
["SEC3-136","JAS Ind Park, Titford Lane, Oldbury (3013)",0.94]
["SEC3-146","JerseyTex Ltd, Upper Church Lane, Princes End",1.5820000000000001]
["SEC3-169","JH Lavender & Co, Crankhall Lane, West Bromwich",1.3140000000000001]
["SEC3-91","Joseph Street, Oldbury",2.9660000000000002]
["EMP2-15","Junction 9 (Opus 9)",2.343]
["SEC3-12","Junction One, Oldbury",4.7169999999999996]
["SEC1-3","Junction Two, Oldbury",1.1279999999999999]
["SEC3-98","Kelvin Way WBPr35",33.9]
["EMP2-5","Kings Hill Business Park",3.2679999999999998]
["SEC3-193","Kitchener Street, Smethwick",1.3939999999999999]
["SEC3-131","Land & premises Barnfield Rd, Brook St, Bloomfield",0.83499999999999996]
["SEC3-43","Land at Birmingham Road / Roebuck Lane",6.806]
["SEC3-156","Land at corner of Birmingham Road",0.48]
["SEC3-127","Land at Doulton Way, bt Factory Rd, Bloomfield Rd, Tipton",2.7589999999999999]
["SEC3-42","Land at Junction 1 / Kenrick Way",4.1459999999999999]
["SEC4-15","Land at Potters Lane & Stafford St, Weds (5642)",0.85599999999999998]
["SEC3-118","Land bt Great Bridge St & William St, Tipton (2965",1.081]
["SEC3-117","Land by Whitehall Road and Walsall Canal",1.04]
["SEC3-31","land off dudley rd, oldbury",0.98099999999999998]
["SEC3-65","Land off Tipton Road, Oldbury",0.81200000000000006]
["SEC3-17","Leabrook Road, Tipton",7.4790000000000001]
["SEC1-8","Legacy 43, Ryder Street, West Bromwich",0.88300000000000001]
["EMP2-14","Lidl, Junction 9 (Opus 9)",8.7070000000000007]
["SEC3-40","Newlyn Road, Cradley Heath",3.411]
["SEC3-84","Old Park Trading Estate, Old Park Rd (2922)",2.6419999999999999]
["SEC3-53","Oldbury Point Ind Est, Rood End Road",3.2320000000000002]
["SEC3-150","Oldbury Rd Ind Est, Oldbury Rd (2994)",0.57399999999999995]
["SEC3-168","Oldbury Rd, Oldbury (3014)",2.4159999999999999]
["SEC3-153","Oldbury Rd, WB (2384 / WBPr31)",18.937999999999999]
["SEC3-191","Oldfield Trading Estate, Cradley Heath",1.766]
["SEC3-176","Palmers Timber Site, Station Rd, Old Hill (3043)",3.149]
["EMP2-7","Park Lane Trading Estate, Oldbury",2.1819999999999999]
["SEC4-5","Park Lane West",2.9529999999999998]
["SEC3-186","Park Lane, West Bromwich",10.103999999999999]
["SEC3-187","Park Lane, West Bromwich",2.452]
["SEC3-184","Parkroase Estate, Rounds Green Road, Oldbury",2.5880000000000001]
["SEC3-105","Parsonage Street, Oldbury",10.189]
["SEC3-173","Pennington Close",4.22]
["SEC4-13","Ph 9, The Parkway, bt Stafford St/ Victoria st/ Po",0.94199999999999995]
["SEC3-171","Phoenix St / Belper Ind Est Greets Green Road, Wes",5.5679999999999996]
["SEC3-172","Phoenix Street (west), West Bromwich",3.4510000000000001]
["SEC3-70","Pikehelve Street, Hill Top, West Bromwich",5.93]
["SEC3-74","Popes Lane, Oldbury",10.856]
["SEC3-75","Popes Lane, Oldbury",2.919]
["SEC3-10","Portway Rd, Weds (5129)",3.782]
["SEC3-81","Portway Rd, Weds (5129)",4.5259999999999998]
["SEC3-188","Portway Road",3.028]
["SEC3-158","Portway Road Industrial Estate",2.1280000000000001]
["SEC4-11","Potters Lane, Wednesbury (actually between Stafford St/ Albert St)",0.39500000000000002]
["SEC3-141","Powke Lane (east side)",3.5070000000000001]
["SEC3-140","Powke Lane (west side)",6.3819999999999997]
["SEC3-179","Powke Lane Industrial Estate, Cradley Heath",2.181]
["SEC3-142","Powke Lane/ Doulton Road",9.1140000000000008]
["SEC-145","Princes End Garage",0.191]
["SEC3-111","Purity Soft Drinks Limited, Mounts Road",0.34699999999999998]
["SEC3-94","Rabone Lane, Smethwick (2372)",4.7359999999999998]
["SEC3-72","Rabone Park",3.948]
["SEC3-48","Reddal Hill Rd/ Newtown St, Cradley Heath",4.452]
["EMP2-1","Richmond Street, West Bromwich",10.239000000000001]
["SEC3-2","Ridgacre Road (north)",0.80200000000000005]
["SEC3-3","Ridgacre Road (south)",1.052]
["SEC3-107","Ridgacre Road Church Lane, West Bromwich (New build) (former Express and Star)",1.4219999999999999]
["SEC3-108","Ridgacre Road Church Lane, West Bromwich (old part)",0.92400000000000004]
["SEC3-32","Ridgarce Road, West Bromwich",1.139]
["SEC3-33","Ridgarce Road, West Bromwich",1.641]
["SEC3-34","Ridgarce Road, West Bromwich",0.75600000000000001]
["EMP2-19","Rounds Green Road/Shidas Lane, Oldbury",2.7879999999999998]
["SEC3-161","Roway Lane, Oldbury",6.024]
["SEC1-4","Roway Lane, Oldbury (Call for Sites)",3.6629999999999998]
["SEC3-167","Ryder, Euroway Park",2.2480000000000002]
["SEC3-54","Ryders Green Rd, Greets Green Ind Est, Greets Green",2.9569999999999999]
["SEC3-164","Sandwell Business Dev Centre, Oldbury Road",0.67200000000000004]
["SEC3-126","Sedgley Road West/Hurst Lane, Tipton",3.073]
["SEC3-83","Seven Stars Rd, Oldbury (586)",2.5179999999999998]
["SEC3-45","Seven Stars Road, Oldbury",1.472]
["SEC3-36","Silverthorne Lane",1.0509999999999999]
["SEC3-135","Site at Bloomfield Rd, Fountaihn Lane & Bradleys Lane, Tipton",1.4379999999999999]
["SEC4-14","Site at Great Wester St & Potters Lane, Weds (5641",2.1469999999999998]
["SEC3-82","Site bt Charles St & Walsall Canal Great Bridge (2",2.1829999999999998]
["SEC1-7","Site off Bilport Lane, Wednesbury",5.31]
["SEC3-29","Site off Richmond St, West Bromwich",1.109]
["EMP4-8","Site on Railway Street, Horseley Heath, Tipton",0.18]
["SEC3-6","Site on Stafford St, Weds (5646)",1.4590000000000001]
["SEC4-4","Soho Triangle",1.7170000000000001]
["SEC3-37","Spinners End Industrial Estate, Cradley Heath",0.65100000000000002]
["SEC4-12","Stafford Street/ Albert Street, Wednesbury",0.73699999999999999]
["SEC3-44","Station Road / Avenue Road / Cardale Street Rowley",3.1909999999999998]
["SEC3-49","Station Road Industrial Est, Rowley Regis",3.2240000000000002]
["SEC3-147","Station St, Tipton (1448)",1.37]
["SEC3-35","Station Street/Graingers Lane, Cradley Heath",2.2810000000000001]
["SEC4-6","Summerton Rd, Oldbury (3223)",0.56499999999999995]
["SEC3-63","Summit Crescent, Smethwick (east)",4.03]
["SEC3-27","Summit Crescent, Smethwick (west)",5.98]
["SEC3-39","Swan Lane, West Bromwich",0.83399999999999996]
["SEC3-87","Swan Lane, West Bromwich",1.28]
["SEC3-92","Tatbak Road",8.657]
["SEC3-162","Taylors Lane, Oldbury",4.1909999999999998]
["SEC3-157","Tennants Ryders Green Rd / SCA Tasker St",1.0249999999999999]
["SEC3-55","Tennants Ryders Green Rd, West Bromwich",2.9159999999999999]
["SEC3-134","The Angle Ring Co. Ltd",1.706]
["SEC3-13","The Bridge Trading Estate",3.34]
["SEC4-16","The Lyng Industrial Estate, West Bromwich",9.8450000000000006]
["SEC3-120","Tipton Rd, Oldbury (2958)",1.7629999999999999]
["SEC3-119","Tipton Road",3.1850000000000001]
["SEC3-58","Toll End Road, Tipton 2",5.9029999999999996]
["SEC3-180","Trinity Street, Oldbury",26.986000000000001]
["SEC-144","Union Road",12.159000000000001]
["SEC3-59","unit 7,8,9 Coneygree Ind Est, Coneygree Road",1.0329999999999999]
["SEC3-121","Upper Chapel St, Bittania St, 70-74 Dudley Rd West",0.64100000000000001]
["SEC3-99","various sites (3034, 3226, 1436)",6.359]
["SEC3-110","Various sites on Mounts Rd, (2926, 2911, 2927, 290",6.3419999999999996]
["EMP3-181","Varney Business Park",0.73099999999999998]
["EMP2-17","Vaughan Trading Estate, Dudley Road East",19.998000000000001]
["SEC3-1","Vector Ind Park, Church Lane, WB (5556)",5.2229999999999999]
["SEC3-125","Wade Building Services, Groveland Road, Tividale",1.43]
["SEC3-189","Waterfall Lane",2.7050000000000001]
["SEC3-190","Waterfall Lane Trading Estate, Cradley Heath",5.7629999999999999]
["SEC3-77","Wednesbury Trading Estate, Wednesbury",8.734]
["SEC3-76","Wharfeside, Oldbury",6.1970000000000001]
["SEC3-192","Whitehall Rd Ind Est, West Brom (2916)",2.59]
["SEC1-1","Whitehall Road, Tipton",5.319]
["SEC3-114","Wrights Plastics, Brandon Way/ Brandon Close",0.58699999999999997]
["SEC4-1","Zion Street, Tipton",2.4390000000000001]

{"sheet":"Flood map for planning","index":3,"n_rows":301,"n_cols":23,"rows_kept":301,"cut":false,"hidden":true,"merged":[]}
["Sandwell_R","SiteNameAd","SiteAreaHa","path","Area_Ha","FZ2_FG_are","FZ2_FG_pc","FZ3_FG_are","FZ3_FG_pc",null,"Site_area","FZ2%","FZ3%",null,"Area_not_Flooded","FZ2_updated","FZ3_updated",null,"Checks"]
["SEC3-86",null,4.0999999999999996,"N:/2024/Projects/2024s0196 - Sandwell Metropolitan Borough Council - Sandwell L1 & L2 SFRA/1_WIP/HM/Graphical/Shapefiles/Development_sites/Sandwell EMP3 Allocations_region.shx|layername=Sandwell EMP3 Allocations_region",4.1029999999999998,0,0,0,0,null,1,{"$f":"G2/100","v":0},{"$f":"I2/100","v":0},null,{"$f":"K2-(P2+Q2)","v":1},{"$f":"L2-Q2","v":0},{"$f":"M2","v":0},null,{"$f":"SUM(O2+P2+Q2)","v":1}]
["SCE4-9",null,99.99,"N:/2024/Projects/2024s0196 - Sandwell Metropolitan Borough Council - Sandwell L1 & L2 SFRA/1_WIP/HM/Graphical/Shapefiles/Development_sites/Sandwell EMP4 Allocations_region.shx|layername=Sandwell EMP4 Allocations_region",0.35899999999999999,0,0,0,0,null,1,{"$f":"G3/100","v":0},{"$f":"I3/100","v":0},null,{"$f":"K3-(P3+Q3)","v":1},{"$f":"L3-Q3","v":0},{"$f":"M3","v":0},null,{"$f":"SUM(O3+P3+Q3)","v":1}]
["SEC4-2","10-60 Dudley Rd East, Oldbury (3224)",2.0499999999999998,"N:/2024/Projects/2024s0196 - Sandwell Metropolitan Borough Council - Sandwell L1 & L2 SFRA/1_WIP/HM/Graphical/Shapefiles/Development_sites/Sandwell EMP4 Allocations_region.shx|layername=Sandwell EMP4 Allocations_region",2.0590000000000002,0,0,0,0,null,1,0,0,null,1,0,0,null,1]
["SEC3-165","230 Oldbury Rd (3016)",1.52,"N:/2024/Projects/2024s0196 - Sandwell Metropolitan Borough Council - Sandwell L1 & L2 SFRA/1_WIP/HM/Graphical/Shapefiles/Development_sites/Sandwell EMP3 Allocations_region.shx|layername=Sandwell EMP3 Allocations_region",1.5269999999999999,0,0,0,0,null,1,0,0,null,1,0,0,null,1]
["SEC4-3","70-74 Crankhall Lane",1.78,"N:/2024/Projects/2024s0196 - Sandwell Metropolitan Borough Council - Sandwell L1 & L2 SFRA/1_WIP/HM/Graphical/Shapefiles/Development_sites/Sandwell EMP4 Allocations_region.shx|layername=Sandwell EMP4 Allocations_region",1.7589999999999999,0,0,0,0,null,1,0,0,null,{"$f":"K6-(P6+Q6)","v":1},0,0,null,1]
["SEC3-106","Aeroplas and Olympus Distribution, Great Western Way, Great Bridge",4.7699999999999996,"N:/2024/Projects/2024s0196 - Sandwell Metropolitan Borough Council - Sandwell L1 & L2 SFRA/1_WIP/HM/Graphical/Shapefiles/Development_sites/Sandwell EMP3 Allocations_region.shx|layername=Sandwell EMP3 Allocations_region",4.7839999999999998,12200.317415499299,25.502974944430498,181.40496715785099,0.379200489189289,null,1,0.25502974944430501,3.7920048918928901E-3,null,0.74497025055569499,0.2512377445524121,3.7920048918928901E-3,null,1]
["SEC3-41","Albion Industrial Estate",9.02,"N:/2024/Projects/2024s0196 - Sandwell Metropolitan Borough Council - Sandwell L1 & L2 SFRA/1_WIP/HM/Graphical/Shapefiles/Development_sites/Sandwell EMP3 Allocations_region.shx|layername=Sandwell EMP3 Allocations_region",9.0500000000000007,37225.416211266602,41.133632427943503,0,0,null,1,0.41133632427943501,0,null,0.58866367572056499,0.41133632427943501,0,null,1]
["SEC3-182","Albion Road",0.91,"N:/2024/Projects/2024s0196 - Sandwell Metropolitan Borough Council - Sandwell L1 & L2 SFRA/1_WIP/HM/Graphical/Shapefiles/Development_sites/Sandwell EMP3 Allocations_region.shx|layername=Sandwell EMP3 Allocations_region",0.91300000000000003,0,0,0,0,null,1,0,0,null,1,0,0,null,1]
["SEC3-9","Alexandra Ind Est, Locarno Rd/ Alexandra Rd, Tipto",1.87,"N:/2024/Projects/2024s0196 - Sandwell Metropolitan Borough Council - Sandwell L1 & L2 SFRA/1_WIP/HM/Graphical/Shapefiles/Development_sites/Sandwell EMP3 Allocations_region.shx|layername=Sandwell EMP3 Allocations_region",1.875,0,0,0,0,null,1,0,0,null,1,0,0,null,1]
["SEC3-64","Alexandra Ind Est/Locarno Road, Tipton",2.56,"N:/2024/Projects/2024s0196 - Sandwell Metropolitan Borough Council - Sandwell L1 & L2 SFRA/1_WIP/HM/Graphical/Shapefiles/Development_sites/Sandwell EMP3 Allocations_region.shx|layername=Sandwell EMP3 Allocations_region",2.5680000000000001,0,0,0,0,null,1,0,0,null,1,0,0,null,1]
["SEC3-93","Alma Street, Smethwick",4.71,"N:/2024/Projects/2024s0196 - Sandwell Metropolitan Borough Council - Sandwell L1 & L2 SFRA/1_WIP/HM/Graphical/Shapefiles/Development_sites/Sandwell EMP3 Allocations_region.shx|layername=Sandwell EMP3 Allocations_region",4.726,0,0,0,0,null,1,0,0,null,1,0,0,null,1]
["SEC3-137","Alutrade, Tat Bank Road",2.69,"N:/2024/Projects/2024s0196 - Sandwell Metropolitan Borough Council - Sandwell L1 & L2 SFRA/1_WIP/HM/Graphical/Shapefiles/Development_sites/Sandwell EMP3 Allocations_region.shx|layername=Sandwell EMP3 Allocations_region",2.7050000000000001,0,0,0,0,null,1,0,0,null,1,0,0,null,1]
["SEC3-30","Arnold Laver, Dudley Rd East, Oldbury (2944",1,"N:/2024/Projects/2024s0196 - Sandwell Metropolitan Borough Council - Sandwell L1 & L2 SFRA/1_WIP/HM/Graphical/Shapefiles/Development_sites/Sandwell EMP3 Allocations_region.shx|layername=Sandwell EMP3 Allocations_region",1.0049999999999999,0,0,0,0,null,1,0,0,null,1,0,0,null,1]
["SEC3-62","Autobase, Dudley Road, Oldbury",16.54,"N:/2024/Projects/2024s0196 - Sandwell Metropolitan Borough Council - Sandwell L1 & L2 SFRA/1_WIP/HM/Graphical/Shapefiles/Development_sites/Sandwell EMP3 Allocations_region.shx|layername=Sandwell EMP3 Allocations_region",16.605,0,0,0,0,null,1,0,0,null,1,0,0,null,1]
["SEC3-128","Barnfield Trading Est Tipton (5450)",2.2599999999999998,"N:/2024/Projects/2024s0196 - Sandwell Metropolitan Borough Council - Sandwell L1 & L2 SFRA/1_WIP/HM/Graphical/Shapefiles/Development_sites/Sandwell EMP3 Allocations_region.shx|layername=Sandwell EMP3 Allocations_region",2.2690000000000001,18240.0214909844,80.395840917473606,0,0,null,1,{"$f":"G16/100","v":0.80395840917473604},0,null,{"$f":"K16-(P16+Q16)","v":0.19604159082526396},0.80395840917473604,0,null,1]
["SEC3-151","Beakes Road, Bearwood (825)",0.69,"N:/2024/Projects/2024s0196 - Sandwell Metropolitan Borough Council - Sandwell L1 & L2 SFRA/1_WIP/HM/Graphical/Shapefiles/Development_sites/Sandwell EMP3 Allocations_region.shx|layername=Sandwell EMP3 Allocations_region",0.69699999999999995,0,0,0,0,null,1,0,0,null,1,0,0,null,1]
["SEC3-152","Beakes Road, Bearwood (826)",0.92,"N:/2024/Projects/2024s0196 - Sandwell Metropolitan Borough Council - Sandwell L1 & L2 SFRA/1_WIP/HM/Graphical/Shapefiles/Development_sites/Sandwell EMP3 Allocations_region.shx|layername=Sandwell EMP3 Allocations_region",0.92600000000000005,0,0,0,0,null,1,0,0,null,1,0,0,null,1]
["SEC3-16","Bescot Industrial Estate, Wednesbury",7.89,"N:/2024/Projects/2024s0196 - Sandwell Metropolitan Borough Council - Sandwell L1 & L2 SFRA/1_WIP/HM/Graphical/Shapefiles/Development_sites/Sandwell EMP3 Allocations_region.shx|layername=Sandwell EMP3 Allocations_region",7.9219999999999997,0,0,0,0,null,1,0,0,null,1,0,0,null,1]
["SEC3-138","Bevan Motor Bodies, Blakeley Hall Road",0.91,"N:/2024/Projects/2024s0196 - Sandwell Metropolitan Borough Council - Sandwell L1 & L2 SFRA/1_WIP/HM/Graphical/Shapefiles/Development_sites/Sandwell EMP3 Allocations_region.shx|layername=Sandwell EMP3 Allocations_region",0.91200000000000003,0,0,0,0,null,1,0,0,null,1,0,0,null,1]
["SEC3-90","Birchley, Oldbury",7,"N:/2024/Projects/2024s0196 - Sandwell Metropolitan Borough Council - Sandwell L1 & L2 SFRA/1_WIP/HM/Graphical/Shapefiles/Development_sites/Sandwell EMP3 Allocations_region.shx|layername=Sandwell EMP3 Allocations_region",7.03,37356.2903499932,53.138438416498701,23133.0098640783,32.906158736149898,null,1,0.53138438416498701,0.32906158736149899,null,0.46861561583501299,0.20232279680348803,0.32906158736149899,null,1]
["EMP2-9","Black Country New Road, Wednesbury (Hallens Drive)",43.88,"N:/2024/Projects/2024s0196 - Sandwell Metropolitan Borough Council - Sandwell L1 & L2 SFRA/1_WIP/HM/Graphical/Shapefiles/Development_sites/Sandwell EMP2 Allocations_region.shx|layername=Sandwell EMP2 Allocations_region",44.042999999999999,89905.440772616203,20.4129498599758,16159.075459674001,3.6689036203730998,null,1,0.20412949859975801,3.6689036203730999E-2,null,0.79587050140024207,0.167440462396027,3.6689036203730999E-2,null,1.0000000000000002]
["EMP2-10","Black Country New Road/ Pacific Avenue",23.03,"N:/2024/Projects/2024s0196 - Sandwell Metropolitan Borough Council - Sandwell L1 & L2 SFRA/1_WIP/HM/Graphical/Shapefiles/Development_sites/Sandwell EMP2 Allocations_region.shx|layername=Sandwell EMP2 Allocations_region",23.117999999999999,98110.666765830596,42.439412831865198,63024.258302168899,27.262198950210198,null,1,0.42439412831865198,0.27262198950210198,null,0.57560587168134802,0.15177213881655,0.27262198950210198,null,1]
["EMP2-13","Black Country New Road/Golds Hill, Tipton",15.08,"N:/2024/Projects/2024s0196 - Sandwell Metropolitan Borough Council - Sandwell L1 & L2 SFRA/1_WIP/HM/Graphical/Shapefiles/Development_sites/Sandwell EMP2 Allocations_region.shx|layername=Sandwell EMP2 Allocations_region",15.132999999999999,34923.795525745103,23.077558470993601,9415.53848212099,6.2217647476734896,null,1,0.230775584709936,6.2217647476734896E-2,null,0.76922441529006402,0.16855793723320112,6.2217647476734896E-2,null,1]
["SEC3-130","Bloomfield Park",5.13,"N:/2024/Projects/2024s0196 - Sandwell Metropolitan Borough Council - Sandwell L1 & L2 SFRA/1_WIP/HM/Graphical/Shapefiles/Development_sites/Sandwell EMP3 Allocations_region.shx|layername=Sandwell EMP3 Allocations_region",5.1470000000000002,79.861582031927298,0.155161235185936,0,0,null,1,1.55161235185936E-3,0,null,0.99844838764814059,1.55161235185936E-3,0,null,1]
["SEC3-19","Brades Road, Oldbury (Pearsall Drive)",7,"N:/2024/Projects/2024s0196 - Sandwell Metropolitan Borough Council - Sandwell L1 & L2 SFRA/1_WIP/HM/Graphical/Shapefiles/Development_sites/Sandwell EMP3 Allocations_region.shx|layername=Sandwell EMP3 Allocations_region",7.03,0,0,0,0,null,1,0,0,null,1,0,0,null,1]
["SEC3-113","Brandon Way (east side)",0.47,"N:/2024/Projects/2024s0196 - Sandwell Metropolitan Borough Council - Sandwell L1 & L2 SFRA/1_WIP/HM/Graphical/Shapefiles/Development_sites/Sandwell EMP3 Allocations_region.shx|layername=Sandwell EMP3 Allocations_region",0.47,0,0,0,0,null,1,0,0,null,1,0,0,null,1]
["SEC3-154","Brandon Way / Albion Rd, WB (2385 / WBPr32)",6.2,"N:/2024/Projects/2024s0196 - Sandwell Metropolitan Borough Council - Sandwell L1 & L2 SFRA/1_WIP/HM/Graphical/Shapefiles/Development_sites/Sandwell EMP3 Allocations_region.shx|layername=Sandwell EMP3 Allocations_region",6.2249999999999996,0,0,0,0,null,1,0,0,null,1,0,0,null,1]
["SEC1-6","Brandon Way/ Albion Road, West Bromwich",3.07,"N:/2024/Projects/2024s0196 - Sandwell Metropolitan Borough Council - Sandwell L1 & L2 SFRA/1_WIP/HM/Graphical/Shapefiles/Development_sites/Sandwell EMP1 Sites_region.shx|layername=Sandwell EMP1 Sites_region",3.0859999999999999,0,0,0,0,null,1,0,0,null,1,0,0,null,1]
["SEC3-71","Brickhouse Lane",3.87,"N:/2024/Projects/2024s0196 - Sandwell Metropolitan Borough Council - Sandwell L1 & L2 SFRA/1_WIP/HM/Graphical/Shapefiles/Development_sites/Sandwell EMP3 Allocations_region.shx|layername=Sandwell EMP3 Allocations_region",3.883,0,0,0,0,null,1,0,0,null,1,0,0,null,1]
["SEC3-116","Bridge Street/ Potters Lane",3.68,"N:/2024/Projects/2024s0196 - Sandwell Metropolitan Borough Council - Sandwell L1 & L2 SFRA/1_WIP/HM/Graphical/Shapefiles/Development_sites/Sandwell EMP3 Allocations_region.shx|layername=Sandwell EMP3 Allocations_region",3.6949999999999998,0,0,0,0,null,1,0,0,null,1,0,0,null,1]
["SEC1-2","British Gas, Land off Dudley Rd, Oldbury (2949)",1.05,"N:/2024/Projects/2024s0196 - Sandwell Metropolitan Borough Council - Sandwell L1 & L2 SFRA/1_WIP/HM/Graphical/Shapefiles/Development_sites/Sandwell EMP1 Sites_region.shx|layername=Sandwell EMP1 Sites_region",1.056,0,0,0,0,null,1,0,0,null,1,0,0,null,1]
["SEC3-177","Broadcott Industrial Estate, Cradley Heath",1.36,"N:/2024/Projects/2024s0196 - Sandwell Metropolitan Borough Council - Sandwell L1 & L2 SFRA/1_WIP/HM/Graphical/Shapefiles/Development_sites/Sandwell EMP3 Allocations_region.shx|layername=Sandwell EMP3 Allocations_region",1.361,0,0,0,0,null,1,0,0,null,1,0,0,null,1]
["EMP2-12","Broadwell Road, Oldbury",23.68,"N:/2024/Projects/2024s0196 - Sandwell Metropolitan Borough Council - Sandwell L1 & L2 SFRA/1_WIP/HM/Graphical/Shapefiles/Development_sites/Sandwell EMP2 Allocations_region.shx|layername=Sandwell EMP2 Allocations_region",23.771000000000001,96716.060845974294,40.686755708082799,111.248645733454,4.6800360066571997E-2,null,1,0.406867557080828,4.6800360066571995E-4,null,0.593132442919172,0.40639955348016227,4.6800360066571995E-4,null,1]
["SEC3-100","Bromford Road Industrial Estate",7.85,"N:/2024/Projects/2024s0196 - Sandwell Metropolitan Borough Council - Sandwell L1 & L2 SFRA/1_WIP/HM/Graphical/Shapefiles/Development_sites/Sandwell EMP3 Allocations_region.shx|layername=Sandwell EMP3 Allocations_region",7.8810000000000002,21940.6693646561,27.840158320494002,4652.3802280562904,5.9033295640865804,null,1,0.27840158320494002,5.9033295640865804E-2,null,0.72159841679505998,0.21936828756407423,5.9033295640865804E-2,null,1]
["SEC3-129","Brook St Bus Centre, Brook St Comm Centre, Tipton",1.53,"N:/2024/Projects/2024s0196 - Sandwell Metropolitan Borough Council - Sandwell L1 & L2 SFRA/1_WIP/HM/Graphical/Shapefiles/Development_sites/Sandwell EMP3 Allocations_region.shx|layername=Sandwell EMP3 Allocations_region",1.538,15364.384831498601,99.872171705613795,0,0,null,1,0.99872171705613799,0,null,1.278282943862008E-3,0.99872171705613799,0,null,1]
["SEC3-133","Brymill Industrial Estate, Brown Lion St, Tipton",1.78,"N:/2024/Projects/2024s0196 - Sandwell Metropolitan Borough Council - Sandwell L1 & L2 SFRA/1_WIP/HM/Graphical/Shapefiles/Development_sites/Sandwell EMP3 Allocations_region.shx|layername=Sandwell EMP3 Allocations_region",1.7829999999999999,0,0,0,0,null,1,0,0,null,1,0,0,null,1]
["SEC3-123","Burnt Tree Industrial Estate",1.56,"N:/2024/Projects/2024s0196 - Sandwell Metropolitan Borough Council - Sandwell L1 & L2 SFRA/1_WIP/HM/Graphical/Shapefiles/Development_sites/Sandwell EMP3 Allocations_region.shx|layername=Sandwell EMP3 Allocations_region",1.57,0,0,0,0,null,1,0,0,null,1,0,0,null,1]
["SEC3-25","Cakemore Road, Rowley Regis",7.48,"N:/2024/Projects/2024s0196 - Sandwell Metropolitan Borough Council - Sandwell L1 & L2 SFRA/1_WIP/HM/Graphical/Shapefiles/Development_sites/Sandwell EMP3 Allocations_region.shx|layername=Sandwell EMP3 Allocations_region",7.5090000000000003,0,0,0,0,null,1,0,0,null,1,0,0,null,1]
["SEC3-50","Cakemore Road, Rowley Regis",0.6,"N:/2024/Projects/2024s0196 - Sandwell Metropolitan Borough Council - Sandwell L1 & L2 SFRA/1_WIP/HM/Graphical/Shapefiles/Development_sites/Sandwell EMP3 Allocations_region.shx|layername=Sandwell EMP3 Allocations_region",0.60299999999999998,0,0,0,0,null,1,0,0,null,1,0,0,null,1]
["EMP2-4","Car Craft, Darlaston Rd/ Old Park Rd, Kings Hill",5.17,"N:/2024/Projects/2024s0196 - Sandwell Metropolitan Borough Council - Sandwell L1 & L2 SFRA/1_WIP/HM/Graphical/Shapefiles/Development_sites/Sandwell EMP2 Allocations_region.shx|layername=Sandwell EMP2 Allocations_region",5.1859999999999999,0,0,0,0,null,1,0,0,null,1,0,0,null,1]
["SEC3-115","Carlyle Bus and Coach, Carlyle Business Park",0.39,"N:/2024/Projects/2024s0196 - Sandwell Metropolitan Borough Council - Sandwell L1 & L2 SFRA/1_WIP/HM/Graphical/Shapefiles/Development_sites/Sandwell EMP3 Allocations_region.shx|layername=Sandwell EMP3 Allocations_region",0.38700000000000001,0,0,0,0,null,1,0,0,null,1,0,0,null,1]
["SEC4-7","Castle St, High St Tipton (2942)",0.7,"N:/2024/Projects/2024s0196 - Sandwell Metropolitan Borough Council - Sandwell L1 & L2 SFRA/1_WIP/HM/Graphical/Shapefiles/Development_sites/Sandwell EMP4 Allocations_region.shx|layername=Sandwell EMP4 Allocations_region",0.70499999999999996,0,0,0,0,null,1,0,0,null,1,0,0,null,1]
["SEC3-148","Castle St, Tipton (2938)",1.49,"N:/2024/Projects/2024s0196 - Sandwell Metropolitan Borough Council - Sandwell L1 & L2 SFRA/1_WIP/HM/Graphical/Shapefiles/Development_sites/Sandwell EMP3 Allocations_region.shx|layername=Sandwell EMP3 Allocations_region",1.494,0,0,0,0,null,1,0,0,null,1,0,0,null,1]
["SEC3-51","Causeway Green Rd / Wolverhampton Road",0.84,"N:/2024/Projects/2024s0196 - Sandwell Metropolitan Borough Council - Sandwell L1 & L2 SFRA/1_WIP/HM/Graphical/Shapefiles/Development_sites/Sandwell EMP3 Allocations_region.shx|layername=Sandwell EMP3 Allocations_region",0.84799999999999998,0,0,0,0,null,1,0,0,null,1,0,0,null,1]
["SEC3-170","Charles Street, West Bromwich",9.02,"N:/2024/Projects/2024s0196 - Sandwell Metropolitan Borough Council - Sandwell L1 & L2 SFRA/1_WIP/HM/Graphical/Shapefiles/Development_sites/Sandwell EMP3 Allocations_region.shx|layername=Sandwell EMP3 Allocations_region",9.0559999999999992,0,0,0,0,null,1,0,0,null,1,0,0,null,1]
["SEC3-109","Chaters Close, Tipton",0.56999999999999995,"N:/2024/Projects/2024s0196 - Sandwell Metropolitan Borough Council - Sandwell L1 & L2 SFRA/1_WIP/HM/Graphical/Shapefiles/Development_sites/Sandwell EMP3 Allocations_region.shx|layername=Sandwell EMP3 Allocations_region",0.57799999999999996,0,0,0,0,null,1,0,0,null,1,0,0,null,1]
["SEC3-38","Church Lane / Gladstone Street, WB (2389 / WBPr38)",2.2000000000000002,"N:/2024/Projects/2024s0196 - Sandwell Metropolitan Borough Council - Sandwell L1 & L2 SFRA/1_WIP/HM/Graphical/Shapefiles/Development_sites/Sandwell EMP3 Allocations_region.shx|layername=Sandwell EMP3 Allocations_region",2.2050000000000001,4227.9998443549403,19.178659316146099,0,0,null,1,{"$f":"G48/100","v":0.19178659316146099},0,null,0.80821340683853904,0.19178659316146099,0,null,1]
["EMP2-18","Churchbridge, Oldbury",13.98,"N:/2024/Projects/2024s0196 - Sandwell Metropolitan Borough Council - Sandwell L1 & L2 SFRA/1_WIP/HM/Graphical/Shapefiles/Development_sites/Sandwell EMP2 Allocations_region.shx|layername=Sandwell EMP2 Allocations_region",14.035,29763.377594767499,21.206814675755901,15676.1686013826,11.1694850927761,null,1,0.212068146757559,0.11169485092776099,null,0.78793185324244097,0.10037329582979801,0.11169485092776099,null,1]
["SEC3-89","Churchbridge, Oldbury (opposite Thurston Avenue)",0.75,"N:/2024/Projects/2024s0196 - Sandwell Metropolitan Borough Council - Sandwell L1 & L2 SFRA/1_WIP/HM/Graphical/Shapefiles/Development_sites/Sandwell EMP3 Allocations_region.shx|layername=Sandwell EMP3 Allocations_region",0.75700000000000001,5587.1604315520699,73.8130474168928,4775.1158985523898,63.084971437466599,null,1,0.73813047416892796,0.63084971437466597,null,0.26186952583107204,0.10728075979426199,0.63084971437466597,null,1]
["SEC4-10","Clay Lane, Oldbury",0.23,"N:/2024/Projects/2024s0196 - Sandwell Metropolitan Borough Council - Sandwell L1 & L2 SFRA/1_WIP/HM/Graphical/Shapefiles/Development_sites/Sandwell EMP4 Allocations_region.shx|layername=Sandwell EMP4 Allocations_region",0.22700000000000001,0,0,0,0,null,1,0,0,null,1,0,0,null,1]
["SEC3-23","Cleton Street Business Park, Oldbury",2.0099999999999998,"N:/2024/Projects/2024s0196 - Sandwell Metropolitan Borough Council - Sandwell L1 & L2 SFRA/1_WIP/HM/Graphical/Shapefiles/Development_sites/Sandwell EMP3 Allocations_region.shx|layername=Sandwell EMP3 Allocations_region",2.0129999999999999,0,0,0,0,null,1,0,0,null,1,0,0,null,1]
["SEC1-5","Coneygre Business Park (open land)",7.22,"N:/2024/Projects/2024s0196 - Sandwell Metropolitan Borough Council - Sandwell L1 & L2 SFRA/1_WIP/HM/Graphical/Shapefiles/Development_sites/Sandwell EMP1 Sites_region.shx|layername=Sandwell EMP1 Sites_region",7.234,0,0,0,0,null,1,0,0,null,1,0,0,null,1]
["SEC3-20","Coneygre Business Park, Tipton",17.690000000000001,"N:/2024/Projects/2024s0196 - Sandwell Metropolitan Borough Council - Sandwell L1 & L2 SFRA/1_WIP/HM/Graphical/Shapefiles/Development_sites/Sandwell EMP3 Allocations_region.shx|layername=Sandwell EMP3 Allocations_region",17.754999999999999,0,0,0,0,null,1,0,0,null,1,0,0,null,1]
["SEC3-175","Coneygre Rd, Burnt Tree, Tipton",1.02,"N:/2024/Projects/2024s0196 - Sandwell Metropolitan Borough Council - Sandwell L1 & L2 SFRA/1_WIP/HM/Graphical/Shapefiles/Development_sites/Sandwell EMP3 Allocations_region.shx|layername=Sandwell EMP3 Allocations_region",1.02,0,0,0,0,null,1,0,0,null,1,0,0,null,1]
["SEC3-174","Corner of Bromford Lane / Brandon Way",3.94,"N:/2024/Projects/2024s0196 - Sandwell Metropolitan Borough Council - Sandwell L1 & L2 SFRA/1_WIP/HM/Graphical/Shapefiles/Development_sites/Sandwell EMP3 Allocations_region.shx|layername=Sandwell EMP3 Allocations_region",3.9529999999999998,0,0,0,0,null,1,0,0,null,1,0,0,null,1]
["SEC3-85","Corngreaves Rd (City Estate Hillcrest Ind Est) Pal",2.8,"N:/2024/Projects/2024s0196 - Sandwell Metropolitan Borough Council - Sandwell L1 & L2 SFRA/1_WIP/HM/Graphical/Shapefiles/Development_sites/Sandwell EMP3 Allocations_region.shx|layername=Sandwell EMP3 Allocations_region",2.8079999999999998,0,0,0,0,null,1,0,0,null,1,0,0,null,1]
["SEC3-24","Corngreaves Road, Cradley Heath",19.670000000000002,"N:/2024/Projects/2024s0196 - Sandwell Metropolitan Borough Council - Sandwell L1 & L2 SFRA/1_WIP/HM/Graphical/Shapefiles/Development_sites/Sandwell EMP3 Allocations_region.shx|layername=Sandwell EMP3 Allocations_region",19.739999999999998,1349.26294937079,0.68351535334372404,70.062075487011498,3.5492343656832001E-2,null,1,6.8351535334372406E-3,3.5492343656832E-4,null,0.99316484646656278,6.4802300968689209E-3,3.5492343656832E-4,null,1]
["SEC3-80","Corngreaves Road, Cradley Heath",3.64,"N:/2024/Projects/2024s0196 - Sandwell Metropolitan Borough Council - Sandwell L1 & L2 SFRA/1_WIP/HM/Graphical/Shapefiles/Development_sites/Sandwell EMP3 Allocations_region.shx|layername=Sandwell EMP3 Allocations_region",3.6509999999999998,0,0,0,0,null,1,0,0,null,1,0,0,null,1]
["SEC3-96","Cornwall Road",4.0199999999999996,"N:/2024/Projects/2024s0196 - Sandwell Metropolitan Borough Council - Sandwell L1 & L2 SFRA/1_WIP/HM/Graphical/Shapefiles/Development_sites/Sandwell EMP3 Allocations_region.shx|layername=Sandwell EMP3 Allocations_region",4.0250000000000004,0,0,0,0,null,1,0,0,null,1,0,0,null,1]
["SEC3-11","Cornwall Road/Foundary Lane, Smethwick",0.35,"N:/2024/Projects/2024s0196 - Sandwell Metropolitan Borough Council - Sandwell L1 & L2 SFRA/1_WIP/HM/Graphical/Shapefiles/Development_sites/Sandwell EMP3 Allocations_region.shx|layername=Sandwell EMP3 Allocations_region",0.35499999999999998,132.663362841121,3.7328482847039401,111.825814777985,3.1465266064417201,null,1,3.73284828470394E-2,3.1465266064417199E-2,null,0.96267151715296062,5.8632167826222006E-3,3.1465266064417199E-2,null,1]
["SEC3-97","Cornwall Road/Foundary Lane, Smethwick",99.99,"N:/2024/Projects/2024s0196 - Sandwell Metropolitan Borough Council - Sandwell L1 & L2 SFRA/1_WIP/HM/Graphical/Shapefiles/Development_sites/Sandwell EMP3 Allocations_region.shx|layername=Sandwell EMP3 Allocations_region",2.8839999999999999,0,0,0,0,null,1,0,0,null,1,0,0,null,1]
["SEC3-28","Cornwall Road/Foundary Lane, Smethwick (north of Anne Road)",2.3199999999999998,"N:/2024/Projects/2024s0196 - Sandwell Metropolitan Borough Council - Sandwell L1 & L2 SFRA/1_WIP/HM/Graphical/Shapefiles/Development_sites/Sandwell EMP3 Allocations_region.shx|layername=Sandwell EMP3 Allocations_region",2.3319999999999999,18.978770378860599,8.1368343936745996E-2,0,0,null,1,8.1368343936746E-4,0,null,0.9991863165606325,8.1368343936746E-4,0,null,1]
["SEC3-79","Cradley Business Patrk, Cradley Heath",3.69,"N:/2024/Projects/2024s0196 - Sandwell Metropolitan Borough Council - Sandwell L1 & L2 SFRA/1_WIP/HM/Graphical/Shapefiles/Development_sites/Sandwell EMP3 Allocations_region.shx|layername=Sandwell EMP3 Allocations_region",3.706,0,0,0,0,null,1,0,0,null,1,0,0,null,1]
["SEC3-52","Crosswells Road / Hall Street, Oldbury",0.8,"N:/2024/Projects/2024s0196 - Sandwell Metropolitan Borough Council - Sandwell L1 & L2 SFRA/1_WIP/HM/Graphical/Shapefiles/Development_sites/Sandwell EMP3 Allocations_region.shx|layername=Sandwell EMP3 Allocations_region",0.8,0,0,0,0,null,1,0,0,null,1,0,0,null,1]
["SEC3-166","Crystal Drive, Smethwick",14.3,"N:/2024/Projects/2024s0196 - Sandwell Metropolitan Borough Council - Sandwell L1 & L2 SFRA/1_WIP/HM/Graphical/Shapefiles/Development_sites/Sandwell EMP3 Allocations_region.shx|layername=Sandwell EMP3 Allocations_region",14.358000000000001,0,0,0,0,null,1,0,0,null,1,0,0,null,1]
["SEC3-102","Cygnus Way, West Bromwich",12.53,"N:/2024/Projects/2024s0196 - Sandwell Metropolitan Borough Council - Sandwell L1 & L2 SFRA/1_WIP/HM/Graphical/Shapefiles/Development_sites/Sandwell EMP3 Allocations_region.shx|layername=Sandwell EMP3 Allocations_region",12.579000000000001,0,0,0,0,null,1,{"$f":"G67/100","v":0},{"$f":"I67/100","v":0},null,{"$f":"K67-(P67+Q67)","v":1},{"$f":"L67-Q67","v":0},{"$f":"M67","v":0},null,{"$f":"SUM(O67+P67+Q67)","v":1}]
["EMP2-2","Danks Way, Hill Top, West Bromwich",7.6,"N:/2024/Projects/2024s0196 - Sandwell Metropolitan Borough Council - Sandwell L1 & L2 SFRA/1_WIP/HM/Graphical/Shapefiles/Development_sites/Sandwell EMP2 Allocations_region.shx|layername=Sandwell EMP2 Allocations_region",7.6260000000000003,0,0,0,0,null,1,0,0,null,1,0,0,null,1]
["SEC3-178","Dart Products, Garratts Lane",7.82,"N:/2024/Projects/2024s0196 - Sandwell Metropolitan Borough Council - Sandwell L1 & L2 SFRA/1_WIP/HM/Graphical/Shapefiles/Development_sites/Sandwell EMP3 Allocations_region.shx|layername=Sandwell EMP3 Allocations_region",7.85,0,0,0,0,null,1,0,0,null,1,0,0,null,1]
["SEC3-183","Dartmouth Road, Smethwick",23.67,"N:/2024/Projects/2024s0196 - Sandwell Metropolitan Borough Council - Sandwell L1 & L2 SFRA/1_WIP/HM/Graphical/Shapefiles/Development_sites/Sandwell EMP3 Allocations_region.shx|layername=Sandwell EMP3 Allocations_region",23.757999999999999,0,0,0,0,null,1,0,0,null,1,0,0,null,1]
["EMP2-16","Dartmouth Road/ Piaro Way, Smethwick",6.93,"N:/2024/Projects/2024s0196 - Sandwell Metropolitan Borough Council - Sandwell L1 & L2 SFRA/1_WIP/HM/Graphical/Shapefiles/Development_sites/Sandwell EMP2 Allocations_region.shx|layername=Sandwell EMP2 Allocations_region",6.96,0,0,0,0,null,1,0,0,null,1,0,0,null,1]
["SEC3-56","Delta Point, Greets Green Road",8.15,"N:/2024/Projects/2024s0196 - Sandwell Metropolitan Borough Council - Sandwell L1 & L2 SFRA/1_WIP/HM/Graphical/Shapefiles/Development_sites/Sandwell EMP3 Allocations_region.shx|layername=Sandwell EMP3 Allocations_region",8.1829999999999998,0,0,0,0,null,1,0,0,null,1,0,0,null,1]
["EMP2-3","Direct 2, Roway Lane, Oldbury",8.15,"N:/2024/Projects/2024s0196 - Sandwell Metropolitan Borough Council - Sandwell L1 & L2 SFRA/1_WIP/HM/Graphical/Shapefiles/Development_sites/Sandwell EMP2 Allocations_region.shx|layername=Sandwell EMP2 Allocations_region",8.1809999999999992,14233.2333839814,17.396906189887002,0,0,null,1,0.17396906189887001,0,null,0.82603093810112993,0.17396906189887001,0,null,1]
["EMP2-6","Doranda Way",13.91,"N:/2024/Projects/2024s0196 - Sandwell Metropolitan Borough Council - Sandwell L1 & L2 SFRA/1_WIP/HM/Graphical/Shapefiles/Development_sites/Sandwell EMP2 Allocations_region.shx|layername=Sandwell EMP2 Allocations_region",13.967000000000001,0,0,0,0,null,1,0,0,null,1,0,0,null,1]
["SEC3-160","Doulton Road, Rowley Regis (east of canal)",3.51,"N:/2024/Projects/2024s0196 - Sandwell Metropolitan Borough Council - Sandwell L1 & L2 SFRA/1_WIP/HM/Graphical/Shapefiles/Development_sites/Sandwell EMP3 Allocations_region.shx|layername=Sandwell EMP3 Allocations_region",3.52,0,0,0,0,null,1,0,0,null,1,0,0,null,1]
["EMP2-11","DPD, Roebuck Lane",8.9,"N:/2024/Projects/2024s0196 - Sandwell Metropolitan Borough Council - Sandwell L1 & L2 SFRA/1_WIP/HM/Graphical/Shapefiles/Development_sites/Sandwell EMP2 Allocations_region.shx|layername=Sandwell EMP2 Allocations_region",8.9339999999999993,0,0,0,0,null,1,0,0,null,1,0,0,null,1]
["SEC3-46","Droicon Ind Est, Portway Road",0.87,"N:/2024/Projects/2024s0196 - Sandwell Metropolitan Borough Council - Sandwell L1 & L2 SFRA/1_WIP/HM/Graphical/Shapefiles/Development_sites/Sandwell EMP3 Allocations_region.shx|layername=Sandwell EMP3 Allocations_region",0.872,0,0,0,0,null,1,0,0,null,1,0,0,null,1]
["SEC3-124","Dudley Rd, 28 Dudley Rd West (2957)",1.78,"N:/2024/Projects/2024s0196 - Sandwell Metropolitan Borough Council - Sandwell L1 & L2 SFRA/1_WIP/HM/Graphical/Shapefiles/Development_sites/Sandwell EMP3 Allocations_region.shx|layername=Sandwell EMP3 Allocations_region",1.786,0,0,0,0,null,1,0,0,null,1,0,0,null,1]
["SEC3-61","Dudley Road, Oldbury",4.9000000000000004,"N:/2024/Projects/2024s0196 - Sandwell Metropolitan Borough Council - Sandwell L1 & L2 SFRA/1_WIP/HM/Graphical/Shapefiles/Development_sites/Sandwell EMP3 Allocations_region.shx|layername=Sandwell EMP3 Allocations_region",4.915,0,0,0,0,null,1,0,0,null,1,0,0,null,1]
["SEC3-185","Eel Street, Oldbury",3.16,"N:/2024/Projects/2024s0196 - Sandwell Metropolitan Borough Council - Sandwell L1 & L2 SFRA/1_WIP/HM/Graphical/Shapefiles/Development_sites/Sandwell EMP3 Allocations_region.shx|layername=Sandwell EMP3 Allocations_region",3.1680000000000001,16844.051620089402,53.172241285184903,15940.25196098,50.319183444260403,null,1,0.53172241285184907,0.50319183444260407,null,0.46827758714815093,2.8530578409245E-2,0.50319183444260407,null,1]
["SEC3-143","EMR Oldbury",7.53,"N:/2024/Projects/2024s0196 - Sandwell Metropolitan Borough Council - Sandwell L1 & L2 SFRA/1_WIP/HM/Graphical/Shapefiles/Development_sites/Sandwell EMP3 Allocations_region.shx|layername=Sandwell EMP3 Allocations_region",7.5579999999999998,0,0,0,0,null,1,0,0,null,1,0,0,null,1]
["SEC3-14","Engine Street, Oldbury",1.64,"N:/2024/Projects/2024s0196 - Sandwell Metropolitan Borough Council - Sandwell L1 & L2 SFRA/1_WIP/HM/Graphical/Shapefiles/Development_sites/Sandwell EMP3 Allocations_region.shx|layername=Sandwell EMP3 Allocations_region",1.643,0,0,0,0,null,1,0,0,null,1,0,0,null,1]
["SEC3-163","Exchange Works, Kelvin Way, West Bromwich",1.49,"N:/2024/Projects/2024s0196 - Sandwell Metropolitan Borough Council - Sandwell L1 & L2 SFRA/1_WIP/HM/Graphical/Shapefiles/Development_sites/Sandwell EMP3 Allocations_region.shx|layername=Sandwell EMP3 Allocations_region",1.498,0,0,0,0,null,1,0,0,null,1,0,0,null,1]
["SEC3-155","Fisher St / Coneygre Rd, Tipton",1.74,"N:/2024/Projects/2024s0196 - Sandwell Metropolitan Borough Council - Sandwell L1 & L2 SFRA/1_WIP/HM/Graphical/Shapefiles/Development_sites/Sandwell EMP3 Allocations_region.shx|layername=Sandwell EMP3 Allocations_region",1.744,0,0,0,0,null,1,0,0,null,1,0,0,null,1]
["SEC3-149","Fitzgerald Lighting Ltd, Rood End Rd (2009)",1.39,"N:/2024/Projects/2024s0196 - Sandwell Metropolitan Borough Council - Sandwell L1 & L2 SFRA/1_WIP/HM/Graphical/Shapefiles/Development_sites/Sandwell EMP3 Allocations_region.shx|layername=Sandwell EMP3 Allocations_region",1.393,0,0,0,0,null,1,0,0,null,1,0,0,null,1]
["SEC3-132","Former Corus Premises, Bloomfield Rd, Tipton (5972",0.56999999999999995,"N:/2024/Projects/2024s0196 - Sandwell Metropolitan Borough Council - Sandwell L1 & L2 SFRA/1_WIP/HM/Graphical/Shapefiles/Development_sites/Sandwell EMP3 Allocations_region.shx|layername=Sandwell EMP3 Allocations_region",0.57599999999999996,2477.6377361697701,43.041983460489099,0,0,null,1,0.43041983460489097,0,null,0.56958016539510903,0.43041983460489097,0,null,1]
["SEC3-66","Foundry Lane (south)",11.75,"N:/2024/Projects/2024s0196 - Sandwell Metropolitan Borough Council - Sandwell L1 & L2 SFRA/1_WIP/HM/Graphical/Shapefiles/Development_sites/Sandwell EMP3 Allocations_region.shx|layername=Sandwell EMP3 Allocations_region",11.765000000000001,2672.4317250557201,2.2714346883888599,0,0,null,1,2.2714346883888598E-2,0,null,0.97728565311611137,2.2714346883888598E-2,0,null,1]
["SEC3-73","Foundry Lane/ Anne Road",5.24,"N:/2024/Projects/2024s0196 - Sandwell Metropolitan Borough Council - Sandwell L1 & L2 SFRA/1_WIP/HM/Graphical/Shapefiles/Development_sites/Sandwell EMP3 Allocations_region.shx|layername=Sandwell EMP3 Allocations_region",5.2569999999999997,15890.607914737,30.229748285885499,2648.5239782528902,5.0384613113174099,null,1,0.30229748285885499,5.0384613113174097E-2,null,0.69770251714114506,0.25191286974568089,5.0384613113174097E-2,null,1]
["SEC3-159","Fountain Lane",1.31,"N:/2024/Projects/2024s0196 - Sandwell Metropolitan Borough Council - Sandwell L1 & L2 SFRA/1_WIP/HM/Graphical/Shapefiles/Development_sites/Sandwell EMP3 Allocations_region.shx|layername=Sandwell EMP3 Allocations_region",1.3160000000000001,10970.157980349501,83.3543892745693,173.55751417635901,1.3187394952831699,null,1,0.83354389274569296,1.3187394952831699E-2,null,0.16645610725430704,0.82035649779286124,1.3187394952831699E-2,null,1]
["SEC3-139","Garratts Lane/ Powke Lane",9.35,"N:/2024/Projects/2024s0196 - Sandwell Metropolitan Borough Council - Sandwell L1 & L2 SFRA/1_WIP/HM/Graphical/Shapefiles/Development_sites/Sandwell EMP3 Allocations_region.shx|layername=Sandwell EMP3 Allocations_region",9.3840000000000003,0,0,0,0,null,1,0,0,null,1,0,0,null,1]
["SEC3-47","Garretts Lane, Cradley Heath",0.7,"N:/2024/Projects/2024s0196 - Sandwell Metropolitan Borough Council - Sandwell L1 & L2 SFRA/1_WIP/HM/Graphical/Shapefiles/Development_sites/Sandwell EMP3 Allocations_region.shx|layername=Sandwell EMP3 Allocations_region",0.70699999999999996,0,0,0,0,null,1,0,0,null,1,0,0,null,1]
["SEC3-68","George Henry Road",19.79,"N:/2024/Projects/2024s0196 - Sandwell Metropolitan Borough Council - Sandwell L1 & L2 SFRA/1_WIP/HM/Graphical/Shapefiles/Development_sites/Sandwell EMP3 Allocations_region.shx|layername=Sandwell EMP3 Allocations_region",19.87,15.985548136980601,8.0451918677489995E-3,0,0,null,1,8.0451918677489989E-5,0,null,0.99991954808132255,8.0451918677489989E-5,0,null,1]
["SEC3-57","Great Bridge Ind Est / Harrold Street",4.57,"N:/2024/Projects/2024s0196 - Sandwell Metropolitan Borough Council - Sandwell L1 & L2 SFRA/1_WIP/HM/Graphical/Shapefiles/Development_sites/Sandwell EMP3 Allocations_region.shx|layername=Sandwell EMP3 Allocations_region",4.5919999999999996,44250.306294198403,96.368621848862603,28281.690137121899,61.592059588259502,null,1,0.96368621848862601,0.61592059588259507,null,3.6313781511373988E-2,0.34776562260603094,0.61592059588259507,null,1]
["SEC3-15","Great Western Street, Wednesbury",3.82,"N:/2024/Projects/2024s0196 - Sandwell Metropolitan Borough Council - Sandwell L1 & L2 SFRA/1_WIP/HM/Graphical/Shapefiles/Development_sites/Sandwell EMP3 Allocations_region.shx|layername=Sandwell EMP3 Allocations_region",3.8319999999999999,16021.8971293533,41.8054590902453,0.195060971718931,5.0896678511099999E-4,null,1,0.418054590902453,5.08966785111E-6,null,0.581945409097547,0.41804950123460188,5.08966785111E-6,null,0.99999999999999989]
["SEC3-60","Griffin Ind Est, Penncricket Lane",3.31,"N:/2024/Projects/2024s0196 - Sandwell Metropolitan Borough Council - Sandwell L1 & L2 SFRA/1_WIP/HM/Graphical/Shapefiles/Development_sites/Sandwell EMP3 Allocations_region.shx|layername=Sandwell EMP3 Allocations_region",3.323,121.91191641490499,0.36682716070310101,82.101837097621598,0.247040524640189,null,1,3.66827160703101E-3,2.4704052464018899E-3,null,0.99633172839296902,1.19786636062912E-3,2.4704052464018899E-3,null,1]
["SEC3-122","Groveland Rd (2963)",1.18,"N:/2024/Projects/2024s0196 - Sandwell Metropolitan Borough Council - Sandwell L1 & L2 SFRA/1_WIP/HM/Graphical/Shapefiles/Development_sites/Sandwell EMP3 Allocations_region.shx|layername=Sandwell EMP3 Allocations_region",1.1830000000000001,0,0,0,0,null,1,0,0,null,1,0,0,null,1]
["SEC3-21","Hainge Road, Oldbury",14.28,"N:/2024/Projects/2024s0196 - Sandwell Metropolitan Borough Council - Sandwell L1 & L2 SFRA/1_WIP/HM/Graphical/Shapefiles/Development_sites/Sandwell EMP3 Allocations_region.shx|layername=Sandwell EMP3 Allocations_region",14.332000000000001,0,0,0,0,null,1,0,0,null,1,0,0,null,1]
["SEC3-22","Hale Trading Estate, Tipton",2.73,"N:/2024/Projects/2024s0196 - Sandwell Metropolitan Borough Council - Sandwell L1 & L2 SFRA/1_WIP/HM/Graphical/Shapefiles/Development_sites/Sandwell EMP3 Allocations_region.shx|layername=Sandwell EMP3 Allocations_region",2.74,0,0,0,0,null,1,0,0,null,1,0,0,null,1]
["EMP2-8","Hales Way, Oldbury",1.51,"N:/2024/Projects/2024s0196 - Sandwell Metropolitan Borough Council - Sandwell L1 & L2 SFRA/1_WIP/HM/Graphical/Shapefiles/Development_sites/Sandwell EMP2 Allocations_region.shx|layername=Sandwell EMP2 Allocations_region",1.5169999999999999,0,0,0,0,null,1,0,0,null,1,0,0,null,1]
["SEC3-95","Halfords Lane",24.21,"N:/2024/Projects/2024s0196 - Sandwell Metropolitan Borough Council - Sandwell L1 & L2 SFRA/1_WIP/HM/Graphical/Shapefiles/Development_sites/Sandwell EMP3 Allocations_region.shx|layername=Sandwell EMP3 Allocations_region",24.248000000000001,13371.645833500101,5.5145373369902098,1711.32556373439,0.70575969738265698,null,1,5.51453733699021E-2,7.0575969738265699E-3,null,0.94485462663009789,4.8087776396075532E-2,7.0575969738265699E-3,null,1]
["SEC3-103","Hill Top, West Bromwich",15.13,"N:/2024/Projects/2024s0196 - Sandwell Metropolitan Borough Council - Sandwell L1 & L2 SFRA/1_WIP/HM/Graphical/Shapefiles/Development_sites/Sandwell EMP3 Allocations_region.shx|layername=Sandwell EMP3 Allocations_region",15.186999999999999,82742.595670024195,54.482887902420899,39432.220824725198,25.9646346544978,null,1,0.54482887902420896,0.25964634654497798,null,0.45517112097579104,0.28518253247923098,0.25964634654497798,null,1]
["SEC3-18","Holloway Bank",1.03,"N:/2024/Projects/2024s0196 - Sandwell Metropolitan Borough Council - Sandwell L1 & L2 SFRA/1_WIP/HM/Graphical/Shapefiles/Development_sites/Sandwell EMP3 Allocations_region.shx|layername=Sandwell EMP3 Allocations_region",1.034,0,0,0,0,null,1,0,0,null,1,0,0,null,1]
["SEC3-104","Holloway Bank, Wednesbury",5.29,"N:/2024/Projects/2024s0196 - Sandwell Metropolitan Borough Council - Sandwell L1 & L2 SFRA/1_WIP/HM/Graphical/Shapefiles/Development_sites/Sandwell EMP3 Allocations_region.shx|layername=Sandwell EMP3 Allocations_region",5.3079999999999998,2867.7848629315199,5.4029682357470898,929.49366603968099,1.7511860174221201,null,1,5.4029682357470896E-2,1.7511860174221201E-2,null,0.94597031764252915,3.6517822183249699E-2,1.7511860174221201E-2,null,1]
["SEC3-67","Holloway Bank/ Bilport Lane",1.77,"N:/2024/Projects/2024s0196 - Sandwell Metropolitan Borough Council - Sandwell L1 & L2 SFRA/1_WIP/HM/Graphical/Shapefiles/Development_sites/Sandwell EMP3 Allocations_region.shx|layername=Sandwell EMP3 Allocations_region",1.776,7132.9722492500696,40.161231997520503,4234.1064723416903,23.839561741712298,null,1,0.40161231997520502,0.23839561741712298,null,0.59838768002479492,0.16321670255808204,0.23839561741712298,null,1]
["SEC3-88","Houghton Street, Oldbury",1.43,"N:/2024/Projects/2024s0196 - Sandwell Metropolitan Borough Council - Sandwell L1 & L2 SFRA/1_WIP/HM/Graphical/Shapefiles/Development_sites/Sandwell EMP3 Allocations_region.shx|layername=Sandwell EMP3 Allocations_region",1.4390000000000001,32.968200450093697,0.22908393049758599,2.3227251522239301,1.6139764987856998E-2,null,1,2.2908393049758599E-3,1.6139764987856998E-4,null,0.99770916069502413,2.1294416550972899E-3,1.6139764987856998E-4,null,1]
["SEC3-69","Howard Street",27.83,"N:/2024/Projects/2024s0196 - Sandwell Metropolitan Borough Council - Sandwell L1 & L2 SFRA/1_WIP/HM/Graphical/Shapefiles/Development_sites/Sandwell EMP3 Allocations_region.shx|layername=Sandwell EMP3 Allocations_region",27.937999999999999,0,0,0,0,null,1,0,0,null,1,0,0,null,1]
["SEC3-78","James Watt Industrial Park",3.63,"N:/2024/Projects/2024s0196 - Sandwell Metropolitan Borough Council - Sandwell L1 & L2 SFRA/1_WIP/HM/Graphical/Shapefiles/Development_sites/Sandwell EMP3 Allocations_region.shx|layername=Sandwell EMP3 Allocations_region",3.6389999999999998,0,0,0,0,null,1,0,0,null,1,0,0,null,1]
["SEC3-136","JAS Ind Park, Titford Lane, Oldbury (3013)",0.94,"N:/2024/Projects/2024s0196 - Sandwell Metropolitan Borough Council - Sandwell L1 & L2 SFRA/1_WIP/HM/Graphical/Shapefiles/Development_sites/Sandwell EMP3 Allocations_region.shx|layername=Sandwell EMP3 Allocations_region",0.94,0,0,0,0,null,1,0,0,null,1,0,0,null,1]
["SEC3-146","JerseyTex Ltd, Upper Church Lane, Princes End",1.58,"N:/2024/Projects/2024s0196 - Sandwell Metropolitan Borough Council - Sandwell L1 & L2 SFRA/1_WIP/HM/Graphical/Shapefiles/Development_sites/Sandwell EMP3 Allocations_region.shx|layername=Sandwell EMP3 Allocations_region",1.5820000000000001,0,0,0,0,null,1,0,0,null,1,0,0,null,1]
["SEC3-169","JH Lavender & Co, Crankhall Lane, West Bromwich",1.31,"N:/2024/Projects/2024s0196 - Sandwell Metropolitan Borough Council - Sandwell L1 & L2 SFRA/1_WIP/HM/Graphical/Shapefiles/Development_sites/Sandwell EMP3 Allocations_region.shx|layername=Sandwell EMP3 Allocations_region",1.3140000000000001,0,0,0,0,null,1,0,0,null,1,0,0,null,1]
["SEC3-91","Joseph Street, Oldbury",2.95,"N:/2024/Projects/2024s0196 - Sandwell Metropolitan Borough Council - Sandwell L1 & L2 SFRA/1_WIP/HM/Graphical/Shapefiles/Development_sites/Sandwell EMP3 Allocations_region.shx|layername=Sandwell EMP3 Allocations_region",2.9660000000000002,14811.043458381801,49.9328236901761,13097.939537049901,44.157395624815699,null,1,0.49932823690176098,0.44157395624815698,null,0.50067176309823902,5.7754280653603995E-2,0.44157395624815698,null,1]
["EMP2-15","Junction 9 (Opus 9)",2.33,"N:/2024/Projects/2024s0196 - Sandwell Metropolitan Borough Council - Sandwell L1 & L2 SFRA/1_WIP/HM/Graphical/Shapefiles/Development_sites/Sandwell EMP2 Allocations_region.shx|layername=Sandwell EMP2 Allocations_region",2.343,15751.058737787,67.234029100743896,13611.5703385776,58.101536632281601,null,1,0.67234029100743897,0.58101536632281603,null,0.32765970899256103,9.1324924684622943E-2,0.58101536632281603,null,1]
["SEC3-12","Junction One, Oldbury",4.7,"N:/2024/Projects/2024s0196 - Sandwell Metropolitan Borough Council - Sandwell L1 & L2 SFRA/1_WIP/HM/Graphical/Shapefiles/Development_sites/Sandwell EMP3 Allocations_region.shx|layername=Sandwell EMP3 Allocations_region",4.7169999999999996,0,0,0,0,null,1,0,0,null,1,0,0,null,1]
["SEC1-3","Junction Two, Oldbury",1.1200000000000001,"N:/2024/Projects/2024s0196 - Sandwell Metropolitan Borough Council - Sandwell L1 & L2 SFRA/1_WIP/HM/Graphical/Shapefiles/Development_sites/Sandwell EMP1 Sites_region.shx|layername=Sandwell EMP1 Sites_region",1.1279999999999999,0,0,0,0,null,1,0,0,null,1,0,0,null,1]
["SEC3-98","Kelvin Way WBPr35",33.770000000000003,"N:/2024/Projects/2024s0196 - Sandwell Metropolitan Borough Council - Sandwell L1 & L2 SFRA/1_WIP/HM/Graphical/Shapefiles/Development_sites/Sandwell EMP3 Allocations_region.shx|layername=Sandwell EMP3 Allocations_region",33.9,2950.6676981055498,0.87040526728485601,0,0,null,1,8.7040526728485602E-3,0,null,0.99129594732715143,8.7040526728485602E-3,0,null,1]
["EMP2-5","Kings Hill Business Park",3.26,"N:/2024/Projects/2024s0196 - Sandwell Metropolitan Borough Council - Sandwell L1 & L2 SFRA/1_WIP/HM/Graphical/Shapefiles/Development_sites/Sandwell EMP2 Allocations_region.shx|layername=Sandwell EMP2 Allocations_region",3.2679999999999998,0,0,0,0,null,1,0,0,null,1,0,0,null,1]
["SEC3-193","Kitchener Street, Smethwick",1.39,"N:/2024/Projects/2024s0196 - Sandwell Metropolitan Borough Council - Sandwell L1 & L2 SFRA/1_WIP/HM/Graphical/Shapefiles/Development_sites/Sandwell EMP3 Allocations_region.shx|layername=Sandwell EMP3 Allocations_region",1.3939999999999999,0,0,0,0,null,1,0,0,null,1,0,0,null,1]
["SEC3-131","Land & premises Barnfield Rd, Brook St, Bloomfield",0.83,"N:/2024/Projects/2024s0196 - Sandwell Metropolitan Borough Council - Sandwell L1 & L2 SFRA/1_WIP/HM/Graphical/Shapefiles/Development_sites/Sandwell EMP3 Allocations_region.shx|layername=Sandwell EMP3 Allocations_region",0.83499999999999996,8352.6846836321001,100,0,0,null,1,1,0,null,0,1,0,null,1]
["SEC3-43","Land at Birmingham Road / Roebuck Lane",6.78,"N:/2024/Projects/2024s0196 - Sandwell Metropolitan Borough Council - Sandwell L1 & L2 SFRA/1_WIP/HM/Graphical/Shapefiles/Development_sites/Sandwell EMP3 Allocations_region.shx|layername=Sandwell EMP3 Allocations_region",6.806,0,0,0,0,null,1,0,0,null,1,0,0,null,1]
["SEC3-156","Land at corner of Birmingham Road",0.48,"N:/2024/Projects/2024s0196 - Sandwell Metropolitan Borough Council - Sandwell L1 & L2 SFRA/1_WIP/HM/Graphical/Shapefiles/Development_sites/Sandwell EMP3 Allocations_region.shx|layername=Sandwell EMP3 Allocations_region",0.48,0,0,0,0,null,1,0,0,null,1,0,0,null,1]
["SEC3-127","Land at Doulton Way, bt Factory Rd, Bloomfield Rd, Tipton",2.75,"N:/2024/Projects/2024s0196 - Sandwell Metropolitan Borough Council - Sandwell L1 & L2 SFRA/1_WIP/HM/Graphical/Shapefiles/Development_sites/Sandwell EMP3 Allocations_region.shx|layername=Sandwell EMP3 Allocations_region",2.7589999999999999,1785.2193880542,6.4699631082884403,0,0,null,1,6.4699631082884401E-2,0,null,0.93530036891711554,6.4699631082884401E-2,0,null,1]
["SEC3-42","Land at Junction 1 / Kenrick Way",4.13,"N:/2024/Projects/2024s0196 - Sandwell Metropolitan Borough Council - Sandwell L1 & L2 SFRA/1_WIP/HM/Graphical/Shapefiles/Development_sites/Sandwell EMP3 Allocations_region.shx|layername=Sandwell EMP3 Allocations_region",4.1459999999999999,0,0,0,0,null,1,0,0,null,1,0,0,null,1]
["SEC4-15","Land at Potters Lane & Stafford St, Weds (5642)",0.85,"N:/2024/Projects/2024s0196 - Sandwell Metropolitan Borough Council - Sandwell L1 & L2 SFRA/1_WIP/HM/Graphical/Shapefiles/Development_sites/Sandwell EMP4 Allocations_region.shx|layername=Sandwell EMP4 Allocations_region",0.85599999999999998,0,0,0,0,null,1,0,0,null,1,0,0,null,1]
["SEC3-118","Land bt Great Bridge St & William St, Tipton (2965",1.06,"N:/2024/Projects/2024s0196 - Sandwell Metropolitan Borough Council - Sandwell L1 & L2 SFRA/1_WIP/HM/Graphical/Shapefiles/Development_sites/Sandwell EMP3 Allocations_region.shx|layername=Sandwell EMP3 Allocations_region",1.081,0,0,0,0,null,1,0,0,null,1,0,0,null,1]
["SEC3-117","Land by Whitehall Road and Walsall Canal",1.04,"N:/2024/Projects/2024s0196 - Sandwell Metropolitan Borough Council - Sandwell L1 & L2 SFRA/1_WIP/HM/Graphical/Shapefiles/Development_sites/Sandwell EMP3 Allocations_region.shx|layername=Sandwell EMP3 Allocations_region",1.04,0,0,0,0,null,1,0,0,null,1,0,0,null,1]
["SEC3-31","land off dudley rd, oldbury",0.98,"N:/2024/Projects/2024s0196 - Sandwell Metropolitan Borough Council - Sandwell L1 & L2 SFRA/1_WIP/HM/Graphical/Shapefiles/Development_sites/Sandwell EMP3 Allocations_region.shx|layername=Sandwell EMP3 Allocations_region",0.98099999999999998,0,0,0,0,null,1,0,0,null,1,0,0,null,1]
["SEC3-65","Land off Tipton Road, Oldbury",0.81,"N:/2024/Projects/2024s0196 - Sandwell Metropolitan Borough Council - Sandwell L1 & L2 SFRA/1_WIP/HM/Graphical/Shapefiles/Development_sites/Sandwell EMP3 Allocations_region.shx|layername=Sandwell EMP3 Allocations_region",0.81200000000000006,0,0,0,0,null,1,0,0,null,1,0,0,null,1]
["SEC3-17","Leabrook Road, Tipton",7.45,"N:/2024/Projects/2024s0196 - Sandwell Metropolitan Borough Council - Sandwell L1 & L2 SFRA/1_WIP/HM/Graphical/Shapefiles/Development_sites/Sandwell EMP3 Allocations_region.shx|layername=Sandwell EMP3 Allocations_region",7.4790000000000001,0,0,0,0,null,1,0,0,null,1,0,0,null,1]
["SEC1-8","Legacy 43, Ryder Street, West Bromwich",0.88,"N:/2024/Projects/2024s0196 - Sandwell Metropolitan Borough Council - Sandwell L1 & L2 SFRA/1_WIP/HM/Graphical/Shapefiles/Development_sites/Sandwell EMP1 Sites_region.shx|layername=Sandwell EMP1 Sites_region",0.88300000000000001,0,0,0,0,null,1,0,0,null,1,0,0,null,1]
["EMP2-14","Lidl, Junction 9 (Opus 9)",8.67,"N:/2024/Projects/2024s0196 - Sandwell Metropolitan Borough Council - Sandwell L1 & L2 SFRA/1_WIP/HM/Graphical/Shapefiles/Development_sites/Sandwell EMP2 Allocations_region.shx|layername=Sandwell EMP2 Allocations_region",8.7070000000000007,60387.751299936201,69.352010560296307,45304.812486719398,52.030085015179701,null,1,0.69352010560296307,0.52030085015179706,null,0.30647989439703693,0.17321925545116601,0.52030085015179706,null,1]
["SEC3-40","Newlyn Road, Cradley Heath",3.4,"N:/2024/Projects/2024s0196 - Sandwell Metropolitan Borough Council - Sandwell L1 & L2 SFRA/1_WIP/HM/Graphical/Shapefiles/Development_sites/Sandwell EMP3 Allocations_region.shx|layername=Sandwell EMP3 Allocations_region",3.411,0,0,0,0,null,1,{"$f":"G131/100","v":0},{"$f":"I131/100","v":0},null,{"$f":"K131-(P131+Q131)","v":1},{"$f":"L131-Q131","v":0},{"$f":"M131","v":0},null,{"$f":"SUM(O131+P131+Q131)","v":1}]
["SEC3-84","Old Park Trading Estate, Old Park Rd (2922)",2.63,"N:/2024/Projects/2024s0196 - Sandwell Metropolitan Borough Council - Sandwell L1 & L2 SFRA/1_WIP/HM/Graphical/Shapefiles/Development_sites/Sandwell EMP3 Allocations_region.shx|layername=Sandwell EMP3 Allocations_region",2.6419999999999999,0,0,0,0,null,1,0,0,null,{"$f":"K132-(P132+Q132)","v":1},0,0,null,1]
["SEC3-53","Oldbury Point Ind Est, Rood End Road",3.22,"N:/2024/Projects/2024s0196 - Sandwell Metropolitan Borough Council - Sandwell L1 & L2 SFRA/1_WIP/HM/Graphical/Shapefiles/Development_sites/Sandwell EMP3 Allocations_region.shx|layername=Sandwell EMP3 Allocations_region",3.2320000000000002,0,0,0,0,null,1,0,0,null,1,0,0,null,1]
["SEC3-150","Oldbury Rd Ind Est, Oldbury Rd (2994)",0.56999999999999995,"N:/2024/Projects/2024s0196 - Sandwell Metropolitan Borough Council - Sandwell L1 & L2 SFRA/1_WIP/HM/Graphical/Shapefiles/Development_sites/Sandwell EMP3 Allocations_region.shx|layername=Sandwell EMP3 Allocations_region",0.57399999999999995,0,0,0,0,null,1,0,0,null,1,0,0,null,1]
["SEC3-168","Oldbury Rd, Oldbury (3014)",2.41,"N:/2024/Projects/2024s0196 - Sandwell Metropolitan Borough Council - Sandwell L1 & L2 SFRA/1_WIP/HM/Graphical/Shapefiles/Development_sites/Sandwell EMP3 Allocations_region.shx|layername=Sandwell EMP3 Allocations_region",2.4159999999999999,0,0,0,0,null,1,0,0,null,1,0,0,null,1]
["SEC3-153","Oldbury Rd, WB (2384 / WBPr31)",18.87,"N:/2024/Projects/2024s0196 - Sandwell Metropolitan Borough Council - Sandwell L1 & L2 SFRA/1_WIP/HM/Graphical/Shapefiles/Development_sites/Sandwell EMP3 Allocations_region.shx|layername=Sandwell EMP3 Allocations_region",18.937999999999999,0,0,0,0,null,1,0,0,null,1,0,0,null,1]
["SEC3-191","Oldfield Trading Estate, Cradley Heath",1.76,"N:/2024/Projects/2024s0196 - Sandwell Metropolitan Borough Council - Sandwell L1 & L2 SFRA/1_WIP/HM/Graphical/Shapefiles/Development_sites/Sandwell EMP3 Allocations_region.shx|layername=Sandwell EMP3 Allocations_region",1.766,0,0,0,0,null,1,0,0,null,1,0,0,null,1]
["SEC3-176","Palmers Timber Site, Station Rd, Old Hill (3043)",3.14,"N:/2024/Projects/2024s0196 - Sandwell Metropolitan Borough Council - Sandwell L1 & L2 SFRA/1_WIP/HM/Graphical/Shapefiles/Development_sites/Sandwell EMP3 Allocations_region.shx|layername=Sandwell EMP3 Allocations_region",3.149,0,0,0,0,null,1,0,0,null,1,0,0,null,1]
["EMP2-7","Park Lane Trading Estate, Oldbury",2.17,"N:/2024/Projects/2024s0196 - Sandwell Metropolitan Borough Council - Sandwell L1 & L2 SFRA/1_WIP/HM/Graphical/Shapefiles/Development_sites/Sandwell EMP2 Allocations_region.shx|layername=Sandwell EMP2 Allocations_region",2.1819999999999999,62.336122937925602,0.28565857811139,2.1371024664399498,9.7933850080710004E-3,null,1,2.8565857811139002E-3,9.7933850080710006E-5,null,0.99714341421888608,2.7586519310331902E-3,9.7933850080710006E-5,null,1]
["SEC4-5","Park Lane West",2.94,"N:/2024/Projects/2024s0196 - Sandwell Metropolitan Borough Council - Sandwell L1 & L2 SFRA/1_WIP/HM/Graphical/Shapefiles/Development_sites/Sandwell EMP4 Allocations_region.shx|layername=Sandwell EMP4 Allocations_region",2.9529999999999998,0,0,0,0,null,1,0,0,null,1,0,0,null,1]
["SEC3-186","Park Lane, West Bromwich",10.220000000000001,"N:/2024/Projects/2024s0196 - Sandwell Metropolitan Borough Council - Sandwell L1 & L2 SFRA/1_WIP/HM/Graphical/Shapefiles/Development_sites/Sandwell EMP3 Allocations_region.shx|layername=Sandwell EMP3 Allocations_region",10.103999999999999,0,0,0,0,null,1,0,0,null,1,0,0,null,1]
["SEC3-187","Park Lane, West Bromwich",2.4500000000000002,"N:/2024/Projects/2024s0196 - Sandwell Metropolitan Borough Council - Sandwell L1 & L2 SFRA/1_WIP/HM/Graphical/Shapefiles/Development_sites/Sandwell EMP3 Allocations_region.shx|layername=Sandwell EMP3 Allocations_region",2.452,0,0,0,0,null,1,0,0,null,1,0,0,null,1]
["SEC3-184","Parkroase Estate, Rounds Green Road, Oldbury",2.58,"N:/2024/Projects/2024s0196 - Sandwell Metropolitan Borough Council - Sandwell L1 & L2 SFRA/1_WIP/HM/Graphical/Shapefiles/Development_sites/Sandwell EMP3 Allocations_region.shx|layername=Sandwell EMP3 Allocations_region",2.5880000000000001,0,0,0,0,null,1,0,0,null,1,0,0,null,1]
["SEC3-105","Parsonage Street, Oldbury",10.15,"N:/2024/Projects/2024s0196 - Sandwell Metropolitan Borough Council - Sandwell L1 & L2 SFRA/1_WIP/HM/Graphical/Shapefiles/Development_sites/Sandwell EMP3 Allocations_region.shx|layername=Sandwell EMP3 Allocations_region",10.189,0,0,0,0,null,1,0,0,null,1,0,0,null,1]
["SEC3-173","Pennington Close",4.2,"N:/2024/Projects/2024s0196 - Sandwell Metropolitan Borough Council - Sandwell L1 & L2 SFRA/1_WIP/HM/Graphical/Shapefiles/Development_sites/Sandwell EMP3 Allocations_region.shx|layername=Sandwell EMP3 Allocations_region",4.22,0,0,0,0,null,1,0,0,null,1,0,0,null,1]
["SEC4-13","Ph 9, The Parkway, bt Stafford St/ Victoria st/ Po",0.94,"N:/2024/Projects/2024s0196 - Sandwell Metropolitan Borough Council - Sandwell L1 & L2 SFRA/1_WIP/HM/Graphical/Shapefiles/Development_sites/Sandwell EMP4 Allocations_region.shx|layername=Sandwell EMP4 Allocations_region",0.94199999999999995,0,0,0,0,null,1,0,0,null,1,0,0,null,1]
["SEC3-171","Phoenix St / Belper Ind Est Greets Green Road, Wes",5.55,"N:/2024/Projects/2024s0196 - Sandwell Metropolitan Borough Council - Sandwell L1 & L2 SFRA/1_WIP/HM/Graphical/Shapefiles/Development_sites/Sandwell EMP3 Allocations_region.shx|layername=Sandwell EMP3 Allocations_region",5.5679999999999996,0,0,0,0,null,1,0,0,null,1,0,0,null,1]
["SEC3-172","Phoenix Street (west), West Bromwich",3.44,"N:/2024/Projects/2024s0196 - Sandwell Metropolitan Borough Council - Sandwell L1 & L2 SFRA/1_WIP/HM/Graphical/Shapefiles/Development_sites/Sandwell EMP3 Allocations_region.shx|layername=Sandwell EMP3 Allocations_region",3.4510000000000001,0,0,0,0,null,1,0,0,null,1,0,0,null,1]
["SEC3-70","Pikehelve Street, Hill Top, West Bromwich",5.91,"N:/2024/Projects/2024s0196 - Sandwell Metropolitan Borough Council - Sandwell L1 & L2 SFRA/1_WIP/HM/Graphical/Shapefiles/Development_sites/Sandwell EMP3 Allocations_region.shx|layername=Sandwell EMP3 Allocations_region",5.93,0,0,0,0,null,1,0,0,null,1,0,0,null,1]
["SEC3-74","Popes Lane, Oldbury",10.81,"N:/2024/Projects/2024s0196 - Sandwell Metropolitan Borough Council - Sandwell L1 & L2 SFRA/1_WIP/HM/Graphical/Shapefiles/Development_sites/Sandwell EMP3 Allocations_region.shx|layername=Sandwell EMP3 Allocations_region",10.856,0,0,0,0,null,1,0,0,null,1,0,0,null,1]
["SEC3-75","Popes Lane, Oldbury",2.91,"N:/2024/Projects/2024s0196 - Sandwell Metropolitan Borough Council - Sandwell L1 & L2 SFRA/1_WIP/HM/Graphical/Shapefiles/Development_sites/Sandwell EMP3 Allocations_region.shx|layername=Sandwell EMP3 Allocations_region",2.919,0,0,0,0,null,1,0,0,null,1,0,0,null,1]
["SEC3-10","Portway Rd, Weds (5129)",3.78,"N:/2024/Projects/2024s0196 - Sandwell Metropolitan Borough Council - Sandwell L1 & L2 SFRA/1_WIP/HM/Graphical/Shapefiles/Development_sites/Sandwell EMP3 Allocations_region.shx|layername=Sandwell EMP3 Allocations_region",3.782,0,0,0,0,null,1,0,0,null,1,0,0,null,1]
["SEC3-81","Portway Rd, Weds (5129)",4.51,"N:/2024/Projects/2024s0196 - Sandwell Metropolitan Borough Council - Sandwell L1 & L2 SFRA/1_WIP/HM/Graphical/Shapefiles/Development_sites/Sandwell EMP3 Allocations_region.shx|layername=Sandwell EMP3 Allocations_region",4.5259999999999998,0,0,0,0,null,1,0,0,null,1,0,0,null,1]
["SEC3-188","Portway Road",3.02,"N:/2024/Projects/2024s0196 - Sandwell Metropolitan Borough Council - Sandwell L1 & L2 SFRA/1_WIP/HM/Graphical/Shapefiles/Development_sites/Sandwell EMP3 Allocations_region.shx|layername=Sandwell EMP3 Allocations_region",3.028,24.530740626988901,8.1005700958457993E-2,7.1461881322606402,2.3598226716314001E-2,null,1,8.1005700958457997E-4,2.3598226716314E-4,null,0.99918994299041541,5.7407474242144002E-4,2.3598226716314E-4,null,1]
["SEC3-158","Portway Road Industrial Estate",2.12,"N:/2024/Projects/2024s0196 - Sandwell Metropolitan Borough Council - Sandwell L1 & L2 SFRA/1_WIP/HM/Graphical/Shapefiles/Development_sites/Sandwell EMP3 Allocations_region.shx|layername=Sandwell EMP3 Allocations_region",2.1280000000000001,0,0,0,0,null,1,0,0,null,1,0,0,null,1]
["SEC4-11","Potters Lane, Wednesbury (actually between Stafford St/ Albert St)",0.39,"N:/2024/Projects/2024s0196 - Sandwell Metropolitan Borough Council - Sandwell L1 & L2 SFRA/1_WIP/HM/Graphical/Shapefiles/Development_sites/Sandwell EMP4 Allocations_region.shx|layername=Sandwell EMP4 Allocations_region",0.39500000000000002,0,0,0,0,null,1,0,0,null,1,0,0,null,1]
["SEC3-141","Powke Lane (east side)",3.49,"N:/2024/Projects/2024s0196 - Sandwell Metropolitan Borough Council - Sandwell L1 & L2 SFRA/1_WIP/HM/Graphical/Shapefiles/Development_sites/Sandwell EMP3 Allocations_region.shx|layername=Sandwell EMP3 Allocations_region",3.5070000000000001,0,0,0,0,null,1,0,0,null,1,0,0,null,1]
["SEC3-140","Powke Lane (west side)",6.36,"N:/2024/Projects/2024s0196 - Sandwell Metropolitan Borough Council - Sandwell L1 & L2 SFRA/1_WIP/HM/Graphical/Shapefiles/Development_sites/Sandwell EMP3 Allocations_region.shx|layername=Sandwell EMP3 Allocations_region",6.3819999999999997,0,0,0,0,null,1,0,0,null,1,0,0,null,1]
["SEC3-179","Powke Lane Industrial Estate, Cradley Heath",2.17,"N:/2024/Projects/2024s0196 - Sandwell Metropolitan Borough Council - Sandwell L1 & L2 SFRA/1_WIP/HM/Graphical/Shapefiles/Development_sites/Sandwell EMP3 Allocations_region.shx|layername=Sandwell EMP3 Allocations_region",2.181,0,0,0,0,null,1,0,0,null,1,0,0,null,1]
["SEC3-142","Powke Lane/ Doulton Road",9.08,"N:/2024/Projects/2024s0196 - Sandwell Metropolitan Borough Council - Sandwell L1 & L2 SFRA/1_WIP/HM/Graphical/Shapefiles/Development_sites/Sandwell EMP3 Allocations_region.shx|layername=Sandwell EMP3 Allocations_region",9.1140000000000008,0,0,0,0,null,1,0,0,null,1,0,0,null,1]
["SEC-145","Princes End Garage",0.19,"N:/2024/Projects/2024s0196 - Sandwell Metropolitan Borough Council - Sandwell L1 & L2 SFRA/1_WIP/HM/Graphical/Shapefiles/Development_sites/Sandwell EMP3 Allocations_region.shx|layername=Sandwell EMP3 Allocations_region",0.191,0,0,0,0,null,1,0,0,null,1,0,0,null,1]
["SEC3-111","Purity Soft Drinks Limited, Mounts Road",0.35,"N:/2024/Projects/2024s0196 - Sandwell Metropolitan Borough Council - Sandwell L1 & L2 SFRA/1_WIP/HM/Graphical/Shapefiles/Development_sites/Sandwell EMP3 Allocations_region.shx|layername=Sandwell EMP3 Allocations_region",0.34699999999999998,0,0,0,0,null,1,0,0,null,1,0,0,null,1]
["SEC3-94","Rabone Lane, Smethwick (2372)",4.72,"N:/2024/Projects/2024s0196 - Sandwell Metropolitan Borough Council - Sandwell L1 & L2 SFRA/1_WIP/HM/Graphical/Shapefiles/Development_sites/Sandwell EMP3 Allocations_region.shx|layername=Sandwell EMP3 Allocations_region",4.7359999999999998,0,0,0,0,null,1,0,0,null,1,0,0,null,1]
["SEC3-72","Rabone Park",3.93,"N:/2024/Projects/2024s0196 - Sandwell Metropolitan Borough Council - Sandwell L1 & L2 SFRA/1_WIP/HM/Graphical/Shapefiles/Development_sites/Sandwell EMP3 Allocations_region.shx|layername=Sandwell EMP3 Allocations_region",3.948,0,0,0,0,null,1,0,0,null,1,0,0,null,1]
["SEC3-48","Reddal Hill Rd/ Newtown St, Cradley Heath",4.4400000000000004,"N:/2024/Projects/2024s0196 - Sandwell Metropolitan Borough Council - Sandwell L1 & L2 SFRA/1_WIP/HM/Graphical/Shapefiles/Development_sites/Sandwell EMP3 Allocations_region.shx|layername=Sandwell EMP3 Allocations_region",4.452,375.60100706060302,0.84359226927595798,247.09962162335,0.55498075517363799,null,1,8.4359226927595791E-3,5.54980755173638E-3,null,0.99156407730724039,2.8861151410231991E-3,5.54980755173638E-3,null,1]
["EMP2-1","Richmond Street, West Bromwich",10.199999999999999,"N:/2024/Projects/2024s0196 - Sandwell Metropolitan Borough Council - Sandwell L1 & L2 SFRA/1_WIP/HM/Graphical/Shapefiles/Development_sites/Sandwell EMP2 Allocations_region.shx|layername=Sandwell EMP2 Allocations_region",10.239000000000001,0,0,0,0,null,1,0,0,null,1,0,0,null,1]
["SEC3-2","Ridgacre Road (north)",0.8,"N:/2024/Projects/2024s0196 - Sandwell Metropolitan Borough Council - Sandwell L1 & L2 SFRA/1_WIP/HM/Graphical/Shapefiles/Development_sites/Sandwell EMP3 Allocations_region.shx|layername=Sandwell EMP3 Allocations_region",0.80200000000000005,0,0,0,0,null,1,0,0,null,1,0,0,null,1]
["SEC3-3","Ridgacre Road (south)",1.05,"N:/2024/Projects/2024s0196 - Sandwell Metropolitan Borough Council - Sandwell L1 & L2 SFRA/1_WIP/HM/Graphical/Shapefiles/Development_sites/Sandwell EMP3 Allocations_region.shx|layername=Sandwell EMP3 Allocations_region",1.052,0,0,0,0,null,1,0,0,null,1,0,0,null,1]
["SEC3-107","Ridgacre Road Church Lane, West Bromwich (New build) (former Express and Star)",1.42,"N:/2024/Projects/2024s0196 - Sandwell Metropolitan Borough Council - Sandwell L1 & L2 SFRA/1_WIP/HM/Graphical/Shapefiles/Development_sites/Sandwell EMP3 Allocations_region.shx|layername=Sandwell EMP3 Allocations_region",1.4219999999999999,0,0,0,0,null,1,0,0,null,1,0,0,null,1]
["SEC3-108","Ridgacre Road Church Lane, West Bromwich (old part)",0.92,"N:/2024/Projects/2024s0196 - Sandwell Metropolitan Borough Council - Sandwell L1 & L2 SFRA/1_WIP/HM/Graphical/Shapefiles/Development_sites/Sandwell EMP3 Allocations_region.shx|layername=Sandwell EMP3 Allocations_region",0.92400000000000004,0,0,0,0,null,1,0,0,null,1,0,0,null,1]
["SEC3-32","Ridgarce Road, West Bromwich",1.1399999999999999,"N:/2024/Projects/2024s0196 - Sandwell Metropolitan Borough Council - Sandwell L1 & L2 SFRA/1_WIP/HM/Graphical/Shapefiles/Development_sites/Sandwell EMP3 Allocations_region.shx|layername=Sandwell EMP3 Allocations_region",1.139,0,0,0,0,null,1,0,0,null,1,0,0,null,1]
["SEC3-33","Ridgarce Road, West Bromwich",1.64,"N:/2024/Projects/2024s0196 - Sandwell Metropolitan Borough Council - Sandwell L1 & L2 SFRA/1_WIP/HM/Graphical/Shapefiles/Development_sites/Sandwell EMP3 Allocations_region.shx|layername=Sandwell EMP3 Allocations_region",1.641,0,0,0,0,null,1,0,0,null,1,0,0,null,1]
["SEC3-34","Ridgarce Road, West Bromwich",0.75,"N:/2024/Projects/2024s0196 - Sandwell Metropolitan Borough Council - Sandwell L1 & L2 SFRA/1_WIP/HM/Graphical/Shapefiles/Development_sites/Sandwell EMP3 Allocations_region.shx|layername=Sandwell EMP3 Allocations_region",0.75600000000000001,0,0,0,0,null,1,0,0,null,1,0,0,null,1]
["EMP2-19","Rounds Green Road/Shidas Lane, Oldbury",2.78,"N:/2024/Projects/2024s0196 - Sandwell Metropolitan Borough Council - Sandwell L1 & L2 SFRA/1_WIP/HM/Graphical/Shapefiles/Development_sites/Sandwell EMP2 Allocations_region.shx|layername=Sandwell EMP2 Allocations_region",2.7879999999999998,0,0,0,0,null,1,0,0,null,1,0,0,null,1]
["SEC3-161","Roway Lane, Oldbury",6,"N:/2024/Projects/2024s0196 - Sandwell Metropolitan Borough Council - Sandwell L1 & L2 SFRA/1_WIP/HM/Graphical/Shapefiles/Development_sites/Sandwell EMP3 Allocations_region.shx|layername=Sandwell EMP3 Allocations_region",6.024,339.97350810604502,0.56438114609284296,0,0,null,1,5.6438114609284294E-3,0,null,0.99435618853907159,5.6438114609284294E-3,0,null,1]
["SEC1-4","Roway Lane, Oldbury (Call for Sites)",3.65,"N:/2024/Projects/2024s0196 - Sandwell Metropolitan Borough Council - Sandwell L1 & L2 SFRA/1_WIP/HM/Graphical/Shapefiles/Development_sites/Sandwell EMP1 Sites_region.shx|layername=Sandwell EMP1 Sites_region",3.6629999999999998,0,0,0,0,null,1,0,0,null,1,0,0,null,1]
["SEC3-167","Ryder, Euroway Park",2.2400000000000002,"N:/2024/Projects/2024s0196 - Sandwell Metropolitan Borough Council - Sandwell L1 & L2 SFRA/1_WIP/HM/Graphical/Shapefiles/Development_sites/Sandwell EMP3 Allocations_region.shx|layername=Sandwell EMP3 Allocations_region",2.2480000000000002,0,0,0,0,null,1,0,0,null,1,0,0,null,1]
["SEC3-54","Ryders Green Rd, Greets Green Ind Est, Greets Green",2.95,"N:/2024/Projects/2024s0196 - Sandwell Metropolitan Borough Council - Sandwell L1 & L2 SFRA/1_WIP/HM/Graphical/Shapefiles/Development_sites/Sandwell EMP3 Allocations_region.shx|layername=Sandwell EMP3 Allocations_region",2.9569999999999999,0,0,0,0,null,1,0,0,null,1,0,0,null,1]
["SEC3-164","Sandwell Business Dev Centre, Oldbury Road",0.67,"N:/2024/Projects/2024s0196 - Sandwell Metropolitan Borough Council - Sandwell L1 & L2 SFRA/1_WIP/HM/Graphical/Shapefiles/Development_sites/Sandwell EMP3 Allocations_region.shx|layername=Sandwell EMP3 Allocations_region",0.67200000000000004,0,0,0,0,null,1,0,0,null,1,0,0,null,1]
["SEC3-126","Sedgley Road West/Hurst Lane, Tipton",3.06,"N:/2024/Projects/2024s0196 - Sandwell Metropolitan Borough Council - Sandwell L1 & L2 SFRA/1_WIP/HM/Graphical/Shapefiles/Development_sites/Sandwell EMP3 Allocations_region.shx|layername=Sandwell EMP3 Allocations_region",3.073,0,0,0,0,null,1,0,0,null,1,0,0,null,1]
["SEC3-83","Seven Stars Rd, Oldbury (586)",2.5099999999999998,"N:/2024/Projects/2024s0196 - Sandwell Metropolitan Borough Council - Sandwell L1 & L2 SFRA/1_WIP/HM/Graphical/Shapefiles/Development_sites/Sandwell EMP3 Allocations_region.shx|layername=Sandwell EMP3 Allocations_region",2.5179999999999998,0,0,0,0,null,1,0,0,null,1,0,0,null,1]
["SEC3-45","Seven Stars Road, Oldbury",1.47,"N:/2024/Projects/2024s0196 - Sandwell Metropolitan Borough Council - Sandwell L1 & L2 SFRA/1_WIP/HM/Graphical/Shapefiles/Development_sites/Sandwell EMP3 Allocations_region.shx|layername=Sandwell EMP3 Allocations_region",1.472,380.39634920096898,2.5841040059845102,55.638821444822497,0.377964987534262,null,1,2.58410400598451E-2,3.7796498753426199E-3,null,0.97415895994015489,2.2061390184502479E-2,3.7796498753426199E-3,null,1]
["SEC3-36","Silverthorne Lane",1.05,"N:/2024/Projects/2024s0196 - Sandwell Metropolitan Borough Council - Sandwell L1 & L2 SFRA/1_WIP/HM/Graphical/Shapefiles/Development_sites/Sandwell EMP3 Allocations_region.shx|layername=Sandwell EMP3 Allocations_region",1.0509999999999999,0,0,0,0,null,1,0,0,null,1,0,0,null,1]
["SEC3-135","Site at Bloomfield Rd, Fountaihn Lane & Bradleys Lane, Tipton",1.43,"N:/2024/Projects/2024s0196 - Sandwell Metropolitan Borough Council - Sandwell L1 & L2 SFRA/1_WIP/HM/Graphical/Shapefiles/Development_sites/Sandwell EMP3 Allocations_region.shx|layername=Sandwell EMP3 Allocations_region",1.4379999999999999,0,0,0,0,null,1,0,0,null,1,0,0,null,1]
["SEC4-14","Site at Great Wester St & Potters Lane, Weds (5641",2.14,"N:/2024/Projects/2024s0196 - Sandwell Metropolitan Borough Council - Sandwell L1 & L2 SFRA/1_WIP/HM/Graphical/Shapefiles/Development_sites/Sandwell EMP4 Allocations_region.shx|layername=Sandwell EMP4 Allocations_region",2.1469999999999998,0,0,0,0,null,1,0,0,null,1,0,0,null,1]
["SEC3-82","Site bt Charles St & Walsall Canal Great Bridge (2",2.17,"N:/2024/Projects/2024s0196 - Sandwell Metropolitan Borough Council - Sandwell L1 & L2 SFRA/1_WIP/HM/Graphical/Shapefiles/Development_sites/Sandwell EMP3 Allocations_region.shx|layername=Sandwell EMP3 Allocations_region",2.1829999999999998,0,0,0,0,null,1,0,0,null,1,0,0,null,1]
["SEC1-7","Site off Bilport Lane, Wednesbury",5.29,"N:/2024/Projects/2024s0196 - Sandwell Metropolitan Borough Council - Sandwell L1 & L2 SFRA/1_WIP/HM/Graphical/Shapefiles/Development_sites/Sandwell EMP1 Sites_region.shx|layername=Sandwell EMP1 Sites_region",5.31,13442.6781405488,25.317203180886899,693.12340056340804,1.30539062067989,null,1,0.25317203180886899,1.30539062067989E-2,null,0.74682796819113095,0.2401181256020701,1.30539062067989E-2,null,1]
["SEC3-29","Site off Richmond St, West Bromwich",1.1000000000000001,"N:/2024/Projects/2024s0196 - Sandwell Metropolitan Borough Council - Sandwell L1 & L2 SFRA/1_WIP/HM/Graphical/Shapefiles/Development_sites/Sandwell EMP3 Allocations_region.shx|layername=Sandwell EMP3 Allocations_region",1.109,0,0,0,0,null,1,0,0,null,1,0,0,null,1]
["EMP4-8","Site on Railway Street, Horseley Heath, Tipton",0.18,"N:/2024/Projects/2024s0196 - Sandwell Metropolitan Borough Council - Sandwell L1 & L2 SFRA/1_WIP/HM/Graphical/Shapefiles/Development_sites/Sandwell EMP4 Allocations_region.shx|layername=Sandwell EMP4 Allocations_region",0.18,0,0,0,0,null,1,0,0,null,1,0,0,null,1]
["SEC3-6","Site on Stafford St, Weds (5646)",1.45,"N:/2024/Projects/2024s0196 - Sandwell Metropolitan Borough Council - Sandwell L1 & L2 SFRA/1_WIP/HM/Graphical/Shapefiles/Development_sites/Sandwell EMP3 Allocations_region.shx|layername=Sandwell EMP3 Allocations_region",1.4590000000000001,0,0,0,0,null,1,0,0,null,1,0,0,null,1]
["SEC4-4","Soho Triangle",1.71,"N:/2024/Projects/2024s0196 - Sandwell Metropolitan Borough Council - Sandwell L1 & L2 SFRA/1_WIP/HM/Graphical/Shapefiles/Development_sites/Sandwell EMP4 Allocations_region.shx|layername=Sandwell EMP4 Allocations_region",1.7170000000000001,0,0,0,0,null,1,0,0,null,1,0,0,null,1]
["SEC3-37","Spinners End Industrial Estate, Cradley Heath",0.65,"N:/2024/Projects/2024s0196 - Sandwell Metropolitan Borough Council - Sandwell L1 & L2 SFRA/1_WIP/HM/Graphical/Shapefiles/Development_sites/Sandwell EMP3 Allocations_region.shx|layername=Sandwell EMP3 Allocations_region",0.65100000000000002,0,0,0,0,null,1,0,0,null,1,0,0,null,1]
["SEC4-12","Stafford Street/ Albert Street, Wednesbury",0.73,"N:/2024/Projects/2024s0196 - Sandwell Metropolitan Borough Council - Sandwell L1 & L2 SFRA/1_WIP/HM/Graphical/Shapefiles/Development_sites/Sandwell EMP4 Allocations_region.shx|layername=Sandwell EMP4 Allocations_region",0.73699999999999999,0,0,0,0,null,1,0,0,null,1,0,0,null,1]
["SEC3-44","Station Road / Avenue Road / Cardale Street Rowley",3.18,"N:/2024/Projects/2024s0196 - Sandwell Metropolitan Borough Council - Sandwell L1 & L2 SFRA/1_WIP/HM/Graphical/Shapefiles/Development_sites/Sandwell EMP3 Allocations_region.shx|layername=Sandwell EMP3 Allocations_region",3.1909999999999998,0,0,0,0,null,1,0,0,null,1,0,0,null,1]
["SEC3-49","Station Road Industrial Est, Rowley Regis",3.21,"N:/2024/Projects/2024s0196 - Sandwell Metropolitan Borough Council - Sandwell L1 & L2 SFRA/1_WIP/HM/Graphical/Shapefiles/Development_sites/Sandwell EMP3 Allocations_region.shx|layername=Sandwell EMP3 Allocations_region",3.2240000000000002,0,0,0,0,null,1,{"$f":"G195/100","v":0},{"$f":"I195/100","v":0},null,{"$f":"K195-(P195+Q195)","v":1},{"$f":"L195-Q195","v":0},{"$f":"M195","v":0},null,{"$f":"SUM(O195+P195+Q195)","v":1}]
["SEC3-147","Station St, Tipton (1448)",1.36,"N:/2024/Projects/2024s0196 - Sandwell Metropolitan Borough Council - Sandwell L1 & L2 SFRA/1_WIP/HM/Graphical/Shapefiles/Development_sites/Sandwell EMP3 Allocations_region.shx|layername=Sandwell EMP3 Allocations_region",1.37,0,0,0,0,null,1,0,0,null,1,0,0,null,1]
["SEC3-35","Station Street/Graingers Lane, Cradley Heath",2.27,"N:/2024/Projects/2024s0196 - Sandwell Metropolitan Borough Council - Sandwell L1 & L2 SFRA/1_WIP/HM/Graphical/Shapefiles/Development_sites/Sandwell EMP3 Allocations_region.shx|layername=Sandwell EMP3 Allocations_region",2.2810000000000001,0,0,0,0,null,1,0,0,null,1,0,0,null,1]
["SEC4-6","Summerton Rd, Oldbury (3223)",0.52,"N:/2024/Projects/2024s0196 - Sandwell Metropolitan Borough Council - Sandwell L1 & L2 SFRA/1_WIP/HM/Graphical/Shapefiles/Development_sites/Sandwell EMP4 Allocations_region.shx|layername=Sandwell EMP4 Allocations_region",0.56499999999999995,0,0,0,0,null,1,0,0,null,1,0,0,null,1]
["SEC3-63","Summit Crescent, Smethwick (east)",4.01,"N:/2024/Projects/2024s0196 - Sandwell Metropolitan Borough Council - Sandwell L1 & L2 SFRA/1_WIP/HM/Graphical/Shapefiles/Development_sites/Sandwell EMP3 Allocations_region.shx|layername=Sandwell EMP3 Allocations_region",4.03,0,0,0,0,null,1,0,0,null,1,0,0,null,1]
["SEC3-27","Summit Crescent, Smethwick (west)",5.96,"N:/2024/Projects/2024s0196 - Sandwell Metropolitan Borough Council - Sandwell L1 & L2 SFRA/1_WIP/HM/Graphical/Shapefiles/Development_sites/Sandwell EMP3 Allocations_region.shx|layername=Sandwell EMP3 Allocations_region",5.98,0,0,0,0,null,1,0,0,null,1,0,0,null,1]
["SEC3-39","Swan Lane, West Bromwich",0.83,"N:/2024/Projects/2024s0196 - Sandwell Metropolitan Borough Council - Sandwell L1 & L2 SFRA/1_WIP/HM/Graphical/Shapefiles/Development_sites/Sandwell EMP3 Allocations_region.shx|layername=Sandwell EMP3 Allocations_region",0.83399999999999996,0,0,0,0,null,1,0,0,null,1,0,0,null,1]
["SEC3-87","Swan Lane, West Bromwich",1.27,"N:/2024/Projects/2024s0196 - Sandwell Metropolitan Borough Council - Sandwell L1 & L2 SFRA/1_WIP/HM/Graphical/Shapefiles/Development_sites/Sandwell EMP3 Allocations_region.shx|layername=Sandwell EMP3 Allocations_region",1.28,0,0,0,0,null,1,0,0,null,1,0,0,null,1]
["SEC3-92","Tatbak Road",8.6199999999999992,"N:/2024/Projects/2024s0196 - Sandwell Metropolitan Borough Council - Sandwell L1 & L2 SFRA/1_WIP/HM/Graphical/Shapefiles/Development_sites/Sandwell EMP3 Allocations_region.shx|layername=Sandwell EMP3 Allocations_region",8.657,0,0,0,0,null,1,0,0,null,1,0,0,null,1]
["SEC3-162","Taylors Lane, Oldbury",4.17,"N:/2024/Projects/2024s0196 - Sandwell Metropolitan Borough Council - Sandwell L1 & L2 SFRA/1_WIP/HM/Graphical/Shapefiles/Development_sites/Sandwell EMP3 Allocations_region.shx|layername=Sandwell EMP3 Allocations_region",4.1909999999999998,0,0,0,0,null,1,0,0,null,1,0,0,null,1]
["SEC3-157","Tennants Ryders Green Rd / SCA Tasker St",1.02,"N:/2024/Projects/2024s0196 - Sandwell Metropolitan Borough Council - Sandwell L1 & L2 SFRA/1_WIP/HM/Graphical/Shapefiles/Development_sites/Sandwell EMP3 Allocations_region.shx|layername=Sandwell EMP3 Allocations_region",1.0249999999999999,0,0,0,0,null,1,0,0,null,1,0,0,null,1]
["SEC3-55","Tennants Ryders Green Rd, West Bromwich",2.9,"N:/2024/Projects/2024s0196 - Sandwell Metropolitan Borough Council - Sandwell L1 & L2 SFRA/1_WIP/HM/Graphical/Shapefiles/Development_sites/Sandwell EMP3 Allocations_region.shx|layername=Sandwell EMP3 Allocations_region",2.9159999999999999,0,0,0,0,null,1,0,0,null,1,0,0,null,1]
["SEC3-134","The Angle Ring Co. Ltd",1.7,"N:/2024/Projects/2024s0196 - Sandwell Metropolitan Borough Council - Sandwell L1 & L2 SFRA/1_WIP/HM/Graphical/Shapefiles/Development_sites/Sandwell EMP3 Allocations_region.shx|layername=Sandwell EMP3 Allocations_region",1.706,0,0,0,0,null,1,0,0,null,1,0,0,null,1]
["SEC3-13","The Bridge Trading Estate",3.33,"N:/2024/Projects/2024s0196 - Sandwell Metropolitan Borough Council - Sandwell L1 & L2 SFRA/1_WIP/HM/Graphical/Shapefiles/Development_sites/Sandwell EMP3 Allocations_region.shx|layername=Sandwell EMP3 Allocations_region",3.34,36.081140393383897,0.108037134396542,0,0,null,1,1.0803713439654201E-3,0,null,0.99891962865603456,1.0803713439654201E-3,0,null,1]
["SEC4-16","The Lyng Industrial Estate, West Bromwich",9.84,"N:/2024/Projects/2024s0196 - Sandwell Metropolitan Borough Council - Sandwell L1 & L2 SFRA/1_WIP/HM/Graphical/Shapefiles/Development_sites/Sandwell EMP4 Allocations_region.shx|layername=Sandwell EMP4 Allocations_region",9.8450000000000006,0,0,0,0,null,1,0,0,null,1,0,0,null,1]
["SEC3-120","Tipton Rd, Oldbury (2958)",1.76,"N:/2024/Projects/2024s0196 - Sandwell Metropolitan Borough Council - Sandwell L1 & L2 SFRA/1_WIP/HM/Graphical/Shapefiles/Development_sites/Sandwell EMP3 Allocations_region.shx|layername=Sandwell EMP3 Allocations_region",1.7629999999999999,0,0,0,0,null,1,0,0,null,1,0,0,null,1]
["SEC3-119","Tipton Road",3.17,"N:/2024/Projects/2024s0196 - Sandwell Metropolitan Borough Council - Sandwell L1 & L2 SFRA/1_WIP/HM/Graphical/Shapefiles/Development_sites/Sandwell EMP3 Allocations_region.shx|layername=Sandwell EMP3 Allocations_region",3.1850000000000001,0,0,0,0,null,1,0,0,null,1,0,0,null,1]
["SEC3-58","Toll End Road, Tipton 2",5.88,"N:/2024/Projects/2024s0196 - Sandwell Metropolitan Borough Council - Sandwell L1 & L2 SFRA/1_WIP/HM/Graphical/Shapefiles/Development_sites/Sandwell EMP3 Allocations_region.shx|layername=Sandwell EMP3 Allocations_region",5.9029999999999996,45133.843922362998,76.462968550000397,3262.4754796289599,5.5270842967224798,null,1,0.76462968550000399,{"$f":"I212/100","v":5.5270842967224801E-2},null,0.23537031449999601,0.70935884253277914,5.5270842967224801E-2,null,1]
["SEC3-180","Trinity Street, Oldbury",26.88,"N:/2024/Projects/2024s0196 - Sandwell Metropolitan Borough Council - Sandwell L1 & L2 SFRA/1_WIP/HM/Graphical/Shapefiles/Development_sites/Sandwell EMP3 Allocations_region.shx|layername=Sandwell EMP3 Allocations_region",26.986000000000001,0,0,0,0,null,1,0,0,null,1,0,0,null,1]
["SEC-144","Union Road",12.11,"N:/2024/Projects/2024s0196 - Sandwell Metropolitan Borough Council - Sandwell L1 & L2 SFRA/1_WIP/HM/Graphical/Shapefiles/Development_sites/Sandwell EMP3 Allocations_region.shx|layername=Sandwell EMP3 Allocations_region",12.159000000000001,223.719475471572,0.18398850124812599,48.405998482996701,3.9809440342789E-2,null,1,1.8398850124812598E-3,3.9809440342788999E-4,null,0.99816011498751878,1.4417906090533699E-3,3.9809440342788999E-4,null,1]
["SEC3-59","unit 7,8,9 Coneygree Ind Est, Coneygree Road",1.03,"N:/2024/Projects/2024s0196 - Sandwell Metropolitan Borough Council - Sandwell L1 & L2 SFRA/1_WIP/HM/Graphical/Shapefiles/Development_sites/Sandwell EMP3 Allocations_region.shx|layername=Sandwell EMP3 Allocations_region",1.0329999999999999,0,0,0,0,null,1,0,0,null,1,0,0,null,1]
["SEC3-121","Upper Chapel St, Bittania St, 70-74 Dudley Rd West",0.64,"N:/2024/Projects/2024s0196 - Sandwell Metropolitan Borough Council - Sandwell L1 & L2 SFRA/1_WIP/HM/Graphical/Shapefiles/Development_sites/Sandwell EMP3 Allocations_region.shx|layername=Sandwell EMP3 Allocations_region",0.64100000000000001,0,0,0,0,null,1,0,0,null,1,0,0,null,1]
["SEC3-99","various sites (3034, 3226, 1436)",6.33,"N:/2024/Projects/2024s0196 - Sandwell Metropolitan Borough Council - Sandwell L1 & L2 SFRA/1_WIP/HM/Graphical/Shapefiles/Development_sites/Sandwell EMP3 Allocations_region.shx|layername=Sandwell EMP3 Allocations_region",6.359,45.480355130792297,7.1524423452318006E-2,22.550999378858201,3.5464701720290003E-2,null,1,7.1524423452318004E-4,3.546470172029E-4,null,0.99928475576547682,3.6059721732028003E-4,3.546470172029E-4,null,1]
["SEC3-110","Various sites on Mounts Rd, (2926, 2911, 2927, 290",6.32,"N:/2024/Projects/2024s0196 - Sandwell Metropolitan Borough Council - Sandwell L1 & L2 SFRA/1_WIP/HM/Graphical/Shapefiles/Development_sites/Sandwell EMP3 Allocations_region.shx|layername=Sandwell EMP3 Allocations_region",6.3419999999999996,1074.2005228959699,1.69385118324814,0,0,null,1,1.69385118324814E-2,0,null,0.98306148816751859,1.69385118324814E-2,0,null,1]
["EMP3-181","Varney Business Park",0.73,"N:/2024/Projects/2024s0196 - Sandwell Metropolitan Borough Council - Sandwell L1 & L2 SFRA/1_WIP/HM/Graphical/Shapefiles/Development_sites/Sandwell EMP3 Allocations_region.shx|layername=Sandwell EMP3 Allocations_region",0.73099999999999998,0,0,0,0,null,1,0,0,null,1,0,0,null,1]
["EMP2-17","Vaughan Trading Estate, Dudley Road East",19.920000000000002,"N:/2024/Projects/2024s0196 - Sandwell Metropolitan Borough Council - Sandwell L1 & L2 SFRA/1_WIP/HM/Graphical/Shapefiles/Development_sites/Sandwell EMP2 Allocations_region.shx|layername=Sandwell EMP2 Allocations_region",19.998000000000001,32312.136896543601,16.157520790344101,0,0,null,1,0.16157520790344101,0,null,0.83842479209655896,0.16157520790344101,0,null,1]
["SEC3-1","Vector Ind Park, Church Lane, WB (5556)",5.2,"N:/2024/Projects/2024s0196 - Sandwell Metropolitan Borough Council - Sandwell L1 & L2 SFRA/1_WIP/HM/Graphical/Shapefiles/Development_sites/Sandwell EMP3 Allocations_region.shx|layername=Sandwell EMP3 Allocations_region",5.2229999999999999,0,0,0,0,null,1,0,0,null,1,0,0,null,1]
["SEC3-125","Wade Building Services, Groveland Road, Tividale",1.42,"N:/2024/Projects/2024s0196 - Sandwell Metropolitan Borough Council - Sandwell L1 & L2 SFRA/1_WIP/HM/Graphical/Shapefiles/Development_sites/Sandwell EMP3 Allocations_region.shx|layername=Sandwell EMP3 Allocations_region",1.43,0,0,0,0,null,1,0,0,null,1,0,0,null,1]
["SEC3-189","Waterfall Lane",2.69,"N:/2024/Projects/2024s0196 - Sandwell Metropolitan Borough Council - Sandwell L1 & L2 SFRA/1_WIP/HM/Graphical/Shapefiles/Development_sites/Sandwell EMP3 Allocations_region.shx|layername=Sandwell EMP3 Allocations_region",2.7050000000000001,0,0,0,0,null,1,0,0,null,1,0,0,null,1]
["SEC3-190","Waterfall Lane Trading Estate, Cradley Heath",5.74,"N:/2024/Projects/2024s0196 - Sandwell Metropolitan Borough Council - Sandwell L1 & L2 SFRA/1_WIP/HM/Graphical/Shapefiles/Development_sites/Sandwell EMP3 Allocations_region.shx|layername=Sandwell EMP3 Allocations_region",5.7629999999999999,0,0,0,0,null,1,0,0,null,1,0,0,null,1]
["SEC3-77","Wednesbury Trading Estate, Wednesbury",8.6999999999999993,"N:/2024/Projects/2024s0196 - Sandwell Metropolitan Borough Council - Sandwell L1 & L2 SFRA/1_WIP/HM/Graphical/Shapefiles/Development_sites/Sandwell EMP3 Allocations_region.shx|layername=Sandwell EMP3 Allocations_region",8.734,0,0,0,0,null,1,0,0,null,1,0,{"$f":"M225","v":0},null,1]
["SEC3-76","Wharfeside, Oldbury",6.17,"N:/2024/Projects/2024s0196 - Sandwell Metropolitan Borough Council - Sandwell L1 & L2 SFRA/1_WIP/HM/Graphical/Shapefiles/Development_sites/Sandwell EMP3 Allocations_region.shx|layername=Sandwell EMP3 Allocations_region",6.1970000000000001,0,0,0,0,null,1,0,0,null,1,0,0,null,1]
["SEC3-192","Whitehall Rd Ind Est, West Brom (2916)",2.58,"N:/2024/Projects/2024s0196 - Sandwell Metropolitan Borough Council - Sandwell L1 & L2 SFRA/1_WIP/HM/Graphical/Shapefiles/Development_sites/Sandwell EMP3 Allocations_region.shx|layername=Sandwell EMP3 Allocations_region",2.59,0,0,0,0,null,1,0,0,null,1,0,0,null,1]
["SEC1-1","Whitehall Road, Tipton",5.3,"N:/2024/Projects/2024s0196 - Sandwell Metropolitan Borough Council - Sandwell L1 & L2 SFRA/1_WIP/HM/Graphical/Shapefiles/Development_sites/Sandwell EMP1 Sites_region.shx|layername=Sandwell EMP1 Sites_region",5.319,0,0,0,0,null,1,0,0,null,1,{"$f":"L228-Q228","v":0},0,null,1]
["SEC3-114","Wrights Plastics, Brandon Way/ Brandon Close",0.57999999999999996,"N:/2024/Projects/2024s0196 - Sandwell Metropolitan Borough Council - Sandwell L1 & L2 SFRA/1_WIP/HM/Graphical/Shapefiles/Development_sites/Sandwell EMP3 Allocations_region.shx|layername=Sandwell EMP3 Allocations_region",0.58699999999999997,0,0,0,0,null,1,0,0,null,1,0,0,null,1]
["SEC4-1","Zion Street, Tipton",2.4300000000000002,"N:/2024/Projects/2024s0196 - Sandwell Metropolitan Borough Council - Sandwell L1 & L2 SFRA/1_WIP/HM/Graphical/Shapefiles/Development_sites/Sandwell EMP4 Allocations_region.shx|layername=Sandwell EMP4 Allocations_region",2.4390000000000001,0,0,0,0,null,1,0,0,null,{"$f":"K230-(P230+Q230)","v":1},{"$f":"L230-Q230","v":0},0,null,1]
[null,null,null,null,null,null,null,null,null,null,null,null,null,null,null,null,null,null,null,null,"FZ1","FZ2","FZ3"]
["SH63","192-200 Dudley Road, Oldbury",0.57999999999999996,null,null,null,0,null,0,null,1,{"$f":"G232/100","v":0},{"$f":"I232/100","v":0},null,{"$f":"K232-(P232+Q232)","v":1},{"$f":"L232-Q232","v":0},{"$f":"M232/100","v":0},null,{"$f":"O232+P232+Q232","v":1},null,{"$f":"O232*100","v":100},{"$f":"P232*100","v":0},{"$f":"Q232*100","v":0}]
["SH23","28-64 High Street, West Bromwich",0.97,null,null,null,0,null,0,null,1,{"$f":"G233/100","v":0},{"$f":"I233/100","v":0},null,{"$f":"K233-(P233+Q233)","v":1},{"$f":"L233-Q233","v":0},{"$f":"M233/100","v":0},null,{"$f":"O233+P233+Q233","v":1},null,{"$f":"O233*100","v":100},{"$f":"P233*100","v":0},{"$f":"Q233*100","v":0}]
["SH58","Abberley Street Grove Lane Master Plan",2.48,null,null,null,0,null,0,null,1,0,0,null,1,0,0,null,1,null,100,0,0]
["SH8","Alma Street, Wednesbury",0.54,null,null,null,0,null,0,null,1,0,0,null,1,0,0,null,1,null,100,0,0]
["SM4","Army Reserve, Carters Green",1.17,null,null,null,0,null,0,null,1,0,0,null,1,0,0,null,1,null,100,0,0]
["SH32","Bank Street (West), Hateley Heath",0.85,null,null,null,0,null,0,null,1,0,0,null,1,0,0,null,1,null,100,0,0]
["SH59","Beever Road",0.84,null,null,null,53.648500871381898,null,17.817718470342999,null,1,0.53648500871381899,0.17817718470343,null,0.46351499128618101,0.53470323686678467,1.7817718470343E-3,null,1,null,46.351499128618102,53.470323686678469,0.17817718470343]
["SH38","Brades Road, Oldbury",1.2,null,null,null,0,null,0,null,1,0,0,null,1,0,0,null,1,null,100,0,0]
["SH25","Bradleys Lane / High Street, Tipton",5.32,null,null,null,0,null,0,null,1,0,0,null,1,0,0,null,1,null,100,0,0]
["SH34","Brandhall Golf Course",5.19,null,null,null,0,null,0,null,1,0,0,null,1,0,0,null,1,null,100,0,0]
["SH1","Brown Lion Street",0.47,null,null,null,0,null,0,null,1,0,0,null,1,0,0,null,1,null,100,0,0]
["SH55","Cape Arm Cranford Street",2.14,null,null,null,0,null,0,null,1,0,0,null,1,0,0,null,1,null,100,0,0]
["SM1","Chances Glass Works",3.39,null,null,null,0,null,0,null,1,0,0,null,1,0,0,null,1,null,100,0,0]
["SH24","Cokeland Place / Graingers Lane, Cradley Heath",0.37,null,null,null,0,null,0,null,1,0,0,null,1,0,0,null,1,null,100,0,0]
["SH16","Cradley Heath Factory Centre, Woods Lane, Cradley",5.57,null,null,null,2.8892014864011402,null,2.8499943053134,null,1,2.8892014864011401E-2,2.8499943053134E-2,null,0.97110798513598862,2.860701543348006E-2,2.8499943053133999E-4,null,1,null,97.110798513598866,2.8607015433480059,2.8499943053134E-2]
["SH54","Cranford Street / Heath Street / Canal",5.01,null,null,null,0,null,0,null,1,0,0,null,1,0,0,null,1,null,100,0,0]
["SM5","cultural quarter, west brom",1.0900000000000001,null,null,null,0,null,0,null,1,0,0,null,1,0,0,null,1,null,100,0,0]
["SH21","Dudley Road East",2.66,null,null,null,0,null,0,null,1,0,0,null,1,0,0,null,1,null,100,0,0]
["SH37","Edwin Richards Quarry, Portway Road, Rowley Regis",51.26,null,null,null,0,null,0,null,1,0,0,null,1,0,0,null,1,null,100,0,0]
["SH20","Elbow Street, Old Hill",0.72,null,null,null,0,null,0,null,1,0,0,null,1,0,0,null,1,null,100,0,0]
["SM3","Evans Halshaw car showroom",0.89,null,null,null,0,null,0,null,1,0,0,null,1,0,0,null,1,null,100,0,0]
["SH28","Friar Street, Wednesbury",1.02,null,null,null,21.0781229916199,null,5.8105751259697103,null,1,0.21078122991619899,5.8105751259697101E-2,null,0.78921877008380104,0.21020017240360203,5.81057512596971E-4,null,1,null,78.921877008380108,21.020017240360204,5.8105751259697101E-2]
["SM8","George Street Living",2.36,null,null,null,0,null,0,null,1,0,0,null,1,0,0,null,1,null,100,0,0]
["SH53","Grove Lane/ Cranford Street/ London Street",2.09,null,null,null,0,null,0,null,1,0,0,null,1,0,0,null,1,null,100,0,0]
["SH57","Grove Street / MMUH / School - Grove Lane MP",2.19,null,null,null,0,null,0,null,1,0,0,null,1,0,0,null,1,null,100,0,0]
["SH17","Land adj to Droicon Estate, Portway Road, Rowley R",0.66,null,null,null,0,null,0,null,1,0,0,null,1,0,0,null,1,null,100,0,0]
["SH2","Land adjacent To Asda Wolverhampton Road, Oldbury",1.61,null,null,null,3.0563250031136202,null,0,null,1,3.0563250031136201E-2,0,null,0.96943674996886375,3.0563250031136201E-2,0,null,1,null,96.943674996886372,3.0563250031136202,0]
["SH19","Land at Horseley Heath, Alexandra Road, and Lower",2.27,null,null,null,0,null,0,null,1,0,0,null,1,0,0,null,1,null,100,0,0]
["SH36","Land between Addington Way and River Tame, Temple",0.89,null,null,null,32.933612491609402,null,10.1186385698465,null,1,0.32933612491609404,0.101186385698465,null,0.67066387508390601,0.32832426105910939,1.0118638569846499E-3,null,1,null,67.066387508390605,32.83242610591094,0.101186385698465]
["SH43","Land of Tanhouse Avenue, Great Barr",1.66,null,null,null,0,null,0,null,1,0,0,null,1,0,0,null,1,null,100,0,0]
["SH30","Land to east of Black Lake, west Bromwich",2.46,null,null,null,0,null,0,null,1,0,0,null,1,0,0,null,1,null,100,0,0]
["SH14","Langley Maltings, Western Road, Langly",2.73,null,null,null,0,null,0,null,1,0,0,null,1,0,0,null,{"$f":"O263+P263+Q263","v":1},null,100,0,0]
["SH40","Langley Swimming Centre, Vicarage Road, Oldbury",0.49,null,null,null,0,null,0,null,1,0,0,null,1,0,0,null,1,null,100,0,0]
["SM2","Lion Farm",21,null,null,null,9.3856078163249794,null,6.5629111970073799,null,1,9.3856078163249798E-2,6.5629111970073803E-2,null,0.90614392183675019,9.3199787043549059E-2,{"$f":"M265/100","v":6.5629111970073807E-4},null,1,null,90.614392183675022,9.3199787043549058,6.5629111970073803E-2]
["SH26","Lower City Road,Oldbury",2.33,null,null,null,0,null,0,null,1,0,0,null,1,0,0,null,1,null,100,0,0]
["SH4","Lower High Street (Station hotel & Dunns Site).",0.28000000000000003,null,null,null,0,null,0,null,1,0,0,null,1,0,0,null,1,null,100,0,0]
["SH15","Macarthur Road Industrial Estate Cradley Heath",0.3,null,null,null,0,null,0,null,1,0,0,null,1,0,0,null,1,null,100,0,0]
["SH5","Mill Street, Great Bridge",0.88,null,null,null,60.356386069067099,null,2.3551484745633702,null,1,0.60356386069067103,2.3551484745633702E-2,null,0.39643613930932897,0.60332834584321471,2.3551484745633702E-4,null,1,null,39.643613930932901,60.332834584321468,2.3551484745633702E-2]
["SH56","Moilliett Street Park - Grove Lane masterplan",0.78,null,null,null,0,null,0,null,1,0,0,null,1,0,0,null,1,null,100,0,0]
["SH41","North Smethwick Canalside",8.81,null,null,null,1.02695588589681,null,0,null,1,1.02695588589681E-2,0,null,0.98973044114103192,1.02695588589681E-2,0,null,1,null,98.973044114103189,1.02695588589681,0]
["SH52","overend street, west bromwich",0.71,null,null,null,0,null,0,null,1,0,0,null,1,0,0,null,1,null,100,0,0]
["SH51","Providence Place / Bratt St",0.74,null,null,null,0,null,0,null,1,0,0,null,1,0,0,null,1,null,100,0,0]
["SM6","queens square living",3.07,null,null,null,0,null,0,null,1,0,0,null,1,0,0,null,1,null,100,0,0]
["SH35","Rattlechain Site Land to the north of Temple Way,",14.86,null,null,null,2.0624391295454401,null,1.29595696824285,null,1,2.0624391295454399E-2,1.29595696824285E-2,null,0.97937560870454565,2.0494795598630114E-2,1.29595696824285E-4,null,1,null,97.937560870454561,2.0494795598630113,1.29595696824285E-2]
["SH11","Sandwell District & General Hospital,",0.82,null,null,null,0,null,0,null,1,0,0,null,1,0,0,null,1,null,100,0,0]
["SH13","Silverthorne Lane/ Forge Lane Cradley Heath",2.41,null,null,null,0,null,0,null,1,0,0,null,1,0,0,null,1,null,100,0,0]
["SH45","Site of 30-144 Mounts Road, Wednesbury",1.07,null,null,null,0,null,0,null,1,0,0,null,1,0,0,null,{"$f":"O278+P278+Q278","v":1},null,100,0,0]
["SH47","Site Of Former Stone Cross Neighbourhood Office",0.28000000000000003,null,null,null,0,null,0,null,1,0,0,null,1,0,0,null,1,null,100,0,0]
["SH27","Site surrounding former Post office and Telephone",1.17,null,null,null,0,null,0,null,1,0,0,null,1,0,0,null,1,null,100,0,0]
["SH65","Smethwick Police Station, Piddock Road, Smethwick",0.22,null,null,null,0,null,0,null,1,0,0,null,1,0,0,null,1,null,100,0,0]
["SH49","St Johns St, Carters Green",0.82,null,null,null,0,null,0,null,1,0,0,null,1,0,0,null,1,null,100,0,0]
["SH62","Star and Garter, 252 Duchess Parade, West Bromwich",0.05,null,null,null,0,null,0,null,1,0,0,null,1,0,0,null,1,null,100,0,0]
["SH18","STW/SMBC Land",28.18,null,null,null,0.35800874884357098,null,1.9429747593732699E-2,null,1,3.5800874884357099E-3,1.94297475937327E-4,null,0.99641991251156425,3.5781445136763364E-3,{"$f":"M284/100","v":1.9429747593732699E-6},null,1,null,99.641991251156426,0.35781445136763362,1.94297475937327E-4]
["SH31","Summerton Road, Oldbury",0.89,null,null,null,0,null,0,null,1,0,0,null,1,0,0,null,1,null,100,0,0]
["SH6","Swan Lane",3.79,null,null,null,0,null,0,null,1,0,0,null,1,0,0,null,1,null,100,0,0]
["SH22","Tatbank Road Oldbury",1.1499999999999999,null,null,null,0,null,0,null,1,0,0,null,1,0,0,null,1,null,100,0,0]
["SH50","tentec, guns lane",0.6,null,null,null,0,null,0,null,1,0,0,null,1,0,0,null,1,null,100,0,0]
["SH61","Thandi Coach Station",0.45,null,null,null,0,null,0,null,1,0,0,null,1,0,0,null,1,null,100,0,0]
["SH7","The Boat Gauging House & Adjoining Land, Factory R",0.56999999999999995,null,null,null,0,null,0,null,1,0,0,null,1,0,0,null,1,null,100,0,0]
["SH42","The Forge Tavern, junction Franchise Street and B",0.14000000000000001,null,null,null,0,null,0,null,1,0,0,null,1,0,0,null,1,null,100,0,0]
["SH9","The Phoenix Collegiate, Friar Park Road, Wednesbur",4.82,null,null,null,0,null,0,null,1,0,0,null,1,0,0,null,1,null,100,0,0]
["SH10","Tipton Conservative And Unionist Club, 64 Union St",0.14000000000000001,null,null,null,0,null,0,null,1,0,0,null,1,0,0,null,1,null,100,0,0]
["SH29","Used Car Sales site on corner of Lower Church Lane",0.56999999999999995,null,null,null,0,null,0,null,1,0,0,null,1,0,0,null,1,null,100,0,0]
["SH66","Wednesbury Police Station, Albert St, Wednesbury",0.33,null,null,null,0,null,0,null,1,0,0,null,1,0,0,null,1,null,100,0,0]
["SH33","Wellington Road, Tipton",0.86,null,null,null,0,null,0,null,1,0,0,null,1,0,0,null,{"$f":"O296+P296+Q296","v":1},null,100,0,0]
["SM7","west bromwich central",3.84,null,null,null,0,null,0,null,1,{"$f":"G297/100","v":0},{"$f":"I297/100","v":0},null,{"$f":"K297-(P297+Q297)","v":1},{"$f":"L297-Q297","v":0},{"$f":"M297/100","v":0},null,1,null,{"$f":"O297*100","v":100},{"$f":"P297*100","v":0},{"$f":"Q297*100","v":0}]
["SH64","Windmill House, Windmill Lane, Smethwick",0.21,null,null,null,0,null,0,null,1,0,0,null,1,0,0,null,{"$f":"O298+P298+Q298","v":1},null,100,0,0]
["SH44","Wyndmill crescent, West Bromwich",0.19,null,null,null,0,null,0,null,1,0,0,null,1,0,0,null,1,null,100,0,0]
["SG1","Brierley Lane, Tipton",0.626,null,null,null,0,null,0,null,1,0,0,null,1,0,0,null,1,null,100,0,0]
["SG2","Brierley Lane, Tipton",0.75700000000000001,null,null,null,0,null,0,null,1,0,0,null,1,0,0,null,1,null,100,0,0]

{"sheet":"Present Day Fluvial","index":4,"n_rows":301,"n_cols":25,"rows_kept":301,"cut":false,"hidden":true,"merged":[]}
["SiteNameAd","Area_Ha","FZ3b area","FZ3b %","FZ3a area","FZ3a %","FZ2 area","FZ2 %",null,"Site area","FZ3b","FZ3a","FZ2","sum",null,"Area not flooded","FZ3b sliver","FZ3a sliver","FZ2 sliver",null,"checks (total)","FZ3b","FZ3a","FZ2"]
[null,4.1029999999999998,0,0,0,0,0,0,null,1,{"$f":"D2/100","v":0},{"$f":"F2/100","v":0},{"$f":"H2/100","v":0},{"$f":"SUM(K2:M2)","v":0},null,{"$f":"J2-SUM(Q2:S2)","v":1},{"$f":"K2","v":0},{"$f":"L2-K2","v":0},{"$f":"M2-(Q2+R2)","v":0},null,{"$f":"SUM(P2:S2)","v":1},{"$f":"Q2-K2","v":0},{"$f":"SUM(Q2:R2)-L2","v":0},{"$f":"SUM(Q2:S2)-M2","v":0}]
[null,0.35899999999999999,0,0,0,0,0,0,null,1,0,{"$f":"F3/100","v":0},0,{"$f":"SUM(K3:M3)","v":0},null,{"$f":"J3-SUM(Q3:S3)","v":1},{"$f":"K3","v":0},{"$f":"L3-K3","v":0},{"$f":"M3-(Q3+R3)","v":0},null,{"$f":"SUM(P3:S3)","v":1},{"$f":"Q3-K3","v":0},{"$f":"SUM(Q3:R3)-L3","v":0},{"$f":"SUM(Q3:S3)-M3","v":0}]
["10-60 Dudley Rd East, Oldbury (3224)",2.0590000000000002,0,0,0,0,0,0,null,1,0,0,0,0,null,{"$f":"J4-SUM(Q4:S4)","v":1},0,0,0,null,1,0,0,0]
["230 Oldbury Rd (3016)",1.5269999999999999,0,0,0,0,0,0,null,1,0,0,0,0,null,1,0,0,0,null,1,0,0,0]
["70-74 Crankhall Lane",1.7589999999999999,0,0,0,0,0,0,null,1,0,0,0,0,null,1,0,0,0,null,1,0,0,0]
["Aeroplas and Olympus Distribution, Great Western Way, Great Bridge",4.7839999999999998,146.356055875566,0.30593587845660902,181.42028797699601,0.379232515115622,12200.1239273766,25.502570485876099,null,1,3.0593587845660903E-3,3.79232515115622E-3,0.25502570485876097,0.2618773887944833,null,0.74497429514123903,3.0593587845660903E-3,7.3296636659012961E-4,0.25123337970760473,null,1,0,0,0]
["Albion Industrial Estate",9.0500000000000007,0,0,0,0,5154.9760638563102,5.6961858903631502,null,1,0,0,5.69618589036315E-2,5.69618589036315E-2,null,0.94303814109636852,0,0,5.69618589036315E-2,null,1,0,0,0]
["Albion Road",0.91300000000000003,0,0,0,0,0,0,null,1,{"$f":"D9/100","v":0},0,0,0,null,1,0,0,0,null,1,0,0,0]
["Alexandra Ind Est, Locarno Rd/ Alexandra Rd, Tipto",1.875,0,0,0,0,0,0,null,1,0,0,0,0,null,1,0,0,0,null,1,0,0,0]
["Alexandra Ind Est/Locarno Road, Tipton",2.5680000000000001,0,0,0,0,0,0,null,1,0,0,0,0,null,{"$f":"J11-SUM(Q11:S11)","v":1},{"$f":"K11","v":0},{"$f":"L11-K11","v":0},{"$f":"M11-(Q11+R11)","v":0},null,1,0,0,0]
["Alma Street, Smethwick",4.726,0,0,0,0,0,0,null,1,0,0,0,0,null,1,0,0,0,null,1,0,0,0]
["Alutrade, Tat Bank Road",2.7050000000000001,0,0,0,0,0,0,null,1,0,0,0,0,null,1,0,0,0,null,1,0,0,0]
["Arnold Laver, Dudley Rd East, Oldbury (2944",1.0049999999999999,0,0,0,0,0,0,null,1,0,0,0,0,null,1,0,0,0,null,1,0,0,0]
["Autobase, Dudley Road, Oldbury",16.605,0,0,0,0,0,0,null,1,0,0,0,0,null,1,0,0,0,null,1,0,0,0]
["Barnfield Trading Est Tipton (5450)",2.2690000000000001,0,0,0,0,18237.033238245302,80.382669710852397,null,1,0,0,0.80382669710852395,0.80382669710852395,null,0.19617330289147605,0,0,0.80382669710852395,null,1,0,0,0]
["Beakes Road, Bearwood (825)",0.69699999999999995,0,0,0,0,0,0,null,1,0,0,0,0,null,1,0,{"$f":"L17-K17","v":0},0,null,1,0,0,0]
["Beakes Road, Bearwood (826)",0.92600000000000005,0,0,0,0,0,0,null,1,0,0,0,0,null,1,0,0,0,null,1,0,0,0]
["Bescot Industrial Estate, Wednesbury",7.9219999999999997,0,0,0,0,0,0,null,1,0,0,0,0,null,1,0,0,0,null,1,0,0,0]
["Bevan Motor Bodies, Blakeley Hall Road",0.91200000000000003,0,0,0,0,0,0,null,1,0,0,0,0,null,1,0,0,0,null,1,0,0,0]
["Birchley, Oldbury",7.03,16618.326670886101,23.6391761631732,21937.296748864301,31.205285144545801,36090.562027568303,51.337969850614797,null,1,0.23639176163173201,0.31205285144545802,0.51337969850614795,1.0618243115833379,null,0.48662030149385205,0.23639176163173201,7.5661089813726018E-2,0.20132684706068993,null,1,0,0,0]
["Black Country New Road, Wednesbury (Hallens Drive)",44.042999999999999,0,0,0,0,0,0,null,1,0,0,0,0,null,1,0,0,0,null,1,0,0,0]
["Black Country New Road/ Pacific Avenue",23.117999999999999,696.22901787244496,0.30116552755202902,947.04322064528299,0.409659413553004,23560.673737356901,10.191564202933399,null,1,3.0116552755202904E-3,4.0965941355300397E-3,0.10191564202933399,0.10902389144038432,null,0.89808435797066599,3.0116552755202904E-3,1.0849388600097493E-3,9.7819047893803954E-2,null,0.99999999999999989,0,0,0]
["Black Country New Road/Golds Hill, Tipton",15.132999999999999,8489.8322009533294,5.6100603063602801,9416.2035315038393,6.2222042106753701,34821.003973487597,23.009634065245798,null,1,5.6100603063602802E-2,6.2222042106753701E-2,0.23009634065245799,0.3484189858228145,null,0.76990365934754201,5.6100603063602802E-2,6.1214390431508989E-3,0.16787429854570429,null,1,0,0,0]
["Bloomfield Park",5.1470000000000002,0,0,0,0,79.637171244612503,0.15472523261670401,null,1,0,0,1.54725232616704E-3,1.54725232616704E-3,null,0.99845274767383296,0,0,1.54725232616704E-3,null,1,0,0,0]
["Brades Road, Oldbury (Pearsall Drive)",7.03,0,0,0,0,0,0,null,1,0,0,0,0,null,1,0,0,0,null,1,0,0,0]
["Brandon Way (east side)",0.47,0,0,0,0,0,0,null,1,0,0,0,0,null,1,0,0,0,null,1,0,0,0]
["Brandon Way / Albion Rd, WB (2385 / WBPr32)",6.2249999999999996,0,0,0,0,0,0,null,1,0,0,0,0,null,1,0,0,0,null,1,0,0,0]
["Brandon Way/ Albion Road, West Bromwich",3.0859999999999999,0,0,0,0,0,0,null,1,0,0,0,0,null,1,0,0,0,null,1,0,0,0]
["Brickhouse Lane",3.883,0,0,0,0,0,0,null,1,0,0,0,0,null,1,0,0,0,null,1,0,0,0]
["Bridge Street/ Potters Lane",3.6949999999999998,0,0,0,0,0,0,null,1,0,0,0,0,null,1,0,0,0,null,1,0,0,0]
["British Gas, Land off Dudley Rd, Oldbury (2949)",1.056,0,0,0,0,0,0,null,1,0,0,0,0,null,1,0,0,0,null,1,0,0,0]
["Broadcott Industrial Estate, Cradley Heath",1.361,0,0,0,0,0,0,null,1,0,0,0,0,null,1,0,0,0,null,1,0,0,0]
["Broadwell Road, Oldbury",23.771000000000001,31.0211329884078,1.30500482406675E-2,95.346511528813096,4.0110610257057297E-2,95836.969193954093,40.316937221081702,null,1,1.3050048240667499E-4,4.0110610257057294E-4,0.403169372210817,0.40370097879579425,null,0.59683062778918305,1.3050048240667499E-4,2.7060562016389793E-4,0.40276826610824645,null,1,0,0,0]
["Bromford Road Industrial Estate",7.8810000000000002,47.044427600132302,5.9693908636831002E-2,4546.1392559471897,5.7685221234163597,10868.6208020453,13.7910160727267,null,1,5.9693908636830996E-4,5.76852212341636E-2,0.137910160727267,0.19619232104779891,null,0.86208983927273297,5.9693908636830996E-4,5.7088282147795287E-2,8.02249394931034E-2,null,0.99999999999999989,0,0,0]
["Brook St Bus Centre, Brook St Comm Centre, Tipton",1.538,0,0,0,0,15364.149685099101,99.870643197844402,null,1,0,0,0.998706431978444,0.998706431978444,null,1.2935680215560019E-3,0,0,0.998706431978444,null,1,0,0,0]
["Brymill Industrial Estate, Brown Lion St, Tipton",1.7829999999999999,0,0,0,0,0,0,null,1,0,0,0,0,null,1,0,0,0,null,1,0,0,0]
["Burnt Tree Industrial Estate",1.57,0,0,0,0,0,0,null,1,0,0,0,0,null,1,0,0,0,null,1,0,0,0]
["Cakemore Road, Rowley Regis",7.5090000000000003,0,0,0,0,0,0,null,1,0,0,0,0,null,1,0,0,0,null,1,0,0,0]
["Cakemore Road, Rowley Regis",0.60299999999999998,0,0,0,0,0,0,null,1,0,0,0,0,null,1,0,0,0,null,1,0,0,0]
["Car Craft, Darlaston Rd/ Old Park Rd, Kings Hill",5.1859999999999999,0,0,0,0,0,0,null,1,0,0,0,0,null,1,0,0,0,null,1,0,0,0]
["Carlyle Bus and Coach, Carlyle Business Park",0.38700000000000001,0,0,0,0,0,0,null,1,0,0,0,0,null,1,0,0,0,null,1,0,0,0]
["Castle St, High St Tipton (2942)",0.70499999999999996,0,0,0,0,0,0,null,1,0,0,0,0,null,1,0,0,0,null,1,0,0,0]
["Castle St, Tipton (2938)",1.494,0,0,0,0,0,0,null,1,0,0,0,0,null,1,0,0,0,null,1,0,0,0]
["Causeway Green Rd / Wolverhampton Road",0.84799999999999998,0,0,0,0,0,0,null,1,0,0,0,0,null,1,0,{"$f":"L45-K45","v":0},0,null,1,0,0,0]
["Charles Street, West Bromwich",9.0559999999999992,0,0,0,0,0,0,null,1,0,0,0,0,null,1,0,0,0,null,1,0,0,0]
["Chaters Close, Tipton",0.57799999999999996,0,0,0,0,0,0,null,1,0,0,0,0,null,1,0,0,0,null,1,0,0,0]
["Church Lane / Gladstone Street, WB (2389 / WBPr38)",2.2050000000000001,0,0,0,0,4219.3010185605199,19.1392005123374,null,1,0,0,0.19139200512337401,0.19139200512337401,null,0.80860799487662605,0,0,0.19139200512337401,null,1,0,0,0]
["Churchbridge, Oldbury",14.035,12959.3905811406,9.2337434986982405,15251.298023241199,10.8667589796817,28821.447065979999,20.535676257482301,null,1,9.2337434986982408E-2,0.108667589796817,0.20535676257482302,0.40636178735862238,null,0.79464323742517695,9.2337434986982408E-2,1.6330154809834588E-2,9.6689172778006025E-2,null,1,0,0,0]
["Churchbridge, Oldbury (opposite Thurston Avenue)",0.75700000000000001,4328.8286620458603,57.188985210942697,4751.8410609181601,62.777483096123497,5570.1758787737199,73.588661234512301,null,1,0.571889852109427,0.62777483096123499,0.73588661234512298,1.935551295415785,null,0.26411338765487702,0.571889852109427,5.5884978851807987E-2,0.10811178138388799,null,1,0,0,0]
["Clay Lane, Oldbury",0.22700000000000001,0,0,0,0,0,0,null,1,0,0,0,0,null,1,0,0,0,null,1,0,0,0]
["Cleton Street Business Park, Oldbury",2.0129999999999999,0,0,0,0,0,0,null,1,0,0,0,0,null,1,0,0,0,null,1,0,0,0]
["Coneygre Business Park (open land)",7.234,0,0,0,0,0,0,null,1,0,0,0,0,null,1,0,0,0,null,1,0,0,0]
["Coneygre Business Park, Tipton",17.754999999999999,0,0,0,0,0,0,null,1,0,0,0,0,null,1,0,0,0,null,1,0,0,0]
["Coneygre Rd, Burnt Tree, Tipton",1.02,0,0,0,0,0,0,null,1,0,0,0,0,null,1,0,0,0,null,1,0,0,0]
["Corner of Bromford Lane / Brandon Way",3.9529999999999998,0,0,0,0,0,0,null,1,0,0,0,0,null,1,0,0,0,null,1,0,0,0]
["Corngreaves Rd (City Estate Hillcrest Ind Est) Pal",2.8079999999999998,0,0,0,0,0,0,null,1,0,0,0,0,null,1,0,0,0,null,1,0,0,0]
["Corngreaves Road, Cradley Heath",19.739999999999998,46.239018634922097,2.3423958373165299E-2,68.792663848027502,3.4849279719322203E-2,1349.4259426487099,0.68359792317045998,null,1,2.3423958373165299E-4,3.4849279719322202E-4,6.8359792317045998E-3,7.4187116126294746E-3,null,0.99316402076829535,2.3423958373165299E-4,1.1425321346156904E-4,6.487486434511378E-3,null,1,0,0,0]
["Corngreaves Road, Cradley Heath",3.6509999999999998,0,0,0,0,0,0,null,1,0,0,0,0,null,1,0,0,0,null,1,0,0,0]
["Cornwall Road",4.0250000000000004,0,0,0,0,0,0,null,1,0,0,0,0,null,1,0,0,0,null,1,0,0,0]
["Cornwall Road/Foundary Lane, Smethwick",0.35499999999999998,0,0,0,0,0,0,null,1,0,0,0,0,null,1,0,0,0,null,1,0,0,0]
["Cornwall Road/Foundary Lane, Smethwick",2.8839999999999999,0,0,0,0,0,0,null,1,0,0,0,0,null,1,0,0,0,null,1,0,0,0]
["Cornwall Road/Foundary Lane, Smethwick (north of Anne Road)",2.3319999999999999,0,0,0,0,0,0,null,1,0,0,0,0,null,1,0,0,0,null,1,0,0,0]
["Cradley Business Patrk, Cradley Heath",3.706,0,0,0,0,0,0,null,1,0,0,0,0,null,1,0,0,0,null,1,0,0,0]
["Crosswells Road / Hall Street, Oldbury",0.8,0,0,0,0,0,0,null,1,0,0,0,0,null,1,0,0,0,null,1,0,0,0]
["Crystal Drive, Smethwick",14.358000000000001,0,0,0,0,0,0,null,1,{"$f":"D66/100","v":0},0,{"$f":"H66/100","v":0},0,null,1,0,0,0,null,1,0,0,0]
["Cygnus Way, West Bromwich",12.579000000000001,0,0,0,0,0,0,null,1,0,{"$f":"F67/100","v":0},0,{"$f":"SUM(K67:M67)","v":0},null,{"$f":"J67-SUM(Q67:S67)","v":1},{"$f":"K67","v":0},{"$f":"L67-K67","v":0},{"$f":"M67-(Q67+R67)","v":0},null,{"$f":"SUM(P67:S67)","v":1},{"$f":"Q67-K67","v":0},{"$f":"SUM(Q67:R67)-L67","v":0},{"$f":"SUM(Q67:S67)-M67","v":0}]
["Danks Way, Hill Top, West Bromwich",7.6260000000000003,0,0,0,0,0,0,null,1,0,0,0,0,null,1,0,0,0,null,1,0,0,0]
["Dart Products, Garratts Lane",7.85,0,0,0,0,0,0,null,1,0,0,0,0,null,1,0,0,0,null,1,0,0,0]
["Dartmouth Road, Smethwick",23.757999999999999,0,0,0,0,0,0,null,1,0,0,0,0,null,1,0,0,0,null,1,0,0,0]
["Dartmouth Road/ Piaro Way, Smethwick",6.96,0,0,0,0,0,0,null,1,0,0,0,0,null,1,0,0,0,null,1,0,0,0]
["Delta Point, Greets Green Road",8.1829999999999998,0,0,0,0,0,0,null,1,0,0,0,0,null,1,0,0,0,null,1,0,0,0]
["Direct 2, Roway Lane, Oldbury",8.1809999999999992,0,0,0,0,0,0,null,1,0,0,0,0,null,1,0,0,0,null,1,0,0,0]
["Doranda Way",13.967000000000001,0,0,0,0,0,0,null,1,0,0,0,0,null,1,0,0,0,null,1,0,0,0]
["Doulton Road, Rowley Regis (east of canal)",3.52,0,0,0,0,0,0,null,1,0,0,0,0,null,1,0,0,0,null,1,0,0,0]
["DPD, Roebuck Lane",8.9339999999999993,0,0,0,0,0,0,null,1,0,0,0,0,null,1,0,0,0,null,1,0,0,0]
["Droicon Ind Est, Portway Road",0.872,0,0,0,0,0,0,null,1,0,0,0,0,null,1,0,0,0,null,1,0,0,0]
["Dudley Rd, 28 Dudley Rd West (2957)",1.786,0,0,0,0,0,0,null,1,0,0,0,0,null,1,0,0,0,null,1,0,0,0]
["Dudley Road, Oldbury",4.915,0,0,0,0,0,0,null,1,0,0,0,0,null,1,0,0,0,null,1,0,0,0]
["Eel Street, Oldbury",3.1680000000000001,15699.312182727799,49.558599927101,15936.746591541299,50.308117914791097,16831.953064647802,53.134049327356202,null,1,0.49558599927100999,0.50308117914791095,0.53134049327356203,1.5300076716924829,null,0.46865950672643797,0.49558599927100999,7.4951798769009592E-3,2.825931412565108E-2,null,1,0,0,0]
["EMR Oldbury",7.5579999999999998,0,0,0,0,0,0,null,1,0,0,0,0,null,1,0,0,0,null,1,0,0,0]
["Engine Street, Oldbury",1.643,0,0,0,0,0,0,null,1,0,0,0,0,null,1,0,0,0,null,1,0,0,0]
["Exchange Works, Kelvin Way, West Bromwich",1.498,0,0,0,0,0,0,null,1,0,0,0,0,null,1,0,0,0,null,1,0,0,0]
["Fisher St / Coneygre Rd, Tipton",1.744,0,0,0,0,0,0,null,1,0,0,0,0,null,1,0,0,0,null,1,0,0,0]
["Fitzgerald Lighting Ltd, Rood End Rd (2009)",1.393,0,0,0,0,0,0,null,1,0,0,0,0,null,1,0,0,0,null,1,0,0,0]
["Former Corus Premises, Bloomfield Rd, Tipton (5972",0.57599999999999996,0,0,0,0,2272.0144209732098,39.469856993984898,null,1,0,0,0.39469856993984898,0.39469856993984898,null,0.60530143006015102,0,0,0.39469856993984898,null,1,0,0,0]
["Foundry Lane (south)",11.765000000000001,0,0,0,0,0,0,null,1,0,0,0,0,null,1,0,0,0,null,1,0,0,0]
["Foundry Lane/ Anne Road",5.2569999999999997,0,0,0,0,0,0,null,1,0,0,0,0,null,1,0,0,0,null,1,0,0,0]
["Fountain Lane",1.3160000000000001,0,0,127.854127287626,0.97147212605169198,10833.555968979699,82.316448230164298,null,1,0,9.7147212605169196E-3,0.82316448230164296,0.83287920356215983,null,0.17683551769835704,0,9.7147212605169196E-3,0.8134497610411261,null,1,0,0,0]
["Garratts Lane/ Powke Lane",9.3840000000000003,0,0,0,0,0,0,null,1,0,0,0,0,null,1,0,0,0,null,1,0,0,0]
["Garretts Lane, Cradley Heath",0.70699999999999996,0,0,0,0,0,0,null,1,0,0,0,0,null,1,0,0,0,null,1,0,0,0]
["George Henry Road",19.87,0,0,0,0,15.968949162319101,8.0368379511476292E-3,null,1,0,0,8.0368379511476295E-5,8.0368379511476295E-5,null,0.99991963162048847,0,0,8.0368379511476295E-5,null,1,0,0,0]
["Great Bridge Ind Est / Harrold Street",4.5919999999999996,0,0,28285.487297643602,61.600329070599102,43891.423723606596,95.587044914602004,null,1,0,0.61600329070599102,0.95587044914602004,1.5718737398520111,null,4.412955085397996E-2,0,0.61600329070599102,0.33986715844002902,null,1,0,0,0]
["Great Western Street, Wednesbury",3.8319999999999999,0,0,0.195092073852322,5.0904793898108895E-4,15914.5288022038,41.5253061113565,null,1,0,5.0904793898108895E-6,0.41525306111356497,0.41525815159295476,null,0.58474693888643503,0,5.0904793898108895E-6,0.41524797063417518,null,1,0,0,0]
["Griffin Ind Est, Penncricket Lane",3.323,101.365018182434,0.30500252073745898,101.36504832561999,0.30500261143687402,9430.5332749033696,28.376026289140999,null,1,3.0500252073745898E-3,3.0500261143687401E-3,0.28376026289140999,0.28986031421315334,null,0.71623973710859001,3.0500252073745898E-3,9.0699415035769282E-10,0.28071023677704127,null,1,0,0,0]
["Groveland Rd (2963)",1.1830000000000001,0,0,0,0,0,0,null,1,0,0,0,0,null,1,0,0,0,null,1,0,0,0]
["Hainge Road, Oldbury",14.332000000000001,0,0,0,0,0,0,null,1,0,0,0,0,null,1,0,0,0,null,1,0,0,0]
["Hale Trading Estate, Tipton",2.74,0,0,0,0,0,0,null,1,0,0,0,0,null,1,0,0,0,null,1,0,0,0]
["Hales Way, Oldbury",1.5169999999999999,0,0,0,0,0,0,null,1,0,0,0,0,null,1,0,0,0,null,1,0,0,0]
["Halfords Lane",24.248000000000001,0,0,0,0,0,0,null,1,0,0,0,0,null,1,0,0,0,null,1,0,0,0]
["Hill Top, West Bromwich",15.186999999999999,36787.255553432602,24.2230244812284,39430.016433902398,25.963183146032101,82697.880682104005,54.453444764280498,null,1,0.242230244812284,0.25963183146032098,0.54453444764280501,1.0463965239154098,null,0.45546555235719499,0.242230244812284,1.7401586648036982E-2,0.28490261618248403,null,1,0,0,0]
["Holloway Bank",1.034,0,0,0,0,0,0,null,1,0,0,0,0,null,1,0,0,0,null,1,0,0,0]
["Holloway Bank, Wednesbury",5.3079999999999998,823.95843425879798,1.5523553755442501,929.40921436757299,1.7510269086592101,2701.3940461360999,5.0894843655007396,null,1,1.5523553755442501E-2,1.75102690865921E-2,5.0894843655007398E-2,8.3928666497042004E-2,null,0.9491051563449926,1.5523553755442501E-2,1.9867153311495991E-3,3.3384574568415301E-2,null,0.99999999999999989,0,0,0]
["Holloway Bank/ Bilport Lane",1.776,3062.6290248669502,17.243716993705299,4234.1946073743302,23.840057974049898,6997.6783661412701,39.399478153889802,null,1,0.17243716993705299,0.238400579740499,0.393994781538898,0.80483253121644993,null,0.606005218461102,0.17243716993705299,6.5963409803446005E-2,0.155594201798399,null,1,0,0,0]
["Houghton Street, Oldbury",1.4390000000000001,0,0,2.26813864592043,1.5760463380689201E-2,32.572386011860502,0.22633356117138001,null,1,0,1.5760463380689202E-4,2.2633356117138003E-3,2.4209402455206922E-3,null,0.99773666438828623,0,1.5760463380689202E-4,2.1057309779069083E-3,null,1,0,0,0]
["Howard Street",27.937999999999999,0,0,0,0,0,0,null,1,0,0,0,0,null,1,0,0,0,null,1,0,0,0]
["James Watt Industrial Park",3.6389999999999998,0,0,0,0,0,0,null,1,0,0,0,0,null,1,0,0,0,null,1,0,0,0]
["JAS Ind Park, Titford Lane, Oldbury (3013)",0.94,0,0,0,0,8.3580224190541195,8.8937440127920805E-2,null,1,0,0,8.8937440127920806E-4,8.8937440127920806E-4,null,0.99911062559872077,0,0,8.8937440127920806E-4,null,1,0,0,0]
["JerseyTex Ltd, Upper Church Lane, Princes End",1.5820000000000001,0,0,0,0,0,0,null,1,0,0,0,0,null,1,0,0,0,null,1,0,0,0]
["JH Lavender & Co, Crankhall Lane, West Bromwich",1.3140000000000001,0,0,0,0,0,0,null,1,0,0,0,0,null,1,0,0,0,null,1,0,0,0]
["Joseph Street, Oldbury",2.9660000000000002,11721.720477794101,39.517715521386201,12677.305053877601,42.739300569915002,14582.953973174001,49.163860174373703,null,1,0.39517715521386199,0.42739300569915001,0.49163860174373702,1.3142087626567491,null,0.50836139825626292,0.39517715521386199,3.2215850485288022E-2,6.4245596044587017E-2,null,0.99999999999999989,0,0,0]
["Junction 9 (Opus 9)",2.343,12658.977209328699,54.0353544638767,13545.5560410326,57.819751942370203,15749.6532755965,67.228029828733895,null,1,0.54035354463876706,0.57819751942370201,0.67228029828733893,1.7908313623498082,null,0.32771970171266107,0.54035354463876706,3.7843974784934953E-2,9.4082778863636918E-2,null,1,0,0,0]
["Junction One, Oldbury",4.7169999999999996,0,0,0,0,0,0,null,1,0,0,0,0,null,1,0,0,0,null,1,0,0,0]
["Junction Two, Oldbury",1.1279999999999999,0,0,0,0,0,0,null,1,0,0,0,0,null,1,0,0,0,null,1,0,0,0]
["Kelvin Way WBPr35",33.9,0,0,0,0,0,0,null,1,0,0,0,0,null,1,0,0,0,null,1,0,0,0]
["Kings Hill Business Park",3.2679999999999998,0,0,0,0,0,0,null,1,0,0,0,0,null,1,0,0,0,null,1,0,0,0]
["Kitchener Street, Smethwick",1.3939999999999999,0,0,0,0,0,0,null,1,0,0,0,0,null,1,0,0,0,null,1,0,0,0]
["Land & premises Barnfield Rd, Brook St, Bloomfield",0.83499999999999996,0,0,0,0,8352.6846836321001,100,null,1,0,0,1,1,null,0,0,0,1,null,1,0,0,0]
["Land at Birmingham Road / Roebuck Lane",6.806,0,0,0,0,0,0,null,1,0,0,0,0,null,1,0,0,0,null,1,0,0,0]
["Land at corner of Birmingham Road",0.48,0,0,0,0,0,0,null,1,0,0,0,0,null,1,0,0,0,null,1,0,0,0]
["Land at Doulton Way, bt Factory Rd, Bloomfield Rd, Tipton",2.7589999999999999,0,0,0,0,1775.28942315941,6.4339750908123801,null,1,0,0,6.4339750908123799E-2,6.4339750908123799E-2,null,0.93566024909187617,0,0,6.4339750908123799E-2,null,1,0,0,0]
["Land at Junction 1 / Kenrick Way",4.1459999999999999,0,0,0,0,0,0,null,1,0,0,0,0,null,1,0,0,0,null,1,0,0,0]
["Land at Potters Lane & Stafford St, Weds (5642)",0.85599999999999998,0,0,0,0,0,0,null,1,0,0,0,0,null,1,0,0,0,null,1,0,0,0]
["Land bt Great Bridge St & William St, Tipton (2965",1.081,0,0,0,0,0,0,null,1,0,0,0,0,null,1,0,0,0,null,1,0,0,0]
["Land by Whitehall Road and Walsall Canal",1.04,0,0,0,0,0,0,null,1,0,0,0,0,null,1,0,0,0,null,1,0,0,0]
["land off dudley rd, oldbury",0.98099999999999998,0,0,0,0,0,0,null,1,0,0,0,0,null,1,0,0,0,null,1,0,0,0]
["Land off Tipton Road, Oldbury",0.81200000000000006,0,0,0,0,0,0,null,1,0,0,0,0,null,1,0,0,0,null,1,0,0,0]
["Leabrook Road, Tipton",7.4790000000000001,0,0,0,0,0,0,null,1,0,0,0,0,null,1,0,0,0,null,1,0,0,0]
["Legacy 43, Ryder Street, West Bromwich",0.88300000000000001,0,0,0,0,0,0,null,1,0,0,0,0,null,1,0,0,0,null,1,0,0,0]
["Lidl, Junction 9 (Opus 9)",8.7070000000000007,39196.826990364498,45.015399660505999,44491.767224291099,51.096347255251203,59452.946421066998,68.278438578634905,null,1,{"$f":"D130/100","v":0.45015399660506},0.51096347255251207,{"$f":"H130/100","v":0.68278438578634904},1.643901854943921,null,0.31721561421365096,0.45015399660506,6.0809475947452063E-2,0.17182091323383697,null,0.99999999999999989,0,0,0]
["Newlyn Road, Cradley Heath",3.411,0,0,0,0,0,0,null,1,0,{"$f":"F131/100","v":0},0,{"$f":"SUM(K131:M131)","v":0},null,{"$f":"J131-SUM(Q131:S131)","v":1},{"$f":"K131","v":0},{"$f":"L131-K131","v":0},{"$f":"M131-(Q131+R131)","v":0},null,{"$f":"SUM(P131:S131)","v":1},{"$f":"Q131-K131","v":0},{"$f":"SUM(Q131:R131)-L131","v":0},{"$f":"SUM(Q131:S131)-M131","v":0}]
["Old Park Trading Estate, Old Park Rd (2922)",2.6419999999999999,0,0,0,0,0,0,null,1,0,0,0,0,null,1,0,0,0,null,1,0,0,0]
["Oldbury Point Ind Est, Rood End Road",3.2320000000000002,0,0,0,0,0,0,null,1,0,0,0,0,null,1,0,0,0,null,1,0,0,0]
["Oldbury Rd Ind Est, Oldbury Rd (2994)",0.57399999999999995,0,0,0,0,0,0,null,1,0,0,0,0,null,1,0,0,0,null,1,0,0,0]
["Oldbury Rd, Oldbury (3014)",2.4159999999999999,0,0,0,0,0,0,null,1,0,0,0,0,null,1,0,0,0,null,1,0,0,0]
["Oldbury Rd, WB (2384 / WBPr31)",18.937999999999999,0,0,0,0,0,0,null,1,0,0,0,0,null,1,0,0,0,null,1,0,0,0]
["Oldfield Trading Estate, Cradley Heath",1.766,0,0,0,0,0,0,null,1,0,0,0,0,null,1,0,0,0,null,1,0,0,0]
["Palmers Timber Site, Station Rd, Old Hill (3043)",3.149,0,0,0,0,0,0,null,1,0,0,0,0,null,1,0,0,0,null,1,0,0,0]
["Park Lane Trading Estate, Oldbury",2.1819999999999999,1.8811213609178501,8.6203380622478006E-3,2.0602161784050099,9.4410495293604495E-3,55.473807747287303,0.25421165604564,null,1,8.6203380622478008E-5,9.4410495293604496E-5,2.5421165604564001E-3,2.7227304363724824E-3,null,0.99745788343954356,8.6203380622478008E-5,8.2071146711264876E-6,2.4477060651627957E-3,null,0.99999999999999989,0,0,0]
["Park Lane West",2.9529999999999998,0,0,0,0,0,0,null,1,0,0,0,0,null,1,0,0,0,null,1,0,0,0]
["Park Lane, West Bromwich",10.103999999999999,0,0,0,0,0,0,null,1,0,0,0,0,null,1,0,0,0,null,1,0,0,0]
["Park Lane, West Bromwich",2.452,0,0,0,0,0,0,null,1,0,0,0,0,null,1,0,0,0,null,1,0,0,0]
["Parkroase Estate, Rounds Green Road, Oldbury",2.5880000000000001,0,0,0,0,0,0,null,1,0,0,0,0,null,1,0,0,0,null,1,0,0,0]
["Parsonage Street, Oldbury",10.189,0,0,0,0,0,0,null,1,0,0,0,0,null,1,0,0,0,null,1,0,0,0]
["Pennington Close",4.22,0,0,0,0,0,0,null,1,0,0,0,0,null,1,0,0,0,null,1,0,0,0]
["Ph 9, The Parkway, bt Stafford St/ Victoria st/ Po",0.94199999999999995,0,0,0,0,0,0,null,1,0,0,0,0,null,1,0,0,0,null,1,0,0,0]
["Phoenix St / Belper Ind Est Greets Green Road, Wes",5.5679999999999996,0,0,0,0,0,0,null,1,0,0,0,0,null,1,0,0,0,null,1,0,0,0]
["Phoenix Street (west), West Bromwich",3.4510000000000001,0,0,0,0,0,0,null,1,0,0,0,0,null,1,0,0,0,null,1,0,0,0]
["Pikehelve Street, Hill Top, West Bromwich",5.93,0,0,0,0,0,0,null,1,0,0,0,0,null,1,0,0,0,null,1,0,0,0]
["Popes Lane, Oldbury",10.856,0,0,0,0,0,0,null,1,0,0,0,0,null,1,0,0,0,null,1,0,0,0]
["Popes Lane, Oldbury",2.919,0,0,0,0,0,0,null,1,0,0,0,0,null,1,0,0,0,null,1,0,0,0]
["Portway Rd, Weds (5129)",3.782,0,0,0,0,0,0,null,1,0,0,0,0,null,1,0,0,0,null,1,0,0,0]
["Portway Rd, Weds (5129)",4.5259999999999998,0,0,0,0,0,0,null,1,0,0,0,0,null,1,0,0,0,null,1,0,0,0]
["Portway Road",3.028,2.6991354196334201,8.9131168102055802E-3,7.0628899165740204,2.3323158366243501E-2,24.359293244647802,8.0439545390829204E-2,null,1,8.9131168102055805E-5,2.3323158366243501E-4,8.0439545390829199E-4,1.1267582056727829E-3,null,0.99919560454609169,8.9131168102055805E-5,1.4410041556037922E-4,5.711638702458569E-4,null,0.99999999999999989,0,0,0]
["Portway Road Industrial Estate",2.1280000000000001,0,0,0,0,0,0,null,1,0,0,0,0,null,1,0,0,0,null,1,0,0,0]
["Potters Lane, Wednesbury (actually between Stafford St/ Albert St)",0.39500000000000002,0,0,0,0,0,0,null,1,0,0,0,0,null,1,0,0,0,null,1,0,0,0]
["Powke Lane (east side)",3.5070000000000001,0,0,0,0,0,0,null,1,0,0,0,0,null,1,0,0,0,null,1,0,0,0]
["Powke Lane (west side)",6.3819999999999997,0,0,0,0,0,0,null,1,0,0,0,0,null,1,0,0,0,null,1,0,0,0]
["Powke Lane Industrial Estate, Cradley Heath",2.181,0,0,0,0,0,0,null,1,0,0,0,0,null,1,0,0,0,null,1,0,0,0]
["Powke Lane/ Doulton Road",9.1140000000000008,0,0,0,0,0,0,null,1,0,0,0,0,null,1,0,0,0,null,1,0,0,0]
["Princes End Garage",0.191,0,0,0,0,0,0,null,1,0,0,0,0,null,1,0,0,0,null,1,0,0,0]
["Purity Soft Drinks Limited, Mounts Road",0.34699999999999998,0,0,0,0,0,0,null,1,0,0,0,0,null,1,0,0,0,null,1,0,0,0]
["Rabone Lane, Smethwick (2372)",4.7359999999999998,0,0,0,0,0,0,null,1,0,0,0,0,null,1,0,0,0,null,1,0,0,0]
["Rabone Park",3.948,0,0,0,0,0,0,null,1,0,0,0,0,null,1,0,0,0,null,1,0,0,0]
["Reddal Hill Rd/ Newtown St, Cradley Heath",4.452,1385.77885911871,3.11243130477011,1385.7788591261599,3.1124313047868499,1385.7788591410599,3.1124313048203098,null,1,3.1124313047701101E-2,3.1124313047868498E-2,3.1124313048203098E-2,9.337293914377269E-2,null,0.96887568695179693,3.1124313047701101E-2,1.6739734598480993E-13,3.3460040294031046E-13,null,1,0,0,0]
["Richmond Street, West Bromwich",10.239000000000001,0,0,0,0,0,0,null,1,0,0,0,0,null,1,0,0,0,null,1,0,0,0]
["Ridgacre Road (north)",0.80200000000000005,0,0,0,0,0,0,null,1,0,0,0,0,null,1,0,0,0,null,1,0,0,0]
["Ridgacre Road (south)",1.052,0,0,0,0,0,0,null,1,0,0,0,0,null,1,0,0,0,null,1,0,0,0]
["Ridgacre Road Church Lane, West Bromwich (New build) (former Express and Star)",1.4219999999999999,0,0,0,0,0,0,null,1,0,0,0,0,null,1,0,0,0,null,1,0,0,0]
["Ridgacre Road Church Lane, West Bromwich (old part)",0.92400000000000004,0,0,0,0,0,0,null,1,0,0,0,0,null,1,0,0,0,null,1,0,0,0]
["Ridgarce Road, West Bromwich",1.139,0,0,0,0,0,0,null,1,0,0,0,0,null,1,0,0,0,null,1,0,0,0]
["Ridgarce Road, West Bromwich",1.641,0,0,0,0,0,0,null,1,0,0,0,0,null,1,0,0,0,null,1,0,0,0]
["Ridgarce Road, West Bromwich",0.75600000000000001,0,0,0,0,0,0,null,1,0,0,0,0,null,1,0,0,0,null,1,0,0,0]
["Rounds Green Road/Shidas Lane, Oldbury",2.7879999999999998,0,0,0,0,0,0,null,1,0,0,0,0,null,1,0,0,0,null,1,0,0,0]
["Roway Lane, Oldbury",6.024,0,0,0,0,0,0,null,1,0,0,0,0,null,1,0,0,0,null,1,0,0,0]
["Roway Lane, Oldbury (Call for Sites)",3.6629999999999998,0,0,0,0,0,0,null,1,0,0,0,0,null,1,0,0,0,null,1,0,0,0]
["Ryder, Euroway Park",2.2480000000000002,0,0,0,0,0,0,null,1,0,0,0,0,null,1,0,0,0,null,1,0,0,0]
["Ryders Green Rd, Greets Green Ind Est, Greets Green",2.9569999999999999,0,0,0,0,0,0,null,1,0,0,0,0,null,1,0,0,0,null,1,0,0,0]
["Sandwell Business Dev Centre, Oldbury Road",0.67200000000000004,0,0,0,0,0,0,null,1,0,0,0,0,null,1,0,0,0,null,1,0,0,0]
["Sedgley Road West/Hurst Lane, Tipton",3.073,0,0,0,0,0,0,null,1,0,0,0,0,null,1,0,0,0,null,1,0,0,0]
["Seven Stars Rd, Oldbury (586)",2.5179999999999998,0,0,0,0,0,0,null,1,0,0,0,0,null,1,0,0,0,null,1,0,0,0]
["Seven Stars Road, Oldbury",1.472,249.97719704790299,1.69814215528917,310.46538521439197,2.10904980380919,379.92390180746702,2.58089458190689,null,1,1.6981421552891701E-2,2.10904980380919E-2,2.5808945819068899E-2,6.3880865410052501E-2,null,0.9741910541809311,1.6981421552891701E-2,4.1090764852001992E-3,4.718447780976999E-3,null,1,0,0,0]
["Silverthorne Lane",1.0509999999999999,0,0,0,0,0,0,null,1,0,0,0,0,null,1,0,0,0,null,1,0,0,0]
["Site at Bloomfield Rd, Fountaihn Lane & Bradleys Lane, Tipton",1.4379999999999999,0,0,0,0,0,0,null,1,0,0,0,0,null,1,0,0,0,null,1,0,0,0]
["Site at Great Wester St & Potters Lane, Weds (5641",2.1469999999999998,0,0,0,0,0,0,null,1,0,0,0,0,null,1,0,0,0,null,1,0,0,0]
["Site bt Charles St & Walsall Canal Great Bridge (2",2.1829999999999998,0,0,0,0,0,0,null,1,0,0,0,0,null,1,0,0,0,null,1,0,0,0]
["Site off Bilport Lane, Wednesbury",5.31,536.90055435721399,1.01116907512579,689.00147690537904,1.2976276155959801,12999.9888244226,24.483466387876401,null,1,1.0111690751257901E-2,1.2976276155959801E-2,0.24483466387876401,0.26792263078598172,null,0.75516533612123604,1.0111690751257901E-2,2.8645854047018998E-3,0.2318583877228042,null,1,0,0,0]
["Site off Richmond St, West Bromwich",1.109,0,0,0,0,0,0,null,1,0,0,0,0,null,1,0,0,0,null,1,0,0,0]
["Site on Railway Street, Horseley Heath, Tipton",0.18,0,0,0,0,0,0,null,1,0,0,0,0,null,1,0,0,0,null,1,0,0,0]
["Site on Stafford St, Weds (5646)",1.4590000000000001,0,0,0,0,0,0,null,1,0,0,0,0,null,1,0,0,0,null,1,0,0,0]
["Soho Triangle",1.7170000000000001,0,0,0,0,0,0,null,1,0,0,0,0,null,1,0,0,0,null,1,0,0,0]
["Spinners End Industrial Estate, Cradley Heath",0.65100000000000002,0,0,0,0,0,0,null,1,0,0,0,0,null,1,0,0,0,null,1,0,0,0]
["Stafford Street/ Albert Street, Wednesbury",0.73699999999999999,0,0,0,0,0,0,null,1,0,0,0,0,null,1,0,0,0,null,1,0,0,0]
["Station Road / Avenue Road / Cardale Street Rowley",3.1909999999999998,0,0,0,0,0,0,null,1,{"$f":"D194/100","v":0},0,{"$f":"H194/100","v":0},0,null,1,0,0,0,null,1,0,0,0]
["Station Road Industrial Est, Rowley Regis",3.2240000000000002,0,0,0,0,0,0,null,1,0,{"$f":"F195/100","v":0},0,{"$f":"SUM(K195:M195)","v":0},null,{"$f":"J195-SUM(Q195:S195)","v":1},{"$f":"K195","v":0},{"$f":"L195-K195","v":0},{"$f":"M195-(Q195+R195)","v":0},null,{"$f":"SUM(P195:S195)","v":1},{"$f":"Q195-K195","v":0},{"$f":"SUM(Q195:R195)-L195","v":0},{"$f":"SUM(Q195:S195)-M195","v":0}]
["Station St, Tipton (1448)",1.37,0,0,0,0,0,0,null,1,0,0,0,0,null,1,0,0,0,null,1,0,0,0]
["Station Street/Graingers Lane, Cradley Heath",2.2810000000000001,0,0,0,0,0,0,null,1,0,0,0,0,null,1,0,0,0,null,1,0,0,0]
["Summerton Rd, Oldbury (3223)",0.56499999999999995,0,0,0,0,0,0,null,1,0,0,0,0,null,1,0,0,0,null,1,0,0,0]
["Summit Crescent, Smethwick (east)",4.03,0,0,0,0,0,0,null,1,0,0,0,0,null,1,0,0,0,null,1,0,0,0]
["Summit Crescent, Smethwick (west)",5.98,0,0,0,0,0,0,null,1,0,0,0,0,null,1,0,0,0,null,1,0,0,0]
["Swan Lane, West Bromwich",0.83399999999999996,0,0,0,0,0,0,null,1,0,0,0,0,null,1,0,0,0,null,1,0,0,0]
["Swan Lane, West Bromwich",1.28,0,0,0,0,0,0,null,1,0,0,0,0,null,1,0,0,0,null,1,0,0,0]
["Tatbak Road",8.657,0,0,0,0,0,0,null,1,0,0,0,0,null,1,0,0,0,null,1,0,0,0]
["Taylors Lane, Oldbury",4.1909999999999998,0,0,0,0,0,0,null,1,0,0,0,0,null,1,0,0,0,null,1,0,0,0]
["Tennants Ryders Green Rd / SCA Tasker St",1.0249999999999999,0,0,0,0,0,0,null,1,0,0,0,0,null,1,0,0,0,null,1,0,0,0]
["Tennants Ryders Green Rd, West Bromwich",2.9159999999999999,0,0,0,0,0,0,null,1,0,0,0,0,null,1,0,0,0,null,1,0,0,0]
["The Angle Ring Co. Ltd",1.706,0,0,0,0,0,0,null,1,0,0,0,0,null,1,0,0,0,null,1,0,0,0]
["The Bridge Trading Estate",3.34,0,0,0,0,0,0,null,1,0,0,0,0,null,1,0,0,0,null,1,0,0,0]
["The Lyng Industrial Estate, West Bromwich",9.8450000000000006,0,0,0,0,0,0,null,1,0,0,0,0,null,1,0,0,0,null,1,0,0,0]
["Tipton Rd, Oldbury (2958)",1.7629999999999999,0,0,0,0,0,0,null,1,0,0,0,0,null,1,0,0,0,null,1,0,0,0]
["Tipton Road",3.1850000000000001,0,0,0,0,0,0,null,1,0,0,0,0,null,1,0,0,0,null,1,0,0,0]
["Toll End Road, Tipton 2",5.9029999999999996,0,0,3262.9355339160702,5.5278636922587303,44906.618692097902,76.078017610181902,null,1,0,5.5278636922587304E-2,0.76078017610181903,0.8160588130244063,null,0.23921982389818097,0,5.5278636922587304E-2,0.70550153917923175,null,1,0,0,0]
["Trinity Street, Oldbury",26.986000000000001,0,0,0,0,0,0,null,1,0,0,0,0,null,1,0,0,0,null,1,0,0,0]
["Union Road",12.159000000000001,40.1096281859665,3.2986445905078501E-2,47.522618813506497,3.9082942566589701E-2,61.928110018644396,5.0930121856589301E-2,null,1,3.2986445905078504E-4,3.9082942566589699E-4,5.0930121856589301E-4,1.229995103282575E-3,null,0.99949069878143415,3.2986445905078504E-4,6.0964966615111949E-5,1.1847179289999602E-4,null,1,0,0,0]
["unit 7,8,9 Coneygree Ind Est, Coneygree Road",1.0329999999999999,0,0,0,0,0,0,null,1,0,0,0,0,null,1,0,0,0,null,1,0,0,0]
["Upper Chapel St, Bittania St, 70-74 Dudley Rd West",0.64100000000000001,0,0,0,0,0,0,null,1,0,0,0,0,null,1,0,0,0,null,1,0,0,0]
["various sites (3034, 3226, 1436)",6.359,930.06612670862296,1.46266323765634,930.06612670862296,1.46266323765634,930.06612670862296,1.46266323765634,null,1,1.4626632376563399E-2,1.4626632376563399E-2,1.4626632376563399E-2,4.3879897129690197E-2,null,0.98537336762343664,1.4626632376563399E-2,0,0,null,1,0,0,0]
["Various sites on Mounts Rd, (2926, 2911, 2927, 290",6.3419999999999996,0,0,0,0,506.74898870132603,0.79906624119625602,null,1,0,0,7.9906624119625604E-3,7.9906624119625604E-3,null,0.99200933758803744,0,0,7.9906624119625604E-3,null,1,0,0,0]
["Varney Business Park",0.73099999999999998,0,0,0,0,0,0,null,1,0,0,0,0,null,1,0,0,0,null,1,0,0,0]
["Vaughan Trading Estate, Dudley Road East",19.998000000000001,0,0,0,0,31549.307239611,15.776071674773601,null,1,0,0,0.15776071674773601,0.15776071674773601,null,0.84223928325226405,0,0,0.15776071674773601,null,1,0,0,0]
["Vector Ind Park, Church Lane, WB (5556)",5.2229999999999999,0,0,0,0,0,0,null,1,0,0,0,0,null,1,0,0,0,null,1,0,0,0]
["Wade Building Services, Groveland Road, Tividale",1.43,0,0,0,0,0,0,null,1,0,0,0,0,null,1,0,0,0,null,1,0,0,0]
["Waterfall Lane",2.7050000000000001,0,0,0,0,0,0,null,1,0,0,0,0,null,1,0,0,0,null,1,0,0,0]
["Waterfall Lane Trading Estate, Cradley Heath",5.7629999999999999,0,0,0,0,0,0,null,1,0,0,0,0,null,1,0,0,0,null,1,0,0,0]
["Wednesbury Trading Estate, Wednesbury",8.734,0,0,0,0,0,0,null,1,0,0,0,0,null,1,0,0,0,null,1,0,0,0]
["Wharfeside, Oldbury",6.1970000000000001,0,0,0,0,0,0,null,1,0,0,0,0,null,1,0,0,0,null,1,0,0,0]
["Whitehall Rd Ind Est, West Brom (2916)",2.59,0,0,0,0,0,0,null,1,0,0,0,0,null,1,0,0,0,null,1,0,0,0]
["Whitehall Road, Tipton",5.319,0,0,0,0,0,0,null,1,0,0,0,0,null,1,0,0,0,null,1,0,0,0]
["Wrights Plastics, Brandon Way/ Brandon Close",0.58699999999999997,0,0,0,0,0,0,null,1,0,0,{"$f":"H229/100","v":0},0,null,1,0,0,0,null,1,0,0,0]
["Zion Street, Tipton",2.4390000000000001,0,0,0,0,0,0,null,1,0,0,0,0,null,{"$f":"J230-SUM(Q230:S230)","v":1},0,0,0,null,1,0,0,0]
[null,null,null,null,null,null,null,null,null,null,null,null,null,null,null,"FZ1","FZ3b sliver","FZ3a sliver","FZ2 sliver",null,"FZ1","FZ3b sliver","FZ3a sliver","FZ2 sliver"]
["192-200 Dudley Road, Oldbury",0.57999999999999996,null,0,null,0,null,0,null,1,{"$f":"D232/100","v":0},{"$f":"F232/100","v":0},{"$f":"H232/100","v":0},null,null,{"$f":"J232-SUM(Q232:S232)","v":1},{"$f":"K232","v":0},{"$f":"L232-K232","v":0},{"$f":"M232-(Q232+R232)","v":0},null,{"$f":"P232*100","v":100},{"$f":"Q232*100","v":0},{"$f":"R232*100","v":0},{"$f":"S232*100","v":0},{"$f":"SUM(U232:X232)","v":100}]
["28-64 High Street, West Bromwich",0.97,null,0,null,0,null,0,null,1,{"$f":"D233/100","v":0},{"$f":"F233/100","v":0},{"$f":"H233/100","v":0},null,null,{"$f":"J233-SUM(Q233:S233)","v":1},{"$f":"K233","v":0},{"$f":"L233-K233","v":0},{"$f":"M233-(Q233+R233)","v":0},null,{"$f":"P233*100","v":100},{"$f":"Q233*100","v":0},{"$f":"R233*100","v":0},{"$f":"S233*100","v":0},{"$f":"SUM(U233:X233)","v":100}]
["Abberley Street Grove Lane Master Plan",2.48,null,0,null,0,null,0,null,1,0,0,0,null,null,1,0,0,0,null,100,0,0,0,100]
["Alma Street, Wednesbury",0.54,null,0,null,0,null,0,null,1,0,0,0,null,null,1,0,0,0,null,100,0,0,0,100]
["Army Reserve, Carters Green",1.17,null,0,null,0,null,0,null,1,0,0,0,null,null,1,0,0,0,null,100,0,0,0,100]
["Bank Street (West), Hateley Heath",0.85,null,0,null,0,null,0,null,1,0,0,0,null,null,1,0,0,0,null,100,0,0,0,100]
["Beever Road",0.84,null,10.327570948494101,null,17.823120257525499,null,53.618035383686198,null,1,0.10327570948494101,0.17823120257525499,0.53618035383686202,null,null,0.46381964616313798,0.10327570948494101,7.4955493090313977E-2,0.35794915126160703,null,46.381964616313795,10.327570948494101,7.4955493090313974,35.794915126160703,100]
["Brades Road, Oldbury",1.2,null,0,null,0,null,0,null,1,0,0,0,null,null,1,0,0,0,null,100,0,0,0,100]
["Bradleys Lane / High Street, Tipton",5.32,null,0,null,0,null,0,null,1,0,0,0,null,null,1,0,0,0,null,100,0,0,0,100]
["Brandhall Golf Course",5.19,null,0,null,0,null,0,null,1,0,0,0,null,null,1,0,0,0,null,100,0,0,0,100]
["Brown Lion Street",0.47,null,0,null,0,null,0,null,1,0,0,0,null,null,1,0,0,0,null,100,0,0,0,100]
["Cape Arm Cranford Street",2.14,null,0,null,0,null,0,null,1,0,0,0,null,null,1,0,0,0,null,100,0,0,0,100]
["Chances Glass Works",3.39,null,0,null,0,null,0,null,1,0,0,0,null,null,1,0,0,0,null,100,0,0,0,100]
["Cokeland Place / Graingers Lane, Cradley Heath",0.37,null,0,null,0,null,0,null,1,0,0,0,null,null,1,0,0,0,null,100,0,0,0,100]
["Cradley Heath Factory Centre, Woods Lane, Cradley",5.57,null,2.77268818443468,null,2.8515381922312701,null,2.88918062266338,null,1,2.7726881844346799E-2,2.8515381922312701E-2,2.8891806226633801E-2,null,null,0.97110819377336621,2.7726881844346799E-2,7.885000779659021E-4,3.7642430432109977E-4,null,97.110819377336625,2.77268818443468,7.885000779659021E-2,3.7642430432109977E-2,100.00000000000001]
["Cranford Street / Heath Street / Canal",5.01,null,0,null,0,null,0,null,1,0,0,0,null,null,1,0,0,0,null,100,0,0,0,100]
["cultural quarter, west brom",1.0900000000000001,null,0,null,0,null,0,null,1,0,0,0,null,null,1,0,0,0,null,100,0,0,0,100]
["Dudley Road East",2.66,null,0,null,0,null,0,null,1,0,0,0,null,null,1,0,0,0,null,100,0,0,0,100]
["Edwin Richards Quarry, Portway Road, Rowley Regis",51.26,null,0,null,0,null,0,null,1,0,0,0,null,null,1,0,0,0,null,100,0,0,0,100]
["Elbow Street, Old Hill",0.72,null,0,null,0,null,0,null,1,0,0,0,null,null,1,0,0,0,null,100,0,0,0,100]
["Evans Halshaw car showroom",0.89,null,0,null,0,null,0,null,1,0,0,0,null,null,1,0,0,0,null,100,0,0,0,100]
["Friar Street, Wednesbury",1.02,null,0,null,0,null,0,null,1,0,0,0,null,null,1,0,0,0,null,100,0,0,0,100]
["George Street Living",2.36,null,0,null,0,null,0,null,1,0,0,0,null,null,1,0,0,0,null,100,0,0,0,100]
["Grove Lane/ Cranford Street/ London Street",2.09,null,0,null,0,null,0,null,1,0,0,0,null,null,1,0,0,0,null,100,0,0,0,100]
["Grove Street / MMUH / School - Grove Lane MP",2.19,null,0,null,0,null,0,null,1,0,0,0,null,null,1,0,0,0,null,100,0,0,0,100]
["Land adj to Droicon Estate, Portway Road, Rowley R",0.66,null,0,null,0,null,0,null,1,0,0,0,null,null,1,0,0,0,null,100,0,0,0,100]
["Land adjacent To Asda Wolverhampton Road, Oldbury",1.61,null,3.6752805747956199,null,3.7127017607911501,null,3.9425169755142,null,1,3.6752805747956196E-2,3.7127017607911504E-2,3.9425169755142001E-2,null,null,0.96057483024485801,3.6752805747956196E-2,3.7421185995530765E-4,2.2981521472304964E-3,null,96.057483024485805,3.6752805747956199,3.7421185995530765E-2,0.22981521472304964,100]
["Land at Horseley Heath, Alexandra Road, and Lower",2.27,null,0,null,0,null,0,null,1,0,0,0,null,null,1,0,0,0,null,100,0,0,0,100]
["Land between Addington Way and River Tame, Temple",0.89,null,9.7036750220232602,null,10.117108776117201,null,32.934672015984603,null,1,9.7036750220232601E-2,0.10117108776117201,0.32934672015984601,null,null,0.67065327984015399,9.7036750220232601E-2,4.1343375409394062E-3,0.228175632398674,null,67.065327984015397,9.7036750220232602,0.41343375409394062,22.8175632398674,100]
["Land of Tanhouse Avenue, Great Barr",1.66,null,0,null,0,null,0,null,1,0,0,0,null,null,1,0,0,0,null,100,0,0,0,100]
["Land to east of Black Lake, west Bromwich",2.46,null,0,null,0,null,0,null,1,0,0,0,null,null,1,0,0,0,null,100,0,0,0,100]
["Langley Maltings, Western Road, Langly",2.73,null,0,null,0,null,0,null,1,0,0,0,null,null,1,0,0,0,null,100,0,0,0,100]
["Langley Swimming Centre, Vicarage Road, Oldbury",0.49,null,0,null,0,null,0,null,1,0,0,0,null,null,1,0,0,0,null,100,0,0,0,100]
["Lion Farm",21,null,1.1971052382112799,null,6.5579053725503904,null,9.3798531784388306,null,1,1.1971052382112799E-2,6.5579053725503905E-2,9.3798531784388309E-2,null,null,0.90620146821561165,1.1971052382112799E-2,5.360800134339111E-2,2.8219478058884404E-2,null,90.620146821561164,1.1971052382112799,5.3608001343391107,2.8219478058884402,100]
["Lower City Road,Oldbury",2.33,null,0,null,0,null,0,null,1,0,0,0,null,null,1,0,0,0,null,100,0,0,0,100]
["Lower High Street (Station hotel & Dunns Site).",0.28000000000000003,null,0,null,0,null,0,null,1,0,0,0,null,null,1,0,0,0,null,100,0,0,0,100]
["Macarthur Road Industrial Estate Cradley Heath",0.3,null,0,null,0,null,0,null,1,0,0,0,null,null,1,0,0,0,null,100,0,0,0,100]
["Mill Street, Great Bridge",0.88,null,1.29107612373013,null,2.3566211906066101,null,60.357471355304199,null,1,1.29107612373013E-2,2.3566211906066101E-2,0.60357471355304204,null,null,0.39642528644695796,1.29107612373013E-2,1.0655450668764801E-2,0.58000850164697593,null,39.642528644695794,1.29107612373013,1.0655450668764801,58.000850164697596,100]
["Moilliett Street Park - Grove Lane masterplan",0.78,null,0,null,0,null,0,null,1,0,0,0,null,null,1,0,0,0,null,100,0,0,0,100]
["North Smethwick Canalside",8.81,null,0,null,0,null,0,null,1,0,0,0,null,null,1,0,0,0,null,100,0,0,0,100]
["overend street, west bromwich",0.71,null,0,null,0,null,0,null,1,0,0,0,null,null,1,0,0,0,null,100,0,0,0,100]
["Providence Place / Bratt St",0.74,null,0,null,0,null,0,null,1,0,0,0,null,null,1,0,0,0,null,100,0,0,0,100]
["queens square living",3.07,null,0,null,0,null,0,null,1,0,0,0,null,null,1,0,0,0,null,100,0,0,0,{"$f":"SUM(U274:X274)","v":100}]
["Rattlechain Site Land to the north of Temple Way,",14.86,null,1.23874144702167,null,1.2959702643364801,null,2.0597684986608198,null,1,1.23874144702167E-2,1.2959702643364801E-2,2.0597684986608199E-2,null,null,0.97940231501339181,1.23874144702167E-2,5.7228817314810068E-4,7.6379823432433987E-3,null,97.940231501339184,1.23874144702167,5.7228817314810068E-2,0.76379823432433991,100]
["Sandwell District & General Hospital,",0.82,null,0,null,0,null,0,null,1,0,0,0,null,null,1,0,0,0,null,100,0,0,0,100]
["Silverthorne Lane/ Forge Lane Cradley Heath",2.41,null,0,null,0,null,0,null,1,0,0,0,null,null,1,0,0,0,null,100,0,0,0,100]
["Site of 30-144 Mounts Road, Wednesbury",1.07,null,0,null,0,null,0,null,1,0,0,0,null,null,1,0,0,0,null,100,0,0,0,100]
["Site Of Former Stone Cross Neighbourhood Office",0.28000000000000003,null,0,null,0,null,0,null,1,0,0,0,null,null,1,0,0,0,null,100,0,0,0,100]
["Site surrounding former Post office and Telephone",1.17,null,0,null,0,null,0,null,1,0,0,0,null,null,1,0,0,0,null,100,0,0,0,100]
["Smethwick Police Station, Piddock Road, Smethwick",0.22,null,0,null,0,null,0,null,1,0,0,0,null,null,1,0,0,0,null,100,0,0,0,100]
["St Johns St, Carters Green",0.82,null,0,null,0,null,0,null,1,0,0,0,null,null,1,0,0,0,null,100,0,0,0,100]
["Star and Garter, 252 Duchess Parade, West Bromwich",0.05,null,0,null,0,null,0,null,1,0,0,0,null,null,1,0,0,0,null,100,0,0,0,100]
["STW/SMBC Land",28.18,null,0,null,1.9412912616554999E-2,null,0.35801524957682401,null,1,0,1.9412912616554998E-4,3.5801524957682403E-3,null,null,0.99641984750423174,0,1.9412912616554998E-4,3.3860233696026902E-3,null,99.641984750423177,0,1.9412912616554999E-2,0.33860233696026903,100]
["Summerton Road, Oldbury",0.89,null,0,null,0,null,0,null,1,0,0,0,null,null,1,0,0,0,null,100,0,0,0,100]
["Swan Lane",3.79,null,0,null,0,null,0,null,1,0,0,0,null,null,1,0,0,0,null,100,0,0,0,100]
["Tatbank Road Oldbury",1.1499999999999999,null,0,null,0,null,0,null,1,0,0,0,null,null,1,0,0,0,null,100,0,0,0,100]
["tentec, guns lane",0.6,null,0,null,0,null,0,null,1,0,0,0,null,null,1,0,0,0,null,100,0,0,0,100]
["Thandi Coach Station",0.45,null,0,null,0,null,0,null,1,0,0,0,null,null,1,0,0,0,null,100,0,0,0,100]
["The Boat Gauging House & Adjoining Land, Factory R",0.56999999999999995,null,0,null,0,null,0,null,1,0,0,0,null,null,1,0,0,0,null,100,0,0,0,100]
["The Forge Tavern, junction Franchise Street and B",0.14000000000000001,null,0,null,0,null,0,null,1,0,0,0,null,null,1,0,0,0,null,100,0,0,0,100]
["The Phoenix Collegiate, Friar Park Road, Wednesbur",4.82,null,0,null,0,null,0,null,1,0,0,0,null,null,1,0,0,0,null,100,0,0,0,100]
["Tipton Conservative And Unionist Club, 64 Union St",0.14000000000000001,null,0,null,0,null,0,null,1,0,0,0,null,null,1,0,0,0,null,100,0,0,0,{"$f":"SUM(U293:X293)","v":100}]
["Used Car Sales site on corner of Lower Church Lane",0.56999999999999995,null,0,null,0,null,0,null,1,0,0,0,null,null,1,0,0,0,null,100,0,0,0,100]
["Wednesbury Police Station, Albert St, Wednesbury",0.33,null,0,null,0,null,0,null,1,0,0,0,null,null,1,0,0,0,null,100,0,0,0,100]
["Wellington Road, Tipton",0.86,null,0,null,0,null,0,null,1,0,0,0,null,null,1,0,0,0,null,100,0,0,0,100]
["west bromwich central",3.84,null,0,null,0,null,0,null,1,{"$f":"D297/100","v":0},{"$f":"F297/100","v":0},{"$f":"H297/100","v":0},null,null,{"$f":"J297-SUM(Q297:S297)","v":1},{"$f":"K297","v":0},{"$f":"L297-K297","v":0},{"$f":"M297-(Q297+R297)","v":0},null,{"$f":"P297*100","v":100},{"$f":"Q297*100","v":0},{"$f":"R297*100","v":0},{"$f":"S297*100","v":0},{"$f":"SUM(U297:X297)","v":100}]
["Windmill House, Windmill Lane, Smethwick",0.21,null,0,null,0,null,0,null,1,0,0,0,null,null,1,0,0,0,null,100,0,0,0,100]
["Wyndmill crescent, West Bromwich",0.19,null,0,null,0,null,0,null,1,0,0,0,null,null,1,0,0,0,null,100,0,0,{"$f":"S299*100","v":0},100]
["Brierley Lane, Tipton",0.626,null,0,null,0,null,0,null,1,0,0,0,null,null,1,0,0,0,null,100,0,0,{"$f":"S300*100","v":0},100]
["Brierley Lane, Tipton",0.75700000000000001,null,0,null,0,null,0,null,1,0,0,0,null,null,1,0,0,0,null,100,0,0,0,100]

{"sheet":"Fluvial + CC","index":5,"n_rows":301,"n_cols":12,"rows_kept":301,"cut":false,"hidden":true,"merged":[]}
["SiteNameAd","SiteAreaHa","FZ3a + central CC area","FZ3a + central CC per","FZ3a + Higher CC area","FZ3a + Higher CC per","FZ3b CC Higher area","FZ3b CC Higher per",null,"FZ3a + central CC %","FZ3a + higher central CC %","FZ3b + CC %"]
[null,4.0999999999999996,0,0,0,0,0,0,null,{"$f":"D2/100","v":0},{"$f":"F2/100","v":0},{"$f":"H2/100","v":0}]
[null,99.99,0,0,0,0,0,0,null,{"$f":"D3/100","v":0},{"$f":"F3/100","v":0},{"$f":"H3/100","v":0}]
["10-60 Dudley Rd East, Oldbury (3224)",2.0499999999999998,0,0,0,0,0,0,null,0,0,0]
["230 Oldbury Rd (3016)",1.52,0,0,0,0,0,0,null,0,0,0]
["70-74 Crankhall Lane",1.78,0,0,0,0,0,0,null,0,0,0]
["Aeroplas and Olympus Distribution, Great Western Way, Great Bridge",4.7699999999999996,346.80729231759801,0.72494980132937203,12200.317414356499,25.5029749420417,181.42028797699601,0.379232515115622,null,{"$f":"D7/100","v":7.2494980132937203E-3},{"$f":"F7/100","v":0.25502974942041701},3.79232515115622E-3]
["Albion Industrial Estate",9.02,15.7519372418939,1.7405699183022001E-2,37225.416220825296,41.133632438505799,0,0,null,1.7405699183021999E-4,0.41133632438505802,0]
["Albion Road",0.91,0,0,0,0,0,0,null,0,0,0]
["Alexandra Ind Est, Locarno Rd/ Alexandra Rd, Tipto",1.87,0,0,0,0,0,0,null,0,0,0]
["Alexandra Ind Est/Locarno Road, Tipton",2.56,0,0,0,0,0,0,null,0,0,0]
["Alma Street, Smethwick",4.71,0,0,0,0,0,0,null,{"$f":"D12/100","v":0},0,0]
["Alutrade, Tat Bank Road",2.69,0,0,0,0,0,0,null,0,0,0]
["Arnold Laver, Dudley Rd East, Oldbury (2944",1,0,0,0,0,0,0,null,0,0,0]
["Autobase, Dudley Road, Oldbury",16.54,0,0,0,0,0,0,null,0,0,0]
["Barnfield Trading Est Tipton (5450)",2.2599999999999998,5452.0517372978002,24.030798667769201,18240.021491351399,80.395840919091199,0,0,null,0.24030798667769201,0.80395840919091199,0]
["Beakes Road, Bearwood (825)",0.69,0,0,0,0,0,0,null,0,0,0]
["Beakes Road, Bearwood (826)",0.92,0,0,0,0,0,0,null,0,0,0]
["Bescot Industrial Estate, Wednesbury",7.89,0,0,0,0,0,0,null,0,0,0]
["Bevan Motor Bodies, Blakeley Hall Road",0.91,0,0,0,0,0,0,null,0,0,0]
["Birchley, Oldbury",7,25415.844350666299,36.153436735225597,37357.100887405097,53.139591386773397,23116.613723054899,32.882835613808901,null,0.36153436735225597,0.53139591386773399,0.32882835613808903]
["Black Country New Road, Wednesbury (Hallens Drive)",43.88,0,0,89905.440783032696,20.412949862340898,0,0,null,0,0.20412949862340898,0]
["Black Country New Road/ Pacific Avenue",23.03,2285.9320336078599,0.98881820374761098,97759.144945238193,42.287356178339998,947.04322064528299,0.409659413553004,null,9.8881820374761096E-3,0.42287356178339996,4.0965941355300397E-3]
["Black Country New Road/Golds Hill, Tipton",15.08,11808.358726226899,7.80293449920363,34835.870903418698,23.019458096099299,9416.2035315038393,6.2222042106753701,null,7.8029344992036301E-2,0.23019458096099299,6.2222042106753701E-2]
["Bloomfield Park",5.13,0,0,79.861582031927298,0.155161235185936,0,0,null,0,1.55161235185936E-3,0]
["Brades Road, Oldbury (Pearsall Drive)",7,0,0,0,0,0,0,null,0,0,0]
["Brandon Way (east side)",0.47,0,0,0,0,0,0,null,0,0,0]
["Brandon Way / Albion Rd, WB (2385 / WBPr32)",6.2,0,0,0,0,0,0,null,0,0,0]
["Brandon Way/ Albion Road, West Bromwich",3.07,0,0,0,0,0,0,null,0,0,0]
["Brickhouse Lane",3.87,0,0,0,0,0,0,null,0,0,0]
["Bridge Street/ Potters Lane",3.68,0,0,0,0,0,0,null,0,0,0]
["British Gas, Land off Dudley Rd, Oldbury (2949)",1.05,0,0,0,0,0,0,null,0,0,0]
["Broadcott Industrial Estate, Cradley Heath",1.36,0,0,0,0,0,0,null,0,0,0]
["Broadwell Road, Oldbury",23.68,1431.1753731623801,0.60207045524751501,96715.0600515525,40.686334691368501,95.346511528813096,4.0110610257057297E-2,null,6.0207045524751498E-3,0.40686334691368503,4.0110610257057294E-4]
["Bromford Road Industrial Estate",7.85,5477.02647021946,6.9497097614567602,21940.669374688601,27.8401583332241,4546.1392559471897,5.7685221234163597,null,6.9497097614567599E-2,0.27840158333224102,5.76852212341636E-2]
["Brook St Bus Centre, Brook St Comm Centre, Tipton",1.53,10220.681658118199,66.436872331870504,15364.384831498601,99.872171705613795,0,0,null,0.664368723318705,0.99872171705613799,0]
["Brymill Industrial Estate, Brown Lion St, Tipton",1.78,0,0,0,0,0,0,null,0,0,0]
["Burnt Tree Industrial Estate",1.56,0,0,0,0,0,0,null,0,0,0]
["Cakemore Road, Rowley Regis",7.48,0,0,0,0,0,0,null,0,0,0]
["Cakemore Road, Rowley Regis",0.6,0,0,0,0,0,0,null,0,0,0]
["Car Craft, Darlaston Rd/ Old Park Rd, Kings Hill",5.17,0,0,0,0,0,0,null,0,0,0]
["Carlyle Bus and Coach, Carlyle Business Park",0.39,0,0,0,0,0,0,null,0,0,0]
["Castle St, High St Tipton (2942)",0.7,0,0,0,0,0,0,null,0,0,0]
["Castle St, Tipton (2938)",1.49,0,0,0,0,0,0,null,0,0,0]
["Causeway Green Rd / Wolverhampton Road",0.84,0,0,0,0,0,0,null,0,0,0]
["Charles Street, West Bromwich",9.02,0,0,0,0,0,0,null,0,0,0]
["Chaters Close, Tipton",0.56999999999999995,0,0,0,0,0,0,null,0,0,0]
["Church Lane / Gladstone Street, WB (2389 / WBPr38)",2.2000000000000002,136.53126180816,0.61932040033501101,4228.0173992726004,19.1787389471294,0,0,null,6.19320400335011E-3,0.19178738947129401,0]
["Churchbridge, Oldbury",13.98,16560.0093606706,11.799233753707499,29763.591762702301,21.206967273346301,15669.73827519,11.1649033971861,null,0.117992337537075,0.212069672733463,0.111649033971861]
["Churchbridge, Oldbury (opposite Thurston Avenue)",0.75,4945.0198153472402,65.329604649692101,5587.2620373982199,73.8143897512021,4773.17817912379,63.059371854670196,null,0.65329604649692097,0.73814389751202103,0.63059371854670199]
["Clay Lane, Oldbury",0.23,0,0,0,0,0,0,null,0,0,0]
["Cleton Street Business Park, Oldbury",2.0099999999999998,0,0,0,0,0,0,null,0,0,0]
["Coneygre Business Park (open land)",7.22,0,0,0,0,0,0,null,0,0,0]
["Coneygre Business Park, Tipton",17.690000000000001,0,0,0,0,0,0,null,0,0,0]
["Coneygre Rd, Burnt Tree, Tipton",1.02,0,0,0,0,0,0,null,0,0,0]
["Corner of Bromford Lane / Brandon Way",3.94,0,0,0,0,0,0,null,0,0,0]
["Corngreaves Rd (City Estate Hillcrest Ind Est) Pal",2.8,0,0,0,0,0,0,null,0,0,0]
["Corngreaves Road, Cradley Heath",19.670000000000002,1349.26295608074,0.683515356742877,1349.26295608074,0.683515356742877,68.792663848027502,3.4849279719322203E-2,null,6.8351535674287698E-3,6.8351535674287698E-3,3.4849279719322202E-4]
["Corngreaves Road, Cradley Heath",3.64,0,0,0,0,0,0,null,0,0,0]
["Cornwall Road",4.0199999999999996,0,0,0,0,0,0,null,0,0,0]
["Cornwall Road/Foundary Lane, Smethwick",0.35,0,0,132.663362841121,3.7328482847039401,0,0,null,0,3.73284828470394E-2,0]
["Cornwall Road/Foundary Lane, Smethwick",99.99,0,0,0,0,0,0,null,0,0,0]
["Cornwall Road/Foundary Lane, Smethwick (north of Anne Road)",2.3199999999999998,0,0,18.978770378860599,8.1368343936745996E-2,0,0,null,0,8.1368343936746E-4,0]
["Cradley Business Patrk, Cradley Heath",3.69,0,0,0,0,0,0,null,0,0,0]
["Crosswells Road / Hall Street, Oldbury",0.8,0,0,0,0,0,0,null,0,0,0]
["Crystal Drive, Smethwick",14.3,0,0,0,0,0,0,null,0,0,0]
["Cygnus Way, West Bromwich",12.53,0,0,0,0,0,0,null,{"$f":"D67/100","v":0},{"$f":"F67/100","v":0},{"$f":"H67/100","v":0}]
["Danks Way, Hill Top, West Bromwich",7.6,0,0,0,0,0,0,null,0,0,0]
["Dart Products, Garratts Lane",7.82,0,0,0,0,0,0,null,0,0,0]
["Dartmouth Road, Smethwick",23.67,0,0,0,0,0,0,null,0,0,0]
["Dartmouth Road/ Piaro Way, Smethwick",6.93,0,0,0,0,0,0,null,0,0,0]
["Delta Point, Greets Green Road",8.15,0,0,0,0,0,0,null,0,0,0]
["Direct 2, Roway Lane, Oldbury",8.15,0,0,14043.0817707157,17.164488882547602,0,0,null,0,0.17164488882547602,0]
["Doranda Way",13.91,0,0,0,0,0,0,null,0,0,0]
["Doulton Road, Rowley Regis (east of canal)",3.51,0,0,0,0,0,0,null,0,0,0]
["DPD, Roebuck Lane",8.9,0,0,0,0,0,0,null,0,0,0]
["Droicon Ind Est, Portway Road",0.87,0,0,0,0,0,0,null,0,0,0]
["Dudley Rd, 28 Dudley Rd West (2957)",1.78,0,0,0,0,0,0,null,0,0,0]
["Dudley Road, Oldbury",4.9000000000000004,0,0,0,0,0,0,null,0,0,0]
["Eel Street, Oldbury",3.16,16172.151138134899,51.051228161269698,16844.3613906668,53.173219149433898,15936.746591541299,50.308117914791097,null,0.51051228161269702,0.53173219149433892,0.50308117914791095]
["EMR Oldbury",7.53,0,0,0,0,0,0,null,0,0,0]
["Engine Street, Oldbury",1.64,0,0,0,0,0,0,null,0,0,0]
["Exchange Works, Kelvin Way, West Bromwich",1.49,0,0,0,0,0,0,null,0,0,0]
["Fisher St / Coneygre Rd, Tipton",1.74,0,0,0,0,0,0,null,0,0,0]
["Fitzgerald Lighting Ltd, Rood End Rd (2009)",1.39,0,0,0,0,0,0,null,0,0,0]
["Former Corus Premises, Bloomfield Rd, Tipton (5972",0.56999999999999995,0,0,2477.6377462089599,43.0419836348918,0,0,null,0,0.43041983634891801,0]
["Foundry Lane (south)",11.75,0,0,2672.4317272052099,2.2714346902158198,0,0,null,0,2.2714346902158199E-2,0]
["Foundry Lane/ Anne Road",5.24,0,0,15841.462796984801,30.1362562969633,0,0,null,0,0.30136256296963299,0]
["Fountain Lane",1.31,396.52093088130499,3.0128791296715298,10970.157980349501,83.3543892745693,127.854127287626,0.97147212605169198,null,3.0128791296715297E-2,0.83354389274569296,9.7147212605169196E-3]
["Garratts Lane/ Powke Lane",9.35,0,0,0,0,0,0,null,0,0,0]
["Garretts Lane, Cradley Heath",0.7,0,0,0,0,0,0,null,0,0,0]
["George Henry Road",19.79,0,0,15.9855524775841,8.0451940522840003E-3,0,0,null,0,8.0451940522840008E-5,0]
["Great Bridge Ind Est / Harrold Street",4.57,36354.536832363403,79.173160727881793,44250.341029638599,96.368697495943493,28285.487297643602,61.600329070599102,null,0.79173160727881797,0.96368697495943489,0.61600329070599102]
["Great Western Street, Wednesbury",3.82,460.86610138062701,1.2025241949687999,16021.8971350664,41.805459105152302,0.195092073852322,5.0904793898108895E-4,null,1.2025241949687999E-2,0.41805459105152304,5.0904793898108895E-6]
["Griffin Ind Est, Penncricket Lane",3.31,100.86739926598899,0.303505209075076,121.91191641490499,0.36682716070310101,101.36504832561999,0.30500261143687402,null,3.0350520907507601E-3,3.66827160703101E-3,3.0500261143687401E-3]
["Groveland Rd (2963)",1.18,0,0,0,0,0,0,null,0,0,0]
["Hainge Road, Oldbury",14.28,0,0,0,0,0,0,null,0,0,0]
["Hale Trading Estate, Tipton",2.73,0,0,0,0,0,0,null,0,0,0]
["Hales Way, Oldbury",1.51,0,0,0,0,0,0,null,0,0,0]
["Halfords Lane",24.21,0,0,13216.074599510899,5.4503789387588002,0,0,null,0,5.4503789387588E-2,0]
["Hill Top, West Bromwich",15.13,61339.271998202501,40.389604087618501,82742.595633524194,54.482887878387103,39430.016433902398,25.963183146032101,null,0.40389604087618503,0.54482887878387098,0.25963183146032098]
["Holloway Bank",1.03,0,0,0,0,0,0,null,0,0,0]
["Holloway Bank, Wednesbury",5.29,1055.0980734423299,1.98782741693514,2867.7848682058898,5.4029682456841197,929.40921436757299,1.7510269086592101,null,1.9878274169351399E-2,5.4029682456841199E-2,1.75102690865921E-2]
["Holloway Bank/ Bilport Lane",1.77,5412.4868793787,30.474272666505598,6999.8661323464803,39.411796074534003,4234.1946073743302,23.840057974049898,null,0.30474272666505597,0.39411796074534,0.238400579740499]
["Houghton Street, Oldbury",1.43,8.1906953016528998,5.6914136883240901E-2,33.008984902465301,0.22936732669528301,2.26813864592043,1.5760463380689201E-2,null,5.6914136883240906E-4,2.29367326695283E-3,1.5760463380689202E-4]
["Howard Street",27.83,0,0,0,0,0,0,null,0,0,0]
["James Watt Industrial Park",3.63,0,0,0,0,0,0,null,0,0,0]
["JAS Ind Park, Titford Lane, Oldbury (3013)",0.94,0,0,0,0,0,0,null,0,0,0]
["JerseyTex Ltd, Upper Church Lane, Princes End",1.58,0,0,0,0,0,0,null,0,0,0]
["JH Lavender & Co, Crankhall Lane, West Bromwich",1.31,0,0,0,0,0,0,null,0,0,0]
["Joseph Street, Oldbury",2.95,13306.953278507901,44.862048631227502,14811.1419815441,49.9331558436606,13095.5913282027,44.149479052382198,null,0.44862048631227502,0.49933155843660598,0.44149479052382196]
["Junction 9 (Opus 9)",2.33,14840.9991432396,63.349403039612803,15751.058737787,67.234029100743896,13611.566747314901,58.101521302831898,null,0.63349403039612806,0.67234029100743897,0.58101521302831893]
["Junction One, Oldbury",4.7,0,0,0,0,0,0,null,0,0,0]
["Junction Two, Oldbury",1.1200000000000001,0,0,0,0,0,0,null,0,0,0]
["Kelvin Way WBPr35",33.770000000000003,0,0,2950.6677031199902,0.87040526876404301,0,0,null,0,8.7040526876404293E-3,0]
["Kings Hill Business Park",3.26,0,0,0,0,0,0,null,0,0,0]
["Kitchener Street, Smethwick",1.39,0,0,0,0,0,0,null,0,0,0]
["Land & premises Barnfield Rd, Brook St, Bloomfield",0.83,1367.52875862373,16.3723259098184,8352.6846836321001,100,0,0,null,0.163723259098184,1,0]
["Land at Birmingham Road / Roebuck Lane",6.78,0,0,0,0,0,0,null,0,0,0]
["Land at corner of Birmingham Road",0.48,0,0,0,0,0,0,null,0,0,0]
["Land at Doulton Way, bt Factory Rd, Bloomfield Rd, Tipton",2.75,0,0,1785.2193712396399,6.4699630473493697,0,0,null,0,6.4699630473493697E-2,0]
["Land at Junction 1 / Kenrick Way",4.13,0,0,0,0,0,0,null,0,0,0]
["Land at Potters Lane & Stafford St, Weds (5642)",0.85,0,0,0,0,0,0,null,0,0,0]
["Land bt Great Bridge St & William St, Tipton (2965",1.06,0,0,0,0,0,0,null,0,0,0]
["Land by Whitehall Road and Walsall Canal",1.04,0,0,0,0,0,0,null,0,0,0]
["land off dudley rd, oldbury",0.98,0,0,0,0,0,0,null,0,0,0]
["Land off Tipton Road, Oldbury",0.81,0,0,0,0,0,0,null,0,0,0]
["Leabrook Road, Tipton",7.45,0,0,0,0,0,0,null,0,0,0]
["Legacy 43, Ryder Street, West Bromwich",0.88,0,0,0,0,0,0,null,0,0,0]
["Lidl, Junction 9 (Opus 9)",8.67,52225.796544274097,59.97845449599,59818.7499367942,68.698543794338306,44713.974401781299,51.351539975432601,null,0.59978454495989997,0.68698543794338307,0.51351539975432603]
["Newlyn Road, Cradley Heath",3.4,0,0,0,0,0,0,null,{"$f":"D131/100","v":0},{"$f":"F131/100","v":0},{"$f":"H131/100","v":0}]
["Old Park Trading Estate, Old Park Rd (2922)",2.63,0,0,0,0,0,0,null,0,0,0]
["Oldbury Point Ind Est, Rood End Road",3.22,0,0,0,0,0,0,null,0,0,0]
["Oldbury Rd Ind Est, Oldbury Rd (2994)",0.56999999999999995,0,0,0,0,0,0,null,0,0,0]
["Oldbury Rd, Oldbury (3014)",2.41,0,0,0,0,0,0,null,0,0,0]
["Oldbury Rd, WB (2384 / WBPr31)",18.87,0,0,0,0,0,0,null,0,0,0]
["Oldfield Trading Estate, Cradley Heath",1.76,0,0,0,0,0,0,null,0,0,0]
["Palmers Timber Site, Station Rd, Old Hill (3043)",3.14,0,0,0,0,0,0,null,0,0,0]
["Park Lane Trading Estate, Oldbury",2.17,8.7301018822489294,4.0006153301098801E-2,62.404536380206402,0.28597208632660398,2.0602161784050099,9.4410495293604495E-3,null,4.00061533010988E-4,2.8597208632660399E-3,9.4410495293604496E-5]
["Park Lane West",2.94,0,0,0,0,0,0,null,0,0,0]
["Park Lane, West Bromwich",10.220000000000001,0,0,0,0,0,0,null,0,0,0]
["Park Lane, West Bromwich",2.4500000000000002,0,0,0,0,0,0,null,0,0,0]
["Parkroase Estate, Rounds Green Road, Oldbury",2.58,0,0,0,0,0,0,null,0,0,0]
["Parsonage Street, Oldbury",10.15,0,0,0,0,0,0,null,0,0,0]
["Pennington Close",4.2,0,0,0,0,0,0,null,0,0,0]
["Ph 9, The Parkway, bt Stafford St/ Victoria st/ Po",0.94,0,0,0,0,0,0,null,0,0,0]
["Phoenix St / Belper Ind Est Greets Green Road, Wes",5.55,0,0,0,0,0,0,null,0,0,0]
["Phoenix Street (west), West Bromwich",3.44,0,0,0,0,0,0,null,0,0,0]
["Pikehelve Street, Hill Top, West Bromwich",5.91,0,0,0,0,0,0,null,0,0,0]
["Popes Lane, Oldbury",10.81,0,0,0,0,0,0,null,0,0,0]
["Popes Lane, Oldbury",2.91,0,0,0,0,0,0,null,0,0,0]
["Portway Rd, Weds (5129)",3.78,0,0,0,0,0,0,null,0,0,0]
["Portway Rd, Weds (5129)",4.51,0,0,0,0,0,0,null,0,0,0]
["Portway Road",3.02,7.51695039357132,2.4822562227545201E-2,24.5547559025974,8.1085004484755002E-2,7.0628899165740204,2.3323158366243501E-2,null,2.4822562227545201E-4,8.1085004484755005E-4,2.3323158366243501E-4]
["Portway Road Industrial Estate",2.12,0,0,0,0,0,0,null,0,0,0]
["Potters Lane, Wednesbury (actually between Stafford St/ Albert St)",0.39,0,0,0,0,0,0,null,0,0,0]
["Powke Lane (east side)",3.49,0,0,0,0,0,0,null,0,0,0]
["Powke Lane (west side)",6.36,0,0,0,0,0,0,null,0,0,0]
["Powke Lane Industrial Estate, Cradley Heath",2.17,0,0,0,0,0,0,null,0,0,0]
["Powke Lane/ Doulton Road",9.08,0,0,0,0,0,0,null,0,0,0]
["Princes End Garage",0.19,0,0,0,0,0,0,null,0,0,0]
["Purity Soft Drinks Limited, Mounts Road",0.35,0,0,0,0,0,0,null,0,0,0]
["Rabone Lane, Smethwick (2372)",4.72,0,0,0,0,0,0,null,0,0,0]
["Rabone Park",3.93,0,0,0,0,0,0,null,0,0,0]
["Reddal Hill Rd/ Newtown St, Cradley Heath",4.4400000000000004,375.60101085387998,0.84359227779558099,375.60101085387998,0.84359227779558099,1390.52311160508,3.1230867999518699,null,8.4359227779558094E-3,8.4359227779558094E-3,3.1230867999518699E-2]
["Richmond Street, West Bromwich",10.199999999999999,0,0,0,0,0,0,null,0,0,0]
["Ridgacre Road (north)",0.8,0,0,0,0,0,0,null,0,0,0]
["Ridgacre Road (south)",1.05,0,0,0,0,0,0,null,0,0,0]
["Ridgacre Road Church Lane, West Bromwich (New build) (former Express and Star)",1.42,0,0,0,0,0,0,null,0,0,0]
["Ridgacre Road Church Lane, West Bromwich (old part)",0.92,0,0,0,0,0,0,null,0,0,0]
["Ridgarce Road, West Bromwich",1.1399999999999999,0,0,0,0,0,0,null,0,0,0]
["Ridgarce Road, West Bromwich",1.64,0,0,0,0,0,0,null,0,0,0]
["Ridgarce Road, West Bromwich",0.75,0,0,0,0,0,0,null,0,0,0]
["Rounds Green Road/Shidas Lane, Oldbury",2.78,0,0,0,0,0,0,null,0,0,0]
["Roway Lane, Oldbury",6,0,0,339.973533820211,0.564381188780258,0,0,null,0,5.64381188780258E-3,0]
["Roway Lane, Oldbury (Call for Sites)",3.65,0,0,0,0,0,0,null,0,0,0]
["Ryder, Euroway Park",2.2400000000000002,0,0,0,0,0,0,null,0,0,0]
["Ryders Green Rd, Greets Green Ind Est, Greets Green",2.95,0,0,0,0,0,0,null,0,0,0]
["Sandwell Business Dev Centre, Oldbury Road",0.67,0,0,0,0,0,0,null,0,0,0]
["Sedgley Road West/Hurst Lane, Tipton",3.06,0,0,0,0,0,0,null,0,0,0]
["Seven Stars Rd, Oldbury (586)",2.5099999999999998,0,0,0,0,0,0,null,0,0,0]
["Seven Stars Road, Oldbury",1.47,324.26712678072198,2.2028076323110399,380.43717334075302,2.58438133205081,310.46538521439197,2.10904980380919,null,2.20280763231104E-2,2.5843813320508099E-2,2.10904980380919E-2]
["Silverthorne Lane",1.05,0,0,0,0,0,0,null,0,0,0]
["Site at Bloomfield Rd, Fountaihn Lane & Bradleys Lane, Tipton",1.43,0,0,0,0,0,0,null,0,0,0]
["Site at Great Wester St & Potters Lane, Weds (5641",2.14,0,0,0,0,0,0,null,0,0,0]
["Site bt Charles St & Walsall Canal Great Bridge (2",2.17,0,0,0,0,0,0,null,0,0,0]
["Site off Bilport Lane, Wednesbury",5.29,8113.4221535005599,15.2803745656069,13173.463511603801,24.810179105103298,689.00147690537904,1.2976276155959801,null,0.152803745656069,0.24810179105103297,1.2976276155959801E-2]
["Site off Richmond St, West Bromwich",1.1000000000000001,0,0,0,0,0,0,null,0,0,0]
["Site on Railway Street, Horseley Heath, Tipton",0.18,0,0,0,0,0,0,null,0,0,0]
["Site on Stafford St, Weds (5646)",1.45,0,0,0,0,0,0,null,0,0,0]
["Soho Triangle",1.71,0,0,0,0,0,0,null,0,0,0]
["Spinners End Industrial Estate, Cradley Heath",0.65,0,0,0,0,0,0,null,0,0,0]
["Stafford Street/ Albert Street, Wednesbury",0.73,0,0,0,0,0,0,null,0,0,0]
["Station Road / Avenue Road / Cardale Street Rowley",3.18,0,0,0,0,0,0,null,0,0,0]
["Station Road Industrial Est, Rowley Regis",3.21,0,0,0,0,0,0,null,{"$f":"D195/100","v":0},{"$f":"F195/100","v":0},{"$f":"H195/100","v":0}]
["Station St, Tipton (1448)",1.36,0,0,0,0,0,0,null,0,0,0]
["Station Street/Graingers Lane, Cradley Heath",2.27,0,0,0,0,0,0,null,0,0,0]
["Summerton Rd, Oldbury (3223)",0.52,0,0,0,0,0,0,null,0,0,0]
["Summit Crescent, Smethwick (east)",4.01,0,0,0,0,0,0,null,0,0,0]
["Summit Crescent, Smethwick (west)",5.96,0,0,0,0,0,0,null,0,0,0]
["Swan Lane, West Bromwich",0.83,0,0,0,0,0,0,null,0,0,0]
["Swan Lane, West Bromwich",1.27,0,0,0,0,0,0,null,0,0,0]
["Tatbak Road",8.6199999999999992,0,0,0,0,0,0,null,0,0,0]
["Taylors Lane, Oldbury",4.17,0,0,0,0,0,0,null,0,0,0]
["Tennants Ryders Green Rd / SCA Tasker St",1.02,0,0,0,0,0,0,null,0,0,0]
["Tennants Ryders Green Rd, West Bromwich",2.9,0,0,0,0,0,0,null,0,0,0]
["The Angle Ring Co. Ltd",1.7,0,0,0,0,0,0,null,0,0,0]
["The Bridge Trading Estate",3.33,0,0,36.081140393383897,0.108037134396542,0,0,null,0,1.0803713439654201E-3,0]
["The Lyng Industrial Estate, West Bromwich",9.84,0,0,0,0,0,0,null,0,0,0]
["Tipton Rd, Oldbury (2958)",1.76,0,0,0,0,0,0,null,0,0,0]
["Tipton Road",3.17,0,0,0,0,0,0,null,0,0,0]
["Toll End Road, Tipton 2",5.88,12148.9454369428,20.581992405932802,45133.843933753,76.462968569296507,3262.9355339160702,5.5278636922587303,null,0.20581992405932803,0.76462968569296508,5.5278636922587304E-2]
["Trinity Street, Oldbury",26.88,0,0,0,0,0,0,null,0,0,0]
["Union Road",12.11,52.560573751989999,4.3226192842558499E-2,223.71952395430401,0.18398854112067201,47.522618813506497,3.9082942566589701E-2,null,4.3226192842558497E-4,1.83988541120672E-3,3.9082942566589699E-4]
["unit 7,8,9 Coneygree Ind Est, Coneygree Road",1.03,0,0,0,0,0,0,null,0,0,0]
["Upper Chapel St, Bittania St, 70-74 Dudley Rd West",0.64,0,0,0,0,0,0,null,0,0,0]
["various sites (3034, 3226, 1436)",6.33,45.480350536927197,7.1524416227802395E-2,45.480350536927197,7.1524416227802007E-2,943.76250511228295,1.48420276974419,null,{"$f":"D217/100","v":7.15244162278024E-4},7.1524416227802009E-4,1.48420276974419E-2]
["Various sites on Mounts Rd, (2926, 2911, 2927, 290",6.32,0,0,1074.2005203783599,1.69385117927825,0,0,null,0,1.6938511792782499E-2,0]
["Varney Business Park",0.73,0,0,0,0,0,0,null,0,0,0]
["Vaughan Trading Estate, Dudley Road East",19.920000000000002,0,0,32312.136868955,16.157520776548601,0,0,null,0,0.16157520776548601,0]
["Vector Ind Park, Church Lane, WB (5556)",5.2,0,0,0,0,0,0,null,0,0,0]
["Wade Building Services, Groveland Road, Tividale",1.42,0,0,0,0,0,0,null,0,0,0]
["Waterfall Lane",2.69,0,0,0,0,0,0,null,0,0,0]
["Waterfall Lane Trading Estate, Cradley Heath",5.74,0,0,0,0,0,0,null,0,0,0]
["Wednesbury Trading Estate, Wednesbury",8.6999999999999993,0,0,0,0,0,0,null,0,0,0]
["Wharfeside, Oldbury",6.17,0,0,0,0,0,0,null,0,0,0]
["Whitehall Rd Ind Est, West Brom (2916)",2.58,0,0,0,0,0,0,null,0,0,0]
["Whitehall Road, Tipton",5.3,0,0,0,0,0,0,null,0,0,0]
["Wrights Plastics, Brandon Way/ Brandon Close",0.57999999999999996,0,0,0,0,0,0,null,0,0,0]
["Zion Street, Tipton",2.4300000000000002,0,0,0,0,0,0,null,0,0,0]
[]
["192-200 Dudley Road, Oldbury",0.57999999999999996,null,0,null,0,null,0,null,0,0,0]
["28-64 High Street, West Bromwich",0.97,null,0,null,0,null,0,null,0,0,0]
["Abberley Street Grove Lane Master Plan",2.48,null,0,null,0,null,0,null,0,0,0]
["Alma Street, Wednesbury",0.54,null,0,null,0,null,0,null,0,0,0]
["Army Reserve, Carters Green",1.17,null,0,null,0,null,0,null,0,0,0]
["Bank Street (West), Hateley Heath",0.85,null,0,null,0,null,0,null,0,0,0]
["Beever Road",0.84,null,20.637638635040599,null,53.648500871381898,null,17.197463236600701,null,0.20637638635040598,0.53648500871381899,0.17197463236600702]
["Brades Road, Oldbury",1.2,null,0,null,0,null,0,null,0,0,0]
["Bradleys Lane / High Street, Tipton",5.32,null,0,null,0,null,0,null,0,0,0]
["Brandhall Golf Course",5.19,null,0,null,0,null,0,null,0,0,0]
["Brown Lion Street",0.47,null,0,null,0,null,0,null,0,0,0]
["Cape Arm Cranford Street",2.14,null,0,null,0,null,0,null,0,0,0]
["Chances Glass Works",3.39,null,0,null,0,null,0,null,0,0,0]
["Cokeland Place / Graingers Lane, Cradley Heath",0.37,null,0,null,0,null,0,null,0,0,0]
["Cradley Heath Factory Centre, Woods Lane, Cradley",5.57,null,2.88918062266338,null,2.8892014864011402,null,2.8500517515541799,null,2.8891806226633801E-2,2.8892014864011401E-2,2.85005175155418E-2]
["Cranford Street / Heath Street / Canal",5.01,null,0,null,0,null,0,null,0,0,0]
["cultural quarter, west brom",1.0900000000000001,null,0,null,0,null,0,null,0,0,0]
["Dudley Road East",2.66,null,0,null,0,null,0,null,0,0,0]
["Edwin Richards Quarry, Portway Road, Rowley Regis",51.26,null,0,null,0,null,0,null,0,0,0]
["Elbow Street, Old Hill",0.72,null,0,null,0,null,0,null,0,0,0]
["Evans Halshaw car showroom",0.89,null,0,null,0,null,0,null,0,0,0]
["Friar Street, Wednesbury",1.02,null,0,null,21.0781229916199,null,0,null,0,0.21078122991619899,0]
["George Street Living",2.36,null,0,null,0,null,0,null,0,0,0]
["Grove Lane/ Cranford Street/ London Street",2.09,null,0,null,0,null,0,null,0,0,0]
["Grove Street / MMUH / School - Grove Lane MP",2.19,null,0,null,0,null,0,null,0,0,0]
["Land adj to Droicon Estate, Portway Road, Rowley R",0.66,null,0,null,0,null,0,null,0,0,0]
["Land adjacent To Asda Wolverhampton Road, Oldbury",1.61,null,3.7631334297922598,null,3.0563250031136202,null,3.7127017607911501,null,3.7631334297922599E-2,3.0563250031136201E-2,3.7127017607911504E-2]
["Land at Horseley Heath, Alexandra Road, and Lower",2.27,null,0,null,0,null,0,null,{"$f":"D259/100","v":0},{"$f":"F259/100","v":0},{"$f":"H259/100","v":0}]
["Land between Addington Way and River Tame, Temple",0.89,null,11.1814247245585,null,32.933612491609402,null,10.117108776117201,null,0.111814247245585,0.32933612491609404,0.10117108776117201]
["Land of Tanhouse Avenue, Great Barr",1.66,null,0,null,0,null,0,null,0,0,0]
["Land to east of Black Lake, west Bromwich",2.46,null,0,null,0,null,0,null,0,0,0]
["Langley Maltings, Western Road, Langly",2.73,null,0,null,0,null,0,null,0,0,0]
["Langley Swimming Centre, Vicarage Road, Oldbury",0.49,null,0,null,0,null,0,null,0,0,0]
["Lion Farm",21,null,6.9930823280781702,null,9.3858228778160697,null,6.4160985067674998,null,6.9930823280781707E-2,9.3858228778160691E-2,6.4160985067674994E-2]
["Lower City Road,Oldbury",2.33,null,0,null,0,null,0,null,0,0,0]
["Lower High Street (Station hotel & Dunns Site).",0.28000000000000003,null,0,null,0,null,0,null,0,0,0]
["Macarthur Road Industrial Estate Cradley Heath",0.3,null,0,null,0,null,0,null,0,0,0]
["Mill Street, Great Bridge",0.88,null,8.8525095412389607,null,58.652770241347497,null,2.3566211906066101,null,8.8525095412389607E-2,0.58652770241347496,2.3566211906066101E-2]
["Moilliett Street Park - Grove Lane masterplan",0.78,null,0,null,0,null,0,null,0,0,0]
["North Smethwick Canalside",8.81,null,0,null,1.02695588589681,null,0,null,0,1.02695588589681E-2,0]
["overend street, west bromwich",0.71,null,0,null,0,null,0,null,0,0,0]
["Providence Place / Bratt St",0.74,null,0,null,0,null,0,null,0,0,0]
["queens square living",3.07,null,0,null,0,null,0,null,0,0,0]
["Rattlechain Site Land to the north of Temple Way,",14.86,null,1.3757570962060699,null,2.0624391295454401,null,1.2959702643364801,null,1.3757570962060699E-2,2.0624391295454399E-2,1.2959702643364801E-2]
["Sandwell District & General Hospital,",0.82,null,0,null,0,null,0,null,0,0,0]
["Silverthorne Lane/ Forge Lane Cradley Heath",2.41,null,0,null,0,null,0,null,0,0,0]
["Site of 30-144 Mounts Road, Wednesbury",1.07,null,0,null,0,null,0,null,0,0,0]
["Site Of Former Stone Cross Neighbourhood Office",0.28000000000000003,null,0,null,0,null,0,null,0,0,0]
["Site surrounding former Post office and Telephone",1.17,null,0,null,0,null,0,null,0,0,0]
["Smethwick Police Station, Piddock Road, Smethwick",0.22,null,0,null,0,null,0,null,0,0,0]
["St Johns St, Carters Green",0.82,null,0,null,0,null,0,null,0,0,0]
["Star and Garter, 252 Duchess Parade, West Bromwich",0.05,null,0,null,0,null,0,null,0,0,0]
["STW/SMBC Land",28.18,null,5.9665225792883997E-2,null,0.35800874884357098,null,1.9412912616554999E-2,null,5.9665225792883999E-4,3.5800874884357099E-3,1.9412912616554998E-4]
["Summerton Road, Oldbury",0.89,null,0,null,0,null,0,null,0,0,0]
["Swan Lane",3.79,null,0,null,0,null,0,null,0,0,0]
["Tatbank Road Oldbury",1.1499999999999999,null,0,null,0,null,0,null,0,0,0]
["tentec, guns lane",0.6,null,0,null,0,null,0,null,0,0,0]
["Thandi Coach Station",0.45,null,0,null,0,null,0,null,0,0,0]
["The Boat Gauging House & Adjoining Land, Factory R",0.56999999999999995,null,0,null,0,null,0,null,0,0,0]
["The Forge Tavern, junction Franchise Street and B",0.14000000000000001,null,0,null,0,null,0,null,0,0,0]
["The Phoenix Collegiate, Friar Park Road, Wednesbur",4.82,null,0,null,0,null,0,null,0,0,0]
["Tipton Conservative And Unionist Club, 64 Union St",0.14000000000000001,null,0,null,0,null,0,null,0,0,0]
["Used Car Sales site on corner of Lower Church Lane",0.56999999999999995,null,0,null,0,null,0,null,0,0,0]
["Wednesbury Police Station, Albert St, Wednesbury",0.33,null,0,null,0,null,0,null,0,0,0]
["Wellington Road, Tipton",0.86,null,0,null,0,null,0,null,0,0,0]
["west bromwich central",3.84,null,0,null,0,null,0,null,0,0,0]
["Windmill House, Windmill Lane, Smethwick",0.21,null,0,null,0,null,0,null,0,0,0]
["Wyndmill crescent, West Bromwich",0.19,null,0,null,0,null,0,null,0,0,0]
["Brierley Lane, Tipton",0.626,null,0,null,0,null,0,null,0,0,0]
["Brierley Lane, Tipton",0.75700000000000001,null,0,null,0,null,0,null,0,0,0]

{"sheet":"Surface Water","index":6,"n_rows":301,"n_cols":27,"rows_kept":301,"cut":false,"hidden":true,"merged":[]}
["Sandwell_R","SiteNameAd","SiteAreaHa","path","Area_Ha","1in100_FG_","1in100_F_1","1in1000_FG","1in1000__1","1in30_FG_a","1in30_FG_p",null,"Site_area","1in30%","1in100%","1in1000%",null,"Area_not_Flooded","1in30 updated","1in100updated","1in1000updated",null,"checks"]
["SEC3-86",null,4.0999999999999996,"N:/2024/Projects/2024s0196 - Sandwell Metropolitan Borough Council - Sandwell L1 & L2 SFRA/1_WIP/HM/Graphical/Shapefiles/Development_sites/Sandwell EMP3 Allocations_region.shx|layername=Sandwell EMP3 Allocations_region",4.1029999999999998,652.785756837044,1.5910853763358199,6723.6139014104901,16.3879858630754,204.915313472127,0.49945599339135599,null,1,{"$f":"K2/100","v":4.9945599339135602E-3},{"$f":"G2/100","v":1.5910853763358199E-2},{"$f":"I2/100","v":0.16387985863075399},null,{"$f":"M2-P2","v":0.83612014136924606},{"$f":"N2","v":4.9945599339135602E-3},{"$f":"O2-S2","v":1.0916293829444638E-2},{"$f":"P2-(S2+T2)","v":0.14796900486739578},null,{"$f":"SUM(R2:U2)","v":1}]
["SCE4-9",null,99.99,"N:/2024/Projects/2024s0196 - Sandwell Metropolitan Borough Council - Sandwell L1 & L2 SFRA/1_WIP/HM/Graphical/Shapefiles/Development_sites/Sandwell EMP4 Allocations_region.shx|layername=Sandwell EMP4 Allocations_region",0.35899999999999999,0,0,1.3328085995835799,3.7083423226009E-2,0,0,null,1,{"$f":"K3/100","v":0},{"$f":"G3/100","v":0},{"$f":"I3/100","v":3.7083423226009002E-4},null,{"$f":"M3-P3","v":0.99962916576773986},{"$f":"N3","v":0},{"$f":"O3-S3","v":0},{"$f":"P3-(S3+T3)","v":3.7083423226009002E-4},null,1]
["SEC4-2","10-60 Dudley Rd East, Oldbury (3224)",2.0499999999999998,"N:/2024/Projects/2024s0196 - Sandwell Metropolitan Borough Council - Sandwell L1 & L2 SFRA/1_WIP/HM/Graphical/Shapefiles/Development_sites/Sandwell EMP4 Allocations_region.shx|layername=Sandwell EMP4 Allocations_region",2.0590000000000002,505.28138516981198,2.4539119419184199,1850.18507874324,8.9854710518605394,0.33663278290441701,1.634865701084E-3,null,1,1.634865701084E-5,2.4539119419184199E-2,8.9854710518605399E-2,null,0.91014528948139461,1.634865701084E-5,2.4522770762173358E-2,6.53155910994212E-2,null,1]
["SEC3-165","230 Oldbury Rd (3016)",1.52,"N:/2024/Projects/2024s0196 - Sandwell Metropolitan Borough Council - Sandwell L1 & L2 SFRA/1_WIP/HM/Graphical/Shapefiles/Development_sites/Sandwell EMP3 Allocations_region.shx|layername=Sandwell EMP3 Allocations_region",1.5269999999999999,204.16277801129999,1.3370127405901999,818.25805926705596,5.3585744717389998,0,0,null,1,0,1.3370127405901999E-2,5.3585744717389999E-2,null,0.94641425528261003,0,1.3370127405901999E-2,4.0215617311487997E-2,null,1]
["SEC4-3","70-74 Crankhall Lane",1.78,"N:/2024/Projects/2024s0196 - Sandwell Metropolitan Borough Council - Sandwell L1 & L2 SFRA/1_WIP/HM/Graphical/Shapefiles/Development_sites/Sandwell EMP4 Allocations_region.shx|layername=Sandwell EMP4 Allocations_region",1.7589999999999999,239.19380952090299,1.35987131651947,575.46191357360306,3.2716321195167102,0,0,null,1,0,1.35987131651947E-2,3.2716321195167104E-2,null,0.9672836788048329,0,1.35987131651947E-2,1.9117608029972404E-2,null,1]
["SEC3-106","Aeroplas and Olympus Distribution, Great Western Way, Great Bridge",4.7699999999999996,"N:/2024/Projects/2024s0196 - Sandwell Metropolitan Borough Council - Sandwell L1 & L2 SFRA/1_WIP/HM/Graphical/Shapefiles/Development_sites/Sandwell EMP3 Allocations_region.shx|layername=Sandwell EMP3 Allocations_region",4.7839999999999998,1429.1392719128601,2.9874061307120399,4468.6403340916404,9.3410374988466405,112.089353885329,0.23430636157411699,null,1,2.3430636157411701E-3,2.9874061307120399E-2,9.341037498846641E-2,null,0.90658962501153362,2.3430636157411701E-3,2.753099769137923E-2,6.3536313681346018E-2,null,1]
["SEC3-41","Albion Industrial Estate",9.02,"N:/2024/Projects/2024s0196 - Sandwell Metropolitan Borough Council - Sandwell L1 & L2 SFRA/1_WIP/HM/Graphical/Shapefiles/Development_sites/Sandwell EMP3 Allocations_region.shx|layername=Sandwell EMP3 Allocations_region",9.0500000000000007,1585.7615612649299,1.7522472498156101,7154.2442443194404,7.9053529281023804,292.23298606310499,0.32291389742479198,null,1,3.2291389742479196E-3,1.75224724981561E-2,7.9053529281023799E-2,null,0.92094647071897617,3.2291389742479196E-3,1.4293333523908181E-2,6.1531056782867702E-2,null,1]
["SEC3-182","Albion Road",0.91,"N:/2024/Projects/2024s0196 - Sandwell Metropolitan Borough Council - Sandwell L1 & L2 SFRA/1_WIP/HM/Graphical/Shapefiles/Development_sites/Sandwell EMP3 Allocations_region.shx|layername=Sandwell EMP3 Allocations_region",0.91300000000000003,519.07273997715902,5.6843251783124398,2789.1842997253898,30.5441401961899,0,0,null,1,0,5.6843251783124396E-2,0.30544140196189901,null,0.69455859803810105,0,5.6843251783124396E-2,0.24859815017877462,null,1]
["SEC3-9","Alexandra Ind Est, Locarno Rd/ Alexandra Rd, Tipto",1.87,"N:/2024/Projects/2024s0196 - Sandwell Metropolitan Borough Council - Sandwell L1 & L2 SFRA/1_WIP/HM/Graphical/Shapefiles/Development_sites/Sandwell EMP3 Allocations_region.shx|layername=Sandwell EMP3 Allocations_region",1.875,364.29029854564499,1.9423801533074101,1479.8984099345901,7.8907544665452498,0,0,null,1,0,1.94238015330741E-2,7.8907544665452495E-2,null,0.92109245533454753,0,1.94238015330741E-2,5.9483743132378392E-2,null,1]
["SEC3-64","Alexandra Ind Est/Locarno Road, Tipton",2.56,"N:/2024/Projects/2024s0196 - Sandwell Metropolitan Borough Council - Sandwell L1 & L2 SFRA/1_WIP/HM/Graphical/Shapefiles/Development_sites/Sandwell EMP3 Allocations_region.shx|layername=Sandwell EMP3 Allocations_region",2.5680000000000001,238.933020175004,0.9303525793213,2189.0740860238702,8.5237725650729796,65.378872969325997,0.25457093814651999,null,1,2.5457093814651999E-3,9.3035257932130005E-3,8.523772565072979E-2,null,0.91476227434927027,2.5457093814651999E-3,6.7578164117478006E-3,7.5934199857516788E-2,null,1]
["SEC3-93","Alma Street, Smethwick",4.71,"N:/2024/Projects/2024s0196 - Sandwell Metropolitan Borough Council - Sandwell L1 & L2 SFRA/1_WIP/HM/Graphical/Shapefiles/Development_sites/Sandwell EMP3 Allocations_region.shx|layername=Sandwell EMP3 Allocations_region",4.726,167.02997937476201,0.353430668055145,4700.0586529643897,9.9451899343679298,0,0,null,1,0,3.5343066805514499E-3,9.9451899343679304E-2,null,0.90054810065632074,0,3.5343066805514499E-3,9.5917592663127854E-2,null,1]
["SEC3-137","Alutrade, Tat Bank Road",2.69,"N:/2024/Projects/2024s0196 - Sandwell Metropolitan Borough Council - Sandwell L1 & L2 SFRA/1_WIP/HM/Graphical/Shapefiles/Development_sites/Sandwell EMP3 Allocations_region.shx|layername=Sandwell EMP3 Allocations_region",2.7050000000000001,0.36903406402102201,1.36425645076E-3,116.600614588932,0.431052729610584,0,0,null,1,0,1.36425645076E-5,4.3105272961058401E-3,null,0.99568947270389419,0,1.36425645076E-5,4.2968847315982403E-3,null,1]
["SEC3-30","Arnold Laver, Dudley Rd East, Oldbury (2944",1,"N:/2024/Projects/2024s0196 - Sandwell Metropolitan Borough Council - Sandwell L1 & L2 SFRA/1_WIP/HM/Graphical/Shapefiles/Development_sites/Sandwell EMP3 Allocations_region.shx|layername=Sandwell EMP3 Allocations_region",1.0049999999999999,41.706850988335098,0.41511191966014999,135.95886973435501,1.3532104695709899,0,0,null,1,0,4.1511191966014998E-3,1.3532104695709899E-2,null,0.98646789530429013,0,4.1511191966014998E-3,9.3809854991083984E-3,null,1]
["SEC3-62","Autobase, Dudley Road, Oldbury",16.54,"N:/2024/Projects/2024s0196 - Sandwell Metropolitan Borough Council - Sandwell L1 & L2 SFRA/1_WIP/HM/Graphical/Shapefiles/Development_sites/Sandwell EMP3 Allocations_region.shx|layername=Sandwell EMP3 Allocations_region",16.605,6727.8452910579599,4.0515900892542902,39255.627837583903,23.6402155242187,1120.40412333218,0.67472096126908498,null,1,6.74720961269085E-3,4.0515900892542901E-2,0.236402155242187,null,0.763597844757813,6.74720961269085E-3,3.3768691279852048E-2,0.1958862543496441,null,1]
["SEC3-128","Barnfield Trading Est Tipton (5450)",2.2599999999999998,"N:/2024/Projects/2024s0196 - Sandwell Metropolitan Borough Council - Sandwell L1 & L2 SFRA/1_WIP/HM/Graphical/Shapefiles/Development_sites/Sandwell EMP3 Allocations_region.shx|layername=Sandwell EMP3 Allocations_region",2.2690000000000001,797.92412541138697,3.5169794664165099,7690.3989522588499,33.896675563858601,329.39665594938498,1.45186896646717,null,1,1.4518689664671701E-2,3.5169794664165102E-2,0.33896675563858603,null,0.66103324436141397,1.4518689664671701E-2,2.0651104999493401E-2,0.30379696097442094,null,1]
["SEC3-151","Beakes Road, Bearwood (825)",0.69,"N:/2024/Projects/2024s0196 - Sandwell Metropolitan Borough Council - Sandwell L1 & L2 SFRA/1_WIP/HM/Graphical/Shapefiles/Development_sites/Sandwell EMP3 Allocations_region.shx|layername=Sandwell EMP3 Allocations_region",0.69699999999999995,0.17984064406255101,2.5804495673699998E-3,10.5307169226376,0.15110034813748499,0,0,null,1,0,2.5804495673699997E-5,1.5110034813748498E-3,null,0.9984889965186251,0,2.5804495673699997E-5,1.4851989857011499E-3,null,0.99999999999999989]
["SEC3-152","Beakes Road, Bearwood (826)",0.92,"N:/2024/Projects/2024s0196 - Sandwell Metropolitan Borough Council - Sandwell L1 & L2 SFRA/1_WIP/HM/Graphical/Shapefiles/Development_sites/Sandwell EMP3 Allocations_region.shx|layername=Sandwell EMP3 Allocations_region",0.92600000000000005,0,0,2083.8255058885202,22.513055169906998,0,0,null,1,0,0,0.22513055169906998,null,0.77486944830092996,0,0,0.22513055169906998,null,1]
["SEC3-16","Bescot Industrial Estate, Wednesbury",7.89,"N:/2024/Projects/2024s0196 - Sandwell Metropolitan Borough Council - Sandwell L1 & L2 SFRA/1_WIP/HM/Graphical/Shapefiles/Development_sites/Sandwell EMP3 Allocations_region.shx|layername=Sandwell EMP3 Allocations_region",7.9219999999999997,1077.6052909503701,1.3603350823592599,8504.2237165009592,10.7354649860574,501.47695633343,0.633048763238236,null,1,6.3304876323823601E-3,1.3603350823592599E-2,0.107354649860574,null,0.89264535013942603,6.3304876323823601E-3,7.2728631912102387E-3,9.37512990369814E-2,null,1]
["SEC3-138","Bevan Motor Bodies, Blakeley Hall Road",0.91,"N:/2024/Projects/2024s0196 - Sandwell Metropolitan Borough Council - Sandwell L1 & L2 SFRA/1_WIP/HM/Graphical/Shapefiles/Development_sites/Sandwell EMP3 Allocations_region.shx|layername=Sandwell EMP3 Allocations_region",0.91200000000000003,0,0,59.441263352230898,0.65180871511549898,0,0,null,1,0,0,6.5180871511549901E-3,null,0.99348191284884502,0,0,6.5180871511549901E-3,null,1]
["SEC3-90","Birchley, Oldbury",7,"N:/2024/Projects/2024s0196 - Sandwell Metropolitan Borough Council - Sandwell L1 & L2 SFRA/1_WIP/HM/Graphical/Shapefiles/Development_sites/Sandwell EMP3 Allocations_region.shx|layername=Sandwell EMP3 Allocations_region",7.03,8305.5878856360705,11.8145020889037,24418.933434300801,34.735354563797401,3142.5052873115401,4.4701393558837701,null,1,4.4701393558837704E-2,0.118145020889037,0.34735354563797399,null,0.65264645436202606,4.4701393558837704E-2,7.3443627330199296E-2,0.22920852474893699,null,1]
["EMP2-9","Black Country New Road, Wednesbury (Hallens Drive)",43.88,"N:/2024/Projects/2024s0196 - Sandwell Metropolitan Borough Council - Sandwell L1 & L2 SFRA/1_WIP/HM/Graphical/Shapefiles/Development_sites/Sandwell EMP2 Allocations_region.shx|layername=Sandwell EMP2 Allocations_region",44.042999999999999,13502.575062366301,3.0657475827936298,66539.602309640904,15.107757149922501,3027.3857770192299,0.68736523109200098,null,1,6.8736523109200094E-3,3.0657475827936299E-2,0.15107757149922502,null,0.84892242850077504,6.8736523109200094E-3,2.378382351701629E-2,0.12042009567128872,null,1]
["EMP2-10","Black Country New Road/ Pacific Avenue",23.03,"N:/2024/Projects/2024s0196 - Sandwell Metropolitan Borough Council - Sandwell L1 & L2 SFRA/1_WIP/HM/Graphical/Shapefiles/Development_sites/Sandwell EMP2 Allocations_region.shx|layername=Sandwell EMP2 Allocations_region",23.117999999999999,6210.4346548739704,2.6864275707410901,38044.887932616301,16.456953747629299,2403.8626419699299,1.03983106441582,null,1,1.03983106441582E-2,2.6864275707410901E-2,0.16456953747629299,null,0.83543046252370701,1.03983106441582E-2,1.6465965063252701E-2,0.13770526176888209,null,1]
["EMP2-13","Black Country New Road/Golds Hill, Tipton",15.08,"N:/2024/Projects/2024s0196 - Sandwell Metropolitan Borough Council - Sandwell L1 & L2 SFRA/1_WIP/HM/Graphical/Shapefiles/Development_sites/Sandwell EMP2 Allocations_region.shx|layername=Sandwell EMP2 Allocations_region",15.132999999999999,6262.77867771614,4.1384287976185803,18617.551923257601,12.302432671701199,2613.0307133901401,1.7266842898077801,null,1,1.7266842898077801E-2,4.1384287976185805E-2,0.12302432671701199,null,0.87697567328298798,1.7266842898077801E-2,2.4117445078108004E-2,8.164003874082619E-2,null,0.99999999999999989]
["SEC3-130","Bloomfield Park",5.13,"N:/2024/Projects/2024s0196 - Sandwell Metropolitan Borough Council - Sandwell L1 & L2 SFRA/1_WIP/HM/Graphical/Shapefiles/Development_sites/Sandwell EMP3 Allocations_region.shx|layername=Sandwell EMP3 Allocations_region",5.1470000000000002,1360.2395621226101,2.64277823250915,3684.0962446158001,7.1577460565447799,1143.1438221348999,2.2209879008747002,null,1,2.2209879008747001E-2,2.6427782325091499E-2,7.1577460565447795E-2,null,0.92842253943455222,2.2209879008747001E-2,4.2179033163444977E-3,4.5149678240356296E-2,null,1]
["SEC3-19","Brades Road, Oldbury (Pearsall Drive)",7,"N:/2024/Projects/2024s0196 - Sandwell Metropolitan Borough Council - Sandwell L1 & L2 SFRA/1_WIP/HM/Graphical/Shapefiles/Development_sites/Sandwell EMP3 Allocations_region.shx|layername=Sandwell EMP3 Allocations_region",7.03,8607.06686414879,12.2440117925967,17756.3809579886,25.2593991977724,1986.38210643414,2.8257345178865498,null,1,2.8257345178865498E-2,0.122440117925967,0.25259399197772398,null,0.74740600802227597,2.8257345178865498E-2,9.4182772747101504E-2,0.13015387405175699,null,1]
["SEC3-113","Brandon Way (east side)",0.47,"N:/2024/Projects/2024s0196 - Sandwell Metropolitan Borough Council - Sandwell L1 & L2 SFRA/1_WIP/HM/Graphical/Shapefiles/Development_sites/Sandwell EMP3 Allocations_region.shx|layername=Sandwell EMP3 Allocations_region",0.47,0,0,956.656002186043,20.3481956749166,0,0,null,1,0,0,0.203481956749166,null,0.79651804325083397,0,0,0.203481956749166,null,1]
["SEC3-154","Brandon Way / Albion Rd, WB (2385 / WBPr32)",6.2,"N:/2024/Projects/2024s0196 - Sandwell Metropolitan Borough Council - Sandwell L1 & L2 SFRA/1_WIP/HM/Graphical/Shapefiles/Development_sites/Sandwell EMP3 Allocations_region.shx|layername=Sandwell EMP3 Allocations_region",6.2249999999999996,952.75961157673203,1.53042380162608,4045.2034811212402,6.4978359858089503,144.114898581983,0.23149267483515101,null,1,2.3149267483515102E-3,1.5304238016260801E-2,6.4978359858089502E-2,null,0.93502164014191047,2.3149267483515102E-3,1.2989311267909292E-2,4.9674121841828699E-2,null,1]
["SEC1-6","Brandon Way/ Albion Road, West Bromwich",3.07,"N:/2024/Projects/2024s0196 - Sandwell Metropolitan Borough Council - Sandwell L1 & L2 SFRA/1_WIP/HM/Graphical/Shapefiles/Development_sites/Sandwell EMP1 Sites_region.shx|layername=Sandwell EMP1 Sites_region",3.0859999999999999,5515.48741884431,17.871597816225801,12050.386313106001,39.046351004660501,2775.70971670058,8.9940133925384504,null,1,8.9940133925384511E-2,0.17871597816225801,0.39046351004660501,null,0.60953648995339504,8.9940133925384511E-2,8.87758442368735E-2,0.211747531884347,null,1]
["SEC3-71","Brickhouse Lane",3.87,"N:/2024/Projects/2024s0196 - Sandwell Metropolitan Borough Council - Sandwell L1 & L2 SFRA/1_WIP/HM/Graphical/Shapefiles/Development_sites/Sandwell EMP3 Allocations_region.shx|layername=Sandwell EMP3 Allocations_region",3.883,552.440427643102,1.4228239129673299,6925.3720194327598,17.836466019481001,0,0,null,1,0,1.4228239129673298E-2,0.17836466019481001,null,0.82163533980518999,0,1.4228239129673298E-2,0.16413642106513671,null,1]
["SEC3-116","Bridge Street/ Potters Lane",3.68,"N:/2024/Projects/2024s0196 - Sandwell Metropolitan Borough Council - Sandwell L1 & L2 SFRA/1_WIP/HM/Graphical/Shapefiles/Development_sites/Sandwell EMP3 Allocations_region.shx|layername=Sandwell EMP3 Allocations_region",3.6949999999999998,50.802978313884701,0.13747984572943001,1890.50601790171,5.1159692663265099,0,0,null,1,0,1.3747984572943001E-3,5.1159692663265102E-2,null,0.94884030733673486,0,1.3747984572943001E-3,4.9784894205970799E-2,null,0.99999999999999989]
["SEC1-2","British Gas, Land off Dudley Rd, Oldbury (2949)",1.05,"N:/2024/Projects/2024s0196 - Sandwell Metropolitan Borough Council - Sandwell L1 & L2 SFRA/1_WIP/HM/Graphical/Shapefiles/Development_sites/Sandwell EMP1 Sites_region.shx|layername=Sandwell EMP1 Sites_region",1.056,176.14042673006901,1.66723528030788,1700.2804860367,16.0937932612349,0,0,null,1,0,1.6672352803078799E-2,0.16093793261234901,null,0.83906206738765099,0,1.6672352803078799E-2,0.14426557980927021,null,1]
["SEC3-177","Broadcott Industrial Estate, Cradley Heath",1.36,"N:/2024/Projects/2024s0196 - Sandwell Metropolitan Borough Council - Sandwell L1 & L2 SFRA/1_WIP/HM/Graphical/Shapefiles/Development_sites/Sandwell EMP3 Allocations_region.shx|layername=Sandwell EMP3 Allocations_region",1.361,0,0,517.33283814815002,3.8011893173739,0,0,null,1,0,0,3.8011893173739E-2,null,0.96198810682626101,0,0,3.8011893173739E-2,null,1]
["EMP2-12","Broadwell Road, Oldbury",23.68,"N:/2024/Projects/2024s0196 - Sandwell Metropolitan Borough Council - Sandwell L1 & L2 SFRA/1_WIP/HM/Graphical/Shapefiles/Development_sites/Sandwell EMP2 Allocations_region.shx|layername=Sandwell EMP2 Allocations_region",23.771000000000001,8996.9555355324592,3.7848618811477301,63959.457584965399,26.906625468600101,2932.0037015892299,1.2334426908860301,null,1,1.23344269088603E-2,3.7848618811477303E-2,0.26906625468600098,null,0.73093374531399902,1.23344269088603E-2,2.5514191902617001E-2,0.23121763587452368,null,1]
["SEC3-100","Bromford Road Industrial Estate",7.85,"N:/2024/Projects/2024s0196 - Sandwell Metropolitan Borough Council - Sandwell L1 & L2 SFRA/1_WIP/HM/Graphical/Shapefiles/Development_sites/Sandwell EMP3 Allocations_region.shx|layername=Sandwell EMP3 Allocations_region",7.8810000000000002,591.75949940817497,0.750873999209827,13168.085163814299,16.708768982631501,3.5095280705713701,4.4531830588690003E-3,null,1,4.4531830588690001E-5,7.5087399920982702E-3,0.167087689826315,null,0.83291231017368506,4.4531830588690001E-5,7.46420816150958E-3,0.15957894983421672,null,1]
["SEC3-129","Brook St Bus Centre, Brook St Comm Centre, Tipton",1.53,"N:/2024/Projects/2024s0196 - Sandwell Metropolitan Borough Council - Sandwell L1 & L2 SFRA/1_WIP/HM/Graphical/Shapefiles/Development_sites/Sandwell EMP3 Allocations_region.shx|layername=Sandwell EMP3 Allocations_region",1.538,2067.0342155520998,13.4362161818399,13235.077515401699,86.031165494205098,1314.36638463384,8.5436954808059102,null,1,8.5436954808059101E-2,0.134362161818399,0.86031165494205097,null,0.13968834505794903,8.5436954808059101E-2,4.8925207010339894E-2,0.72594949312365198,null,1]
["SEC3-133","Brymill Industrial Estate, Brown Lion St, Tipton",1.78,"N:/2024/Projects/2024s0196 - Sandwell Metropolitan Borough Council - Sandwell L1 & L2 SFRA/1_WIP/HM/Graphical/Shapefiles/Development_sites/Sandwell EMP3 Allocations_region.shx|layername=Sandwell EMP3 Allocations_region",1.7829999999999999,0,0,1391.03330052093,7.8007675439327802,0,0,null,1,0,0,7.8007675439327795E-2,null,0.92199232456067226,0,0,7.8007675439327795E-2,null,1]
["SEC3-123","Burnt Tree Industrial Estate",1.56,"N:/2024/Projects/2024s0196 - Sandwell Metropolitan Borough Council - Sandwell L1 & L2 SFRA/1_WIP/HM/Graphical/Shapefiles/Development_sites/Sandwell EMP3 Allocations_region.shx|layername=Sandwell EMP3 Allocations_region",1.57,116.108451255867,0.73942890804058903,496.05960547438298,3.15912242762287,0,0,null,1,0,7.3942890804058903E-3,3.1591224276228701E-2,null,0.96840877572377126,0,7.3942890804058903E-3,2.4196935195822812E-2,null,0.99999999999999989]
["SEC3-25","Cakemore Road, Rowley Regis",7.48,"N:/2024/Projects/2024s0196 - Sandwell Metropolitan Borough Council - Sandwell L1 & L2 SFRA/1_WIP/HM/Graphical/Shapefiles/Development_sites/Sandwell EMP3 Allocations_region.shx|layername=Sandwell EMP3 Allocations_region",7.5090000000000003,15833.8050739269,21.085746402319099,34812.492355221002,46.359506259402004,7395.82495342325,9.8489585210708093,null,1,9.8489585210708094E-2,0.210857464023191,0.46359506259402006,null,0.53640493740597994,9.8489585210708094E-2,0.1123678788124829,0.25273759857082906,null,1]
["SEC3-50","Cakemore Road, Rowley Regis",0.6,"N:/2024/Projects/2024s0196 - Sandwell Metropolitan Borough Council - Sandwell L1 & L2 SFRA/1_WIP/HM/Graphical/Shapefiles/Development_sites/Sandwell EMP3 Allocations_region.shx|layername=Sandwell EMP3 Allocations_region",0.60299999999999998,45.3464819665775,0.75236982966257904,79.761745652054003,1.3233734655327001,16.380296853490499,0.27177502242768398,null,1,2.7177502242768398E-3,7.5236982966257904E-3,1.3233734655327001E-2,null,0.98676626534467304,2.7177502242768398E-3,4.8059480723489506E-3,5.710036358701211E-3,null,1]
["EMP2-4","Car Craft, Darlaston Rd/ Old Park Rd, Kings Hill",5.17,"N:/2024/Projects/2024s0196 - Sandwell Metropolitan Borough Council - Sandwell L1 & L2 SFRA/1_WIP/HM/Graphical/Shapefiles/Development_sites/Sandwell EMP2 Allocations_region.shx|layername=Sandwell EMP2 Allocations_region",5.1859999999999999,1866.93436973911,3.5998616815009101,2645.0702203548299,5.1002794128564304,1330.1133097253701,2.5647521484131399,null,1,2.5647521484131398E-2,3.5998616815009099E-2,5.1002794128564302E-2,null,0.94899720587143566,2.5647521484131398E-2,1.0351095330877701E-2,1.5004177313555203E-2,null,1]
["SEC3-115","Carlyle Bus and Coach, Carlyle Business Park",0.39,"N:/2024/Projects/2024s0196 - Sandwell Metropolitan Borough Council - Sandwell L1 & L2 SFRA/1_WIP/HM/Graphical/Shapefiles/Development_sites/Sandwell EMP3 Allocations_region.shx|layername=Sandwell EMP3 Allocations_region",0.38700000000000001,50.692847934119001,1.31028210160543,119.742700722804,3.09504642072765,1.8522767350078E-2,4.7876675941600002E-4,null,1,4.7876675941600002E-6,1.3102821016054301E-2,3.0950464207276498E-2,null,0.96904953579272346,4.7876675941600002E-6,1.3098033348460141E-2,1.7847643191222198E-2,null,1]
["SEC4-7","Castle St, High St Tipton (2942)",0.7,"N:/2024/Projects/2024s0196 - Sandwell Metropolitan Borough Council - Sandwell L1 & L2 SFRA/1_WIP/HM/Graphical/Shapefiles/Development_sites/Sandwell EMP4 Allocations_region.shx|layername=Sandwell EMP4 Allocations_region",0.70499999999999996,363.20162020359498,5.1514790974489202,1172.21611676832,16.6261560723208,92.522867371505498,1.31230036097628,null,1,1.31230036097628E-2,5.1514790974489202E-2,0.166261560723208,null,0.83373843927679203,1.31230036097628E-2,3.8391787364726399E-2,0.11474676974871879,null,1]
["SEC3-148","Castle St, Tipton (2938)",1.49,"N:/2024/Projects/2024s0196 - Sandwell Metropolitan Borough Council - Sandwell L1 & L2 SFRA/1_WIP/HM/Graphical/Shapefiles/Development_sites/Sandwell EMP3 Allocations_region.shx|layername=Sandwell EMP3 Allocations_region",1.494,998.39903026837203,6.6825532062859496,2283.7233445749298,15.285574500665399,228.784902269508,1.5313188773830799,null,1,1.53131887738308E-2,6.6825532062859502E-2,0.152855745006654,null,0.847144254993346,1.53131887738308E-2,5.1512343289028706E-2,8.6030212943794496E-2,null,1]
["SEC3-51","Causeway Green Rd / Wolverhampton Road",0.84,"N:/2024/Projects/2024s0196 - Sandwell Metropolitan Borough Council - Sandwell L1 & L2 SFRA/1_WIP/HM/Graphical/Shapefiles/Development_sites/Sandwell EMP3 Allocations_region.shx|layername=Sandwell EMP3 Allocations_region",0.84799999999999998,1245.3764421736,14.6834376083397,3585.8522870154002,42.278492306484097,859.98888516627005,10.1395792561847,null,1,0.101395792561847,0.146834376083397,0.42278492306484095,null,0.57721507693515905,0.101395792561847,4.5438583521550002E-2,0.27595054698144394,null,1]
["SEC3-170","Charles Street, West Bromwich",9.02,"N:/2024/Projects/2024s0196 - Sandwell Metropolitan Borough Council - Sandwell L1 & L2 SFRA/1_WIP/HM/Graphical/Shapefiles/Development_sites/Sandwell EMP3 Allocations_region.shx|layername=Sandwell EMP3 Allocations_region",9.0559999999999992,320.48723188610097,0.353914036910291,6434.9709603443498,7.1061381652337996,0,0,null,1,0,3.5391403691029098E-3,7.1061381652337996E-2,null,0.928938618347662,0,3.5391403691029098E-3,6.7522241283235085E-2,null,1]
["SEC3-109","Chaters Close, Tipton",0.56999999999999995,"N:/2024/Projects/2024s0196 - Sandwell Metropolitan Borough Council - Sandwell L1 & L2 SFRA/1_WIP/HM/Graphical/Shapefiles/Development_sites/Sandwell EMP3 Allocations_region.shx|layername=Sandwell EMP3 Allocations_region",0.57799999999999996,17.353030871650802,0.30007098889164902,87.393104068458797,1.5112135369374999,2.44394611336247,4.2261051251435998E-2,null,1,4.2261051251435997E-4,3.0007098889164902E-3,1.5112135369375E-2,null,0.98488786463062505,4.2261051251435997E-4,2.5780993764021303E-3,1.211142548045851E-2,null,1]
["SEC3-38","Church Lane / Gladstone Street, WB (2389 / WBPr38)",2.2000000000000002,"N:/2024/Projects/2024s0196 - Sandwell Metropolitan Borough Council - Sandwell L1 & L2 SFRA/1_WIP/HM/Graphical/Shapefiles/Development_sites/Sandwell EMP3 Allocations_region.shx|layername=Sandwell EMP3 Allocations_region",2.2050000000000001,1656.3770200603001,7.5135032488811602,6056.6948140514096,27.473815207361501,228.18192710535499,1.0350576166407,null,1,1.0350576166407E-2,7.5135032488811607E-2,0.27473815207361502,null,0.72526184792638504,1.0350576166407E-2,6.4784456322404607E-2,0.19960311958480342,null,1]
["EMP2-18","Churchbridge, Oldbury",13.98,"N:/2024/Projects/2024s0196 - Sandwell Metropolitan Borough Council - Sandwell L1 & L2 SFRA/1_WIP/HM/Graphical/Shapefiles/Development_sites/Sandwell EMP2 Allocations_region.shx|layername=Sandwell EMP2 Allocations_region",14.035,6519.3537012762299,4.6451289108052602,52615.100200013003,37.4889803932791,444.89637469096198,0.31699476774590102,null,1,3.1699476774590101E-3,4.6451289108052601E-2,0.37488980393279098,null,0.62511019606720897,3.1699476774590101E-3,4.328134143059359E-2,0.3284385148247384,null,1]
["SEC3-89","Churchbridge, Oldbury (opposite Thurston Avenue)",0.75,"N:/2024/Projects/2024s0196 - Sandwell Metropolitan Borough Council - Sandwell L1 & L2 SFRA/1_WIP/HM/Graphical/Shapefiles/Development_sites/Sandwell EMP3 Allocations_region.shx|layername=Sandwell EMP3 Allocations_region",0.75700000000000001,505.04076798019599,6.6721903927914203,3939.25625333158,52.042269445569097,0,0,null,1,0,6.6721903927914203E-2,0.520422694455691,null,0.479577305544309,0,6.6721903927914203E-2,0.45370079052777679,null,1]
["SEC4-10","Clay Lane, Oldbury",0.23,"N:/2024/Projects/2024s0196 - Sandwell Metropolitan Borough Council - Sandwell L1 & L2 SFRA/1_WIP/HM/Graphical/Shapefiles/Development_sites/Sandwell EMP4 Allocations_region.shx|layername=Sandwell EMP4 Allocations_region",0.22700000000000001,3.4424197074254299,0.15198072470513599,20.719799278741899,0.91476646596451106,0,0,null,1,0,1.5198072470513598E-3,9.1476646596451109E-3,null,0.99085233534035488,0,1.5198072470513598E-3,7.6278574125937509E-3,null,1]
["SEC3-23","Cleton Street Business Park, Oldbury",2.0099999999999998,"N:/2024/Projects/2024s0196 - Sandwell Metropolitan Borough Council - Sandwell L1 & L2 SFRA/1_WIP/HM/Graphical/Shapefiles/Development_sites/Sandwell EMP3 Allocations_region.shx|layername=Sandwell EMP3 Allocations_region",2.0129999999999999,166.092578168372,0.82513426363531694,1519.40622180377,7.5482851059127496,0,0,null,1,0,8.2513426363531699E-3,7.5482851059127498E-2,null,0.92451714894087256,0,8.2513426363531699E-3,6.7231508422774325E-2,null,1]
["SEC1-5","Coneygre Business Park (open land)",7.22,"N:/2024/Projects/2024s0196 - Sandwell Metropolitan Borough Council - Sandwell L1 & L2 SFRA/1_WIP/HM/Graphical/Shapefiles/Development_sites/Sandwell EMP1 Sites_region.shx|layername=Sandwell EMP1 Sites_region",7.234,1734.55830210516,2.3978854320681302,5146.78917614893,7.1150164122100596,928.844601944023,1.28405193238737,null,1,1.28405193238737E-2,2.3978854320681302E-2,7.1150164122100595E-2,null,0.92884983587789938,1.28405193238737E-2,1.1138334996807601E-2,4.7171309801419294E-2,null,0.99999999999999989]
["SEC3-20","Coneygre Business Park, Tipton",17.690000000000001,"N:/2024/Projects/2024s0196 - Sandwell Metropolitan Borough Council - Sandwell L1 & L2 SFRA/1_WIP/HM/Graphical/Shapefiles/Development_sites/Sandwell EMP3 Allocations_region.shx|layername=Sandwell EMP3 Allocations_region",17.754999999999999,9956.0412811256392,5.6074706859895,51883.556685775096,29.222008525808899,3076.6139597104798,1.7328195116957199,null,1,1.7328195116957198E-2,5.6074706859894997E-2,0.29222008525808901,null,0.70777991474191104,1.7328195116957198E-2,3.8746511742937799E-2,0.23614537839819402,null,1]
["SEC3-175","Coneygre Rd, Burnt Tree, Tipton",1.02,"N:/2024/Projects/2024s0196 - Sandwell Metropolitan Borough Council - Sandwell L1 & L2 SFRA/1_WIP/HM/Graphical/Shapefiles/Development_sites/Sandwell EMP3 Allocations_region.shx|layername=Sandwell EMP3 Allocations_region",1.02,0,0,174.62683489315799,1.7118077326855301,0,0,null,1,0,0,1.7118077326855302E-2,null,0.98288192267314467,0,0,1.7118077326855302E-2,null,1]
["SEC3-174","Corner of Bromford Lane / Brandon Way",3.94,"N:/2024/Projects/2024s0196 - Sandwell Metropolitan Borough Council - Sandwell L1 & L2 SFRA/1_WIP/HM/Graphical/Shapefiles/Development_sites/Sandwell EMP3 Allocations_region.shx|layername=Sandwell EMP3 Allocations_region",3.9529999999999998,2114.7368098770198,5.35023180270864,7002.9685049195496,17.717337038535,216.172351757028,0.54691070105505302,null,1,5.46910701055053E-3,5.3502318027086403E-2,0.17717337038535,null,0.82282662961465003,5.46910701055053E-3,4.8033211016535876E-2,0.12367105235826359,null,1]
["SEC3-85","Corngreaves Rd (City Estate Hillcrest Ind Est) Pal",2.8,"N:/2024/Projects/2024s0196 - Sandwell Metropolitan Borough Council - Sandwell L1 & L2 SFRA/1_WIP/HM/Graphical/Shapefiles/Development_sites/Sandwell EMP3 Allocations_region.shx|layername=Sandwell EMP3 Allocations_region",2.8079999999999998,202.97905609356701,0.72293352412246403,1099.21649753727,3.9149874456597198,79.566189351756904,0.28338424060138201,null,1,2.8338424060138203E-3,7.22933524122464E-3,3.9149874456597199E-2,null,0.96085012554340277,2.8338424060138203E-3,4.3954928352108198E-3,3.1920539215372558E-2,null,0.99999999999999989]
["SEC3-24","Corngreaves Road, Cradley Heath",19.670000000000002,"N:/2024/Projects/2024s0196 - Sandwell Metropolitan Borough Council - Sandwell L1 & L2 SFRA/1_WIP/HM/Graphical/Shapefiles/Development_sites/Sandwell EMP3 Allocations_region.shx|layername=Sandwell EMP3 Allocations_region",19.739999999999998,5734.96684280932,2.90524385169351,33084.402728634399,16.7600371979192,1829.4573150295701,0.92677425381971201,null,1,9.2677425381971195E-3,2.9052438516935099E-2,0.167600371979192,null,0.83239962802080802,9.2677425381971195E-3,1.9784695978737978E-2,0.13854793346225691,null,1]
["SEC3-80","Corngreaves Road, Cradley Heath",3.64,"N:/2024/Projects/2024s0196 - Sandwell Metropolitan Borough Council - Sandwell L1 & L2 SFRA/1_WIP/HM/Graphical/Shapefiles/Development_sites/Sandwell EMP3 Allocations_region.shx|layername=Sandwell EMP3 Allocations_region",3.6509999999999998,516.457593490465,1.4144080914951001,2985.5360086795999,8.1764046871437497,0,0,null,1,0,1.4144080914951E-2,8.1764046871437498E-2,null,0.91823595312856254,0,1.4144080914951E-2,6.7619965956486505E-2,null,1]
["SEC3-96","Cornwall Road",4.0199999999999996,"N:/2024/Projects/2024s0196 - Sandwell Metropolitan Borough Council - Sandwell L1 & L2 SFRA/1_WIP/HM/Graphical/Shapefiles/Development_sites/Sandwell EMP3 Allocations_region.shx|layername=Sandwell EMP3 Allocations_region",4.0250000000000004,3484.4385036552699,8.6566239632798396,15960.172648547799,39.650925927539603,429.90495630858697,1.0680416781096,null,1,1.0680416781096E-2,8.65662396327984E-2,0.39650925927539604,null,0.60349074072460396,1.0680416781096E-2,7.5885822851702395E-2,0.30994301964259763,null,1]
["SEC3-11","Cornwall Road/Foundary Lane, Smethwick",0.35,"N:/2024/Projects/2024s0196 - Sandwell Metropolitan Borough Council - Sandwell L1 & L2 SFRA/1_WIP/HM/Graphical/Shapefiles/Development_sites/Sandwell EMP3 Allocations_region.shx|layername=Sandwell EMP3 Allocations_region",0.35499999999999998,0,0,4.7446465269900298,0.13350366876356101,0,0,null,1,0,0,1.3350366876356101E-3,null,0.99866496331236443,0,0,1.3350366876356101E-3,null,1]
["SEC3-97","Cornwall Road/Foundary Lane, Smethwick",99.99,"N:/2024/Projects/2024s0196 - Sandwell Metropolitan Borough Council - Sandwell L1 & L2 SFRA/1_WIP/HM/Graphical/Shapefiles/Development_sites/Sandwell EMP3 Allocations_region.shx|layername=Sandwell EMP3 Allocations_region",2.8839999999999999,0,0,483.828252939523,1.6773880908863401,0,0,null,1,0,0,1.6773880908863403E-2,null,0.98322611909113655,0,0,1.6773880908863403E-2,null,1]
["SEC3-28","Cornwall Road/Foundary Lane, Smethwick (north of Anne Road)",2.3199999999999998,"N:/2024/Projects/2024s0196 - Sandwell Metropolitan Borough Council - Sandwell L1 & L2 SFRA/1_WIP/HM/Graphical/Shapefiles/Development_sites/Sandwell EMP3 Allocations_region.shx|layername=Sandwell EMP3 Allocations_region",2.3319999999999999,233.295847386063,1.0002174203165199,413.64640702084199,1.7734406625289301,139.285286488617,0.59716266491940995,null,1,5.9716266491940994E-3,1.0002174203165199E-2,1.7734406625289301E-2,null,0.98226559337471064,5.9716266491940994E-3,4.0305475539710997E-3,7.7322324221241016E-3,null,1]
["SEC3-79","Cradley Business Patrk, Cradley Heath",3.69,"N:/2024/Projects/2024s0196 - Sandwell Metropolitan Borough Council - Sandwell L1 & L2 SFRA/1_WIP/HM/Graphical/Shapefiles/Development_sites/Sandwell EMP3 Allocations_region.shx|layername=Sandwell EMP3 Allocations_region",3.706,775.39156334136101,2.0921666252577502,2455.6830459764301,6.6259401751336,0,0,null,1,0,2.0921666252577503E-2,6.6259401751336003E-2,null,0.93374059824866396,0,2.0921666252577503E-2,4.5337735498758497E-2,null,1]
["SEC3-52","Crosswells Road / Hall Street, Oldbury",0.8,"N:/2024/Projects/2024s0196 - Sandwell Metropolitan Borough Council - Sandwell L1 & L2 SFRA/1_WIP/HM/Graphical/Shapefiles/Development_sites/Sandwell EMP3 Allocations_region.shx|layername=Sandwell EMP3 Allocations_region",0.8,266.71816254487999,3.3331122051336601,933.23737093149805,11.6624411388377,240.33904618077699,3.00345878417835,null,1,3.0034587841783499E-2,3.3331122051336599E-2,0.11662441138837699,null,0.88337558861162302,3.0034587841783499E-2,3.2965342095531008E-3,8.3293289337040388E-2,null,1]
["SEC3-166","Crystal Drive, Smethwick",14.3,"N:/2024/Projects/2024s0196 - Sandwell Metropolitan Borough Council - Sandwell L1 & L2 SFRA/1_WIP/HM/Graphical/Shapefiles/Development_sites/Sandwell EMP3 Allocations_region.shx|layername=Sandwell EMP3 Allocations_region",14.358000000000001,3935.95526953015,2.7412675035663701,17638.031447243698,12.284327214669499,580.46280042131798,0.40427385548363698,null,1,4.0427385548363701E-3,2.7412675035663702E-2,0.12284327214669499,null,0.87715672785330501,4.0427385548363701E-3,2.336993648082733E-2,9.5430597111031301E-2,null,{"$f":"SUM(R66:U66)","v":1}]
["SEC3-102","Cygnus Way, West Bromwich",12.53,"N:/2024/Projects/2024s0196 - Sandwell Metropolitan Borough Council - Sandwell L1 & L2 SFRA/1_WIP/HM/Graphical/Shapefiles/Development_sites/Sandwell EMP3 Allocations_region.shx|layername=Sandwell EMP3 Allocations_region",12.579000000000001,4302.9468783177299,3.4206151614725,19162.358933743501,15.233061748595601,735.18515058895798,0.58443330668707005,null,1,{"$f":"K67/100","v":5.8443330668707001E-3},{"$f":"G67/100","v":3.4206151614724997E-2},{"$f":"I67/100","v":0.152330617485956},null,{"$f":"M67-P67","v":0.847669382514044},{"$f":"N67","v":5.8443330668707001E-3},{"$f":"O67-S67","v":2.8361818547854297E-2},{"$f":"P67-(S67+T67)","v":0.118124465871231},null,1]
["EMP2-2","Danks Way, Hill Top, West Bromwich",7.6,"N:/2024/Projects/2024s0196 - Sandwell Metropolitan Borough Council - Sandwell L1 & L2 SFRA/1_WIP/HM/Graphical/Shapefiles/Development_sites/Sandwell EMP2 Allocations_region.shx|layername=Sandwell EMP2 Allocations_region",7.6260000000000003,3142.3832997524401,4.1204061973799098,15973.994947806599,20.9456776915288,354.00681391637198,0.46418648867267398,null,1,4.6418648867267397E-3,4.1204061973799097E-2,0.209456776915288,null,0.79054322308471203,4.6418648867267397E-3,3.6562197087072354E-2,0.16825271494148891,null,1]
["SEC3-178","Dart Products, Garratts Lane",7.82,"N:/2024/Projects/2024s0196 - Sandwell Metropolitan Borough Council - Sandwell L1 & L2 SFRA/1_WIP/HM/Graphical/Shapefiles/Development_sites/Sandwell EMP3 Allocations_region.shx|layername=Sandwell EMP3 Allocations_region",7.85,364.29031542722902,0.46407430952644202,9367.3381896271694,11.9331775190171,0,0,null,1,0,4.6407430952644206E-3,0.119331775190171,null,0.88066822480982898,0,4.6407430952644206E-3,0.11469103209490658,null,1]
["SEC3-183","Dartmouth Road, Smethwick",23.67,"N:/2024/Projects/2024s0196 - Sandwell Metropolitan Borough Council - Sandwell L1 & L2 SFRA/1_WIP/HM/Graphical/Shapefiles/Development_sites/Sandwell EMP3 Allocations_region.shx|layername=Sandwell EMP3 Allocations_region",23.757999999999999,6283.2521138624497,2.6446543960826401,32188.998035420998,13.548521309857399,1829.40579616676,0.77000667701640302,null,1,7.70006677016403E-3,2.6446543960826401E-2,0.135485213098574,null,0.86451478690142602,7.70006677016403E-3,1.8746477190662372E-2,0.1090386691377476,null,1]
["EMP2-16","Dartmouth Road/ Piaro Way, Smethwick",6.93,"N:/2024/Projects/2024s0196 - Sandwell Metropolitan Borough Council - Sandwell L1 & L2 SFRA/1_WIP/HM/Graphical/Shapefiles/Development_sites/Sandwell EMP2 Allocations_region.shx|layername=Sandwell EMP2 Allocations_region",6.96,1182.7430137444001,1.69941745368324,2987.6632213883399,4.2928066073126603,641.11114587229702,0.92117683925013505,null,1,9.2117683925013513E-3,1.6994174536832399E-2,4.2928066073126603E-2,null,0.9570719339268734,9.2117683925013513E-3,7.7824061443310475E-3,2.5933891536294204E-2,null,1]
["SEC3-56","Delta Point, Greets Green Road",8.15,"N:/2024/Projects/2024s0196 - Sandwell Metropolitan Borough Council - Sandwell L1 & L2 SFRA/1_WIP/HM/Graphical/Shapefiles/Development_sites/Sandwell EMP3 Allocations_region.shx|layername=Sandwell EMP3 Allocations_region",8.1829999999999998,2008.24569052571,2.4541326015743601,9792.5120761396902,11.966724614792399,1049.8713940144701,1.2829723114390199,null,1,1.28297231143902E-2,2.45413260157436E-2,0.119667246147924,null,0.88033275385207599,1.28297231143902E-2,1.17116029013534E-2,9.5125920132180394E-2,null,1]
["EMP2-3","Direct 2, Roway Lane, Oldbury",8.15,"N:/2024/Projects/2024s0196 - Sandwell Metropolitan Borough Council - Sandwell L1 & L2 SFRA/1_WIP/HM/Graphical/Shapefiles/Development_sites/Sandwell EMP2 Allocations_region.shx|layername=Sandwell EMP2 Allocations_region",8.1809999999999992,5338.1064941294999,6.5246269350513701,28988.7692960329,35.432208999743899,317.46945507366797,0.38803455118546099,null,1,3.8803455118546098E-3,6.5246269350513697E-2,0.35432208999743897,null,0.64567791000256103,3.8803455118546098E-3,6.1365923838659089E-2,0.28907582064692527,null,1]
["EMP2-6","Doranda Way",13.91,"N:/2024/Projects/2024s0196 - Sandwell Metropolitan Borough Council - Sandwell L1 & L2 SFRA/1_WIP/HM/Graphical/Shapefiles/Development_sites/Sandwell EMP2 Allocations_region.shx|layername=Sandwell EMP2 Allocations_region",13.967000000000001,5336.2541011698204,3.8206277914246098,16992.482952793402,12.166203367362,1637.3052686894,1.17227064041596,null,1,1.1722706404159599E-2,3.8206277914246099E-2,0.12166203367362,null,0.87833796632637995,1.1722706404159599E-2,2.6483571510086498E-2,8.345575575937389E-2,null,1]
["SEC3-160","Doulton Road, Rowley Regis (east of canal)",3.51,"N:/2024/Projects/2024s0196 - Sandwell Metropolitan Borough Council - Sandwell L1 & L2 SFRA/1_WIP/HM/Graphical/Shapefiles/Development_sites/Sandwell EMP3 Allocations_region.shx|layername=Sandwell EMP3 Allocations_region",3.52,369.922670078647,1.0509210005591401,3526.98031353742,10.0198716647106,200.33096251642201,0.56912439436592399,null,1,5.6912439436592396E-3,1.05092100055914E-2,0.100198716647106,null,0.899801283352894,5.6912439436592396E-3,4.8179660619321607E-3,8.9689506641514594E-2,null,1]
["EMP2-11","DPD, Roebuck Lane",8.9,"N:/2024/Projects/2024s0196 - Sandwell Metropolitan Borough Council - Sandwell L1 & L2 SFRA/1_WIP/HM/Graphical/Shapefiles/Development_sites/Sandwell EMP2 Allocations_region.shx|layername=Sandwell EMP2 Allocations_region",8.9339999999999993,1843.8007225955901,2.0638232886288899,11316.3199323441,12.666707595748001,676.53936790991702,0.757271480619224,null,1,7.5727148061922401E-3,2.0638232886288899E-2,0.12666707595748,null,0.87333292404252005,7.5727148061922401E-3,1.306551808009666E-2,0.10602884307119111,null,1.0000000000000002]
["SEC3-46","Droicon Ind Est, Portway Road",0.87,"N:/2024/Projects/2024s0196 - Sandwell Metropolitan Borough Council - Sandwell L1 & L2 SFRA/1_WIP/HM/Graphical/Shapefiles/Development_sites/Sandwell EMP3 Allocations_region.shx|layername=Sandwell EMP3 Allocations_region",0.872,361.45570447811298,4.14671228227333,950.40224442992405,10.9032576087517,164.66412515116599,1.8890689557660001,null,1,1.889068955766E-2,4.14671228227333E-2,0.109032576087517,null,0.89096742391248296,1.889068955766E-2,2.25764332650733E-2,6.7565453264783693E-2,null,1]
["SEC3-124","Dudley Rd, 28 Dudley Rd West (2957)",1.78,"N:/2024/Projects/2024s0196 - Sandwell Metropolitan Borough Council - Sandwell L1 & L2 SFRA/1_WIP/HM/Graphical/Shapefiles/Development_sites/Sandwell EMP3 Allocations_region.shx|layername=Sandwell EMP3 Allocations_region",1.786,2152.74478353214,12.0512124646879,3890.7699758194799,21.7807963064235,884.74006676201202,4.9528353765545301,null,1,4.9528353765545298E-2,0.12051212464687901,0.217807963064235,null,0.782192036935765,4.9528353765545298E-2,7.0983770881333702E-2,9.7295838417356006E-2,null,1]
["SEC3-61","Dudley Road, Oldbury",4.9000000000000004,"N:/2024/Projects/2024s0196 - Sandwell Metropolitan Borough Council - Sandwell L1 & L2 SFRA/1_WIP/HM/Graphical/Shapefiles/Development_sites/Sandwell EMP3 Allocations_region.shx|layername=Sandwell EMP3 Allocations_region",4.915,648.88021115182096,1.3200944913410499,1693.02781307855,3.4443286315742898,172.13723424150601,0.350199329200578,null,1,3.5019932920057799E-3,1.3200944913410499E-2,3.4443286315742901E-2,null,0.96555671368425711,3.5019932920057799E-3,9.6989516214047201E-3,2.1242341402332401E-2,null,1]
["SEC3-185","Eel Street, Oldbury",3.16,"N:/2024/Projects/2024s0196 - Sandwell Metropolitan Borough Council - Sandwell L1 & L2 SFRA/1_WIP/HM/Graphical/Shapefiles/Development_sites/Sandwell EMP3 Allocations_region.shx|layername=Sandwell EMP3 Allocations_region",3.1680000000000001,6673.9416531728002,21.067878673709799,16478.125476115201,52.017108680583597,1.12363589092524,3.5470230118340002E-3,null,1,3.5470230118340003E-5,0.210678786737098,0.52017108680583601,null,0.47982891319416399,3.5470230118340003E-5,0.21064331650697965,0.30949230006873801,null,1]
["SEC3-143","EMR Oldbury",7.53,"N:/2024/Projects/2024s0196 - Sandwell Metropolitan Borough Council - Sandwell L1 & L2 SFRA/1_WIP/HM/Graphical/Shapefiles/Development_sites/Sandwell EMP3 Allocations_region.shx|layername=Sandwell EMP3 Allocations_region",7.5579999999999998,1000.79785875448,1.32414291865946,5283.9662011710798,6.9911484786990101,176.14042417608599,0.23304915505385401,null,1,2.3304915505385402E-3,1.32414291865946E-2,6.9911484786990108E-2,null,0.93008851521300984,2.3304915505385402E-3,1.0910937636056059E-2,5.6670055600395508E-2,null,1]
["SEC3-14","Engine Street, Oldbury",1.64,"N:/2024/Projects/2024s0196 - Sandwell Metropolitan Borough Council - Sandwell L1 & L2 SFRA/1_WIP/HM/Graphical/Shapefiles/Development_sites/Sandwell EMP3 Allocations_region.shx|layername=Sandwell EMP3 Allocations_region",1.643,121.51952887396099,0.73943208012995598,782.75800804474704,4.7629906689913799,59.359333577616098,0.36119458254276998,null,1,3.6119458254276998E-3,7.3943208012995599E-3,4.7629906689913799E-2,null,0.95237009331008615,3.6119458254276998E-3,3.7823749758718601E-3,4.0235585888614242E-2,null,0.99999999999999989]
["SEC3-163","Exchange Works, Kelvin Way, West Bromwich",1.49,"N:/2024/Projects/2024s0196 - Sandwell Metropolitan Borough Council - Sandwell L1 & L2 SFRA/1_WIP/HM/Graphical/Shapefiles/Development_sites/Sandwell EMP3 Allocations_region.shx|layername=Sandwell EMP3 Allocations_region",1.498,0,0,0,0,0,0,null,1,0,0,0,null,1,0,0,0,null,1]
["SEC3-155","Fisher St / Coneygre Rd, Tipton",1.74,"N:/2024/Projects/2024s0196 - Sandwell Metropolitan Borough Council - Sandwell L1 & L2 SFRA/1_WIP/HM/Graphical/Shapefiles/Development_sites/Sandwell EMP3 Allocations_region.shx|layername=Sandwell EMP3 Allocations_region",1.744,1515.0404619835599,8.6885770122323205,3230.7492100468098,18.527962799058901,621.87995924941697,3.56640766625351,null,1,3.5664076662535099E-2,8.6885770122323208E-2,0.185279627990589,null,0.81472037200941094,3.5664076662535099E-2,5.1221693459788109E-2,9.8393857868265794E-2,null,1]
["SEC3-149","Fitzgerald Lighting Ltd, Rood End Rd (2009)",1.39,"N:/2024/Projects/2024s0196 - Sandwell Metropolitan Borough Council - Sandwell L1 & L2 SFRA/1_WIP/HM/Graphical/Shapefiles/Development_sites/Sandwell EMP3 Allocations_region.shx|layername=Sandwell EMP3 Allocations_region",1.393,0,0,82.466366308411807,0.59199439828189404,0,0,null,1,0,0,5.9199439828189404E-3,null,0.99408005601718108,0,0,5.9199439828189404E-3,null,1]
["SEC3-132","Former Corus Premises, Bloomfield Rd, Tipton (5972",0.56999999999999995,"N:/2024/Projects/2024s0196 - Sandwell Metropolitan Borough Council - Sandwell L1 & L2 SFRA/1_WIP/HM/Graphical/Shapefiles/Development_sites/Sandwell EMP3 Allocations_region.shx|layername=Sandwell EMP3 Allocations_region",0.57599999999999996,0,0,777.51341313134105,13.507107588715799,0,0,null,1,0,0,0.135071075887158,null,0.86492892411284195,0,0,0.135071075887158,null,1]
["SEC3-66","Foundry Lane (south)",11.75,"N:/2024/Projects/2024s0196 - Sandwell Metropolitan Borough Council - Sandwell L1 & L2 SFRA/1_WIP/HM/Graphical/Shapefiles/Development_sites/Sandwell EMP3 Allocations_region.shx|layername=Sandwell EMP3 Allocations_region",11.765000000000001,940.74977754574297,0.79959074642662897,12890.386687283701,10.9561906460423,0,0,null,1,0,7.9959074642662904E-3,0.10956190646042301,null,0.89043809353957704,0,7.9959074642662904E-3,0.10156599899615672,null,1]
["SEC3-73","Foundry Lane/ Anne Road",5.24,"N:/2024/Projects/2024s0196 - Sandwell Metropolitan Borough Council - Sandwell L1 & L2 SFRA/1_WIP/HM/Graphical/Shapefiles/Development_sites/Sandwell EMP3 Allocations_region.shx|layername=Sandwell EMP3 Allocations_region",5.2569999999999997,3841.9872716851601,7.3088650077953998,17196.7381204462,32.714485657736603,1597.7290770412701,3.0394650781865198,null,1,3.0394650781865196E-2,7.3088650077953995E-2,0.32714485657736603,null,0.67285514342263397,3.0394650781865196E-2,4.2693999296088803E-2,0.25405620649941202,null,1]
["SEC3-159","Fountain Lane",1.31,"N:/2024/Projects/2024s0196 - Sandwell Metropolitan Borough Council - Sandwell L1 & L2 SFRA/1_WIP/HM/Graphical/Shapefiles/Development_sites/Sandwell EMP3 Allocations_region.shx|layername=Sandwell EMP3 Allocations_region",1.3160000000000001,3.1637149307765302,2.4038808407871998E-2,1152.3337373320801,8.7557604081775704,0,0,null,1,0,2.4038808407872E-4,8.7557604081775708E-2,null,0.91244239591822429,0,2.4038808407872E-4,8.7317215997696984E-2,null,1]
["SEC3-139","Garratts Lane/ Powke Lane",9.35,"N:/2024/Projects/2024s0196 - Sandwell Metropolitan Borough Council - Sandwell L1 & L2 SFRA/1_WIP/HM/Graphical/Shapefiles/Development_sites/Sandwell EMP3 Allocations_region.shx|layername=Sandwell EMP3 Allocations_region",9.3840000000000003,1036.6424958805001,1.1046361735599399,5593.3298929553303,5.9601979997594601,308.24563981314299,0.328463559455485,null,1,3.28463559455485E-3,1.1046361735599398E-2,5.9601979997594604E-2,null,0.94039802000240535,3.28463559455485E-3,7.7617261410445485E-3,4.8555618261995205E-2,null,0.99999999999999989]
["SEC3-47","Garretts Lane, Cradley Heath",0.7,"N:/2024/Projects/2024s0196 - Sandwell Metropolitan Borough Council - Sandwell L1 & L2 SFRA/1_WIP/HM/Graphical/Shapefiles/Development_sites/Sandwell EMP3 Allocations_region.shx|layername=Sandwell EMP3 Allocations_region",0.70699999999999996,0,0,736.19883169672096,10.417174136523601,0,0,null,1,0,0,0.10417174136523601,null,0.89582825863476401,0,0,0.10417174136523601,null,1]
["SEC3-68","George Henry Road",19.79,"N:/2024/Projects/2024s0196 - Sandwell Metropolitan Borough Council - Sandwell L1 & L2 SFRA/1_WIP/HM/Graphical/Shapefiles/Development_sites/Sandwell EMP3 Allocations_region.shx|layername=Sandwell EMP3 Allocations_region",19.87,11362.2676876286,5.7183915632035598,29609.8297710677,14.9020077158651,3499.9782630048799,1.7614658200980899,null,1,1.76146582009809E-2,5.7183915632035599E-2,0.14902007715865101,null,0.85097992284134905,1.76146582009809E-2,3.9569257431054702E-2,9.1836161526615404E-2,null,1]
["SEC3-57","Great Bridge Ind Est / Harrold Street",4.57,"N:/2024/Projects/2024s0196 - Sandwell Metropolitan Borough Council - Sandwell L1 & L2 SFRA/1_WIP/HM/Graphical/Shapefiles/Development_sites/Sandwell EMP3 Allocations_region.shx|layername=Sandwell EMP3 Allocations_region",4.5919999999999996,2961.9998409234699,6.4506636561692803,13345.3337027828,29.063559662161602,755.335019436278,1.6449738081655101,null,1,1.6449738081655101E-2,6.4506636561692809E-2,0.29063559662161603,null,0.70936440337838391,1.6449738081655101E-2,4.8056898480037705E-2,0.22612896005992322,null,0.99999999999999989]
["SEC3-15","Great Western Street, Wednesbury",3.82,"N:/2024/Projects/2024s0196 - Sandwell Metropolitan Borough Council - Sandwell L1 & L2 SFRA/1_WIP/HM/Graphical/Shapefiles/Development_sites/Sandwell EMP3 Allocations_region.shx|layername=Sandwell EMP3 Allocations_region",3.8319999999999999,124.708903742282,0.32539922903610202,2279.96429785279,5.9490429511296998,29.463235068888,7.6877541928668996E-2,null,1,7.6877541928668997E-4,3.2539922903610202E-3,5.9490429511296995E-2,null,0.94050957048870298,7.6877541928668997E-4,2.48521687107433E-3,5.6236437220935978E-2,null,0.99999999999999989]
["SEC3-60","Griffin Ind Est, Penncricket Lane",3.31,"N:/2024/Projects/2024s0196 - Sandwell Metropolitan Borough Council - Sandwell L1 & L2 SFRA/1_WIP/HM/Graphical/Shapefiles/Development_sites/Sandwell EMP3 Allocations_region.shx|layername=Sandwell EMP3 Allocations_region",3.323,1189.1763526478401,3.5781751107289299,20984.241411103401,63.140584798504399,124.098936729192,0.37340780085610797,null,1,3.7340780085610798E-3,3.5781751107289296E-2,0.63140584798504396,null,0.36859415201495604,3.7340780085610798E-3,3.2047673098728219E-2,0.59562409687775464,null,1]
["SEC3-122","Groveland Rd (2963)",1.18,"N:/2024/Projects/2024s0196 - Sandwell Metropolitan Borough Council - Sandwell L1 & L2 SFRA/1_WIP/HM/Graphical/Shapefiles/Development_sites/Sandwell EMP3 Allocations_region.shx|layername=Sandwell EMP3 Allocations_region",1.1830000000000001,0,0,224.76335204275,1.8999035152878201,0,0,null,1,0,0,1.8999035152878201E-2,null,0.98100096484712185,0,0,1.8999035152878201E-2,null,1]
["SEC3-21","Hainge Road, Oldbury",14.28,"N:/2024/Projects/2024s0196 - Sandwell Metropolitan Borough Council - Sandwell L1 & L2 SFRA/1_WIP/HM/Graphical/Shapefiles/Development_sites/Sandwell EMP3 Allocations_region.shx|layername=Sandwell EMP3 Allocations_region",14.332000000000001,6267.4787961969196,4.3731302764427697,26595.367497654799,18.556904713852301,2830.9958826819202,1.9753259978403801,null,1,1.9753259978403801E-2,4.3731302764427694E-2,0.18556904713852301,null,0.81443095286147704,1.9753259978403801E-2,2.3978042786023893E-2,0.14183774437409533,null,1]
["SEC3-22","Hale Trading Estate, Tipton",2.73,"N:/2024/Projects/2024s0196 - Sandwell Metropolitan Borough Council - Sandwell L1 & L2 SFRA/1_WIP/HM/Graphical/Shapefiles/Development_sites/Sandwell EMP3 Allocations_region.shx|layername=Sandwell EMP3 Allocations_region",2.74,444.35416631478802,1.62189638885,1330.2487968856301,4.8554191307220798,0,0,null,1,0,1.6218963888499999E-2,4.8554191307220801E-2,null,0.95144580869277917,0,1.6218963888499999E-2,3.2335227418720802E-2,null,1]
["EMP2-8","Hales Way, Oldbury",1.51,"N:/2024/Projects/2024s0196 - Sandwell Metropolitan Borough Council - Sandwell L1 & L2 SFRA/1_WIP/HM/Graphical/Shapefiles/Development_sites/Sandwell EMP2 Allocations_region.shx|layername=Sandwell EMP2 Allocations_region",1.5169999999999999,2.4157176852695499,1.5919548786903999E-2,645.45533008487098,4.2535424067597001,0,0,null,1,0,1.5919548786903998E-4,4.2535424067597E-2,null,0.95746457593240297,0,1.5919548786903998E-4,4.2376228579727962E-2,null,1]
["SEC3-95","Halfords Lane",24.21,"N:/2024/Projects/2024s0196 - Sandwell Metropolitan Borough Council - Sandwell L1 & L2 SFRA/1_WIP/HM/Graphical/Shapefiles/Development_sites/Sandwell EMP3 Allocations_region.shx|layername=Sandwell EMP3 Allocations_region",24.248000000000001,4557.2499345649003,1.8794339328965,24881.765180721199,10.2613713231584,1747.03293858233,0.72048560728609901,null,1,7.2048560728609897E-3,1.8794339328965001E-2,0.102613713231584,null,0.89738628676841603,7.2048560728609897E-3,1.1589483256104011E-2,8.3819373902618996E-2,null,1]
["SEC3-103","Hill Top, West Bromwich",15.13,"N:/2024/Projects/2024s0196 - Sandwell Metropolitan Borough Council - Sandwell L1 & L2 SFRA/1_WIP/HM/Graphical/Shapefiles/Development_sites/Sandwell EMP3 Allocations_region.shx|layername=Sandwell EMP3 Allocations_region",15.186999999999999,6427.1453119289499,4.2320335097881596,32471.932587452899,21.3815465759928,1501.38420272246,0.98860504136961402,null,1,9.8860504136961402E-3,4.2320335097881599E-2,0.21381546575992799,null,0.78618453424007195,9.8860504136961402E-3,3.2434284684185459E-2,0.17149513066204639,null,0.99999999999999989]
["SEC3-18","Holloway Bank",1.03,"N:/2024/Projects/2024s0196 - Sandwell Metropolitan Borough Council - Sandwell L1 & L2 SFRA/1_WIP/HM/Graphical/Shapefiles/Development_sites/Sandwell EMP3 Allocations_region.shx|layername=Sandwell EMP3 Allocations_region",1.034,189.57021368147599,1.83302305903487,416.60900456131998,4.02834336224144,3.9588637902498598,3.8279687901282E-2,null,1,3.8279687901282002E-4,1.83302305903487E-2,4.0283433622414398E-2,null,0.95971656637758562,3.8279687901282002E-4,1.7947433711335881E-2,2.1953203032065698E-2,null,1]
["SEC3-104","Holloway Bank, Wednesbury",5.29,"N:/2024/Projects/2024s0196 - Sandwell Metropolitan Borough Council - Sandwell L1 & L2 SFRA/1_WIP/HM/Graphical/Shapefiles/Development_sites/Sandwell EMP3 Allocations_region.shx|layername=Sandwell EMP3 Allocations_region",5.3079999999999998,1227.7722728189101,2.3131493148305999,5217.9057832353601,9.8306464924718906,442.36250420066602,0.83342045275967902,null,1,8.3342045275967905E-3,2.3131493148305999E-2,9.8306464924718909E-2,null,0.90169353507528105,8.3342045275967905E-3,1.4797288620709208E-2,7.5174971776412913E-2,null,1]
["SEC3-67","Holloway Bank/ Bilport Lane",1.77,"N:/2024/Projects/2024s0196 - Sandwell Metropolitan Borough Council - Sandwell L1 & L2 SFRA/1_WIP/HM/Graphical/Shapefiles/Development_sites/Sandwell EMP3 Allocations_region.shx|layername=Sandwell EMP3 Allocations_region",1.776,651.71060030143599,3.6693680697693898,3812.6761796291898,21.466755684855901,348.18050398908298,1.96038306460387,null,1,1.9603830646038701E-2,3.6693680697693895E-2,0.21466755684855901,null,0.78533244315144102,1.9603830646038701E-2,1.7089850051655194E-2,0.17797387615086513,null,1]
["SEC3-88","Houghton Street, Oldbury",1.43,"N:/2024/Projects/2024s0196 - Sandwell Metropolitan Borough Council - Sandwell L1 & L2 SFRA/1_WIP/HM/Graphical/Shapefiles/Development_sites/Sandwell EMP3 Allocations_region.shx|layername=Sandwell EMP3 Allocations_region",1.4390000000000001,217.91895787344399,1.51423889439026,3144.9689733018399,21.853235659239498,0,0,null,1,0,1.51423889439026E-2,0.21853235659239498,null,0.78146764340760499,0,1.51423889439026E-2,0.20338996764849238,null,1]
["SEC3-69","Howard Street",27.83,"N:/2024/Projects/2024s0196 - Sandwell Metropolitan Borough Council - Sandwell L1 & L2 SFRA/1_WIP/HM/Graphical/Shapefiles/Development_sites/Sandwell EMP3 Allocations_region.shx|layername=Sandwell EMP3 Allocations_region",27.937999999999999,9595.6500824212308,3.4346403491536899,30270.985285860901,10.8351124289039,2061.6436333484198,0.73793899817651498,null,1,7.3793899817651502E-3,3.4346403491536899E-2,0.10835112428903899,null,0.89164887571096096,7.3793899817651502E-3,2.6967013509771751E-2,7.4004720797502088E-2,null,0.99999999999999989]
["SEC3-78","James Watt Industrial Park",3.63,"N:/2024/Projects/2024s0196 - Sandwell Metropolitan Borough Council - Sandwell L1 & L2 SFRA/1_WIP/HM/Graphical/Shapefiles/Development_sites/Sandwell EMP3 Allocations_region.shx|layername=Sandwell EMP3 Allocations_region",3.6389999999999998,0,0,758.87526012091098,2.08551292047617,0,0,null,1,0,0,2.0855129204761701E-2,null,0.97914487079523826,0,0,2.0855129204761701E-2,null,1]
["SEC3-136","JAS Ind Park, Titford Lane, Oldbury (3013)",0.94,"N:/2024/Projects/2024s0196 - Sandwell Metropolitan Borough Council - Sandwell L1 & L2 SFRA/1_WIP/HM/Graphical/Shapefiles/Development_sites/Sandwell EMP3 Allocations_region.shx|layername=Sandwell EMP3 Allocations_region",0.94,867.41102389729804,9.2300920165388902,3197.25543591122,34.021889347504803,0,0,null,1,0,9.2300920165388906E-2,0.34021889347504802,null,0.65978110652495192,0,9.2300920165388906E-2,0.24791797330965912,null,1]
["SEC3-146","JerseyTex Ltd, Upper Church Lane, Princes End",1.58,"N:/2024/Projects/2024s0196 - Sandwell Metropolitan Borough Council - Sandwell L1 & L2 SFRA/1_WIP/HM/Graphical/Shapefiles/Development_sites/Sandwell EMP3 Allocations_region.shx|layername=Sandwell EMP3 Allocations_region",1.5820000000000001,135.18045616601199,0.85428922206600799,1310.8978330964901,8.2843772081129305,2.2503145625723802,1.4221134708281E-2,null,1,1.4221134708281E-4,8.5428922206600803E-3,8.2843772081129308E-2,null,0.91715622791887075,1.4221134708281E-4,8.4006808735772702E-3,7.4300879860469224E-2,null,1]
["SEC3-169","JH Lavender & Co, Crankhall Lane, West Bromwich",1.31,"N:/2024/Projects/2024s0196 - Sandwell Metropolitan Borough Council - Sandwell L1 & L2 SFRA/1_WIP/HM/Graphical/Shapefiles/Development_sites/Sandwell EMP3 Allocations_region.shx|layername=Sandwell EMP3 Allocations_region",1.3140000000000001,644.09101373587305,4.9009387022772497,1077.2299611499,8.1967266974123394,0,0,null,1,0,4.9009387022772494E-2,8.196726697412339E-2,null,0.91803273302587662,0,4.9009387022772494E-2,3.2957879951350896E-2,null,1]
["SEC3-91","Joseph Street, Oldbury",2.95,"N:/2024/Projects/2024s0196 - Sandwell Metropolitan Borough Council - Sandwell L1 & L2 SFRA/1_WIP/HM/Graphical/Shapefiles/Development_sites/Sandwell EMP3 Allocations_region.shx|layername=Sandwell EMP3 Allocations_region",2.9660000000000002,7645.3260868732004,25.7748699895755,14823.8548256875,49.976014958009699,1350.6293596790599,4.55340893956153,null,1,4.5534089395615297E-2,0.257748699895755,0.49976014958009701,null,0.50023985041990304,4.5534089395615297E-2,0.21221461050013971,0.24201144968434202,null,1]
["EMP2-15","Junction 9 (Opus 9)",2.33,"N:/2024/Projects/2024s0196 - Sandwell Metropolitan Borough Council - Sandwell L1 & L2 SFRA/1_WIP/HM/Graphical/Shapefiles/Development_sites/Sandwell EMP2 Allocations_region.shx|layername=Sandwell EMP2 Allocations_region",2.343,1341.9179409805799,5.7280308198110799,6051.7059986936702,25.831950981758599,102.82246003210901,0.43890181511571102,null,1,4.38901815115711E-3,5.7280308198110801E-2,0.258319509817586,null,0.741680490182414,4.38901815115711E-3,5.2891290046953691E-2,0.20103920161947519,null,1]
["SEC3-12","Junction One, Oldbury",4.7,"N:/2024/Projects/2024s0196 - Sandwell Metropolitan Borough Council - Sandwell L1 & L2 SFRA/1_WIP/HM/Graphical/Shapefiles/Development_sites/Sandwell EMP3 Allocations_region.shx|layername=Sandwell EMP3 Allocations_region",4.7169999999999996,0,0,1380.34917402989,2.9264331991113899,0,0,null,1,0,0,2.92643319911139E-2,null,0.97073566800888611,0,0,2.92643319911139E-2,null,1]
["SEC1-3","Junction Two, Oldbury",1.1200000000000001,"N:/2024/Projects/2024s0196 - Sandwell Metropolitan Borough Council - Sandwell L1 & L2 SFRA/1_WIP/HM/Graphical/Shapefiles/Development_sites/Sandwell EMP1 Sites_region.shx|layername=Sandwell EMP1 Sites_region",1.1279999999999999,6.07531483188518,5.3872746600884001E-2,822.79661177129697,7.2961343727213297,0,0,null,1,0,5.3872746600884004E-4,7.2961343727213301E-2,null,0.9270386562727867,0,5.3872746600884004E-4,7.2422616261204456E-2,null,1]
["SEC3-98","Kelvin Way WBPr35",33.770000000000003,"N:/2024/Projects/2024s0196 - Sandwell Metropolitan Borough Council - Sandwell L1 & L2 SFRA/1_WIP/HM/Graphical/Shapefiles/Development_sites/Sandwell EMP3 Allocations_region.shx|layername=Sandwell EMP3 Allocations_region",33.9,6547.0572908822596,1.9312893671010001,29934.628415204701,8.8302922974137594,1622.08772308173,0.47849295231547601,null,1,4.7849295231547602E-3,1.9312893671010002E-2,8.8302922974137596E-2,null,0.91169707702586245,4.7849295231547602E-3,1.4527964147855243E-2,6.8990029303127587E-2,null,1]
["EMP2-5","Kings Hill Business Park",3.26,"N:/2024/Projects/2024s0196 - Sandwell Metropolitan Borough Council - Sandwell L1 & L2 SFRA/1_WIP/HM/Graphical/Shapefiles/Development_sites/Sandwell EMP2 Allocations_region.shx|layername=Sandwell EMP2 Allocations_region",3.2679999999999998,1100.0206116746999,3.36589191466211,4982.7012472582101,15.2462905361292,192.153188891394,0.587958860044836,null,1,5.8795886004483601E-3,3.36589191466211E-2,0.15246290536129201,null,0.84753709463870797,5.8795886004483601E-3,2.777933054617274E-2,0.11880398621467091,null,1]
["SEC3-193","Kitchener Street, Smethwick",1.39,"N:/2024/Projects/2024s0196 - Sandwell Metropolitan Borough Council - Sandwell L1 & L2 SFRA/1_WIP/HM/Graphical/Shapefiles/Development_sites/Sandwell EMP3 Allocations_region.shx|layername=Sandwell EMP3 Allocations_region",1.3939999999999999,5.6863738156826003,4.0793193592977998E-2,1020.74758133079,7.3226901791002099,2.5058546287764298,1.7976625579138001E-2,null,1,1.7976625579138001E-4,4.0793193592977996E-4,7.3226901791002094E-2,null,0.92677309820899789,1.7976625579138001E-4,2.2816568013839995E-4,7.2818969855072316E-2,null,1]
["SEC3-131","Land & premises Barnfield Rd, Brook St, Bloomfield",0.83,"N:/2024/Projects/2024s0196 - Sandwell Metropolitan Borough Council - Sandwell L1 & L2 SFRA/1_WIP/HM/Graphical/Shapefiles/Development_sites/Sandwell EMP3 Allocations_region.shx|layername=Sandwell EMP3 Allocations_region",0.83499999999999996,76.575243273029002,0.91677402144828601,1569.69126454196,18.792655583155401,10.747040252133999,0.12866570042077499,null,1,1.2866570042077499E-3,9.1677402144828609E-3,0.18792655583155402,null,0.81207344416844596,1.2866570042077499E-3,7.8810832102751104E-3,0.17875881561707116,null,1]
["SEC3-43","Land at Birmingham Road / Roebuck Lane",6.78,"N:/2024/Projects/2024s0196 - Sandwell Metropolitan Borough Council - Sandwell L1 & L2 SFRA/1_WIP/HM/Graphical/Shapefiles/Development_sites/Sandwell EMP3 Allocations_region.shx|layername=Sandwell EMP3 Allocations_region",6.806,619.15063958753001,0.90971993732294198,5118.5454076616597,7.5206944961643902,399.45376979890898,0.58691865143991895,null,1,5.8691865143991892E-3,9.0971993732294198E-3,7.5206944961643901E-2,null,0.92479305503835607,5.8691865143991892E-3,3.2280128588302306E-3,6.6109745588414481E-2,null,1]
["SEC3-156","Land at corner of Birmingham Road",0.48,"N:/2024/Projects/2024s0196 - Sandwell Metropolitan Borough Council - Sandwell L1 & L2 SFRA/1_WIP/HM/Graphical/Shapefiles/Development_sites/Sandwell EMP3 Allocations_region.shx|layername=Sandwell EMP3 Allocations_region",0.48,23.3677494144553,0.48692975273025701,36.5533320858924,0.76168674348416698,0,0,null,1,0,4.8692975273025704E-3,7.6168674348416699E-3,null,0.99238313256515831,0,4.8692975273025704E-3,2.7475699075390995E-3,null,1]
["SEC3-127","Land at Doulton Way, bt Factory Rd, Bloomfield Rd, Tipton",2.75,"N:/2024/Projects/2024s0196 - Sandwell Metropolitan Borough Council - Sandwell L1 & L2 SFRA/1_WIP/HM/Graphical/Shapefiles/Development_sites/Sandwell EMP3 Allocations_region.shx|layername=Sandwell EMP3 Allocations_region",2.7589999999999999,1481.95024996603,5.3708600241282696,7620.08009777398,27.616570514919601,631.20630562072904,2.2876076399418701,null,1,2.2876076399418702E-2,5.3708600241282697E-2,0.27616570514919603,null,0.72383429485080397,2.2876076399418702E-2,3.0832523841863996E-2,0.22245710490791332,null,1]
["SEC3-42","Land at Junction 1 / Kenrick Way",4.13,"N:/2024/Projects/2024s0196 - Sandwell Metropolitan Borough Council - Sandwell L1 & L2 SFRA/1_WIP/HM/Graphical/Shapefiles/Development_sites/Sandwell EMP3 Allocations_region.shx|layername=Sandwell EMP3 Allocations_region",4.1459999999999999,635.97249877313595,1.5341110841546599,3374.14858046065,8.1392178857657296,108.086168786795,0.26072855335649497,null,1,2.6072855335649496E-3,1.53411108415466E-2,8.1392178857657302E-2,null,0.91860782114234274,2.6072855335649496E-3,1.273382530798165E-2,6.6051068016110701E-2,null,1]
["SEC4-15","Land at Potters Lane & Stafford St, Weds (5642)",0.85,"N:/2024/Projects/2024s0196 - Sandwell Metropolitan Borough Council - Sandwell L1 & L2 SFRA/1_WIP/HM/Graphical/Shapefiles/Development_sites/Sandwell EMP4 Allocations_region.shx|layername=Sandwell EMP4 Allocations_region",0.85599999999999998,6.58921397483281,7.7021075563520003E-2,268.16779913239998,3.1346033684091199,0,0,null,1,0,7.7021075563520004E-4,3.1346033684091196E-2,null,0.96865396631590883,0,7.7021075563520004E-4,3.0575822928455995E-2,null,1]
["SEC3-118","Land bt Great Bridge St & William St, Tipton (2965",1.06,"N:/2024/Projects/2024s0196 - Sandwell Metropolitan Borough Council - Sandwell L1 & L2 SFRA/1_WIP/HM/Graphical/Shapefiles/Development_sites/Sandwell EMP3 Allocations_region.shx|layername=Sandwell EMP3 Allocations_region",1.081,0,0,198.528005281432,1.83729540722039,0,0,null,1,0,0,1.8372954072203899E-2,null,0.98162704592779615,0,0,1.8372954072203899E-2,null,1]
["SEC3-117","Land by Whitehall Road and Walsall Canal",1.04,"N:/2024/Projects/2024s0196 - Sandwell Metropolitan Borough Council - Sandwell L1 & L2 SFRA/1_WIP/HM/Graphical/Shapefiles/Development_sites/Sandwell EMP3 Allocations_region.shx|layername=Sandwell EMP3 Allocations_region",1.04,0,0,374.168351880861,3.5984417609392398,0,0,null,1,0,0,3.5984417609392395E-2,null,0.96401558239060758,0,0,3.5984417609392395E-2,null,1]
["SEC3-31","land off dudley rd, oldbury",0.98,"N:/2024/Projects/2024s0196 - Sandwell Metropolitan Borough Council - Sandwell L1 & L2 SFRA/1_WIP/HM/Graphical/Shapefiles/Development_sites/Sandwell EMP3 Allocations_region.shx|layername=Sandwell EMP3 Allocations_region",0.98099999999999998,1.20151559656852,1.2253270092665001E-2,41.424659781761903,0.42245605987332602,0,0,null,1,0,1.2253270092665001E-4,4.2245605987332605E-3,null,0.99577543940126678,0,1.2253270092665001E-4,4.1020278978066106E-3,null,1]
["SEC3-65","Land off Tipton Road, Oldbury",0.81,"N:/2024/Projects/2024s0196 - Sandwell Metropolitan Borough Council - Sandwell L1 & L2 SFRA/1_WIP/HM/Graphical/Shapefiles/Development_sites/Sandwell EMP3 Allocations_region.shx|layername=Sandwell EMP3 Allocations_region",0.81200000000000006,0,0,641.10775563250695,7.8959847383006299,0,0,null,1,0,0,7.8959847383006293E-2,null,0.92104015261699368,0,0,7.8959847383006293E-2,null,1]
["SEC3-17","Leabrook Road, Tipton",7.45,"N:/2024/Projects/2024s0196 - Sandwell Metropolitan Borough Council - Sandwell L1 & L2 SFRA/1_WIP/HM/Graphical/Shapefiles/Development_sites/Sandwell EMP3 Allocations_region.shx|layername=Sandwell EMP3 Allocations_region",7.4790000000000001,791.93017894013497,1.0588046511034801,5171.1896309722497,6.9138413696258603,128.10211739215799,0.17127156069812299,null,1,1.7127156069812299E-3,1.0588046511034802E-2,6.9138413696258602E-2,null,0.93086158630374138,1.7127156069812299E-3,8.8753309040535723E-3,5.8550367185223801E-2,null,1]
["SEC1-8","Legacy 43, Ryder Street, West Bromwich",0.88,"N:/2024/Projects/2024s0196 - Sandwell Metropolitan Borough Council - Sandwell L1 & L2 SFRA/1_WIP/HM/Graphical/Shapefiles/Development_sites/Sandwell EMP1 Sites_region.shx|layername=Sandwell EMP1 Sites_region",0.88300000000000001,0,0,22.763929775492599,0.25779647938551697,0,0,null,1,0,0,2.5779647938551698E-3,null,0.99742203520614481,0,0,2.5779647938551698E-3,null,1]
["EMP2-14","Lidl, Junction 9 (Opus 9)",8.67,"N:/2024/Projects/2024s0196 - Sandwell Metropolitan Borough Council - Sandwell L1 & L2 SFRA/1_WIP/HM/Graphical/Shapefiles/Development_sites/Sandwell EMP2 Allocations_region.shx|layername=Sandwell EMP2 Allocations_region",8.7070000000000007,132.10532758220899,0.151715701882121,30691.6736948121,35.247698951791001,0,0,null,1,0,1.5171570188212099E-3,0.35247698951791001,null,0.64752301048208993,0,1.5171570188212099E-3,0.3509598324990888,null,{"$f":"SUM(R130:U130)","v":0.99999999999999989}]
["SEC3-40","Newlyn Road, Cradley Heath",3.4,"N:/2024/Projects/2024s0196 - Sandwell Metropolitan Borough Council - Sandwell L1 & L2 SFRA/1_WIP/HM/Graphical/Shapefiles/Development_sites/Sandwell EMP3 Allocations_region.shx|layername=Sandwell EMP3 Allocations_region",3.411,360.58540376155798,1.05697687565641,1219.80248979777,3.5755829579750098,144.11480424320601,0.422440880678432,null,1,{"$f":"K131/100","v":4.2244088067843197E-3},{"$f":"G131/100","v":1.05697687565641E-2},{"$f":"I131/100","v":3.5755829579750098E-2},null,{"$f":"M131-P131","v":0.9642441704202499},{"$f":"N131","v":4.2244088067843197E-3},{"$f":"O131-S131","v":6.3453599497797801E-3},{"$f":"P131-(S131+T131)","v":2.5186060823185998E-2},null,1]
["SEC3-84","Old Park Trading Estate, Old Park Rd (2922)",2.63,"N:/2024/Projects/2024s0196 - Sandwell Metropolitan Borough Council - Sandwell L1 & L2 SFRA/1_WIP/HM/Graphical/Shapefiles/Development_sites/Sandwell EMP3 Allocations_region.shx|layername=Sandwell EMP3 Allocations_region",2.6419999999999999,1758.69297857182,6.6575233079460601,4883.67852250943,18.487140159350002,856.23502839260004,3.2412733365392099,null,1,3.2412733365392098E-2,6.6575233079460602E-2,0.18487140159350002,null,0.81512859840649998,3.2412733365392098E-2,3.4162499714068505E-2,0.11829616851403942,null,1]
["SEC3-53","Oldbury Point Ind Est, Rood End Road",3.22,"N:/2024/Projects/2024s0196 - Sandwell Metropolitan Borough Council - Sandwell L1 & L2 SFRA/1_WIP/HM/Graphical/Shapefiles/Development_sites/Sandwell EMP3 Allocations_region.shx|layername=Sandwell EMP3 Allocations_region",3.2320000000000002,2184.9435734845501,6.7611706236279101,5809.0058341923404,17.975603615240001,385.83310742730799,1.19393631177406,null,1,1.19393631177406E-2,6.7611706236279101E-2,0.17975603615240002,null,0.82024396384760001,1.19393631177406E-2,5.5672343118538498E-2,0.11214432991612092,null,1]
["SEC3-150","Oldbury Rd Ind Est, Oldbury Rd (2994)",0.56999999999999995,"N:/2024/Projects/2024s0196 - Sandwell Metropolitan Borough Council - Sandwell L1 & L2 SFRA/1_WIP/HM/Graphical/Shapefiles/Development_sites/Sandwell EMP3 Allocations_region.shx|layername=Sandwell EMP3 Allocations_region",0.57399999999999995,0,0,0,0,0,0,null,1,0,0,0,null,1,0,0,0,null,1]
["SEC3-168","Oldbury Rd, Oldbury (3014)",2.41,"N:/2024/Projects/2024s0196 - Sandwell Metropolitan Borough Council - Sandwell L1 & L2 SFRA/1_WIP/HM/Graphical/Shapefiles/Development_sites/Sandwell EMP3 Allocations_region.shx|layername=Sandwell EMP3 Allocations_region",2.4159999999999999,0,0,292.80616504040398,1.2117406200776999,0,0,null,1,0,0,1.2117406200776998E-2,null,0.98788259379922305,0,0,1.2117406200776998E-2,null,1]
["SEC3-153","Oldbury Rd, WB (2384 / WBPr31)",18.87,"N:/2024/Projects/2024s0196 - Sandwell Metropolitan Borough Council - Sandwell L1 & L2 SFRA/1_WIP/HM/Graphical/Shapefiles/Development_sites/Sandwell EMP3 Allocations_region.shx|layername=Sandwell EMP3 Allocations_region",18.937999999999999,3570.2839855564198,1.8852725138536199,17466.701921571501,9.2232139442210599,846.54138589164495,0.44701239820628702,null,1,4.4701239820628706E-3,1.8852725138536201E-2,9.2232139442210592E-2,null,0.90776786055778946,4.4701239820628706E-3,1.4382601156473329E-2,7.3379414303674395E-2,null,1]
["SEC3-191","Oldfield Trading Estate, Cradley Heath",1.76,"N:/2024/Projects/2024s0196 - Sandwell Metropolitan Borough Council - Sandwell L1 & L2 SFRA/1_WIP/HM/Graphical/Shapefiles/Development_sites/Sandwell EMP3 Allocations_region.shx|layername=Sandwell EMP3 Allocations_region",1.766,364.29020983022502,2.0633128146967299,1111.01654373665,6.2927155607620104,164.130753915382,0.92962445517619496,null,1,9.296244551761949E-3,2.06331281469673E-2,6.2927155607620106E-2,null,0.93707284439237992,9.296244551761949E-3,1.1336883595205351E-2,4.2294027460652805E-2,null,1]
["SEC3-176","Palmers Timber Site, Station Rd, Old Hill (3043)",3.14,"N:/2024/Projects/2024s0196 - Sandwell Metropolitan Borough Council - Sandwell L1 & L2 SFRA/1_WIP/HM/Graphical/Shapefiles/Development_sites/Sandwell EMP3 Allocations_region.shx|layername=Sandwell EMP3 Allocations_region",3.149,618.07604483584601,1.9625608262920999,6748.0153330290896,21.426797978133301,322.57398534474299,1.0242608049736901,null,1,1.0242608049736901E-2,1.9625608262921E-2,0.21426797978133302,null,0.78573202021866695,1.0242608049736901E-2,9.3830002131840996E-3,0.19464237151841202,null,0.99999999999999989]
["EMP2-7","Park Lane Trading Estate, Oldbury",2.17,"N:/2024/Projects/2024s0196 - Sandwell Metropolitan Borough Council - Sandwell L1 & L2 SFRA/1_WIP/HM/Graphical/Shapefiles/Development_sites/Sandwell EMP2 Allocations_region.shx|layername=Sandwell EMP2 Allocations_region",2.1819999999999999,881.91791595312895,4.0414354632385496,4029.45638847195,18.465196875316899,90.525861856588506,0.41483954666240802,null,1,4.1483954666240806E-3,4.0414354632385498E-2,0.184651968753169,null,0.81534803124683097,4.1483954666240806E-3,3.6265959165761419E-2,0.14423761412078351,null,1]
["SEC4-5","Park Lane West",2.94,"N:/2024/Projects/2024s0196 - Sandwell Metropolitan Borough Council - Sandwell L1 & L2 SFRA/1_WIP/HM/Graphical/Shapefiles/Development_sites/Sandwell EMP4 Allocations_region.shx|layername=Sandwell EMP4 Allocations_region",2.9529999999999998,114.39708757525,0.38739882701978701,2332.27603243372,7.8981119047882604,0,0,null,1,0,3.8739882701978702E-3,7.8981119047882603E-2,null,0.92101888095211737,0,3.8739882701978702E-3,7.510713077768473E-2,null,1]
["SEC3-186","Park Lane, West Bromwich",10.220000000000001,"N:/2024/Projects/2024s0196 - Sandwell Metropolitan Borough Council - Sandwell L1 & L2 SFRA/1_WIP/HM/Graphical/Shapefiles/Development_sites/Sandwell EMP3 Allocations_region.shx|layername=Sandwell EMP3 Allocations_region",10.103999999999999,1457.1339135733999,1.4421978456954001,8628.4383644968402,8.5399942346246398,300.23933098908401,0.29716178610077698,null,1,2.9716178610077696E-3,1.4421978456954001E-2,8.5399942346246399E-2,null,0.91460005765375363,2.9716178610077696E-3,1.1450360595946231E-2,7.0977963889292395E-2,null,1]
["SEC3-187","Park Lane, West Bromwich",2.4500000000000002,"N:/2024/Projects/2024s0196 - Sandwell Metropolitan Borough Council - Sandwell L1 & L2 SFRA/1_WIP/HM/Graphical/Shapefiles/Development_sites/Sandwell EMP3 Allocations_region.shx|layername=Sandwell EMP3 Allocations_region",2.452,0,0,424.33825691168499,1.7303453047202599,0,0,null,1,0,0,1.7303453047202599E-2,null,0.9826965469527974,0,0,1.7303453047202599E-2,null,1]
["SEC3-184","Parkroase Estate, Rounds Green Road, Oldbury",2.58,"N:/2024/Projects/2024s0196 - Sandwell Metropolitan Borough Council - Sandwell L1 & L2 SFRA/1_WIP/HM/Graphical/Shapefiles/Development_sites/Sandwell EMP3 Allocations_region.shx|layername=Sandwell EMP3 Allocations_region",2.5880000000000001,0,0,589.48510837354399,2.27759845639086,0,0,null,1,0,0,2.2775984563908599E-2,null,0.97722401543609139,0,0,2.2775984563908599E-2,null,1]
["SEC3-105","Parsonage Street, Oldbury",10.15,"N:/2024/Projects/2024s0196 - Sandwell Metropolitan Borough Council - Sandwell L1 & L2 SFRA/1_WIP/HM/Graphical/Shapefiles/Development_sites/Sandwell EMP3 Allocations_region.shx|layername=Sandwell EMP3 Allocations_region",10.189,4458.2860205603101,4.3753810430230997,16403.763788743199,16.098724214754501,1281.3573515377,1.25752960653515,null,1,1.25752960653515E-2,4.3753810430230994E-2,0.16098724214754501,null,0.83901275785245499,1.25752960653515E-2,3.1178514364879492E-2,0.11723343171731401,null,1]
["SEC3-173","Pennington Close",4.2,"N:/2024/Projects/2024s0196 - Sandwell Metropolitan Borough Council - Sandwell L1 & L2 SFRA/1_WIP/HM/Graphical/Shapefiles/Development_sites/Sandwell EMP3 Allocations_region.shx|layername=Sandwell EMP3 Allocations_region",4.22,1159.7379085699699,2.7482023607907098,10389.694544325999,24.620203292154599,146.68560047427999,0.34759725498194,null,1,3.4759725498194E-3,2.7482023607907097E-2,0.24620203292154599,null,0.75379796707845403,3.4759725498194E-3,2.4006051058087698E-2,0.21872000931363889,null,1]
["SEC4-13","Ph 9, The Parkway, bt Stafford St/ Victoria st/ Po",0.94,"N:/2024/Projects/2024s0196 - Sandwell Metropolitan Borough Council - Sandwell L1 & L2 SFRA/1_WIP/HM/Graphical/Shapefiles/Development_sites/Sandwell EMP4 Allocations_region.shx|layername=Sandwell EMP4 Allocations_region",0.94199999999999995,1681.3404273301101,17.840251962786301,3907.1137648748399,41.457335397165302,572.45638373124496,6.0741810269133101,null,1,6.0741810269133098E-2,0.17840251962786302,0.41457335397165301,null,0.58542664602834704,6.0741810269133098E-2,0.11766070935872992,0.23617083434378999,null,1]
["SEC3-171","Phoenix St / Belper Ind Est Greets Green Road, Wes",5.55,"N:/2024/Projects/2024s0196 - Sandwell Metropolitan Borough Council - Sandwell L1 & L2 SFRA/1_WIP/HM/Graphical/Shapefiles/Development_sites/Sandwell EMP3 Allocations_region.shx|layername=Sandwell EMP3 Allocations_region",5.5679999999999996,791.034295856369,1.4206338061267401,4700.8978820662096,8.4424335144445806,95.514632114261502,0.17153657695003,null,1,1.7153657695003E-3,1.42063380612674E-2,8.4424335144445806E-2,null,0.91557566485555419,1.7153657695003E-3,1.24909722917671E-2,7.0217997083178413E-2,null,1]
["SEC3-172","Phoenix Street (west), West Bromwich",3.44,"N:/2024/Projects/2024s0196 - Sandwell Metropolitan Borough Council - Sandwell L1 & L2 SFRA/1_WIP/HM/Graphical/Shapefiles/Development_sites/Sandwell EMP3 Allocations_region.shx|layername=Sandwell EMP3 Allocations_region",3.4510000000000001,5.9380031131554398,1.7208862860382999E-2,1707.81232759157,4.9493925107050503,0,0,null,1,0,1.7208862860383E-4,4.9493925107050502E-2,null,0.95050607489294947,0,1.7208862860383E-4,4.9321836478446672E-2,null,1]
["SEC3-70","Pikehelve Street, Hill Top, West Bromwich",5.91,"N:/2024/Projects/2024s0196 - Sandwell Metropolitan Borough Council - Sandwell L1 & L2 SFRA/1_WIP/HM/Graphical/Shapefiles/Development_sites/Sandwell EMP3 Allocations_region.shx|layername=Sandwell EMP3 Allocations_region",5.93,295.61222117782199,0.49852033366950799,3117.3442464632199,5.2570881126553299,156.12446618299899,0.26328823844094201,null,1,2.6328823844094201E-3,4.9852033366950795E-3,5.2570881126553302E-2,null,0.94742911887344672,2.6328823844094201E-3,2.3523209522856594E-3,4.758567778985822E-2,null,1]
["SEC3-74","Popes Lane, Oldbury",10.81,"N:/2024/Projects/2024s0196 - Sandwell Metropolitan Borough Council - Sandwell L1 & L2 SFRA/1_WIP/HM/Graphical/Shapefiles/Development_sites/Sandwell EMP3 Allocations_region.shx|layername=Sandwell EMP3 Allocations_region",10.856,1127.12823471562,1.03828698029209,17305.612217788701,15.9415684021502,351.049107378945,0.32337910311215201,null,1,3.23379103112152E-3,1.0382869802920899E-2,0.159415684021502,null,0.84058431597849803,3.23379103112152E-3,7.1490787717993793E-3,0.14903281421858111,null,1]
["SEC3-75","Popes Lane, Oldbury",2.91,"N:/2024/Projects/2024s0196 - Sandwell Metropolitan Borough Council - Sandwell L1 & L2 SFRA/1_WIP/HM/Graphical/Shapefiles/Development_sites/Sandwell EMP3 Allocations_region.shx|layername=Sandwell EMP3 Allocations_region",2.919,217.50723110415399,0.74505308189177299,2477.9369135854299,8.4879685370835407,96.476681143969401,0.33047291463419998,null,1,3.3047291463419999E-3,7.45053081891773E-3,8.48796853708354E-2,null,0.91512031462916466,3.3047291463419999E-3,4.1458016725757305E-3,7.7429154551917664E-2,null,1]
["SEC3-10","Portway Rd, Weds (5129)",3.78,"N:/2024/Projects/2024s0196 - Sandwell Metropolitan Borough Council - Sandwell L1 & L2 SFRA/1_WIP/HM/Graphical/Shapefiles/Development_sites/Sandwell EMP3 Allocations_region.shx|layername=Sandwell EMP3 Allocations_region",3.782,1997.1804519242501,5.2803791096740698,8488.5207021511997,22.4429431724555,1131.4525575632099,2.9914665161016201,null,1,2.99146651610162E-2,5.2803791096740695E-2,0.22442943172455501,null,0.77557056827544502,2.99146651610162E-2,2.2889125935724494E-2,0.17162564062781432,null,1]
["SEC3-81","Portway Rd, Weds (5129)",4.51,"N:/2024/Projects/2024s0196 - Sandwell Metropolitan Borough Council - Sandwell L1 & L2 SFRA/1_WIP/HM/Graphical/Shapefiles/Development_sites/Sandwell EMP3 Allocations_region.shx|layername=Sandwell EMP3 Allocations_region",4.5259999999999998,864.66497570558295,1.91046963861323,5540.05239135379,12.2406969027179,284.226590017864,0.627996144139638,null,1,6.2799614413963801E-3,1.9104696386132301E-2,0.122406969027179,null,0.87759303097282104,6.2799614413963801E-3,1.2824734944735921E-2,0.1033022726410467,null,1]
["SEC3-188","Portway Road",3.02,"N:/2024/Projects/2024s0196 - Sandwell Metropolitan Borough Council - Sandwell L1 & L2 SFRA/1_WIP/HM/Graphical/Shapefiles/Development_sites/Sandwell EMP3 Allocations_region.shx|layername=Sandwell EMP3 Allocations_region",3.028,344.27447177093501,1.13686722027564,3605.8272571613102,11.907205287560901,0,0,null,1,0,1.13686722027564E-2,0.11907205287560901,null,0.88092794712439093,0,1.13686722027564E-2,0.10770338067285261,null,0.99999999999999989]
["SEC3-158","Portway Road Industrial Estate",2.12,"N:/2024/Projects/2024s0196 - Sandwell Metropolitan Borough Council - Sandwell L1 & L2 SFRA/1_WIP/HM/Graphical/Shapefiles/Development_sites/Sandwell EMP3 Allocations_region.shx|layername=Sandwell EMP3 Allocations_region",2.1280000000000001,554.93708745142101,2.60793376948144,3403.5566163867802,15.9950568036131,0,0,null,1,0,2.6079337694814398E-2,0.159950568036131,null,0.84004943196386894,0,2.6079337694814398E-2,0.13387123034131659,null,1]
["SEC4-11","Potters Lane, Wednesbury (actually between Stafford St/ Albert St)",0.39,"N:/2024/Projects/2024s0196 - Sandwell Metropolitan Borough Council - Sandwell L1 & L2 SFRA/1_WIP/HM/Graphical/Shapefiles/Development_sites/Sandwell EMP4 Allocations_region.shx|layername=Sandwell EMP4 Allocations_region",0.39500000000000002,0,0,0.17529671444822301,4.4332212219490002E-3,0,0,null,1,0,0,4.4332212219490003E-5,null,0.99995566778778056,0,0,4.4332212219490003E-5,null,1]
["SEC3-141","Powke Lane (east side)",3.49,"N:/2024/Projects/2024s0196 - Sandwell Metropolitan Borough Council - Sandwell L1 & L2 SFRA/1_WIP/HM/Graphical/Shapefiles/Development_sites/Sandwell EMP3 Allocations_region.shx|layername=Sandwell EMP3 Allocations_region",3.5070000000000001,0,0,2156.3503083586602,6.1482708467281304,0,0,null,1,0,0,6.1482708467281301E-2,null,0.93851729153271868,0,0,6.1482708467281301E-2,null,1]
["SEC3-140","Powke Lane (west side)",6.36,"N:/2024/Projects/2024s0196 - Sandwell Metropolitan Borough Council - Sandwell L1 & L2 SFRA/1_WIP/HM/Graphical/Shapefiles/Development_sites/Sandwell EMP3 Allocations_region.shx|layername=Sandwell EMP3 Allocations_region",6.3819999999999997,1997.5253185449899,3.1301662858891999,9068.20287209042,14.210074155403801,142.952148773825,0.22400917396790801,null,1,2.2400917396790802E-3,3.1301662858892E-2,0.14210074155403801,null,0.85789925844596193,2.2400917396790802E-3,2.9061571119212919E-2,0.11079907869514602,null,1]
["SEC3-179","Powke Lane Industrial Estate, Cradley Heath",2.17,"N:/2024/Projects/2024s0196 - Sandwell Metropolitan Borough Council - Sandwell L1 & L2 SFRA/1_WIP/HM/Graphical/Shapefiles/Development_sites/Sandwell EMP3 Allocations_region.shx|layername=Sandwell EMP3 Allocations_region",2.181,5896.8531734498902,27.0427065339201,11463.9815466497,52.573309790406903,3713.2634561442101,17.028861152547499,null,1,0.170288611525475,0.27042706533920102,0.52573309790406908,null,0.47426690209593092,0.170288611525475,0.10013845381372602,0.25530603256486806,null,1]
["SEC3-142","Powke Lane/ Doulton Road",9.08,"N:/2024/Projects/2024s0196 - Sandwell Metropolitan Borough Council - Sandwell L1 & L2 SFRA/1_WIP/HM/Graphical/Shapefiles/Development_sites/Sandwell EMP3 Allocations_region.shx|layername=Sandwell EMP3 Allocations_region",9.1140000000000008,4480.8575102043196,4.9163121424147596,16354.947578498301,17.944339266673499,1591.55427923456,1.74622326429573,null,1,1.74622326429573E-2,4.9163121424147596E-2,0.17944339266673498,null,0.82055660733326508,1.74622326429573E-2,3.1700888781190296E-2,0.1302802712425874,null,1]
["SEC-145","Princes End Garage",0.19,"N:/2024/Projects/2024s0196 - Sandwell Metropolitan Borough Council - Sandwell L1 & L2 SFRA/1_WIP/HM/Graphical/Shapefiles/Development_sites/Sandwell EMP3 Allocations_region.shx|layername=Sandwell EMP3 Allocations_region",0.191,91.8943235721908,4.8013576586284499,161.84301555632001,8.4560849030724796,0,0,null,1,0,4.8013576586284495E-2,8.4560849030724791E-2,null,0.91543915096927519,0,4.8013576586284495E-2,3.6547272444440296E-2,null,1]
["SEC3-111","Purity Soft Drinks Limited, Mounts Road",0.35,"N:/2024/Projects/2024s0196 - Sandwell Metropolitan Borough Council - Sandwell L1 & L2 SFRA/1_WIP/HM/Graphical/Shapefiles/Development_sites/Sandwell EMP3 Allocations_region.shx|layername=Sandwell EMP3 Allocations_region",0.34699999999999998,0,0,20.068114725932901,0.57907704663791004,0,0,null,1,0,0,5.7907704663791E-3,null,0.9942092295336209,0,0,5.7907704663791E-3,null,1]
["SEC3-94","Rabone Lane, Smethwick (2372)",4.72,"N:/2024/Projects/2024s0196 - Sandwell Metropolitan Borough Council - Sandwell L1 & L2 SFRA/1_WIP/HM/Graphical/Shapefiles/Development_sites/Sandwell EMP3 Allocations_region.shx|layername=Sandwell EMP3 Allocations_region",4.7359999999999998,1690.4650702731999,3.5697177460530298,14205.3393509749,29.9971013075622,618.59836930834695,1.30628051145865,null,1,1.30628051145865E-2,3.5697177460530298E-2,0.29997101307562202,null,0.70002898692437798,1.30628051145865E-2,2.2634372345943798E-2,0.26427383561509171,null,1]
["SEC3-72","Rabone Park",3.93,"N:/2024/Projects/2024s0196 - Sandwell Metropolitan Borough Council - Sandwell L1 & L2 SFRA/1_WIP/HM/Graphical/Shapefiles/Development_sites/Sandwell EMP3 Allocations_region.shx|layername=Sandwell EMP3 Allocations_region",3.948,260.20740612481802,0.65914936371880695,2352.0055714529899,5.9580278631372101,148.11806194232599,0.375208099333324,null,1,3.75208099333324E-3,6.5914936371880692E-3,5.9580278631372101E-2,null,0.94041972136862795,3.75208099333324E-3,2.8394126438548292E-3,5.2988784994184031E-2,null,1]
["SEC3-48","Reddal Hill Rd/ Newtown St, Cradley Heath",4.4400000000000004,"N:/2024/Projects/2024s0196 - Sandwell Metropolitan Borough Council - Sandwell L1 & L2 SFRA/1_WIP/HM/Graphical/Shapefiles/Development_sites/Sandwell EMP3 Allocations_region.shx|layername=Sandwell EMP3 Allocations_region",4.452,635.35538813960102,1.4269953583774899,1257.78182724157,2.8249525585685702,98.842092567887306,0.22199734186515199,null,1,2.2199734186515198E-3,1.4269953583774898E-2,2.8249525585685702E-2,null,0.97175047441431428,2.2199734186515198E-3,1.2049980165123379E-2,1.3979572001910804E-2,null,1]
["EMP2-1","Richmond Street, West Bromwich",10.199999999999999,"N:/2024/Projects/2024s0196 - Sandwell Metropolitan Borough Council - Sandwell L1 & L2 SFRA/1_WIP/HM/Graphical/Shapefiles/Development_sites/Sandwell EMP2 Allocations_region.shx|layername=Sandwell EMP2 Allocations_region",10.239000000000001,5120.7833102848999,5.00119209054784,15227.878581879701,14.872245378272501,1104.76984177299,1.07896895060054,null,1,1.0789689506005401E-2,5.0011920905478402E-2,0.148722453782725,null,0.85127754621727503,1.0789689506005401E-2,3.9222231399473E-2,9.8710532877246598E-2,null,1]
["SEC3-2","Ridgacre Road (north)",0.8,"N:/2024/Projects/2024s0196 - Sandwell Metropolitan Borough Council - Sandwell L1 & L2 SFRA/1_WIP/HM/Graphical/Shapefiles/Development_sites/Sandwell EMP3 Allocations_region.shx|layername=Sandwell EMP3 Allocations_region",0.80200000000000005,0,0,28.694213055088898,0.35758257493444201,0,0,null,1,0,0,3.5758257493444202E-3,null,0.99642417425065555,0,0,3.5758257493444202E-3,null,1]
["SEC3-3","Ridgacre Road (south)",1.05,"N:/2024/Projects/2024s0196 - Sandwell Metropolitan Borough Council - Sandwell L1 & L2 SFRA/1_WIP/HM/Graphical/Shapefiles/Development_sites/Sandwell EMP3 Allocations_region.shx|layername=Sandwell EMP3 Allocations_region",1.052,0,0,16.381411654873599,0.15576201682336599,0,0,null,1,0,0,1.5576201682336599E-3,null,0.99844237983176631,0,0,1.5576201682336599E-3,null,1]
["SEC3-107","Ridgacre Road Church Lane, West Bromwich (New build) (former Express and Star)",1.42,"N:/2024/Projects/2024s0196 - Sandwell Metropolitan Borough Council - Sandwell L1 & L2 SFRA/1_WIP/HM/Graphical/Shapefiles/Development_sites/Sandwell EMP3 Allocations_region.shx|layername=Sandwell EMP3 Allocations_region",1.4219999999999999,744.59365960806804,5.2352269369510998,2105.8454142785299,14.8061677609354,304.24257090271198,2.1391249871715599,null,1,2.13912498717156E-2,5.2352269369510998E-2,0.14806167760935401,null,0.85193832239064604,2.13912498717156E-2,3.0961019497795398E-2,9.5709408239843016E-2,null,1]
["SEC3-108","Ridgacre Road Church Lane, West Bromwich (old part)",0.92,"N:/2024/Projects/2024s0196 - Sandwell Metropolitan Borough Council - Sandwell L1 & L2 SFRA/1_WIP/HM/Graphical/Shapefiles/Development_sites/Sandwell EMP3 Allocations_region.shx|layername=Sandwell EMP3 Allocations_region",0.92400000000000004,0,0,473.87002242278902,5.1272403983541999,0,0,null,1,0,0,5.1272403983541999E-2,null,0.94872759601645795,0,0,5.1272403983541999E-2,null,1]
["SEC3-32","Ridgarce Road, West Bromwich",1.1399999999999999,"N:/2024/Projects/2024s0196 - Sandwell Metropolitan Borough Council - Sandwell L1 & L2 SFRA/1_WIP/HM/Graphical/Shapefiles/Development_sites/Sandwell EMP3 Allocations_region.shx|layername=Sandwell EMP3 Allocations_region",1.139,116.09777043083599,1.01897533362971,684.06543623917298,6.0039551451301696,0,0,null,1,0,1.0189753336297101E-2,6.0039551451301694E-2,null,0.93996044854869831,0,1.0189753336297101E-2,4.984979811500459E-2,null,1]
["SEC3-33","Ridgarce Road, West Bromwich",1.64,"N:/2024/Projects/2024s0196 - Sandwell Metropolitan Borough Council - Sandwell L1 & L2 SFRA/1_WIP/HM/Graphical/Shapefiles/Development_sites/Sandwell EMP3 Allocations_region.shx|layername=Sandwell EMP3 Allocations_region",1.641,0,0,676.53940120408402,4.1219391233655003,0,0,null,1,0,0,4.1219391233655006E-2,null,0.95878060876634497,0,0,4.1219391233655006E-2,null,1]
["SEC3-34","Ridgarce Road, West Bromwich",0.75,"N:/2024/Projects/2024s0196 - Sandwell Metropolitan Borough Council - Sandwell L1 & L2 SFRA/1_WIP/HM/Graphical/Shapefiles/Development_sites/Sandwell EMP3 Allocations_region.shx|layername=Sandwell EMP3 Allocations_region",0.75600000000000001,264.03066599833602,3.4903485975853301,1369.3296747417701,18.101828784907301,16.074685329970801,0.21249901099913401,null,1,2.12499010999134E-3,3.4903485975853299E-2,0.18101828784907301,null,0.81898171215092697,2.12499010999134E-3,3.2778495865861956E-2,0.14611480187321971,null,1]
["EMP2-19","Rounds Green Road/Shidas Lane, Oldbury",2.78,"N:/2024/Projects/2024s0196 - Sandwell Metropolitan Borough Council - Sandwell L1 & L2 SFRA/1_WIP/HM/Graphical/Shapefiles/Development_sites/Sandwell EMP2 Allocations_region.shx|layername=Sandwell EMP2 Allocations_region",2.7879999999999998,172.13723475622001,0.61731527297194999,1784.9188152986501,6.4010418620893104,100.07978766354699,0.35890422852435999,null,1,3.5890422852435998E-3,6.1731527297194996E-3,6.40104186208931E-2,null,0.93598958137910693,3.5890422852435998E-3,2.5841104444758998E-3,5.7837265891173599E-2,null,1]
["SEC3-161","Roway Lane, Oldbury",6,"N:/2024/Projects/2024s0196 - Sandwell Metropolitan Borough Council - Sandwell L1 & L2 SFRA/1_WIP/HM/Graphical/Shapefiles/Development_sites/Sandwell EMP3 Allocations_region.shx|layername=Sandwell EMP3 Allocations_region",6.024,294.47926242167603,0.48885733642010598,2078.03058857521,3.4496843349048301,5.72952174193298,9.5114294795800008E-3,null,1,9.5114294795800006E-5,4.8885733642010602E-3,3.4496843349048303E-2,null,0.96550315665095165,9.5114294795800006E-5,4.7934590694052601E-3,2.9608269984847245E-2,null,1]
["SEC1-4","Roway Lane, Oldbury (Call for Sites)",3.65,"N:/2024/Projects/2024s0196 - Sandwell Metropolitan Borough Council - Sandwell L1 & L2 SFRA/1_WIP/HM/Graphical/Shapefiles/Development_sites/Sandwell EMP1 Sites_region.shx|layername=Sandwell EMP1 Sites_region",3.6629999999999998,667.55563530208804,1.82243566639896,3279.1593279200501,8.9521481041831308,381.86038391163902,1.04248387164082,null,1,1.0424838716408201E-2,1.82243566639896E-2,8.9521481041831302E-2,null,0.91047851895816867,1.0424838716408201E-2,7.7995179475813994E-3,7.1297124377841706E-2,null,1]
["SEC3-167","Ryder, Euroway Park",2.2400000000000002,"N:/2024/Projects/2024s0196 - Sandwell Metropolitan Borough Council - Sandwell L1 & L2 SFRA/1_WIP/HM/Graphical/Shapefiles/Development_sites/Sandwell EMP3 Allocations_region.shx|layername=Sandwell EMP3 Allocations_region",2.2480000000000002,0,0,652.54403809861901,2.9022531235843001,0,0,null,1,0,0,2.9022531235843002E-2,null,0.97097746876415703,0,0,2.9022531235843002E-2,null,1]
["SEC3-54","Ryders Green Rd, Greets Green Ind Est, Greets Green",2.95,"N:/2024/Projects/2024s0196 - Sandwell Metropolitan Borough Council - Sandwell L1 & L2 SFRA/1_WIP/HM/Graphical/Shapefiles/Development_sites/Sandwell EMP3 Allocations_region.shx|layername=Sandwell EMP3 Allocations_region",2.9569999999999999,8.6475241241587302,2.9246017385243E-2,3127.3545860056902,10.5767460464922,0,0,null,1,0,2.9246017385242999E-4,0.105767460464922,null,0.89423253953507797,0,2.9246017385242999E-4,0.10547500029106957,null,1]
["SEC3-164","Sandwell Business Dev Centre, Oldbury Road",0.67,"N:/2024/Projects/2024s0196 - Sandwell Metropolitan Borough Council - Sandwell L1 & L2 SFRA/1_WIP/HM/Graphical/Shapefiles/Development_sites/Sandwell EMP3 Allocations_region.shx|layername=Sandwell EMP3 Allocations_region",0.67200000000000004,0,0,657.19554815646597,9.7755897336323798,0,0,null,1,0,0,9.7755897336323797E-2,null,0.90224410266367616,0,0,9.7755897336323797E-2,null,1]
["SEC3-126","Sedgley Road West/Hurst Lane, Tipton",3.06,"N:/2024/Projects/2024s0196 - Sandwell Metropolitan Borough Council - Sandwell L1 & L2 SFRA/1_WIP/HM/Graphical/Shapefiles/Development_sites/Sandwell EMP3 Allocations_region.shx|layername=Sandwell EMP3 Allocations_region",3.073,1950.37786882655,6.3467427131805101,7481.3900000025696,24.345260590731399,557.41725175659894,1.8138966491225701,null,1,1.8138966491225702E-2,6.3467427131805101E-2,0.24345260590731399,null,0.75654739409268601,1.8138966491225702E-2,4.5328460640579396E-2,0.1799851787755089,null,1]
["SEC3-83","Seven Stars Rd, Oldbury (586)",2.5099999999999998,"N:/2024/Projects/2024s0196 - Sandwell Metropolitan Borough Council - Sandwell L1 & L2 SFRA/1_WIP/HM/Graphical/Shapefiles/Development_sites/Sandwell EMP3 Allocations_region.shx|layername=Sandwell EMP3 Allocations_region",2.5179999999999998,107.274267585939,0.42603898957042302,6508.9484299987198,25.8502423245267,0,0,null,1,0,4.2603898957042302E-3,0.25850242324526701,null,0.74149757675473293,0,4.2603898957042302E-3,0.2542420333495628,null,1]
["SEC3-45","Seven Stars Road, Oldbury",1.47,"N:/2024/Projects/2024s0196 - Sandwell Metropolitan Borough Council - Sandwell L1 & L2 SFRA/1_WIP/HM/Graphical/Shapefiles/Development_sites/Sandwell EMP3 Allocations_region.shx|layername=Sandwell EMP3 Allocations_region",1.472,890.27845136839301,6.0478291062865299,5571.45761212867,37.847960331155399,343.41572370335098,2.3328876557410401,null,1,2.3328876557410401E-2,6.04782910628653E-2,0.378479603311554,null,0.62152039668844594,2.3328876557410401E-2,3.7149414505454899E-2,0.31800131224868872,null,1]
["SEC3-36","Silverthorne Lane",1.05,"N:/2024/Projects/2024s0196 - Sandwell Metropolitan Borough Council - Sandwell L1 & L2 SFRA/1_WIP/HM/Graphical/Shapefiles/Development_sites/Sandwell EMP3 Allocations_region.shx|layername=Sandwell EMP3 Allocations_region",1.0509999999999999,140.111584049529,1.3337298507995401,1576.6538441421001,15.0082543893503,0,0,null,1,0,1.33372985079954E-2,0.15008254389350301,null,0.84991745610649705,0,1.33372985079954E-2,0.13674524538550761,null,1]
["SEC3-135","Site at Bloomfield Rd, Fountaihn Lane & Bradleys Lane, Tipton",1.43,"N:/2024/Projects/2024s0196 - Sandwell Metropolitan Borough Council - Sandwell L1 & L2 SFRA/1_WIP/HM/Graphical/Shapefiles/Development_sites/Sandwell EMP3 Allocations_region.shx|layername=Sandwell EMP3 Allocations_region",1.4379999999999999,666.142339086113,4.6330636409928401,1851.7165217137999,12.8788098080475,0,0,null,1,0,4.6330636409928398E-2,0.12878809808047501,null,0.87121190191952502,0,4.6330636409928398E-2,8.24574616705466E-2,null,1]
["SEC4-14","Site at Great Wester St & Potters Lane, Weds (5641",2.14,"N:/2024/Projects/2024s0196 - Sandwell Metropolitan Borough Council - Sandwell L1 & L2 SFRA/1_WIP/HM/Graphical/Shapefiles/Development_sites/Sandwell EMP4 Allocations_region.shx|layername=Sandwell EMP4 Allocations_region",2.1469999999999998,295.70597868914803,1.3772524407837701,1480.3517636910001,6.8947475759536196,2.49204055424525,1.1606694430329001E-2,null,1,1.1606694430329E-4,1.3772524407837701E-2,6.8947475759536192E-2,null,0.93105252424046381,1.1606694430329E-4,1.3656457463534411E-2,5.517495135169849E-2,null,1]
["SEC3-82","Site bt Charles St & Walsall Canal Great Bridge (2",2.17,"N:/2024/Projects/2024s0196 - Sandwell Metropolitan Borough Council - Sandwell L1 & L2 SFRA/1_WIP/HM/Graphical/Shapefiles/Development_sites/Sandwell EMP3 Allocations_region.shx|layername=Sandwell EMP3 Allocations_region",2.1829999999999998,805.79614014480103,3.69176350280026,5072.9846740612702,23.241932713401901,88.179268201128593,0.40399424597648698,null,1,4.0399424597648698E-3,3.6917635028002597E-2,0.23241932713401903,null,0.76758067286598097,4.0399424597648698E-3,3.2877692568237728E-2,0.19550169210601642,null,1]
["SEC1-7","Site off Bilport Lane, Wednesbury",5.29,"N:/2024/Projects/2024s0196 - Sandwell Metropolitan Borough Council - Sandwell L1 & L2 SFRA/1_WIP/HM/Graphical/Shapefiles/Development_sites/Sandwell EMP1 Sites_region.shx|layername=Sandwell EMP1 Sites_region",5.31,1534.9272977190101,2.8907979390671898,10630.160961814099,20.020262488021899,303.66217300757597,0.57190069210930194,null,1,5.7190069210930191E-3,2.8907979390671898E-2,0.200202624880219,null,0.799797375119781,5.7190069210930191E-3,2.3188972469578878E-2,0.17129464548954709,null,1]
["SEC3-29","Site off Richmond St, West Bromwich",1.1000000000000001,"N:/2024/Projects/2024s0196 - Sandwell Metropolitan Borough Council - Sandwell L1 & L2 SFRA/1_WIP/HM/Graphical/Shapefiles/Development_sites/Sandwell EMP3 Allocations_region.shx|layername=Sandwell EMP3 Allocations_region",1.109,243.91300739259799,2.1998998221441401,531.85638555264302,4.7969182967771102,0,0,null,1,0,2.1998998221441402E-2,4.7969182967771105E-2,null,0.95203081703222892,0,2.1998998221441402E-2,2.5970184746329703E-2,null,1]
["EMP4-8","Site on Railway Street, Horseley Heath, Tipton",0.18,"N:/2024/Projects/2024s0196 - Sandwell Metropolitan Borough Council - Sandwell L1 & L2 SFRA/1_WIP/HM/Graphical/Shapefiles/Development_sites/Sandwell EMP4 Allocations_region.shx|layername=Sandwell EMP4 Allocations_region",0.18,0,0,0,0,0,0,null,1,0,0,0,null,1,0,0,0,null,1]
["SEC3-6","Site on Stafford St, Weds (5646)",1.45,"N:/2024/Projects/2024s0196 - Sandwell Metropolitan Borough Council - Sandwell L1 & L2 SFRA/1_WIP/HM/Graphical/Shapefiles/Development_sites/Sandwell EMP3 Allocations_region.shx|layername=Sandwell EMP3 Allocations_region",1.4590000000000001,1235.2989061926401,8.4663947794771399,3928.0186096288498,26.921545938019801,0,0,null,1,0,8.4663947794771405E-2,0.26921545938019803,null,0.73078454061980191,0,8.4663947794771405E-2,0.18455151158542663,null,0.99999999999999989]
["SEC4-4","Soho Triangle",1.71,"N:/2024/Projects/2024s0196 - Sandwell Metropolitan Borough Council - Sandwell L1 & L2 SFRA/1_WIP/HM/Graphical/Shapefiles/Development_sites/Sandwell EMP4 Allocations_region.shx|layername=Sandwell EMP4 Allocations_region",1.7170000000000001,10.1773769286287,5.9286076174621997E-2,322.28311267850501,1.8773895574511801,0,0,null,1,0,5.9286076174621999E-4,1.8773895574511801E-2,null,0.98122610442548819,0,5.9286076174621999E-4,1.8181034812765583E-2,null,1]
["SEC3-37","Spinners End Industrial Estate, Cradley Heath",0.65,"N:/2024/Projects/2024s0196 - Sandwell Metropolitan Borough Council - Sandwell L1 & L2 SFRA/1_WIP/HM/Graphical/Shapefiles/Development_sites/Sandwell EMP3 Allocations_region.shx|layername=Sandwell EMP3 Allocations_region",0.65100000000000002,489.41026352736799,7.5130569068378303,2179.6527545489598,33.460383654492901,160.75752818873099,2.4678282159012799,null,1,2.4678282159012799E-2,7.5130569068378297E-2,0.33460383654492903,null,0.66539616345507091,2.4678282159012799E-2,5.0452286909365499E-2,0.25947326747655075,null,1]
["SEC4-12","Stafford Street/ Albert Street, Wednesbury",0.73,"N:/2024/Projects/2024s0196 - Sandwell Metropolitan Borough Council - Sandwell L1 & L2 SFRA/1_WIP/HM/Graphical/Shapefiles/Development_sites/Sandwell EMP4 Allocations_region.shx|layername=Sandwell EMP4 Allocations_region",0.73699999999999999,0.32044442144586999,4.3472174019899999E-3,365.00391035657202,4.9517209372439996,0,0,null,1,0,4.3472174019899998E-5,4.9517209372439995E-2,null,0.95048279062756003,0,4.3472174019899998E-5,4.9473737198420097E-2,null,1]
["SEC3-44","Station Road / Avenue Road / Cardale Street Rowley",3.18,"N:/2024/Projects/2024s0196 - Sandwell Metropolitan Borough Council - Sandwell L1 & L2 SFRA/1_WIP/HM/Graphical/Shapefiles/Development_sites/Sandwell EMP3 Allocations_region.shx|layername=Sandwell EMP3 Allocations_region",3.1909999999999998,3375.7185222345302,10.578124048486099,9499.8412344473509,29.768625066638801,1092.8712089877499,3.4246123133628799,null,1,3.4246123133628799E-2,0.105781240484861,0.29768625066638799,null,0.70231374933361201,3.4246123133628799E-2,7.1535117351232191E-2,0.191905010181527,null,{"$f":"SUM(R194:U194)","v":1}]
["SEC3-49","Station Road Industrial Est, Rowley Regis",3.21,"N:/2024/Projects/2024s0196 - Sandwell Metropolitan Borough Council - Sandwell L1 & L2 SFRA/1_WIP/HM/Graphical/Shapefiles/Development_sites/Sandwell EMP3 Allocations_region.shx|layername=Sandwell EMP3 Allocations_region",3.2240000000000002,1946.36886205002,6.0366806792912104,5610.0753778759399,17.399699668089202,1185.3724829699399,3.6764435073069102,null,1,{"$f":"K195/100","v":3.6764435073069104E-2},{"$f":"G195/100","v":6.0366806792912106E-2},{"$f":"I195/100","v":0.17399699668089202},null,{"$f":"M195-P195","v":0.82600300331910792},{"$f":"N195","v":3.6764435073069104E-2},{"$f":"O195-S195","v":2.3602371719843002E-2},{"$f":"P195-(S195+T195)","v":0.11363018988797992},null,1]
["SEC3-147","Station St, Tipton (1448)",1.36,"N:/2024/Projects/2024s0196 - Sandwell Metropolitan Borough Council - Sandwell L1 & L2 SFRA/1_WIP/HM/Graphical/Shapefiles/Development_sites/Sandwell EMP3 Allocations_region.shx|layername=Sandwell EMP3 Allocations_region",1.37,54.335284197604302,0.39673449797455901,254.639862250568,1.85927835670995,0,0,null,1,0,3.9673449797455905E-3,1.8592783567099501E-2,null,0.98140721643290052,0,3.9673449797455905E-3,1.462543858735391E-2,null,1]
["SEC3-35","Station Street/Graingers Lane, Cradley Heath",2.27,"N:/2024/Projects/2024s0196 - Sandwell Metropolitan Borough Council - Sandwell L1 & L2 SFRA/1_WIP/HM/Graphical/Shapefiles/Development_sites/Sandwell EMP3 Allocations_region.shx|layername=Sandwell EMP3 Allocations_region",2.2810000000000001,3923.8729978954798,17.204030256337202,10078.241178328401,44.187558123216299,1108.7577293043601,4.8612943212307496,null,1,4.8612943212307497E-2,0.17204030256337202,0.44187558123216297,null,0.55812441876783703,4.8612943212307497E-2,0.12342735935106453,0.26983527866879098,null,1]
["SEC4-6","Summerton Rd, Oldbury (3223)",0.52,"N:/2024/Projects/2024s0196 - Sandwell Metropolitan Borough Council - Sandwell L1 & L2 SFRA/1_WIP/HM/Graphical/Shapefiles/Development_sites/Sandwell EMP4 Allocations_region.shx|layername=Sandwell EMP4 Allocations_region",0.56499999999999995,100.625527635141,1.78070621026882,582.60405975421099,10.309974930952199,0,0,null,1,0,1.78070621026882E-2,0.103099749309522,null,0.89690025069047796,0,1.78070621026882E-2,8.5292687206833792E-2,null,1]
["SEC3-63","Summit Crescent, Smethwick (east)",4.01,"N:/2024/Projects/2024s0196 - Sandwell Metropolitan Borough Council - Sandwell L1 & L2 SFRA/1_WIP/HM/Graphical/Shapefiles/Development_sites/Sandwell EMP3 Allocations_region.shx|layername=Sandwell EMP3 Allocations_region",4.03,180.14362145185601,0.44703520307876499,1040.8298115965599,2.58287005916472,0,0,null,1,0,4.4703520307876497E-3,2.58287005916472E-2,null,0.97417129940835279,0,4.4703520307876497E-3,2.1358348560859549E-2,null,0.99999999999999989]
["SEC3-27","Summit Crescent, Smethwick (west)",5.96,"N:/2024/Projects/2024s0196 - Sandwell Metropolitan Borough Council - Sandwell L1 & L2 SFRA/1_WIP/HM/Graphical/Shapefiles/Development_sites/Sandwell EMP3 Allocations_region.shx|layername=Sandwell EMP3 Allocations_region",5.98,492.06241060945001,0.82278203752227397,5318.0417732491396,8.8923460753749701,1.2569349232196001E-2,2.1017323308E-5,null,1,2.1017323308E-7,8.2278203752227403E-3,8.8923460753749697E-2,null,0.91107653924625032,2.1017323308E-7,8.2276102019896609E-3,8.0695640378526959E-2,null,1]
["SEC3-39","Swan Lane, West Bromwich",0.83,"N:/2024/Projects/2024s0196 - Sandwell Metropolitan Borough Council - Sandwell L1 & L2 SFRA/1_WIP/HM/Graphical/Shapefiles/Development_sites/Sandwell EMP3 Allocations_region.shx|layername=Sandwell EMP3 Allocations_region",0.83399999999999996,0,0,613.614506636398,7.3564626422332298,0,0,null,1,0,0,7.3564626422332302E-2,null,0.9264353735776677,0,0,7.3564626422332302E-2,null,1]
["SEC3-87","Swan Lane, West Bromwich",1.27,"N:/2024/Projects/2024s0196 - Sandwell Metropolitan Borough Council - Sandwell L1 & L2 SFRA/1_WIP/HM/Graphical/Shapefiles/Development_sites/Sandwell EMP3 Allocations_region.shx|layername=Sandwell EMP3 Allocations_region",1.28,1.9256562913917801,1.5044573028325001E-2,2326.7490502246101,18.178190033793001,2.4572000809741E-2,1.91973646744E-4,null,1,1.91973646744E-6,1.5044573028325E-4,0.18178190033793001,null,0.81821809966207004,1.91973646744E-6,1.4852599381580999E-4,0.18163145460764676,null,1]
["SEC3-92","Tatbak Road",8.6199999999999992,"N:/2024/Projects/2024s0196 - Sandwell Metropolitan Borough Council - Sandwell L1 & L2 SFRA/1_WIP/HM/Graphical/Shapefiles/Development_sites/Sandwell EMP3 Allocations_region.shx|layername=Sandwell EMP3 Allocations_region",8.657,1951.0563324924799,2.2537447139198501,12980.063636860699,14.9938007020772,128.02143987228999,0.14788278461031801,null,1,1.47882784610318E-3,2.2537447139198502E-2,0.14993800702077201,null,0.85006199297922802,1.47882784610318E-3,2.1058619293095323E-2,0.12740055988157351,null,1]
["SEC3-162","Taylors Lane, Oldbury",4.17,"N:/2024/Projects/2024s0196 - Sandwell Metropolitan Borough Council - Sandwell L1 & L2 SFRA/1_WIP/HM/Graphical/Shapefiles/Development_sites/Sandwell EMP3 Allocations_region.shx|layername=Sandwell EMP3 Allocations_region",4.1909999999999998,1544.8929943582,3.6864452335897702,3623.6295155867201,8.6467553447475698,1013.0787136428,2.4174225715297801,null,1,2.4174225715297801E-2,3.6864452335897704E-2,8.6467553447475698E-2,null,0.9135324465525243,2.4174225715297801E-2,1.2690226620599904E-2,4.9603101111577994E-2,null,1]
["SEC3-157","Tennants Ryders Green Rd / SCA Tasker St",1.02,"N:/2024/Projects/2024s0196 - Sandwell Metropolitan Borough Council - Sandwell L1 & L2 SFRA/1_WIP/HM/Graphical/Shapefiles/Development_sites/Sandwell EMP3 Allocations_region.shx|layername=Sandwell EMP3 Allocations_region",1.0249999999999999,746.93730603459403,7.2892725767492097,1475.1183838581901,14.3955053470286,288.38093632489898,2.8142753532690601,null,1,2.8142753532690599E-2,7.2892725767492103E-2,0.143955053470286,null,0.85604494652971397,2.8142753532690599E-2,4.4749972234801504E-2,7.1062327702793901E-2,null,0.99999999999999989]
["SEC3-55","Tennants Ryders Green Rd, West Bromwich",2.9,"N:/2024/Projects/2024s0196 - Sandwell Metropolitan Borough Council - Sandwell L1 & L2 SFRA/1_WIP/HM/Graphical/Shapefiles/Development_sites/Sandwell EMP3 Allocations_region.shx|layername=Sandwell EMP3 Allocations_region",2.9159999999999999,850.43617026770198,2.91682485402707,7641.2728223447202,26.208027437968401,176.909604894712,0.60676432930948399,null,1,6.0676432930948402E-3,2.91682485402707E-2,0.26208027437968401,null,0.73791972562031605,6.0676432930948402E-3,2.3100605247175859E-2,0.23291202583941331,null,1]
["SEC3-134","The Angle Ring Co. Ltd",1.7,"N:/2024/Projects/2024s0196 - Sandwell Metropolitan Borough Council - Sandwell L1 & L2 SFRA/1_WIP/HM/Graphical/Shapefiles/Development_sites/Sandwell EMP3 Allocations_region.shx|layername=Sandwell EMP3 Allocations_region",1.706,404.32212209079802,2.3702827235314299,1324.8572737505101,7.7667931966646098,0,0,null,1,0,2.3702827235314299E-2,7.7667931966646092E-2,null,0.92233206803335388,0,2.3702827235314299E-2,5.3965104731331794E-2,null,0.99999999999999989]
["SEC3-13","The Bridge Trading Estate",3.33,"N:/2024/Projects/2024s0196 - Sandwell Metropolitan Borough Council - Sandwell L1 & L2 SFRA/1_WIP/HM/Graphical/Shapefiles/Development_sites/Sandwell EMP3 Allocations_region.shx|layername=Sandwell EMP3 Allocations_region",3.34,560.44673158379305,1.67813595141587,6800.1857921761502,20.3616786592893,0,0,null,1,0,1.6781359514158701E-2,0.20361678659289301,null,0.79638321340710694,0,1.6781359514158701E-2,0.1868354270787343,null,1]
["SEC4-16","The Lyng Industrial Estate, West Bromwich",9.84,"N:/2024/Projects/2024s0196 - Sandwell Metropolitan Borough Council - Sandwell L1 & L2 SFRA/1_WIP/HM/Graphical/Shapefiles/Development_sites/Sandwell EMP4 Allocations_region.shx|layername=Sandwell EMP4 Allocations_region",9.8450000000000006,3864.2913366798698,3.9251900265544202,10380.0662024837,10.5436492187388,1593.27029944113,1.61837919144702,null,1,1.61837919144702E-2,3.9251900265544204E-2,0.105436492187388,null,0.89456350781261196,1.61837919144702E-2,2.3068108351074004E-2,6.6184591921843797E-2,null,0.99999999999999989]
["SEC3-120","Tipton Rd, Oldbury (2958)",1.76,"N:/2024/Projects/2024s0196 - Sandwell Metropolitan Borough Council - Sandwell L1 & L2 SFRA/1_WIP/HM/Graphical/Shapefiles/Development_sites/Sandwell EMP3 Allocations_region.shx|layername=Sandwell EMP3 Allocations_region",1.7629999999999999,962.884982288331,5.4621059058878396,7923.2015361686299,44.945519662583202,394.70517381617702,2.2390228330928998,null,1,2.2390228330928998E-2,5.4621059058878395E-2,0.449455196625832,null,0.550544803374168,2.2390228330928998E-2,3.2230830727949397E-2,0.39483413756695362,null,1]
["SEC3-119","Tipton Road",3.17,"N:/2024/Projects/2024s0196 - Sandwell Metropolitan Borough Council - Sandwell L1 & L2 SFRA/1_WIP/HM/Graphical/Shapefiles/Development_sites/Sandwell EMP3 Allocations_region.shx|layername=Sandwell EMP3 Allocations_region",3.1850000000000001,9.1744214220339,2.8800718797382E-2,1239.50992406262,3.8911202273480998,0,0,null,1,0,2.8800718797382E-4,3.8911202273481001E-2,null,0.96108879772651901,0,2.8800718797382E-4,3.8623195085507184E-2,null,1]
["SEC3-58","Toll End Road, Tipton 2",5.88,"N:/2024/Projects/2024s0196 - Sandwell Metropolitan Borough Council - Sandwell L1 & L2 SFRA/1_WIP/HM/Graphical/Shapefiles/Development_sites/Sandwell EMP3 Allocations_region.shx|layername=Sandwell EMP3 Allocations_region",5.9029999999999996,1230.0233535996899,2.0838295351896301,11165.844162204001,18.916482993946399,0,0,null,1,0,2.08382953518963E-2,0.18916482993946399,null,0.81083517006053607,0,2.08382953518963E-2,0.16832653458756769,null,1]
["SEC3-180","Trinity Street, Oldbury",26.88,"N:/2024/Projects/2024s0196 - Sandwell Metropolitan Borough Council - Sandwell L1 & L2 SFRA/1_WIP/HM/Graphical/Shapefiles/Development_sites/Sandwell EMP3 Allocations_region.shx|layername=Sandwell EMP3 Allocations_region",26.986000000000001,17914.792265948599,6.63847115962239,63172.147975899497,23.408950335779899,3383.73304954268,1.25386964737214,null,1,1.2538696473721401E-2,6.6384711596223903E-2,0.23408950335779899,null,0.76591049664220101,1.2538696473721401E-2,5.3846015122502505E-2,0.1677047917615751,null,1]
["SEC-144","Union Road",12.11,"N:/2024/Projects/2024s0196 - Sandwell Metropolitan Borough Council - Sandwell L1 & L2 SFRA/1_WIP/HM/Graphical/Shapefiles/Development_sites/Sandwell EMP3 Allocations_region.shx|layername=Sandwell EMP3 Allocations_region",12.159000000000001,1190.5709647548299,0.97913410074399598,9986.6084584189794,8.2130584248121998,161.26371664023401,0.13262443722343401,null,1,1.32624437223434E-3,9.7913410074399604E-3,8.2130584248122002E-2,null,0.91786941575187797,1.32624437223434E-3,8.4650966352056208E-3,7.2339243240682041E-2,null,1]
["SEC3-59","unit 7,8,9 Coneygree Ind Est, Coneygree Road",1.03,"N:/2024/Projects/2024s0196 - Sandwell Metropolitan Borough Council - Sandwell L1 & L2 SFRA/1_WIP/HM/Graphical/Shapefiles/Development_sites/Sandwell EMP3 Allocations_region.shx|layername=Sandwell EMP3 Allocations_region",1.0329999999999999,128.10208399621101,1.23957155771963,218.425513455691,2.1135804002063701,0,0,null,1,0,1.2395715577196299E-2,2.1135804002063701E-2,null,0.97886419599793628,0,1.2395715577196299E-2,8.7400884248674017E-3,null,1]
["SEC3-121","Upper Chapel St, Bittania St, 70-74 Dudley Rd West",0.64,"N:/2024/Projects/2024s0196 - Sandwell Metropolitan Borough Council - Sandwell L1 & L2 SFRA/1_WIP/HM/Graphical/Shapefiles/Development_sites/Sandwell EMP3 Allocations_region.shx|layername=Sandwell EMP3 Allocations_region",0.64100000000000001,0,0,0.44720805028094901,6.9745348896159999E-3,0,0,null,1,0,0,6.974534889616E-5,null,0.99993025465110386,0,0,6.974534889616E-5,null,1]
["SEC3-99","various sites (3034, 3226, 1436)",6.33,"N:/2024/Projects/2024s0196 - Sandwell Metropolitan Borough Council - Sandwell L1 & L2 SFRA/1_WIP/HM/Graphical/Shapefiles/Development_sites/Sandwell EMP3 Allocations_region.shx|layername=Sandwell EMP3 Allocations_region",6.359,1596.2695423673499,2.51036427406919,10609.5361623145,16.685027083095399,251.695197295659,0.39582702950578202,null,1,3.95827029505782E-3,2.5103642740691899E-2,0.166850270830954,null,0.83314972916904595,3.95827029505782E-3,2.1145372445634081E-2,0.14174662809026209,null,0.99999999999999989]
["SEC3-110","Various sites on Mounts Rd, (2926, 2911, 2927, 290",6.32,"N:/2024/Projects/2024s0196 - Sandwell Metropolitan Borough Council - Sandwell L1 & L2 SFRA/1_WIP/HM/Graphical/Shapefiles/Development_sites/Sandwell EMP3 Allocations_region.shx|layername=Sandwell EMP3 Allocations_region",6.3419999999999996,1514.23963544648,2.3877260749301001,6065.4772923029504,9.56433707631607,660.52661697620601,1.0415502207313501,null,1,1.04155022073135E-2,2.3877260749301001E-2,9.5643370763160707E-2,null,0.90435662923683924,1.04155022073135E-2,1.3461758541987501E-2,7.1766110013859713E-2,null,0.99999999999999989]
["EMP3-181","Varney Business Park",0.73,"N:/2024/Projects/2024s0196 - Sandwell Metropolitan Borough Council - Sandwell L1 & L2 SFRA/1_WIP/HM/Graphical/Shapefiles/Development_sites/Sandwell EMP3 Allocations_region.shx|layername=Sandwell EMP3 Allocations_region",0.73099999999999998,2.2560568339846401,3.0883100046796001E-2,784.81728349976697,10.743342241945699,0,0,null,1,0,3.0883100046796001E-4,0.107433422419457,null,0.89256657758054303,0,3.0883100046796001E-4,0.10712459141898904,null,1]
["EMP2-17","Vaughan Trading Estate, Dudley Road East",19.920000000000002,"N:/2024/Projects/2024s0196 - Sandwell Metropolitan Borough Council - Sandwell L1 & L2 SFRA/1_WIP/HM/Graphical/Shapefiles/Development_sites/Sandwell EMP2 Allocations_region.shx|layername=Sandwell EMP2 Allocations_region",19.998000000000001,22645.560367841499,11.3237980398484,78931.396495565496,39.469245997915401,3082.4568793437302,1.54136698766782,null,1,1.54136698766782E-2,0.113237980398484,0.39469245997915403,null,0.60530754002084597,1.54136698766782E-2,9.7824310521805791E-2,0.28145447958067005,null,1]
["SEC3-1","Vector Ind Park, Church Lane, WB (5556)",5.2,"N:/2024/Projects/2024s0196 - Sandwell Metropolitan Borough Council - Sandwell L1 & L2 SFRA/1_WIP/HM/Graphical/Shapefiles/Development_sites/Sandwell EMP3 Allocations_region.shx|layername=Sandwell EMP3 Allocations_region",5.2229999999999999,791.33070294343395,1.5149882877369301,5427.0847658673101,10.390055417112,0,0,null,1,0,1.51498828773693E-2,0.10390055417112,null,0.89609944582888001,0,1.51498828773693E-2,8.8750671293750694E-2,null,1]
["SEC3-125","Wade Building Services, Groveland Road, Tividale",1.42,"N:/2024/Projects/2024s0196 - Sandwell Metropolitan Borough Council - Sandwell L1 & L2 SFRA/1_WIP/HM/Graphical/Shapefiles/Development_sites/Sandwell EMP3 Allocations_region.shx|layername=Sandwell EMP3 Allocations_region",1.43,9.1801104227430201,6.4190192033412002E-2,307.45499059974401,2.1498210783320202,0,0,null,1,0,6.4190192033412006E-4,2.1498210783320201E-2,null,0.97850178921667985,0,6.4190192033412006E-4,2.0856308862986079E-2,null,1]
["SEC3-189","Waterfall Lane",2.69,"N:/2024/Projects/2024s0196 - Sandwell Metropolitan Borough Council - Sandwell L1 & L2 SFRA/1_WIP/HM/Graphical/Shapefiles/Development_sites/Sandwell EMP3 Allocations_region.shx|layername=Sandwell EMP3 Allocations_region",2.7050000000000001,925.9694143063,3.4230788382289701,5350.4929591588198,19.779442970382199,7.15803950710505,2.6461493415885998E-2,null,1,2.6461493415886001E-4,3.4230788382289698E-2,0.19779442970382199,null,0.80220557029617801,2.6461493415886001E-4,3.396617344813084E-2,0.16356364132153228,null,1]
["SEC3-190","Waterfall Lane Trading Estate, Cradley Heath",5.74,"N:/2024/Projects/2024s0196 - Sandwell Metropolitan Borough Council - Sandwell L1 & L2 SFRA/1_WIP/HM/Graphical/Shapefiles/Development_sites/Sandwell EMP3 Allocations_region.shx|layername=Sandwell EMP3 Allocations_region",5.7629999999999999,0,0,1939.74261464595,3.3660590113937898,0,0,null,1,0,0,3.3660590113937898E-2,null,0.96633940988606215,0,0,3.3660590113937898E-2,null,1]
["SEC3-77","Wednesbury Trading Estate, Wednesbury",8.6999999999999993,"N:/2024/Projects/2024s0196 - Sandwell Metropolitan Borough Council - Sandwell L1 & L2 SFRA/1_WIP/HM/Graphical/Shapefiles/Development_sites/Sandwell EMP3 Allocations_region.shx|layername=Sandwell EMP3 Allocations_region",8.734,3552.2294599257398,4.0671033432078696,16155.646088777699,18.497307947196798,462.19979833319599,0.52919282558684899,null,1,5.29192825586849E-3,4.0671033432078695E-2,0.18497307947196798,null,0.81502692052803205,5.29192825586849E-3,3.5379105176210207E-2,0.14430204603988928,null,1]
["SEC3-76","Wharfeside, Oldbury",6.17,"N:/2024/Projects/2024s0196 - Sandwell Metropolitan Borough Council - Sandwell L1 & L2 SFRA/1_WIP/HM/Graphical/Shapefiles/Development_sites/Sandwell EMP3 Allocations_region.shx|layername=Sandwell EMP3 Allocations_region",6.1970000000000001,1502.7702131814799,2.4248236660325899,24262.624077949698,39.149421879817098,105.144372352414,0.16965771625890499,null,1,1.69657716258905E-3,2.4248236660325898E-2,0.39149421879817098,null,0.60850578120182908,1.69657716258905E-3,2.2551659497736846E-2,0.3672459821378451,null,1]
["SEC3-192","Whitehall Rd Ind Est, West Brom (2916)",2.58,"N:/2024/Projects/2024s0196 - Sandwell Metropolitan Borough Council - Sandwell L1 & L2 SFRA/1_WIP/HM/Graphical/Shapefiles/Development_sites/Sandwell EMP3 Allocations_region.shx|layername=Sandwell EMP3 Allocations_region",2.59,391.60450781789302,1.51188891590215,1467.71381575448,5.6664829067482598,0,0,null,1,0,1.5118889159021501E-2,5.6664829067482596E-2,null,0.9433351709325174,0,1.5118889159021501E-2,4.1545939908461095E-2,null,1]
["SEC1-1","Whitehall Road, Tipton",5.3,"N:/2024/Projects/2024s0196 - Sandwell Metropolitan Borough Council - Sandwell L1 & L2 SFRA/1_WIP/HM/Graphical/Shapefiles/Development_sites/Sandwell EMP1 Sites_region.shx|layername=Sandwell EMP1 Sites_region",5.319,3774.6086134694901,7.09693294175222,10482.069850600201,19.708148430280598,1489.1872026992501,2.7999357807743199,null,1,2.7999357807743198E-2,7.0969329417522195E-2,0.19708148430280598,null,0.80291851569719408,2.7999357807743198E-2,4.2969971609779001E-2,0.12611215488528377,null,1]
["SEC3-114","Wrights Plastics, Brandon Way/ Brandon Close",0.57999999999999996,"N:/2024/Projects/2024s0196 - Sandwell Metropolitan Borough Council - Sandwell L1 & L2 SFRA/1_WIP/HM/Graphical/Shapefiles/Development_sites/Sandwell EMP3 Allocations_region.shx|layername=Sandwell EMP3 Allocations_region",0.58699999999999997,0,0,33.429457370144398,0.56928258498121198,0,0,null,1,0,0,5.6928258498121194E-3,null,0.99430717415018788,0,0,5.6928258498121194E-3,null,1]
["SEC4-1","Zion Street, Tipton",2.4300000000000002,"N:/2024/Projects/2024s0196 - Sandwell Metropolitan Borough Council - Sandwell L1 & L2 SFRA/1_WIP/HM/Graphical/Shapefiles/Development_sites/Sandwell EMP4 Allocations_region.shx|layername=Sandwell EMP4 Allocations_region",2.4390000000000001,923.88353946143695,3.7875793726070102,4113.6009363243902,16.864236008189501,446.14689774087799,1.8290365775117201,null,1,{"$f":"K230/100","v":1.8290365775117202E-2},3.7875793726070105E-2,0.16864236008189501,null,0.83135763991810496,1.8290365775117202E-2,1.9585427950952902E-2,0.1307665663558249,null,1]
[null,null,null,null,null,null,null,null,null,null,null,null,null,null,null,null,null,null,null,null,null,null,null,null,"1in30","1in100","1in1000"]
["SH63","192-200 Dudley Road, Oldbury",0.57999999999999996,null,null,null,0,null,5.7009822892318702,null,0,null,1,{"$f":"K232/100","v":0},0,{"$f":"I232/100","v":5.70098228923187E-2},null,0.94299017710768129,0,0,5.70098228923187E-2,null,1,null,{"$f":"S232*100","v":0},{"$f":"T232*100","v":0},{"$f":"U232*100","v":5.7009822892318702}]
["SH23","28-64 High Street, West Bromwich",0.97,null,null,null,0,null,3.0908256529829101,null,0,null,1,0,0,3.0908256529829103E-2,null,0.96909174347017091,0,0,3.0908256529829103E-2,null,1,null,{"$f":"S233*100","v":0},{"$f":"T233*100","v":0},{"$f":"U233*100","v":3.0908256529829101}]
["SH58","Abberley Street Grove Lane Master Plan",2.48,null,null,null,0.86771734637419295,null,10.1384410438354,null,0.70392587761980097,null,1,7.03925877619801E-3,{"$f":"G234/100","v":8.6771734637419301E-3},0.101384410438354,null,0.898615589561646,7.03925877619801E-3,1.6379146875439201E-3,9.270723697461207E-2,null,1,null,0.70392587761980097,0.16379146875439202,9.2707236974612073]
["SH8","Alma Street, Wednesbury",0.54,null,null,null,0,null,1.8478720440384699,null,0,null,1,0,0,1.8478720440384698E-2,null,0.98152127955961532,0,0,1.8478720440384698E-2,null,1,null,0,0,1.8478720440384697]
["SM4","Army Reserve, Carters Green",1.17,null,null,null,4.4478852503889996,null,10.838817428096901,null,1.33439536196685,null,1,1.3343953619668501E-2,4.4478852503889998E-2,0.108388174280969,null,0.89161182571903097,1.3343953619668501E-2,3.1134898884221496E-2,6.3909321777079003E-2,null,0.99999999999999989,null,1.33439536196685,3.1134898884221496,6.3909321777079002]
["SH32","Bank Street (West), Hateley Heath",0.85,null,null,null,0,null,0.739827008669524,null,0,null,1,0,0,7.3982700866952397E-3,null,0.99260172991330475,0,0,7.3982700866952397E-3,null,1,null,0,0,0.739827008669524]
["SH59","Beever Road",0.84,null,null,null,4.3581125853877901E-4,null,5.1465280045004196,null,0,null,1,0,4.3581125853877904E-6,5.1465280045004197E-2,null,0.94853471995499583,0,4.3581125853877904E-6,5.1460921932418809E-2,null,1,null,0,4.3581125853877901E-4,5.1460921932418806]
["SH38","Brades Road, Oldbury",1.2,null,null,null,2.36993358563962,null,28.062324936859799,null,1.1348977752348699,null,1,1.1348977752348699E-2,2.3699335856396199E-2,0.280623249368598,null,0.71937675063140194,1.1348977752348699E-2,1.23503581040475E-2,0.25692391351220178,null,0.99999999999999989,null,1.1348977752348699,1.2350358104047501,25.692391351220177]
["SH25","Bradleys Lane / High Street, Tipton",5.32,null,null,null,2.36977779383575,null,7.5025034887049102,null,0.80497213967803305,null,1,8.0497213967803301E-3,2.3697777938357499E-2,7.5025034887049105E-2,null,0.92497496511295085,8.0497213967803301E-3,1.5648056541577169E-2,5.1327256948691606E-2,null,0.99999999999999989,null,0.80497213967803305,1.5648056541577169,5.1327256948691602]
["SH34","Brandhall Golf Course",5.19,null,null,null,0,null,0,null,0,null,1,0,0,0,null,1,0,0,0,null,1,null,0,0,0]
["SH1","Brown Lion Street",0.47,null,null,null,0,null,2.0894985964821902,null,0,null,1,0,0,2.0894985964821901E-2,null,0.97910501403517813,0,0,2.0894985964821901E-2,null,1,null,0,0,2.0894985964821902]
["SH55","Cape Arm Cranford Street",2.14,null,null,null,8.7310079747795193,null,90.194664115883199,null,2.89998393481283,null,1,2.89998393481283E-2,8.73100797477952E-2,0.90194664115883194,null,9.8053358841168059E-2,2.89998393481283E-2,5.8310240399666896E-2,0.81463656141103669,null,1,null,2.89998393481283,5.8310240399666897,81.463656141103669]
["SM1","Chances Glass Works",3.39,null,null,null,1.3890850825418799,null,7.92672099199903,null,0.49355506214016698,null,1,4.9355506214016701E-3,1.3890850825418799E-2,7.9267209919990297E-2,null,0.92073279008000974,4.9355506214016701E-3,8.955300204017129E-3,6.5376359094571498E-2,null,1,null,0.49355506214016698,0.89553002040171292,6.5376359094571495]
["SH24","Cokeland Place / Graingers Lane, Cradley Heath",0.37,null,null,null,9.5596078262147905E-3,null,1.1123807822587799,null,0,null,1,0,9.5596078262147899E-5,1.1123807822587799E-2,null,0.98887619217741218,0,9.5596078262147899E-5,1.1028211744325651E-2,null,1,null,0,9.5596078262147905E-3,1.1028211744325651]
["SH16","Cradley Heath Factory Centre, Woods Lane, Cradley",5.57,null,null,null,1.49618776006526,null,7.4352749455043403,null,0.36130997706883999,null,1,3.6130997706884001E-3,1.4961877600652601E-2,7.4352749455043401E-2,null,0.92564725054495656,3.6130997706884001E-3,1.1348777829964201E-2,5.9390871854390799E-2,null,1,null,0.36130997706883999,1.1348777829964201,5.9390871854390799]
["SH54","Cranford Street / Heath Street / Canal",5.01,null,null,null,22.086714727497501,null,50.707426935043202,null,10.6521278969972,null,1,0.106521278969972,0.220867147274975,0.50707426935043198,null,0.49292573064956802,0.106521278969972,0.114345868305003,0.28620712207545695,null,1,null,10.6521278969972,11.434586830500299,28.620712207545694]
["SM5","cultural quarter, west brom",1.0900000000000001,null,null,null,0,null,0,null,0,null,1,0,0,0,null,1,0,0,0,null,1,null,0,0,0]
["SH21","Dudley Road East",2.66,null,null,null,0,null,1.11332531618426,null,0,null,1,0,0,1.1133253161842599E-2,null,0.98886674683815745,0,0,1.1133253161842599E-2,null,1,null,0,0,1.11332531618426]
["SH37","Edwin Richards Quarry, Portway Road, Rowley Regis",51.26,null,null,null,3.1672703045594499,null,9.3812602738772206,null,1.34489374746003,null,1,1.3448937474600299E-2,3.1672703045594497E-2,9.3812602738772205E-2,null,0.90618739726122777,1.3448937474600299E-2,1.8223765570994199E-2,6.2139899693177708E-2,null,1,null,1.34489374746003,1.8223765570994199,6.2139899693177707]
["SH20","Elbow Street, Old Hill",0.72,null,null,null,9.9648690241644395,null,45.793784043209598,null,0,null,1,0,9.9648690241644397E-2,0.45793784043209596,null,0.54206215956790404,0,9.9648690241644397E-2,0.35828915019045154,null,1,null,0,9.9648690241644395,35.828915019045155]
["SM3","Evans Halshaw car showroom",0.89,null,null,null,1.2477200655890599,null,6.0029510026998301,null,6.4099769105754101E-2,null,1,6.4099769105754097E-4,1.24772006558906E-2,6.0029510026998301E-2,null,0.9399704899730017,6.4099769105754097E-4,1.1836202964833058E-2,4.7552309371107701E-2,null,0.99999999999999989,null,6.4099769105754101E-2,1.1836202964833058,4.7552309371107704]
["SH28","Friar Street, Wednesbury",1.02,null,null,null,2.7594348325261699,null,17.986730273530299,null,0,null,1,0,2.7594348325261701E-2,0.17986730273530299,null,0.82013269726469695,0,2.7594348325261701E-2,0.15227295441004129,null,1,null,0,2.7594348325261699,15.227295441004129]
["SM8","George Street Living",2.36,null,null,null,0.93568394266621802,null,3.3736476146072998,null,7.7755600451063396E-3,null,1,7.7755600451063399E-5,9.35683942666218E-3,3.3736476146072995E-2,null,0.966263523853927,7.7755600451063399E-5,9.2790838262111174E-3,2.4379636719410815E-2,null,1,null,7.7755600451063396E-3,0.92790838262111175,2.4379636719410813]
["SH53","Grove Lane/ Cranford Street/ London Street",2.09,null,null,null,8.6124797512337307E-3,null,3.2003137802213901,null,0,null,1,0,8.6124797512337301E-5,3.20031378022139E-2,null,0.96799686219778613,0,8.6124797512337301E-5,3.1917013004701567E-2,null,1,null,0,8.6124797512337307E-3,3.1917013004701564]
["SH57","Grove Street / MMUH / School - Grove Lane MP",2.19,null,null,null,1.9072055132108401,null,5.4286720029931397,null,1.06906146682424,null,1,1.06906146682424E-2,1.9072055132108402E-2,5.4286720029931394E-2,null,0.9457132799700686,1.06906146682424E-2,8.3814404638660016E-3,3.5214664897822989E-2,null,1,null,1.06906146682424,0.83814404638660012,3.5214664897822989]
["SH17","Land adj to Droicon Estate, Portway Road, Rowley R",0.66,null,null,null,0.229036727697287,null,8.2369552012053902,null,6.2438913447722101E-2,null,1,6.2438913447722096E-4,2.2903672769728702E-3,8.2369552012053898E-2,null,0.91763044798794613,6.2438913447722096E-4,1.6659781424956492E-3,8.0079184735081022E-2,null,1,null,6.2438913447722094E-2,0.16659781424956494,8.0079184735081022]
["SH2","Land adjacent To Asda Wolverhampton Road, Oldbury",1.61,null,null,null,6.3101950599537897,null,12.5098775777192,null,1.85857722599607,null,1,1.8585772259960699E-2,6.3101950599537895E-2,0.125098775777192,null,0.87490122422280803,1.8585772259960699E-2,4.4516178339577196E-2,6.1996825177654105E-2,null,{"$f":"SUM(R258:U258)","v":1},null,1.85857722599607,4.4516178339577195,6.1996825177654102]
["SH19","Land at Horseley Heath, Alexandra Road, and Lower",2.27,null,null,null,1.2216458156341701,null,10.495651485660501,null,0.533469327850847,null,1,5.3346932785084704E-3,{"$f":"G259/100","v":1.2216458156341701E-2},{"$f":"I259/100","v":0.10495651485660501},null,{"$f":"M259-P259","v":0.89504348514339505},{"$f":"N259","v":5.3346932785084704E-3},{"$f":"O259-S259","v":6.8817648778332309E-3},{"$f":"P259-(S259+T259)","v":9.2740056700263307E-2},null,1,null,0.533469327850847,0.68817648778332308,9.2740056700263303]
["SH36","Land between Addington Way and River Tame, Temple",0.89,null,null,null,4.0403393064644897,null,11.227185838169399,null,1.65446391935212,null,1,1.6544639193521199E-2,4.0403393064644896E-2,0.112271858381694,null,0.88772814161830604,1.6544639193521199E-2,2.3858753871123697E-2,7.1868465317049102E-2,null,1,null,1.65446391935212,2.3858753871123697,7.1868465317049104]
["SH43","Land of Tanhouse Avenue, Great Barr",1.66,null,null,null,0.17056870508463901,null,23.1273626544608,null,0,null,1,0,1.70568705084639E-3,0.23127362654460801,null,0.76872637345539196,0,1.70568705084639E-3,0.22956793949376161,null,1,null,0,0.17056870508463901,22.956793949376163]
["SH30","Land to east of Black Lake, west Bromwich",2.46,null,null,null,0,null,4.2426759618375502,null,0,null,1,0,0,4.2426759618375505E-2,null,0.9575732403816245,0,0,4.2426759618375505E-2,null,1,null,0,0,4.2426759618375502]
["SH14","Langley Maltings, Western Road, Langly",2.73,null,null,null,25.2525588626584,null,46.140158272936802,null,11.131136309472099,null,1,0.11131136309472099,0.25252558862658403,0.46140158272936804,null,0.53859841727063196,0.11131136309472099,0.14121422553186302,0.20887599410278401,null,1,null,11.131136309472099,14.121422553186303,20.887599410278401]
["SH40","Langley Swimming Centre, Vicarage Road, Oldbury",0.49,null,null,null,20.933592901565401,null,71.780949881282794,null,3.8639327848463401,null,1,3.8639327848463398E-2,0.20933592901565401,0.71780949881282796,null,0.28219050118717204,3.8639327848463398E-2,0.1706966011671906,0.50847356979717395,null,1,null,3.8639327848463396,17.06966011671906,50.847356979717397]
["SM2","Lion Farm",21,null,null,null,7.78785451371792,null,24.884734733406301,null,1.7224255883005599,null,1,1.72242558830056E-2,7.7878545137179206E-2,0.248847347334063,null,0.751152652665937,1.72242558830056E-2,6.0654289254173606E-2,0.17096880219688379,null,1,null,1.7224255883005599,6.0654289254173603,17.09688021968838]
["SH26","Lower City Road,Oldbury",2.33,null,null,null,1.6001829058053101,null,7.3742395900844002,null,0.63238842230748005,null,1,6.3238842230748001E-3,1.6001829058053099E-2,7.3742395900843999E-2,null,0.92625760409915603,6.3238842230748001E-3,9.6779448349782991E-3,5.77405668427909E-2,null,1,null,0.63238842230748005,0.96779448349782993,5.7740566842790901]
["SH4","Lower High Street (Station hotel & Dunns Site).",0.28000000000000003,null,null,null,0,null,5.7865788725168201,null,0,null,1,0,0,5.7865788725168205E-2,null,0.94213421127483177,0,0,5.7865788725168205E-2,null,1,null,0,0,5.7865788725168201]
["SH15","Macarthur Road Industrial Estate Cradley Heath",0.3,null,null,null,0,null,3.3320762470662899,null,0,null,1,0,0,3.3320762470662901E-2,null,0.96667923752933715,0,0,3.3320762470662901E-2,null,1,null,0,0,3.3320762470662899]
["SH5","Mill Street, Great Bridge",0.88,null,null,null,3.8794880400465401,null,11.9510983161969,null,2.2221201023324402,null,1,2.2221201023324401E-2,3.8794880400465401E-2,0.11951098316196899,null,0.88048901683803105,2.2221201023324401E-2,1.6573679377141E-2,8.0716102761503594E-2,null,1,null,2.2221201023324402,1.6573679377141,8.0716102761503592]
["SH56","Moilliett Street Park - Grove Lane masterplan",0.78,null,null,null,0,null,0,null,0,null,1,0,0,0,null,1,0,0,0,null,1,null,0,0,0]
["SH41","North Smethwick Canalside",8.81,null,null,null,2.0939433001053298,null,8.1175851299157298,null,0.52283079268980404,null,1,5.2283079268980407E-3,2.0939433001053297E-2,8.1175851299157303E-2,null,0.91882414870084272,5.2283079268980407E-3,1.5711125074155258E-2,6.0236418298104007E-2,null,1,null,0.52283079268980404,1.5711125074155259,6.0236418298104004]
["SH52","overend street, west bromwich",0.71,null,null,null,0,null,0,null,0,null,1,0,0,0,null,1,0,0,0,null,1,null,0,0,0]
["SH51","Providence Place / Bratt St",0.74,null,null,null,6.1818533508870101E-2,null,2.1503121385689399,null,2.918128941547E-3,null,1,2.9181289415470001E-5,6.1818533508870097E-4,2.1503121385689397E-2,null,0.97849687861431056,2.9181289415470001E-5,5.89004045673231E-4,2.0884936050600697E-2,null,0.99999999999999989,null,2.918128941547E-3,5.8900404567323102E-2,2.0884936050600698]
["SM6","queens square living",3.07,null,null,null,1.22205318560377,null,6.6338538191436998,null,0.41455173917410898,null,1,4.1455173917410897E-3,1.2220531856037699E-2,6.6338538191436994E-2,null,0.93366146180856302,4.1455173917410897E-3,8.07501446429661E-3,5.4118006335399295E-2,null,1,null,0.41455173917410898,0.80750144642966104,5.4118006335399294]
["SH35","Rattlechain Site Land to the north of Temple Way,",14.86,null,null,null,20.8710219749155,null,30.623237320733399,null,1.9358168717431401,null,1,1.9358168717431401E-2,0.20871021974915499,0.30623237320733399,null,0.69376762679266601,1.9358168717431401E-2,0.18935205103172359,9.7522153458178995E-2,null,1,null,1.9358168717431401,18.935205103172358,9.7522153458179002]
["SH11","Sandwell District & General Hospital,",0.82,null,null,null,0,null,2.2895031777589399,null,0,null,1,0,0,2.2895031777589399E-2,null,0.97710496822241055,0,0,2.2895031777589399E-2,null,1,null,0,0,2.2895031777589399]
["SH13","Silverthorne Lane/ Forge Lane Cradley Heath",2.41,null,null,null,0,null,3.6180998358114,null,0,null,1,0,0,3.6180998358114003E-2,null,0.96381900164188594,0,0,3.6180998358114003E-2,null,1,null,0,0,3.6180998358114005]
["SH45","Site of 30-144 Mounts Road, Wednesbury",1.07,null,null,null,3.91669158785187,null,11.5684632540653,null,1.15635656419271,null,1,1.15635656419271E-2,3.9166915878518699E-2,0.115684632540653,null,0.88431536745934702,1.15635656419271E-2,2.7603350236591599E-2,7.6517716662134305E-2,null,1,null,1.15635656419271,2.7603350236591599,7.6517716662134303]
["SH47","Site Of Former Stone Cross Neighbourhood Office",0.28000000000000003,null,null,null,5.4695325688661098,null,10.3071360603253,null,4.98224200683606,null,1,4.9822420068360601E-2,5.4695325688661096E-2,0.103071360603253,null,0.89692863939674705,4.9822420068360601E-2,4.8729056203004953E-3,4.8376034914591907E-2,null,1,null,4.98224200683606,0.4872905620300495,4.8376034914591903]
["SH27","Site surrounding former Post office and Telephone",1.17,null,null,null,0,null,1.4354737207586801,null,0,null,1,0,0,1.4354737207586801E-2,null,0.98564526279241316,0,0,1.4354737207586801E-2,null,1,null,0,0,1.4354737207586801]
["SH65","Smethwick Police Station, Piddock Road, Smethwick",0.22,null,null,null,0,null,0,null,0,null,1,0,0,0,null,1,0,0,0,null,1,null,0,0,0]
["SH49","St Johns St, Carters Green",0.82,null,null,null,8.8327061392893995,null,17.934866089587199,null,4.4533151872565302,null,1,4.4533151872565305E-2,8.8327061392893993E-2,0.17934866089587198,null,0.82065133910412802,4.4533151872565305E-2,4.3793909520328689E-2,9.1021599502977987E-2,null,1,null,4.4533151872565302,4.3793909520328693,9.1021599502977981]
["SH62","Star and Garter, 252 Duchess Parade, West Bromwich",0.05,null,null,null,0,null,14.6683422740652,null,0,null,1,0,0,0.14668342274065199,null,0.85331657725934806,0,0,0.14668342274065199,null,1,null,0,0,14.6683422740652]
["SH18","STW/SMBC Land",28.18,null,null,null,5.8295052869423802,null,18.979889670516499,null,2.6876143164047499,null,1,2.6876143164047499E-2,5.8295052869423804E-2,0.189798896705165,null,0.81020110329483497,2.6876143164047499E-2,3.1418909705376308E-2,0.13150384383574121,null,1,null,2.6876143164047499,3.1418909705376308,13.150384383574121]
["SH31","Summerton Road, Oldbury",0.89,null,null,null,5.5407401672374901,null,27.863251937362602,null,3.1697588975516502,null,1,3.16975889755165E-2,5.5407401672374901E-2,0.27863251937362604,null,0.7213674806263739,3.16975889755165E-2,2.3709812696858401E-2,0.22322511770125114,null,1,null,3.1697588975516497,2.3709812696858403,22.322511770125114]
["SH6","Swan Lane",3.79,null,null,null,1.9247866601711501,null,12.9377219814503,null,0,null,1,0,1.9247866601711502E-2,0.12937721981450301,null,0.87062278018549699,0,1.9247866601711502E-2,0.11012935321279151,null,1,null,0,1.9247866601711503,11.012935321279151]
["SH22","Tatbank Road Oldbury",1.1499999999999999,null,null,null,0.86660918065372905,null,9.2633485416629302,null,0,null,1,0,8.6660918065372908E-3,9.2633485416629302E-2,null,0.9073665145833707,0,8.6660918065372908E-3,8.3967393610092006E-2,null,1,null,0,0.86660918065372905,8.3967393610092014]
["SH50","tentec, guns lane",0.6,null,null,null,0,null,0,null,0,null,1,0,0,0,null,1,0,0,0,null,1,null,0,0,0]
["SH61","Thandi Coach Station",0.45,null,null,null,11.0657527961481,null,67.851322406930194,null,3.1756174067229099,null,1,3.1756174067229102E-2,0.110657527961481,0.67851322406930192,null,0.32148677593069808,3.1756174067229102E-2,7.8901353894251902E-2,0.56785569610782094,null,1,null,3.1756174067229104,7.8901353894251898,56.78556961078209]
["SH7","The Boat Gauging House & Adjoining Land, Factory R",0.56999999999999995,null,null,null,13.4793550386711,null,20.875294892194798,null,0,null,1,0,0.13479355038671101,0.20875294892194798,null,0.79124705107805204,0,0.13479355038671101,7.3959398535236975E-2,null,1,null,0,13.4793550386711,7.3959398535236973]
["SH42","The Forge Tavern, junction Franchise Street and B",0.14000000000000001,null,null,null,0,null,9.5922264305940601,null,0,null,1,0,0,9.5922264305940599E-2,null,0.90407773569405936,0,0,9.5922264305940599E-2,null,1,null,0,0,9.5922264305940601]
["SH9","The Phoenix Collegiate, Friar Park Road, Wednesbur",4.82,null,null,null,0.60019323388659596,null,2.71146305392306,null,0,null,1,0,6.0019323388659594E-3,2.7114630539230598E-2,null,0.97288536946076942,0,6.0019323388659594E-3,2.1112698200364641E-2,null,1,null,0,0.60019323388659596,2.1112698200364641]
["SH10","Tipton Conservative And Unionist Club, 64 Union St",0.14000000000000001,null,null,null,0,null,0,null,0,null,1,0,0,0,null,1,0,0,0,null,1,null,0,0,0]
["SH29","Used Car Sales site on corner of Lower Church Lane",0.56999999999999995,null,null,null,32.350846317424804,null,74.487706106815907,null,2.7630125069187801,null,1,2.76301250691878E-2,0.32350846317424803,0.7448770610681591,null,0.2551229389318409,2.76301250691878E-2,0.29587833810506026,0.42136859789391101,null,1,null,2.7630125069187801,29.587833810506027,42.136859789391103]
["SH66","Wednesbury Police Station, Albert St, Wednesbury",0.33,null,null,null,0,null,8.3361260515809991E-3,null,0,null,1,{"$f":"K295/100","v":0},0,8.3361260515809991E-5,null,0.99991663873948422,0,0,8.3361260515809991E-5,null,1,null,0,0,8.3361260515809991E-3]
["SH33","Wellington Road, Tipton",0.86,null,null,null,1.2495021031773199,null,3.52905119760146,null,0,null,1,0,1.2495021031773199E-2,3.5290511976014599E-2,null,0.96470948802398537,0,1.2495021031773199E-2,2.2795490944241402E-2,null,1,null,0,1.2495021031773199,2.2795490944241403]
["SM7","west bromwich central",3.84,null,null,null,4.00431739384761,null,13.040470503319799,null,1.87303217195865,null,1,1.8730321719586499E-2,4.0043173938476097E-2,0.13040470503319798,null,0.86959529496680199,1.8730321719586499E-2,2.1312852218889598E-2,9.0361531094721892E-2,null,1,null,{"$f":"S297*100","v":1.87303217195865},{"$f":"T297*100","v":2.1312852218889597},{"$f":"U297*100","v":9.0361531094721883}]
["SH64","Windmill House, Windmill Lane, Smethwick",0.21,null,null,null,0,null,0,null,0,null,1,0,0,0,null,1,0,0,0,null,1,null,0,0,0]
["SH44","Wyndmill crescent, West Bromwich",0.19,null,null,null,0,null,1.12144753013225,null,0,null,1,0,0,1.12144753013225E-2,null,0.98878552469867753,0,0,1.12144753013225E-2,null,1,null,0,0,1.12144753013225]
["SG1","Brierley Lane, Tipton",0.626,null,null,null,14.051014059206899,null,31.863495657509599,null,8.3117705652375697,null,1,8.3117705652375695E-2,0.14051014059206898,0.318634956575096,null,0.681365043424904,8.3117705652375695E-2,5.7392434939693288E-2,0.17812481598302701,null,0.99999999999999989,null,8.3117705652375697,5.7392434939693286,17.8124815983027]
["SG2","Brierley Lane, Tipton",0.75700000000000001,null,null,null,4.1780281781415001,null,10.312854358669099,null,0,null,1,0,4.1780281781414998E-2,0.10312854358669099,null,0.89687145641330901,0,4.1780281781414998E-2,6.1348261805275993E-2,null,1,null,0,4.1780281781415001,6.1348261805275994]

{"sheet":"Surface Water +CC","index":7,"n_rows":301,"n_cols":10,"rows_kept":301,"cut":false,"hidden":true,"merged":[]}
["Sandwell_R","SiteNameAd","SiteAreaHa","RoFSW 30yr Higher CC area","RoFSW 30yr Higher CC per","RoFSW 100yr Higher CC area","RoFSW 100yr Higher CC per",null,"RoFSW 30yr Higher CC per clean","RoFSW 100yr Higher CC per clean"]
["SEC3-86",null,4.0999999999999996,1521.6061332101999,3.7087286935061101,6679.5788258980301,16.280655756742799,null,{"$f":"E2/100","v":3.7087286935061102E-2},{"$f":"G2/100","v":0.16280655756742798}]
["SCE4-9",null,99.99,0.29193708419916198,8.1227165341721894E-3,1.33280733900846,3.7083388152375003E-2,null,{"$f":"E3/100","v":8.1227165341721895E-5},{"$f":"G3/100","v":3.7083388152375004E-4}]
["SEC4-2","10-60 Dudley Rd East, Oldbury (3224)",2.0499999999999998,1011.04840112349,4.9101823621320797,1901.6798352779299,9.2355566511235594,null,4.9101823621320796E-2,9.2355566511235596E-2]
["SEC3-165","230 Oldbury Rd (3016)",1.52,657.20571178332102,4.3038815321876198,834.27082701530605,5.4634382216353599,null,4.30388153218762E-2,5.4634382216353597E-2]
["SEC4-3","70-74 Crankhall Lane",1.78,399.32147800515202,2.2702336030226999,575.60628577018304,3.2724529083549601,null,2.2702336030226998E-2,3.27245290835496E-2]
["SEC3-106","Aeroplas and Olympus Distribution, Great Western Way, Great Bridge",4.7699999999999996,2779.6542676926802,5.8104597387841501,4412.16560071206,9.2229853481261195,null,5.8104597387841503E-2,9.2229853481261198E-2]
["SEC3-41","Albion Industrial Estate",9.02,4265.5576364795197,4.7133893392453698,7417.1558268198496,8.1958670310003807,null,4.7133893392453698E-2,8.1958670310003812E-2]
["SEC3-182","Albion Road",0.91,1400.90015695074,15.341148592791299,2785.18115565878,30.5003020770638,null,0.15341148592791298,0.30500302077063801]
["SEC3-9","Alexandra Ind Est, Locarno Rd/ Alexandra Rd, Tipto",1.87,814.43402888446099,4.3425271004991099,1602.1609767078301,8.5426531971478905,null,4.3425271004991099E-2,8.5426531971478911E-2]
["SEC3-64","Alexandra Ind Est/Locarno Road, Tipton",2.56,993.41416821487405,3.8681360703350798,2180.6059453488801,8.4907994895505503,null,3.8681360703350799E-2,8.4907994895505504E-2]
["SEC3-93","Alma Street, Smethwick",4.71,2053.1282493941999,4.34436076387329,5004.5587756540699,10.589503501237401,null,4.3443607638732902E-2,0.105895035012374]
["SEC3-137","Alutrade, Tat Bank Road",2.69,96.533323548367207,0.35686735237718897,122.390961587609,0.45245866205760599,null,3.5686735237718896E-3,4.5245866205760599E-3]
["SEC3-30","Arnold Laver, Dudley Rd East, Oldbury (2944",1,53.197705355530303,0.52948139378409298,234.24296096202099,2.3314405879987898,null,5.2948139378409297E-3,2.3314405879987898E-2]
["SEC3-62","Autobase, Dudley Road, Oldbury",16.54,20846.891710512398,12.5542512040712,38883.331091941502,23.416013905475801,null,0.12554251204071198,0.23416013905475799]
["SEC3-128","Barnfield Trading Est Tipton (5450)",2.2599999999999998,4585.5042922934299,20.211350835953301,9052.0332781188299,39.898298791315803,null,0.20211350835953301,0.398982987913158]
["SEC3-151","Beakes Road, Bearwood (825)",0.69,3.4301769712778798,4.9218010353985701E-2,15.1438567966536,0.21729214173439501,null,4.9218010353985697E-4,2.1729214173439502E-3]
["SEC3-152","Beakes Road, Bearwood (826)",0.92,319.74935173782097,3.45448060592109,2366.01525790807,25.5617525956973,null,3.4544806059210897E-2,0.25561752595697301]
["SEC3-16","Bescot Industrial Estate, Wednesbury",7.89,2510.2406279796701,3.1688489469021901,8432.1662654951997,10.6445019225204,null,3.1688489469021898E-2,0.106445019225204]
["SEC3-138","Bevan Motor Bodies, Blakeley Hall Road",0.91,20.070203012902201,0.22008168232272299,329.20893054781902,3.6099712207221799,null,2.2008168232272298E-3,3.6099712207221801E-2]
["SEC3-90","Birchley, Oldbury",7,15791.050125129301,22.4623948669512,25217.831291001599,35.871767846851697,null,0.22462394866951199,0.35871767846851699]
["EMP2-9","Black Country New Road, Wednesbury (Hallens Drive)",43.88,36362.349008584002,8.2560387972565206,66696.092798098995,15.143288175264299,null,8.2560387972565208E-2,0.15143288175264299]
["EMP2-10","Black Country New Road/ Pacific Avenue",23.03,14688.900815307899,6.3539301718850796,35220.22551941,15.2350986913301,null,6.3539301718850791E-2,0.15235098691330098]
["EMP2-13","Black Country New Road/Golds Hill, Tipton",15.08,12649.7376453749,8.3589156264149391,18533.4489724017,12.246857647946101,null,8.3589156264149395E-2,0.12246857647946101]
["SEC3-130","Bloomfield Park",5.13,2680.3236804318999,5.20753937466033,3957.0449202707,7.6880517752575503,null,5.2075393746603298E-2,7.6880517752575497E-2]
["SEC3-19","Brades Road, Oldbury (Pearsall Drive)",7,13314.4071962161,18.940454546826299,20385.959922703001,29.000115560466899,null,0.18940454546826299,0.29000115560466899]
["SEC3-113","Brandon Way (east side)",0.47,224.65660686830699,4.7784747973913104,927.23245012727102,19.7223529546756,null,4.7784747973913105E-2,0.19722352954675601]
["SEC3-154","Brandon Way / Albion Rd, WB (2385 / WBPr32)",6.2,2211.9786058731602,3.5531152517198601,4003.1866947640701,6.4303441556269103,null,3.55311525171986E-2,6.4303441556269103E-2]
["SEC1-6","Brandon Way/ Albion Road, West Bromwich",3.07,7579.70910973234,24.5602070109524,11622.8667621569,37.6610777018821,null,0.24560207010952401,0.37661077701882101]
["SEC3-71","Brickhouse Lane",3.87,2706.1574569863401,6.9697751094757496,6832.5950536381197,17.597516661505299,null,6.9697751094757496E-2,0.175975166615053]
["SEC3-116","Bridge Street/ Potters Lane",3.68,713.96077233431902,1.9320760336320699,1838.4644680342601,4.9751376756451,null,1.93207603363207E-2,4.9751376756450999E-2]
["SEC1-2","British Gas, Land off Dudley Rd, Oldbury (2949)",1.05,1417.12979259893,13.4136656238325,1724.2506988262201,16.320680326181101,null,0.13413665623832499,0.163206803261811]
["SEC3-177","Broadcott Industrial Estate, Cradley Heath",1.36,288.532334145324,2.12003945118999,698.85543419200303,5.1349568690603702,null,2.1200394511899902E-2,5.1349568690603704E-2]
["EMP2-12","Broadwell Road, Oldbury",23.68,24852.960517736599,10.4552059333573,81468.533564400597,34.272387585236103,null,0.10455205933357301,0.34272387585236103]
["SEC3-100","Bromford Road Industrial Estate",7.85,10554.476702267601,13.392403736525701,14967.211382429799,18.9916509645956,null,0.13392403736525701,0.18991650964595599]
["SEC3-129","Brook St Bus Centre, Brook St Comm Centre, Tipton",1.53,9545.0510507553208,62.045111986881899,14343.582537213601,93.236712939747306,null,0.62045111986881896,0.93236712939747302]
["SEC3-133","Brymill Industrial Estate, Brown Lion St, Tipton",1.78,848.67618587754896,4.7592862396773503,1568.01997549667,8.7932900876722595,null,4.7592862396773503E-2,8.7932900876722592E-2]
["SEC3-123","Burnt Tree Industrial Estate",1.56,262.22569036154601,1.6699667749157801,528.08514730689205,3.3630749493427201,null,1.66996677491578E-2,3.3630749493427203E-2]
["SEC3-25","Cakemore Road, Rowley Regis",7.48,30624.761054073599,40.7827393480515,35642.4526146473,47.464757427555,null,0.407827393480515,0.47464757427554999]
["SEC3-50","Cakemore Road, Rowley Regis",0.6,73.932719793186294,1.2266607107093499,83.380647307658805,1.38341676556642,null,1.22666071070935E-2,1.38341676556642E-2]
["EMP2-4","Car Craft, Darlaston Rd/ Old Park Rd, Kings Hill",5.17,2316.5166474429602,4.4667555800872503,2641.0097444545099,5.0924499187728998,null,4.4667555800872505E-2,5.0924499187728997E-2]
["SEC3-115","Carlyle Bus and Coach, Carlyle Business Park",0.39,81.961118754503502,2.11848793879467,119.74270577529001,3.0950465513216701,null,2.1184879387946699E-2,3.0950465513216702E-2]
["SEC4-7","Castle St, High St Tipton (2942)",0.7,822.71901797108001,11.6690553907109,1172.21613201677,16.626156288597599,null,0.116690553907109,0.16626156288597599]
["SEC3-148","Castle St, Tipton (2938)",1.49,1716.64120936118,11.489941265843999,2360.8843190106099,15.8020336532516,null,0.11489941265843999,0.15802033653251601]
["SEC3-51","Causeway Green Rd / Wolverhampton Road",0.84,2738.6396186669699,32.289549256479603,3931.1685363891502,46.349895483161902,null,0.32289549256479605,0.46349895483161901]
["SEC3-170","Charles Street, West Bromwich",9.02,2888.6826397327,3.1899721195252102,6372.2945661132098,7.0369246256778597,null,3.1899721195252105E-2,7.0369246256778595E-2]
["SEC3-109","Chaters Close, Tipton",0.56999999999999995,50.024520931465297,0.86503087418917102,87.393096742214297,1.5112134102510799,null,8.6503087418917102E-3,1.5112134102510799E-2]
["SEC3-38","Church Lane / Gladstone Street, WB (2389 / WBPr38)",2.2000000000000002,4223.8837999617299,19.159988498725699,6269.7257108490803,28.440146130705902,null,0.191599884987257,0.28440146130705901]
["EMP2-18","Churchbridge, Oldbury",13.98,35009.507134922802,24.9447539122839,55033.771222646901,39.212316663677299,null,0.24944753912283901,0.39212316663677299]
["SEC3-89","Churchbridge, Oldbury (opposite Thurston Avenue)",0.75,2154.06737736791,28.457797017414599,6402.6265364339597,84.586326438306997,null,0.28457797017414599,0.84586326438307002]
["SEC4-10","Clay Lane, Oldbury",0.23,8.6337367956561195,0.38117419915033202,24.7229832415013,1.09150458958022,null,3.81174199150332E-3,1.09150458958022E-2]
["SEC3-23","Cleton Street Business Park, Oldbury",2.0099999999999998,490.76284850082402,2.4380694554984501,1639.38419153674,8.1443257887644496,null,2.4380694554984501E-2,8.1443257887644491E-2]
["SEC1-5","Coneygre Business Park (open land)",7.22,2814.5951397143299,3.8909483033805601,4677.02553752113,6.4656064821928299,null,3.8909483033805599E-2,6.4656064821928302E-2]
["SEC3-20","Coneygre Business Park, Tipton",17.690000000000001,28022.281284377801,15.7827912138724,51223.8944525556,28.8504716336864,null,0.15782791213872399,0.28850471633686398]
["SEC3-175","Coneygre Rd, Burnt Tree, Tipton",1.02,0,0,174.62683394917499,1.7118077234319899,null,0,1.7118077234319899E-2]
["SEC3-174","Corner of Bromford Lane / Brandon Way",3.94,4848.64351005766,12.2669481073703,6957.5154269717996,17.602341876001599,null,0.122669481073703,0.17602341876001598]
["SEC3-85","Corngreaves Rd (City Estate Hillcrest Ind Est) Pal",2.8,697.001487347428,2.4824518906738802,1332.6949625293501,4.7465481630650697,null,2.4824518906738802E-2,4.7465481630650695E-2]
["SEC3-24","Corngreaves Road, Cradley Heath",19.670000000000002,22296.846811511099,11.29523132161,39403.854431172003,19.961371871351702,null,0.1129523132161,0.19961371871351702]
["SEC3-80","Corngreaves Road, Cradley Heath",3.64,1249.86715370259,3.4229765188330799,3329.3317301872999,9.1179484972278804,null,3.4229765188330798E-2,9.1179484972278804E-2]
["SEC3-96","Cornwall Road",4.0199999999999996,9898.2398316929193,24.590860200700199,16009.502540405199,39.773479482010799,null,0.24590860200700199,0.39773479482010798]
["SEC3-11","Cornwall Road/Foundary Lane, Smethwick",0.35,0.61403568118930696,1.7277581317002699E-2,5.4965170681480897,0.15465961264870501,null,1.7277581317002699E-4,1.5465961264870501E-3]
["SEC3-97","Cornwall Road/Foundary Lane, Smethwick",99.99,65.953715441962203,0.22865547053095001,516.61341073738095,1.7910512201348701,null,2.2865547053095001E-3,1.7910512201348702E-2]
["SEC3-28","Cornwall Road/Foundary Lane, Smethwick (north of Anne Road)",2.3199999999999998,305.17568803370102,1.3083903672030099,425.67353419707302,1.8250049841952301,null,1.3083903672030099E-2,1.82500498419523E-2]
["SEC3-79","Cradley Business Patrk, Cradley Heath",3.69,1807.6574552684999,4.8774332564489598,2673.1260958593002,7.2126464450584598,null,4.8774332564489598E-2,7.2126464450584599E-2]
["SEC3-52","Crosswells Road / Hall Street, Oldbury",0.8,650.84942131846299,8.1335074042275295,1038.48580391417,12.977705285825399,null,8.1335074042275302E-2,0.129777052858254]
["SEC3-166","Crystal Drive, Smethwick",14.3,12171.009990927399,8.4767208692627793,19322.6071016022,13.457580512119501,null,8.4767208692627799E-2,0.13457580512119502]
["SEC3-102","Cygnus Way, West Bromwich",12.53,11404.208399037099,9.0657424452308106,19005.039223345,15.108000900343299,null,{"$f":"E67/100","v":9.0657424452308108E-2},{"$f":"G67/100","v":0.15108000900343299}]
["EMP2-2","Danks Way, Hill Top, West Bromwich",7.6,8358.8038147984298,10.9603647154984,15641.687926213101,20.509944752356699,null,0.109603647154984,0.20509944752356699]
["SEC3-178","Dart Products, Garratts Lane",7.82,3459.75271967048,4.4074253048158196,10316.7470129393,13.142642128638199,null,4.4074253048158193E-2,0.13142642128638199]
["SEC3-183","Dartmouth Road, Smethwick",23.67,17177.2842363206,7.2300107404764002,33756.9676901411,14.2084881176719,null,7.2300107404764002E-2,0.142084881176719]
["EMP2-16","Dartmouth Road/ Piaro Way, Smethwick",6.93,2062.92600218606,2.96410328620179,3015.68556170892,4.3330703448113796,null,2.9641032862017899E-2,4.3330703448113794E-2]
["SEC3-56","Delta Point, Greets Green Road",8.15,5135.6894295837001,6.2759566322797902,9680.42267913871,11.829748225514599,null,6.2759566322797902E-2,0.118297482255146]
["EMP2-3","Direct 2, Roway Lane, Oldbury",8.15,17509.826106680001,21.4017991528174,35266.004346565896,43.104708027891398,null,0.214017991528174,0.43104708027891397]
["EMP2-6","Doranda Way",13.91,10893.583176804401,7.7995398728052496,17545.896678965299,12.5624340981858,null,7.7995398728052501E-2,0.12562434098185801]
["SEC3-160","Doulton Road, Rowley Regis (east of canal)",3.51,1769.1160255591001,5.0259184799096497,3787.5189930568099,10.7600414134494,null,5.0259184799096496E-2,0.107600414134494]
["EMP2-11","DPD, Roebuck Lane",8.9,5240.3987487866298,5.8657407207339096,11592.540115715199,12.9758894071251,null,5.8657407207339099E-2,0.12975889407125099]
["SEC3-46","Droicon Ind Est, Portway Road",0.87,621.34317514302404,7.1282078106704896,1020.48012385194,11.707208963550601,null,7.1282078106704894E-2,0.11707208963550601]
["SEC3-124","Dudley Rd, 28 Dudley Rd West (2957)",1.78,2881.3411358865501,16.129944653653201,3898.7763248764099,21.825616395776201,null,0.161299446536532,0.21825616395776201]
["SEC3-61","Dudley Road, Oldbury",4.9000000000000004,1135.1157687544101,2.3093015438198701,1841.39451740559,3.7461687335137301,null,2.3093015438198701E-2,3.74616873351373E-2]
["SEC3-185","Eel Street, Oldbury",3.16,12266.199082904899,38.721164717308703,16725.569564863101,52.798224595462898,null,0.38721164717308704,0.52798224595462895]
["SEC3-143","EMR Oldbury",7.53,1313.0467938673901,1.7372755134906299,4083.0087719900598,5.4021769780598898,null,1.7372755134906298E-2,5.4021769780598895E-2]
["SEC3-14","Engine Street, Oldbury",1.64,335.23029540781602,2.0398370282778,787.74063572700004,4.7933093740237496,null,2.0398370282778001E-2,4.7933093740237492E-2]
["SEC3-163","Exchange Works, Kelvin Way, West Bromwich",1.49,0,0,100.079793028507,0.667887647290349,null,0,6.6788764729034901E-3]
["SEC3-155","Fisher St / Coneygre Rd, Tipton",1.74,2361.9818990292301,13.5456855088513,3230.7740445003701,18.528105221698901,null,0.13545685508851299,0.18528105221698901]
["SEC3-149","Fitzgerald Lighting Ltd, Rood End Rd (2009)",1.39,11.7119059174856,8.4075278282860794E-2,124.282409133928,0.89217572333800599,null,8.4075278282860798E-4,8.9217572333800607E-3]
["SEC3-132","Former Corus Premises, Bloomfield Rd, Tipton (5972",0.56999999999999995,1.1790690127290799,2.04830061327347E-2,776.396389685911,13.4877024497154,null,2.0483006132734698E-4,0.134877024497154]
["SEC3-66","Foundry Lane (south)",11.75,3703.6589081674601,3.1479267511676401,13988.887395174999,11.8898618750321,null,3.1479267511676401E-2,0.118898618750321]
["SEC3-73","Foundry Lane/ Anne Road",5.24,8137.4748996754297,15.480453562243,17961.829278515201,34.169968874507298,null,0.15480453562242999,0.34169968874507295]
["SEC3-159","Fountain Lane",1.31,503.44476373048599,3.8253169087814101,1424.0918456721799,10.8206560269715,null,3.82531690878141E-2,0.10820656026971501]
["SEC3-139","Garratts Lane/ Powke Lane",9.35,3207.8797689970902,3.4182855201739502,6362.2899944150104,6.7795944141184998,null,3.4182855201739498E-2,6.7795944141185005E-2]
["SEC3-47","Garretts Lane, Cradley Heath",0.7,108.443001323817,1.53446267508183,963.366629368448,13.631586336965499,null,1.53446267508183E-2,0.13631586336965498]
["SEC3-68","George Henry Road",19.79,19868.8659681032,9.9995844708122892,29439.112664745,14.816089368636399,null,9.9995844708122894E-2,0.14816089368636398]
["SEC3-57","Great Bridge Ind Est / Harrold Street",4.57,7184.97629866032,15.647490874191201,13283.9672126393,28.929915297227399,null,0.156474908741912,0.28929915297227399]
["SEC3-15","Great Western Street, Wednesbury",3.82,377.37148662704197,0.98466418293927604,2247.3508046830798,5.8639455345448397,null,9.8466418293927608E-3,5.8639455345448399E-2]
["SEC3-60","Griffin Ind Est, Penncricket Lane",3.31,11613.364820742299,34.9440626370247,22155.393724754998,66.6645264327707,null,0.34944062637024698,0.66664526432770699]
["SEC3-122","Groveland Rd (2963)",1.18,9.0155373276856992,7.6207490702580205E-2,228.76655182923901,1.9337421872849501,null,7.6207490702580208E-4,1.9337421872849501E-2]
["SEC3-21","Hainge Road, Oldbury",14.28,14646.681873384399,10.219715141085,27579.311817886901,19.243451383902801,null,0.10219715141085001,0.19243451383902802]
["SEC3-22","Hale Trading Estate, Tipton",2.73,849.72947862264596,3.1015196376062502,1318.23922945649,4.8115841100976198,null,3.1015196376062502E-2,4.8115841100976199E-2]
["EMP2-8","Hales Way, Oldbury",1.51,5.0124903839014197,3.3032247806515799E-2,1019.67016321098,6.71961339223148,null,3.3032247806515802E-4,6.7196133922314799E-2]
["SEC3-95","Halfords Lane",24.21,10676.392607882301,4.4030006772264301,27217.489087501399,11.2246361937079,null,4.4030006772264298E-2,0.112246361937079]
["SEC3-103","Hill Top, West Bromwich",15.13,18922.780833382199,12.4599396308368,35439.772674389598,23.335757674393999,null,0.124599396308368,0.23335757674394]
["SEC3-18","Holloway Bank",1.03,342.08620643165102,3.3077554347255198,412.605820798639,3.98963512847389,null,3.3077554347255199E-2,3.9896351284738903E-2]
["SEC3-104","Holloway Bank, Wednesbury",5.29,2537.9161011603801,4.7814884082844502,5238.93964431528,9.8702747382161604,null,4.7814884082844504E-2,9.8702747382161601E-2]
["SEC3-67","Holloway Bank/ Bilport Lane",1.77,1939.5491014511599,10.9203679352814,4400.1413219435699,24.774398424307801,null,0.109203679352814,0.247743984243078]
["SEC3-88","Houghton Street, Oldbury",1.43,532.88367992790199,3.7028132027010399,3856.5879213776502,26.7980146710191,null,3.7028132027010399E-2,0.26798014671019099]
["SEC3-69","Howard Street",27.83,19247.4417098515,6.8893758470566304,29946.726787032501,10.719048242104099,null,6.8893758470566308E-2,0.107190482421041]
["SEC3-78","James Watt Industrial Park",3.63,1.4357056045665699,3.9455530383828699E-3,951.62568097914198,2.6152224975982601,null,3.9455530383828702E-5,2.6152224975982602E-2]
["SEC3-136","JAS Ind Park, Titford Lane, Oldbury (3013)",0.94,2213.4685592798601,23.553445731037701,3350.4618897343298,35.652154155486301,null,0.235534457310377,0.35652154155486299]
["SEC3-146","JerseyTex Ltd, Upper Church Lane, Princes End",1.58,671.01512732002197,4.24056115337235,1297.45116357912,8.1993993557873903,null,4.2405611533723499E-2,8.1993993557873901E-2]
["SEC3-169","JH Lavender & Co, Crankhall Lane, West Bromwich",1.31,780.19866718839705,5.9365924410439899,1077.22996122574,8.1967266979893498,null,5.9365924410439898E-2,8.1967266979893497E-2]
["SEC3-91","Joseph Street, Oldbury",2.95,11689.8288493128,39.410198514456702,15583.5097542807,52.5370577178536,null,0.39410198514456701,0.52537057717853597]
["EMP2-15","Junction 9 (Opus 9)",2.33,3436.0186776263099,14.666784221178199,6461.9480976200703,27.583085916669301,null,0.146667842211782,0.27583085916669303]
["SEC3-12","Junction One, Oldbury",4.7,552.05832494473304,1.1704008234724399,1704.60770371173,3.6138831170083598,null,1.17040082347244E-2,3.6138831170083596E-2]
["SEC1-3","Junction Two, Oldbury",1.1200000000000001,11.0152837749739,9.7677833654237198E-2,1266.01082115689,11.226328519504699,null,9.7677833654237207E-4,0.112263285195047]
["SEC3-98","Kelvin Way WBPr35",33.770000000000003,17953.106592825301,5.2959127022519201,31810.1099078765,9.3835328303836008,null,5.2959127022519203E-2,9.3835328303836008E-2]
["EMP2-5","Kings Hill Business Park",3.26,3031.8480115634402,9.2769831767693294,4950.6757299732799,15.1482974362289,null,9.2769831767693295E-2,0.151482974362289]
["SEC3-193","Kitchener Street, Smethwick",1.39,503.30197059552199,3.61061291215269,1052.7703042875,7.5524163946621696,null,3.61061291215269E-2,7.5524163946621703E-2]
["SEC3-131","Land & premises Barnfield Rd, Brook St, Bloomfield",0.83,420.47782543077898,5.0340440392146704,2427.9795464460399,29.0682533629445,null,5.0340440392146704E-2,0.29068253362944502]
["SEC3-43","Land at Birmingham Road / Roebuck Lane",6.78,2950.5054744215099,4.3351867601232996,5264.4271752537197,7.7350390255648902,null,4.3351867601232996E-2,7.7350390255648896E-2]
["SEC3-156","Land at corner of Birmingham Road",0.48,31.374132368138099,0.65376422201332896,132.62992751200801,2.76370037450434,null,6.5376422201332898E-3,2.7637003745043399E-2]
["SEC3-127","Land at Doulton Way, bt Factory Rd, Bloomfield Rd, Tipton",2.75,4108.6085179359097,14.8903522532424,11209.4192391338,40.624995128236002,null,0.148903522532424,0.40624995128236002]
["SEC3-42","Land at Junction 1 / Kenrick Way",4.13,1956.0549441696501,4.7184517834577901,3539.3711860185499,8.5377725890402605,null,4.7184517834577902E-2,8.53777258904026E-2]
["SEC4-15","Land at Potters Lane & Stafford St, Weds (5642)",0.85,7.7808342585061396,9.0949880465344995E-2,264.164603227263,3.0878101612856699,null,9.0949880465345E-4,3.0878101612856697E-2]
["SEC3-118","Land bt Great Bridge St & William St, Tipton (2965",1.06,138.83385009420701,1.2848504410408601,197.60500229550499,1.8287533924830299,null,1.2848504410408601E-2,1.8287533924830301E-2]
["SEC3-117","Land by Whitehall Road and Walsall Canal",1.04,96.076592663325698,0.92398521026850999,359.59271890710301,3.4582653774443601,null,9.2398521026850998E-3,3.4582653774443604E-2]
["SEC3-31","land off dudley rd, oldbury",0.98,8.5355219480396798,8.70467733501748E-2,383.586404671433,3.91188248719941,null,8.7046773350174804E-4,3.9118824871994098E-2]
["SEC3-65","Land off Tipton Road, Oldbury",0.81,330.45214752064498,4.0699010277725396,641.10775292246399,7.8959847049233103,null,4.0699010277725399E-2,7.8959847049233103E-2]
["SEC3-17","Leabrook Road, Tipton",7.45,2847.2469712668199,3.8067476353183598,5070.8118943974996,6.7796370960940298,null,3.8067476353183596E-2,6.7796370960940294E-2]
["SEC1-8","Legacy 43, Ryder Street, West Bromwich",0.88,0,0,21.4009324976514,0.24236083610665601,null,0,2.4236083610665602E-3]
["EMP2-14","Lidl, Junction 9 (Opus 9)",8.67,3212.5485515022501,3.68943529562234,38404.345222164702,44.105277942542799,null,3.6894352956223397E-2,0.44105277942542798]
["SEC3-40","Newlyn Road, Cradley Heath",3.4,647.23433352039501,1.8972252246636301,1399.94601633506,4.1036341210637399,null,{"$f":"E131/100","v":1.89722522466363E-2},{"$f":"G131/100","v":4.10363412106374E-2}]
["SEC3-84","Old Park Trading Estate, Old Park Rd (2922)",2.63,3237.6935934000098,12.2562725982748,4851.7505619930398,18.366277027522599,null,0.12256272598274799,0.18366277027522598]
["SEC3-53","Oldbury Point Ind Est, Rood End Road",3.22,3393.8025200997399,10.501908689888101,6042.0087583085697,18.6966165259952,null,0.10501908689888101,0.18696616525995199]
["SEC3-150","Oldbury Rd Ind Est, Oldbury Rd (2994)",0.56999999999999995,0,0,0,0,null,0,0]
["SEC3-168","Oldbury Rd, Oldbury (3014)",2.41,125.847510834479,0.52080372280673903,404.89552665999099,1.6756080134923499,null,5.2080372280673901E-3,1.6756080134923499E-2]
["SEC3-153","Oldbury Rd, WB (2384 / WBPr31)",18.87,9709.2960505906703,5.1269504182573904,17249.8291725321,9.1086952576342703,null,5.1269504182573901E-2,9.1086952576342708E-2]
["SEC3-191","Oldfield Trading Estate, Cradley Heath",1.76,668.90897238240495,3.7886509638166199,1159.35649938386,6.5665094955351604,null,3.7886509638166199E-2,6.5665094955351611E-2]
["SEC3-176","Palmers Timber Site, Station Rd, Old Hill (3043)",3.14,4265.9618503292104,13.5455979630083,7152.6286128602896,22.711556025996501,null,0.13545597963008299,0.22711556025996502]
["EMP2-7","Park Lane Trading Estate, Oldbury",2.17,1855.3532384077901,8.5022542788826492,4413.1921814157904,20.223686428668501,null,8.5022542788826497E-2,0.202236864286685]
["SEC4-5","Park Lane West",2.94,1002.19733393082,3.3938807345227899,2336.2792361315201,7.9116685123009196,null,3.3938807345227896E-2,7.9116685123009192E-2]
["SEC3-186","Park Lane, West Bromwich",10.220000000000001,4755.1377964103203,4.7063961809453003,9042.3326473955203,8.9496459746478205,null,4.7063961809453006E-2,8.9496459746478199E-2]
["SEC3-187","Park Lane, West Bromwich",2.4500000000000002,244.194657281497,0.99576475083827498,424.33825690139003,1.73034530467827,null,9.9576475083827491E-3,1.7303453046782699E-2]
["SEC3-184","Parkroase Estate, Rounds Green Road, Oldbury",2.58,246.102353969468,0.95086768699138902,822.66049391860395,3.1785201092738,null,9.5086768699138898E-3,3.1785201092737997E-2]
["SEC3-105","Parsonage Street, Oldbury",10.15,11930.7090246804,11.7088490634458,17629.702805462101,17.301866029549998,null,0.117088490634458,0.17301866029549998]
["SEC3-173","Pennington Close",4.2,4944.3187000091502,11.7164302584724,10221.614487187901,24.221908120102999,null,0.117164302584724,0.24221908120102997]
["SEC4-13","Ph 9, The Parkway, bt Stafford St/ Victoria st/ Po",0.94,2870.2883023416898,30.455858722749898,3903.1105669789699,41.4148585388455,null,0.30455858722749896,0.414148585388455]
["SEC3-171","Phoenix St / Belper Ind Est Greets Green Road, Wes",5.55,1905.71669798271,3.4225135120387402,4457.4154773216997,8.0051587500140293,null,3.4225135120387405E-2,8.0051587500140298E-2]
["SEC3-172","Phoenix Street (west), West Bromwich",3.44,399.59797267697701,1.15807058030168,1643.7612675514099,4.7637668235356898,null,1.1580705803016799E-2,4.7637668235356895E-2]
["SEC3-70","Pikehelve Street, Hill Top, West Bromwich",5.91,1413.81443622303,2.3842561098605599,3093.3251342702401,5.2165822912884803,null,2.3842561098605598E-2,5.2165822912884803E-2]
["SEC3-74","Popes Lane, Oldbury",10.81,4841.9038643121503,4.4602606760265298,18553.2623437816,17.090877630576198,null,4.4602606760265298E-2,0.17090877630576198]
["SEC3-75","Popes Lane, Oldbury",2.91,1376.7575416152199,4.7159694148604201,2612.2841053225702,8.9481637624980497,null,4.71596941486042E-2,8.9481637624980501E-2]
["SEC3-10","Portway Rd, Weds (5129)",3.78,4226.0381858812798,11.173293696076501,8163.9532495459198,21.584813805744702,null,0.111732936960765,0.21584813805744701]
["SEC3-81","Portway Rd, Weds (5129)",4.51,3001.8869703659998,6.6326427883273702,5433.2197845854598,12.0046512001864,null,6.6326427883273698E-2,0.120046512001864]
["SEC3-188","Portway Road",3.02,1637.0189300852501,5.40578321422245,4094.9613952569398,13.522429806120799,null,5.4057832142224503E-2,0.135224298061208]
["SEC3-158","Portway Road Industrial Estate",2.12,2164.6806121231598,10.172943557303499,3643.50416399088,17.1226932987244,null,0.10172943557303499,0.17122693298724401]
["SEC4-11","Potters Lane, Wednesbury (actually between Stafford St/ Albert St)",0.39,0,0,0.17528985138528599,4.4330476563669598E-3,null,0,4.4330476563669601E-5]
["SEC3-141","Powke Lane (east side)",3.49,496.92248499700298,1.41684494200587,2497.4693165410199,7.1208827851236096,null,1.4168449420058699E-2,7.1208827851236098E-2]
["SEC3-140","Powke Lane (west side)",6.36,5733.8632922536199,8.9850904009483603,9829.5347325023995,15.403097993304799,null,8.9850904009483604E-2,0.15403097993304798]
["SEC3-179","Powke Lane Industrial Estate, Cradley Heath",2.17,10415.593537668999,47.765448982850003,11647.375277789301,53.414345289424702,null,0.47765448982850001,0.53414345289424703]
["SEC3-142","Powke Lane/ Doulton Road",9.08,9422.7008434475192,10.338409214193099,17730.4320531331,19.4534948265078,null,0.10338409214193099,0.194534948265078]
["SEC-145","Princes End Garage",0.19,127.888014475465,6.6819807130544397,161.843029266174,8.4560856193943401,null,6.6819807130544404E-2,8.4560856193943407E-2]
["SEC3-111","Purity Soft Drinks Limited, Mounts Road",0.35,0,0,20.068128949143102,0.57907745705685898,null,0,5.79077457056859E-3]
["SEC3-94","Rabone Lane, Smethwick (2372)",4.72,13492.472017133699,28.491755106127101,14338.5985071952,30.278501724020899,null,0.28491755106127103,0.30278501724020901]
["SEC3-72","Rabone Park",3.93,1273.8021156138,3.2267561731419399,2495.5999086113402,6.3217766025798703,null,3.2267561731419397E-2,6.3217766025798705E-2]
["SEC3-48","Reddal Hill Rd/ Newtown St, Cradley Heath",4.4400000000000004,1003.23379664212,2.2532428274003702,1324.4744548189001,2.9747428519499102,null,2.2532428274003702E-2,2.9747428519499103E-2]
["EMP2-1","Richmond Street, West Bromwich",10.199999999999999,9624.0338529006094,9.3992733275045204,15152.1887530411,14.7983232162935,null,9.3992733275045204E-2,0.14798323216293499]
["SEC3-2","Ridgacre Road (north)",0.8,7.47175924498569,9.3111837741734496E-2,28.694236201021202,0.35758286337525202,null,9.3111837741734497E-4,3.5758286337525202E-3]
["SEC3-3","Ridgacre Road (south)",1.05,0,0,16.381421125946702,0.15576210687869699,null,0,1.55762106878697E-3]
["SEC3-107","Ridgacre Road Church Lane, West Bromwich (New build) (former Express and Star)",1.42,1113.4477421194999,7.8286345004598799,2105.8730335605101,14.8063619516959,null,7.8286345004598801E-2,0.14806361951695901]
["SEC3-108","Ridgacre Road Church Lane, West Bromwich (old part)",0.92,0,0,469.86678235548698,5.0839256216725301,null,0,5.0839256216725304E-2]
["SEC3-32","Ridgarce Road, West Bromwich",1.1399999999999999,312.25420281025401,2.7406153391671402,688.06862284556405,6.0390906037414096,null,2.7406153391671403E-2,6.0390906037414094E-2]
["SEC3-33","Ridgarce Road, West Bromwich",1.64,116.092559874115,0.70731499691681499,684.54578495653698,4.1707194698865999,null,7.0731499691681502E-3,4.1707194698865996E-2]
["SEC3-34","Ridgarce Road, West Bromwich",0.75,887.42951047017505,11.731358308753901,1345.31052869159,17.784308119591898,null,0.117313583087539,0.17784308119591899]
["EMP2-19","Rounds Green Road/Shidas Lane, Oldbury",2.78,608.48510723030404,2.1821377031018399,2218.4870567667199,7.9558960324427899,null,2.1821377031018399E-2,7.9558960324427899E-2]
["SEC3-161","Roway Lane, Oldbury",6,960.12901680547304,1.5938851174622699,2182.9699481511302,3.6238914263857001,null,1.5938851174622699E-2,3.6238914263857003E-2]
["SEC1-4","Roway Lane, Oldbury (Call for Sites)",3.65,1196.8831332350401,3.2675066993207298,3063.9722604490198,8.364684579095,null,3.2675066993207297E-2,8.3646845790949997E-2]
["SEC3-167","Ryder, Euroway Park",2.2400000000000002,153.43318616577901,0.68240902960150596,856.71302801227296,3.8103145786280499,null,6.8240902960150594E-3,3.8103145786280497E-2]
["SEC3-54","Ryders Green Rd, Greets Green Ind Est, Greets Green",2.95,722.54161280739299,2.4436433210624,3029.6092926587398,10.246170438086001,null,2.4436433210624001E-2,0.10246170438086001]
["SEC3-164","Sandwell Business Dev Centre, Oldbury Road",0.67,268.00237273385602,3.98645616336777,671.10064649653305,9.9824239657868894,null,3.98645616336777E-2,9.9824239657868893E-2]
["SEC3-126","Sedgley Road West/Hurst Lane, Tipton",3.06,4329.6353730810797,14.0891066259707,8280.3455748909601,26.945149337484199,null,0.14089106625970702,0.26945149337484198]
["SEC3-83","Seven Stars Rd, Oldbury (586)",2.5099999999999998,800.73523497692997,3.1801142818310102,7262.0507118793003,28.841182672439501,null,3.1801142818310105E-2,0.28841182672439503]
["SEC3-45","Seven Stars Road, Oldbury",1.47,1379.9209495653099,9.3740627669110097,6636.6719557033603,45.084161883156298,null,9.3740627669110094E-2,0.45084161883156298]
["SEC3-36","Silverthorne Lane",1.05,958.41197857273198,9.1231761731738104,1625.22801245031,15.4706345607679,null,9.1231761731738109E-2,0.15470634560767901]
["SEC3-135","Site at Bloomfield Rd, Fountaihn Lane & Bradleys Lane, Tipton",1.43,1588.7825397454901,11.0500867253651,1817.80786139266,12.642972852444,null,0.11050086725365099,0.12642972852444001]
["SEC4-14","Site at Great Wester St & Potters Lane, Weds (5641",2.14,764.95175699644403,3.5627675810798598,1488.3581420205301,6.9320373329787204,null,3.5627675810798599E-2,6.9320373329787202E-2]
["SEC3-82","Site bt Charles St & Walsall Canal Great Bridge (2",2.17,2587.9706267383999,11.856814683171701,5031.8372983270201,23.053415578107099,null,0.118568146831717,0.230534155781071]
["SEC1-7","Site off Bilport Lane, Wednesbury",5.29,5142.5935904488597,9.6852788889882202,10388.6760567089,19.5654630541781,null,9.6852788889882205E-2,0.195654630541781]
["SEC3-29","Site off Richmond St, West Bromwich",1.1000000000000001,319.97364787305702,2.88590583409826,535.85958336698502,4.8330239323638304,null,2.88590583409826E-2,4.8330239323638308E-2]
["EMP4-8","Site on Railway Street, Horseley Heath, Tipton",0.18,0,0,0,0,null,0,0]
["SEC3-6","Site on Stafford St, Weds (5646)",1.45,2255.2935098644198,15.4571538130441,3908.0026407129599,26.7843620597809,null,0.154571538130441,0.26784362059780897]
["SEC4-4","Soho Triangle",1.71,80.117396282059502,0.46670631265796397,334.26495444949899,1.9471871476287801,null,4.6670631265796399E-3,1.9471871476287803E-2]
["SEC3-37","Spinners End Industrial Estate, Cradley Heath",0.65,1129.30947846753,17.336306590724998,2387.67793981468,36.653829259193401,null,0.17336306590724998,0.36653829259193399]
["SEC4-12","Stafford Street/ Albert Street, Wednesbury",0.73,3.0573403483859298,4.1476531581796303E-2,343.12487693721198,4.65490530104036,null,4.1476531581796303E-4,4.6549053010403602E-2]
["SEC3-44","Station Road / Avenue Road / Cardale Street Rowley",3.18,6803.7351273356799,21.320128943203098,9706.5045057405896,30.416223409215899,null,0.21320128943203098,0.30416223409215898]
["SEC3-49","Station Road Industrial Est, Rowley Regis",3.21,3687.95811493469,11.4382355433969,6136.9549964805101,19.033821584010401,null,{"$f":"E195/100","v":0.11438235543396899},{"$f":"G195/100","v":0.19033821584010402}]
["SEC3-147","Station St, Tipton (1448)",1.36,88.333296453215098,0.64497437604916996,254.639852430845,1.85927828501026,null,6.4497437604917E-3,1.8592782850102602E-2]
["SEC3-35","Station Street/Graingers Lane, Cradley Heath",2.27,6614.9979037063904,29.003136478170799,10544.9504703195,46.233822307769401,null,0.29003136478170799,0.46233822307769401]
["SEC4-6","Summerton Rd, Oldbury (3223)",0.52,260.07248346884802,4.6023379684747097,606.12020766915305,10.726125301716699,null,4.6023379684747096E-2,0.10726125301716699]
["SEC3-63","Summit Crescent, Smethwick (east)",4.01,788.62874182059204,1.9570207754912701,1072.8553442723301,2.6623429840900199,null,1.9570207754912701E-2,2.6623429840900201E-2]
["SEC3-27","Summit Crescent, Smethwick (west)",5.96,2640.3208748567399,4.4149045777273699,5477.7078060050699,9.1593251026721596,null,4.4149045777273702E-2,9.1593251026721598E-2]
["SEC3-39","Swan Lane, West Bromwich",0.83,97.3952611145086,1.16764612337301,613.61449773014704,7.3564625354585402,null,1.16764612337301E-2,7.3564625354585397E-2]
["SEC3-87","Swan Lane, West Bromwich",1.27,928.79573011501202,7.25640149416901,2340.5400718625801,18.285935135083999,null,7.2564014941690097E-2,0.18285935135084]
["SEC3-92","Tatbak Road",8.6199999999999992,7606.1754635568204,8.7862033805239292,14223.931031870199,16.430642642329499,null,8.7862033805239298E-2,0.16430642642329499]
["SEC3-162","Taylors Lane, Oldbury",4.17,3148.3204951888601,7.5125663238077696,4149.86789096544,9.9024727036400098,null,7.5125663238077692E-2,9.9024727036400098E-2]
["SEC3-157","Tennants Ryders Green Rd / SCA Tasker St",1.02,1194.0592204723901,11.6526823074503,1459.18458882705,14.2400093311975,null,0.116526823074503,0.14240009331197501]
["SEC3-55","Tennants Ryders Green Rd, West Bromwich",2.9,4650.8180042531203,15.9513694509158,7388.8624089512105,25.3423105353469,null,0.159513694509158,0.25342310535346901]
["SEC3-134","The Angle Ring Co. Ltd",1.7,867.65950787357099,5.0865342979147297,1302.3497805781001,7.6348461195650499,null,5.0865342979147299E-2,7.6348461195650502E-2]
["SEC3-13","The Bridge Trading Estate",3.33,2766.1900216818499,8.2827549207290208,7778.2435490671196,23.290260078189998,null,8.2827549207290213E-2,0.23290260078189998]
["SEC4-16","The Lyng Industrial Estate, West Bromwich",9.84,7170.6223027079504,7.2836265939929099,10717.704072471901,10.886608039489399,null,7.2836265939929104E-2,0.108866080394894]
["SEC3-120","Tipton Rd, Oldbury (2958)",1.76,3623.77358283698,20.556385708056599,8098.65636751089,45.940812857637098,null,0.20556385708056599,0.45940812857637098]
["SEC3-119","Tipton Road",3.17,488.74687865053897,1.5342941824435701,1343.5928725603501,4.2178616743984803,null,1.5342941824435701E-2,4.2178616743984799E-2]
["SEC3-58","Toll End Road, Tipton 2",5.88,2530.2000778153902,4.2865085745410498,11627.828057360601,19.699147552868801,null,4.2865085745410501E-2,0.19699147552868801]
["SEC3-180","Trinity Street, Oldbury",26.88,40393.692510929897,14.9682094429947,64964.409366629799,24.073087288988201,null,0.14968209442994701,0.24073087288988201]
["SEC-144","Union Road",12.11,4461.76144113183,3.6693846110185202,11186.259818496301,9.1996603077982702,null,3.6693846110185203E-2,9.19966030779827E-2]
["SEC3-59","unit 7,8,9 Coneygree Ind Est, Coneygree Road",1.03,168.133985301341,1.62693767005193,218.42551915896101,2.1135804553936901,null,1.6269376700519301E-2,2.1135804553936901E-2]
["SEC3-121","Upper Chapel St, Bittania St, 70-74 Dudley Rd West",0.64,3.0253686171590698E-2,4.7182824551276499E-4,0.44719951965640797,6.9744018483199497E-3,null,4.7182824551276502E-6,6.9744018483199497E-5]
["SEC3-99","various sites (3034, 3226, 1436)",6.33,7229.4550127019402,11.3693615665698,14688.0335658229,23.099052974028101,null,0.11369361566569801,0.230990529740281]
["SEC3-110","Various sites on Mounts Rd, (2926, 2911, 2927, 290",6.32,3067.7293927822998,4.8373436347252801,6061.54939739567,9.5581433822202708,null,4.8373436347252802E-2,9.5581433822202702E-2]
["EMP3-181","Varney Business Park",0.73,119.294929042489,1.6330250077022901,800.83004693749604,10.9625405209179,null,1.6330250077022899E-2,0.109625405209179]
["EMP2-17","Vaughan Trading Estate, Dudley Road East",19.920000000000002,49827.556004222803,24.916017614309698,79052.217415451596,39.529661888427903,null,0.24916017614309699,0.39529661888427903]
["SEC3-1","Vector Ind Park, Church Lane, WB (5556)",5.2,1939.9665256713599,3.7140307510650299,5447.1007226617203,10.428375603601101,null,3.7140307510650297E-2,0.104283756036011]
["SEC3-125","Wade Building Services, Groveland Road, Tividale",1.42,168.003447212899,1.17473244245016,321.50638884705199,2.2480728324283699,null,1.1747324424501599E-2,2.2480728324283699E-2]
["SEC3-189","Waterfall Lane",2.69,3268.5328115096399,12.082953633536199,5762.2802140794302,21.3017181302233,null,0.12082953633536199,0.21301718130223299]
["SEC3-190","Waterfall Lane Trading Estate, Cradley Heath",5.74,771.21329144357401,1.33829582841026,2219.0955538706498,3.8508235731128599,null,1.3382958284102599E-2,3.8508235731128597E-2]
["SEC3-77","Wednesbury Trading Estate, Wednesbury",8.6999999999999993,11533.8351352919,13.2055938300041,16079.585450987301,18.410222786248301,null,0.132055938300041,0.18410222786248301]
["SEC3-76","Wharfeside, Oldbury",6.17,18423.130043370598,29.726994413194401,32373.7632799639,52.237305924237802,null,0.29726994413194402,0.52237305924237798]
["SEC3-192","Whitehall Rd Ind Est, West Brom (2916)",2.58,937.80178433933895,3.6206225790312998,1446.8159849911201,5.5858015099135203,null,3.6206225790312997E-2,5.5858015099135204E-2]
["SEC1-1","Whitehall Road, Tipton",5.3,6122.44813901004,11.5112872171325,10718.5274519743,20.152730614121101,null,0.115112872171325,0.201527306141211]
["SEC3-114","Wrights Plastics, Brandon Way/ Brandon Close",0.57999999999999996,9.9497132058613698,0.16943734356612999,33.429456076628,0.56928256295344304,null,1.6943734356612999E-3,5.6928256295344301E-3]
["SEC4-1","Zion Street, Tipton",2.4300000000000002,2481.3335380025401,10.1725459147967,4013.4757622668699,16.453759982001198,null,0.101725459147967,0.16453759982001198]
[]
["SH63","192-200 Dudley Road, Oldbury",0.57999999999999996,null,2.9794287869221798,null,5.7702713307546203,null,2.9794287869221798E-2,{"$f":"G232/100","v":5.77027133075462E-2}]
["SH23","28-64 High Street, West Bromwich",0.97,null,6.4678782063149996E-3,null,3.1321271045499399,null,6.4678782063149991E-5,3.1321271045499401E-2]
["SH58","Abberley Street Grove Lane Master Plan",2.48,null,7.5476174203296704,null,12.2965515016508,null,7.5476174203296706E-2,0.122965515016508]
["SH8","Alma Street, Wednesbury",0.54,null,0,null,1.8478720440384699,null,0,1.8478720440384698E-2]
["SM4","Army Reserve, Carters Green",1.17,null,7.54134094683047,null,10.7361716304104,null,7.5413409468304701E-2,0.107361716304104]
["SH32","Bank Street (West), Hateley Heath",0.85,null,0.35683035214957498,null,0.82812971277849401,null,3.5683035214957499E-3,8.2812971277849406E-3]
["SH59","Beever Road",0.84,null,0.13202739102385,null,4.9074700785598102,null,1.3202739102385001E-3,4.9074700785598099E-2]
["SH38","Brades Road, Oldbury",1.2,null,17.793144635842499,null,29.349066509402501,null,0.17793144635842498,0.29349066509402499]
["SH25","Bradleys Lane / High Street, Tipton",5.32,null,4.8569574015013703,null,7.6153500494549604,null,4.8569574015013703E-2,7.6153500494549609E-2]
["SH34","Brandhall Golf Course",5.19,null,0,null,0,null,0,0]
["SH1","Brown Lion Street",0.47,null,0,null,0,null,0,0]
["SH55","Cape Arm Cranford Street",2.14,null,47.351202771905598,null,90.819605990040998,null,0.47351202771905598,0.90819605990040997]
["SM1","Chances Glass Works",3.39,null,5.3365650808773903,null,8.2080572485752299,null,5.3365650808773903E-2,8.2080572485752304E-2]
["SH24","Cokeland Place / Graingers Lane, Cradley Heath",0.37,null,0.107031951866099,null,1.3739588837396199,null,1.0703195186609899E-3,1.37395888373962E-2]
["SH16","Cradley Heath Factory Centre, Woods Lane, Cradley",5.57,null,4.1940227782320303,null,7.6895294021678202,null,4.1940227782320302E-2,7.6895294021678204E-2]
["SH54","Cranford Street / Heath Street / Canal",5.01,null,43.255774971873201,null,53.1911607852917,null,0.43255774971873201,0.53191160785291702]
["SM5","cultural quarter, west brom",1.0900000000000001,null,0,null,0,null,0,0]
["SH21","Dudley Road East",2.66,null,0.14017396143887001,null,1.4241399935659,null,1.4017396143887E-3,1.4241399935659E-2]
["SH37","Edwin Richards Quarry, Portway Road, Rowley Regis",51.26,null,6.6626291354942202,null,10.0470909069761,null,6.6626291354942205E-2,0.100470909069761]
["SH20","Elbow Street, Old Hill",0.72,null,41.563683839404398,null,47.535399212926997,null,0.41563683839404397,0.47535399212926999]
["SM3","Evans Halshaw car showroom",0.89,null,2.9402806152094398,null,6.0481292782394096,null,2.94028061520944E-2,6.0481292782394093E-2]
["SH28","Friar Street, Wednesbury",1.02,null,10.0352466915708,null,19.1571080039176,null,0.100352466915708,0.191571080039176]
["SM8","George Street Living",2.36,null,2.1574332639343301,null,3.4246168535694101,null,2.1574332639343302E-2,3.4246168535694101E-2]
["SH53","Grove Lane/ Cranford Street/ London Street",2.09,null,9.4584901692989998E-2,null,4.1772259177184301,null,9.4584901692989999E-4,4.1772259177184301E-2]
["SH57","Grove Street / MMUH / School - Grove Lane MP",2.19,null,3.58878606480343,null,5.7852549529634398,null,3.58878606480343E-2,5.7852549529634395E-2]
["SH17","Land adj to Droicon Estate, Portway Road, Rowley R",0.66,null,4.5586220331137799,null,10.814998340923699,null,4.5586220331137801E-2,0.108149983409237]
["SH2","Land adjacent To Asda Wolverhampton Road, Oldbury",1.61,null,9.3208541738645003,null,15.316060898284,null,9.3208541738644998E-2,0.15316060898284001]
["SH19","Land at Horseley Heath, Alexandra Road, and Lower",2.27,null,7.8103775206401904,null,10.462029035594099,null,{"$f":"E259/100","v":7.810377520640191E-2},{"$f":"G259/100","v":0.10462029035594099}]
["SH36","Land between Addington Way and River Tame, Temple",0.89,null,5.3909497294707398,null,11.3613808560397,null,5.3909497294707398E-2,0.113613808560397]
["SH43","Land of Tanhouse Avenue, Great Barr",1.66,null,4.9240794426445902,null,24.317996551441802,null,4.9240794426445904E-2,0.24317996551441801]
["SH30","Land to east of Black Lake, west Bromwich",2.46,null,0.55146454801551503,null,4.3241348823347403,null,5.5146454801551503E-3,4.3241348823347403E-2]
["SH14","Langley Maltings, Western Road, Langly",2.73,null,38.411184765287402,null,46.486058927315902,null,0.38411184765287404,0.46486058927315904]
["SH40","Langley Swimming Centre, Vicarage Road, Oldbury",0.49,null,47.346854974555399,null,72.754180534764899,null,0.47346854974555397,0.72754180534764901]
["SM2","Lion Farm",21,null,18.6882462495849,null,26.494398640963698,null,0.186882462495849,0.26494398640963701]
["SH26","Lower City Road,Oldbury",2.33,null,4.4646931251754998,null,7.2517417663296797,null,4.4646931251755E-2,7.2517417663296793E-2]
["SH4","Lower High Street (Station hotel & Dunns Site).",0.28000000000000003,null,2.23331924536018,null,5.9281602620373599,null,2.23331924536018E-2,5.9281602620373602E-2]
["SH15","Macarthur Road Industrial Estate Cradley Heath",0.3,null,0,null,3.4646494633513898,null,0,3.4646494633513901E-2]
["SH5","Mill Street, Great Bridge",0.88,null,6.4318248803593203,null,11.8824721985821,null,6.43182488035932E-2,0.118824721985821]
["SH56","Moilliett Street Park - Grove Lane masterplan",0.78,null,0,null,0,null,0,0]
["SH41","North Smethwick Canalside",8.81,null,5.1442145666750596,null,8.5851679195488,null,5.1442145666750594E-2,8.5851679195488001E-2]
["SH52","overend street, west bromwich",0.71,null,0,null,0,null,0,0]
["SH51","Providence Place / Bratt St",0.74,null,0.57398518828989398,null,2.1510962602528201,null,5.7398518828989395E-3,2.1510962602528202E-2]
["SM6","queens square living",3.07,null,3.4557357133269799,null,6.6991480330567397,null,3.4557357133269802E-2,6.6991480330567399E-2]
["SH35","Rattlechain Site Land to the north of Temple Way,",14.86,null,27.583729875209201,null,30.6582497468174,null,0.27583729875209201,0.30658249746817401]
["SH11","Sandwell District & General Hospital,",0.82,null,0,null,2.33821601103261,null,0,2.3382160110326101E-2]
["SH13","Silverthorne Lane/ Forge Lane Cradley Heath",2.41,null,0.48887601973033901,null,4.4349943254962003,null,4.8887601973033904E-3,4.4349943254962006E-2]
["SH45","Site of 30-144 Mounts Road, Wednesbury",1.07,null,8.1190277160925906,null,11.5684632540653,null,8.1190277160925903E-2,0.115684632540653]
["SH47","Site Of Former Stone Cross Neighbourhood Office",0.28000000000000003,null,6.8348232512494702,null,10.367351011579499,null,6.8348232512494708E-2,0.103673510115795]
["SH27","Site surrounding former Post office and Telephone",1.17,null,0,null,1.4354737207586801,null,0,1.4354737207586801E-2]
["SH65","Smethwick Police Station, Piddock Road, Smethwick",0.22,null,0,null,0,null,0,0]
["SH49","St Johns St, Carters Green",0.82,null,13.313145797895601,null,17.7884756470383,null,0.13313145797895601,0.17788475647038302]
["SH62","Star and Garter, 252 Duchess Parade, West Bromwich",0.05,null,0.78075385825492705,null,14.6683422740652,null,7.8075385825492703E-3,0.14668342274065199]
["SH18","STW/SMBC Land",28.18,null,12.003698746481,null,19.0529946354883,null,0.12003698746480999,0.19052994635488299]
["SH31","Summerton Road, Oldbury",0.89,null,14.6286155133861,null,30.5664510148547,null,0.14628615513386101,0.30566451014854701]
["SH6","Swan Lane",3.79,null,7.0328743520249999,null,12.9156120017545,null,7.0328743520249995E-2,0.12915612001754501]
["SH22","Tatbank Road Oldbury",1.1499999999999999,null,6.00091675745246,null,10.1435931593016,null,6.0009167574524597E-2,0.101435931593016]
["SH50","tentec, guns lane",0.6,null,0,null,0,null,0,0]
["SH61","Thandi Coach Station",0.45,null,43.672681924344801,null,73.555687462879305,null,0.43672681924344803,0.73555687462879304]
["SH7","The Boat Gauging House & Adjoining Land, Factory R",0.56999999999999995,null,19.563182465485401,null,29.991764187606599,null,0.19563182465485401,0.29991764187606601]
["SH42","The Forge Tavern, junction Franchise Street and B",0.14000000000000001,null,0.15200960352118001,null,9.5482889891557097,null,1.5200960352118001E-3,9.5482889891557093E-2]
["SH9","The Phoenix Collegiate, Friar Park Road, Wednesbur",4.82,null,1.7216698719205601,null,2.6442862564270899,null,1.72166987192056E-2,2.6442862564270898E-2]
["SH10","Tipton Conservative And Unionist Club, 64 Union St",0.14000000000000001,null,0,null,0,null,0,0]
["SH29","Used Car Sales site on corner of Lower Church Lane",0.56999999999999995,null,39.6577773811157,null,74.487706106815907,null,0.396577773811157,0.7448770610681591]
["SH66","Wednesbury Police Station, Albert St, Wednesbury",0.33,null,0,null,8.3361260515809991E-3,null,0,8.3361260515809991E-5]
["SH33","Wellington Road, Tipton",0.86,null,2.2729731253654202,null,3.6220940184587098,null,2.2729731253654201E-2,3.6220940184587096E-2]
["SM7","west bromwich central",3.84,null,6.3968235106435696,null,13.121930674443901,null,6.3968235106435692E-2,0.13121930674443902]
["SH64","Windmill House, Windmill Lane, Smethwick",0.21,null,0,null,0,null,0,0]
["SH44","Wyndmill crescent, West Bromwich",0.19,null,2.2167708677172E-2,null,1.2571590414488001,null,2.2167708677172E-4,1.2571590414488E-2]
["SG1","Brierley Lane, Tipton",0.626,null,20.332401032300901,null,30.635363388991301,null,0.20332401032300901,0.30635363388991299]
["SG2","Brierley Lane, Tipton",0.75700000000000001,null,4.1251417414954101,null,9.5724443021155299,null,4.1251417414954104E-2,9.5724443021155292E-2]

{"sheet":"Reservoir extents","index":8,"n_rows":301,"n_cols":22,"rows_kept":301,"cut":false,"hidden":true,"merged":[]}
["Sandwell_R","SiteNameAd","SiteAreaHa","path","Area_Ha","Dry_Day_ area","Dry_Day__percent","Wet_Day_FG","Wet_Day__1",null,"Site_area","Dry_Day%","Wet_Day%",null,"Area_not_Flooded","Dry_Day_updated","Wet_Day_updated",null,"Check"]
["SEC3-86",null,4.0999999999999996,"N:/2024/Projects/2024s0196 - Sandwell Metropolitan Borough Council - Sandwell L1 & L2 SFRA/1_WIP/HM/Graphical/Shapefiles/Development_sites/Sandwell EMP3 Allocations_region.shx|layername=Sandwell EMP3 Allocations_region",4.1029999999999998,0,0,0,0,null,1,{"$f":"G2/100","v":0},{"$f":"I2/100","v":0},null,{"$f":"K2-(P2+Q2)","v":1},{"$f":"L2","v":0},{"$f":"M2-P2","v":0},null,{"$f":"SUM(O2:Q2)","v":1}]
["SCE4-9",null,99.99,"N:/2024/Projects/2024s0196 - Sandwell Metropolitan Borough Council - Sandwell L1 & L2 SFRA/1_WIP/HM/Graphical/Shapefiles/Development_sites/Sandwell EMP4 Allocations_region.shx|layername=Sandwell EMP4 Allocations_region",0.35899999999999999,0,0,0,0,null,1,{"$f":"G3/100","v":0},{"$f":"I3/100","v":0},null,{"$f":"K3-(P3+Q3)","v":1},{"$f":"L3","v":0},{"$f":"M3-P3","v":0},null,{"$f":"SUM(O3:Q3)","v":1}]
["SEC4-2","10-60 Dudley Rd East, Oldbury (3224)",2.0499999999999998,"N:/2024/Projects/2024s0196 - Sandwell Metropolitan Borough Council - Sandwell L1 & L2 SFRA/1_WIP/HM/Graphical/Shapefiles/Development_sites/Sandwell EMP4 Allocations_region.shx|layername=Sandwell EMP4 Allocations_region",2.0590000000000002,0,0,0,0,null,1,0,0,null,1,0,0,null,1]
["SEC3-165","230 Oldbury Rd (3016)",1.52,"N:/2024/Projects/2024s0196 - Sandwell Metropolitan Borough Council - Sandwell L1 & L2 SFRA/1_WIP/HM/Graphical/Shapefiles/Development_sites/Sandwell EMP3 Allocations_region.shx|layername=Sandwell EMP3 Allocations_region",1.5269999999999999,0,0,0,0,null,1,0,0,null,1,0,0,null,1]
["SEC4-3","70-74 Crankhall Lane",1.78,"N:/2024/Projects/2024s0196 - Sandwell Metropolitan Borough Council - Sandwell L1 & L2 SFRA/1_WIP/HM/Graphical/Shapefiles/Development_sites/Sandwell EMP4 Allocations_region.shx|layername=Sandwell EMP4 Allocations_region",1.7589999999999999,0,0,0,0,null,1,0,0,null,1,0,0,null,1]
["SEC3-106","Aeroplas and Olympus Distribution, Great Western Way, Great Bridge",4.7699999999999996,"N:/2024/Projects/2024s0196 - Sandwell Metropolitan Borough Council - Sandwell L1 & L2 SFRA/1_WIP/HM/Graphical/Shapefiles/Development_sites/Sandwell EMP3 Allocations_region.shx|layername=Sandwell EMP3 Allocations_region",4.7839999999999998,6523.9754053814004,13.637414145483801,0,0,null,1,0.136374141454838,0,null,0.86362585854516194,0.136374141454838,0,null,1]
["SEC3-41","Albion Industrial Estate",9.02,"N:/2024/Projects/2024s0196 - Sandwell Metropolitan Borough Council - Sandwell L1 & L2 SFRA/1_WIP/HM/Graphical/Shapefiles/Development_sites/Sandwell EMP3 Allocations_region.shx|layername=Sandwell EMP3 Allocations_region",9.0500000000000007,0,0,0,0,null,1,0,0,null,1,0,{"$f":"M8-P8","v":0},null,1]
["SEC3-182","Albion Road",0.91,"N:/2024/Projects/2024s0196 - Sandwell Metropolitan Borough Council - Sandwell L1 & L2 SFRA/1_WIP/HM/Graphical/Shapefiles/Development_sites/Sandwell EMP3 Allocations_region.shx|layername=Sandwell EMP3 Allocations_region",0.91300000000000003,0,0,0,0,null,1,0,0,null,1,0,0,null,1]
["SEC3-9","Alexandra Ind Est, Locarno Rd/ Alexandra Rd, Tipto",1.87,"N:/2024/Projects/2024s0196 - Sandwell Metropolitan Borough Council - Sandwell L1 & L2 SFRA/1_WIP/HM/Graphical/Shapefiles/Development_sites/Sandwell EMP3 Allocations_region.shx|layername=Sandwell EMP3 Allocations_region",1.875,0,0,0,0,null,1,0,0,null,1,0,0,null,1]
["SEC3-64","Alexandra Ind Est/Locarno Road, Tipton",2.56,"N:/2024/Projects/2024s0196 - Sandwell Metropolitan Borough Council - Sandwell L1 & L2 SFRA/1_WIP/HM/Graphical/Shapefiles/Development_sites/Sandwell EMP3 Allocations_region.shx|layername=Sandwell EMP3 Allocations_region",2.5680000000000001,0,0,0,0,null,1,0,0,null,1,0,0,null,1]
["SEC3-93","Alma Street, Smethwick",4.71,"N:/2024/Projects/2024s0196 - Sandwell Metropolitan Borough Council - Sandwell L1 & L2 SFRA/1_WIP/HM/Graphical/Shapefiles/Development_sites/Sandwell EMP3 Allocations_region.shx|layername=Sandwell EMP3 Allocations_region",4.726,118.04126043274999,0.24977193728326599,118.04126043274999,0.24977193728326599,null,1,2.49771937283266E-3,2.49771937283266E-3,null,0.99750228062716739,2.49771937283266E-3,{"$f":"M12-P12","v":0},null,1]
["SEC3-137","Alutrade, Tat Bank Road",2.69,"N:/2024/Projects/2024s0196 - Sandwell Metropolitan Borough Council - Sandwell L1 & L2 SFRA/1_WIP/HM/Graphical/Shapefiles/Development_sites/Sandwell EMP3 Allocations_region.shx|layername=Sandwell EMP3 Allocations_region",2.7050000000000001,0,0,0,0,null,1,0,0,null,1,0,0,null,1]
["SEC3-30","Arnold Laver, Dudley Rd East, Oldbury (2944",1,"N:/2024/Projects/2024s0196 - Sandwell Metropolitan Borough Council - Sandwell L1 & L2 SFRA/1_WIP/HM/Graphical/Shapefiles/Development_sites/Sandwell EMP3 Allocations_region.shx|layername=Sandwell EMP3 Allocations_region",1.0049999999999999,0,0,0,0,null,1,0,0,null,1,0,0,null,1]
["SEC3-62","Autobase, Dudley Road, Oldbury",16.54,"N:/2024/Projects/2024s0196 - Sandwell Metropolitan Borough Council - Sandwell L1 & L2 SFRA/1_WIP/HM/Graphical/Shapefiles/Development_sites/Sandwell EMP3 Allocations_region.shx|layername=Sandwell EMP3 Allocations_region",16.605,0,0,0,0,null,1,0,0,null,1,0,0,null,1]
["SEC3-128","Barnfield Trading Est Tipton (5450)",2.2599999999999998,"N:/2024/Projects/2024s0196 - Sandwell Metropolitan Borough Council - Sandwell L1 & L2 SFRA/1_WIP/HM/Graphical/Shapefiles/Development_sites/Sandwell EMP3 Allocations_region.shx|layername=Sandwell EMP3 Allocations_region",2.2690000000000001,0,0,0,0,null,1,0,0,null,1,0,0,null,1]
["SEC3-151","Beakes Road, Bearwood (825)",0.69,"N:/2024/Projects/2024s0196 - Sandwell Metropolitan Borough Council - Sandwell L1 & L2 SFRA/1_WIP/HM/Graphical/Shapefiles/Development_sites/Sandwell EMP3 Allocations_region.shx|layername=Sandwell EMP3 Allocations_region",0.69699999999999995,0,0,0,0,null,1,0,0,null,1,0,0,null,1]
["SEC3-152","Beakes Road, Bearwood (826)",0.92,"N:/2024/Projects/2024s0196 - Sandwell Metropolitan Borough Council - Sandwell L1 & L2 SFRA/1_WIP/HM/Graphical/Shapefiles/Development_sites/Sandwell EMP3 Allocations_region.shx|layername=Sandwell EMP3 Allocations_region",0.92600000000000005,0,0,0,0,null,1,0,0,null,1,0,0,null,1]
["SEC3-16","Bescot Industrial Estate, Wednesbury",7.89,"N:/2024/Projects/2024s0196 - Sandwell Metropolitan Borough Council - Sandwell L1 & L2 SFRA/1_WIP/HM/Graphical/Shapefiles/Development_sites/Sandwell EMP3 Allocations_region.shx|layername=Sandwell EMP3 Allocations_region",7.9219999999999997,0,0,0,0,null,1,0,0,null,1,0,0,null,1]
["SEC3-138","Bevan Motor Bodies, Blakeley Hall Road",0.91,"N:/2024/Projects/2024s0196 - Sandwell Metropolitan Borough Council - Sandwell L1 & L2 SFRA/1_WIP/HM/Graphical/Shapefiles/Development_sites/Sandwell EMP3 Allocations_region.shx|layername=Sandwell EMP3 Allocations_region",0.91200000000000003,0,0,0,0,null,1,0,0,null,1,0,0,null,1]
["SEC3-90","Birchley, Oldbury",7,"N:/2024/Projects/2024s0196 - Sandwell Metropolitan Borough Council - Sandwell L1 & L2 SFRA/1_WIP/HM/Graphical/Shapefiles/Development_sites/Sandwell EMP3 Allocations_region.shx|layername=Sandwell EMP3 Allocations_region",7.03,0,0,0,0,null,1,0,0,null,1,0,0,null,1]
["EMP2-9","Black Country New Road, Wednesbury (Hallens Drive)",43.88,"N:/2024/Projects/2024s0196 - Sandwell Metropolitan Borough Council - Sandwell L1 & L2 SFRA/1_WIP/HM/Graphical/Shapefiles/Development_sites/Sandwell EMP2 Allocations_region.shx|layername=Sandwell EMP2 Allocations_region",44.042999999999999,0,0,0,0,null,1,0,0,null,1,0,0,null,1]
["EMP2-10","Black Country New Road/ Pacific Avenue",23.03,"N:/2024/Projects/2024s0196 - Sandwell Metropolitan Borough Council - Sandwell L1 & L2 SFRA/1_WIP/HM/Graphical/Shapefiles/Development_sites/Sandwell EMP2 Allocations_region.shx|layername=Sandwell EMP2 Allocations_region",23.117999999999999,146.70549205683599,6.3459918756462605E-2,0,0,null,1,6.3459918756462606E-4,0,null,0.99936540081243541,6.3459918756462606E-4,0,null,1]
["EMP2-13","Black Country New Road/Golds Hill, Tipton",15.08,"N:/2024/Projects/2024s0196 - Sandwell Metropolitan Borough Council - Sandwell L1 & L2 SFRA/1_WIP/HM/Graphical/Shapefiles/Development_sites/Sandwell EMP2 Allocations_region.shx|layername=Sandwell EMP2 Allocations_region",15.132999999999999,17164.407502285801,11.3421984005707,0,0,null,1,0.11342198400570699,0,null,0.88657801599429298,0.11342198400570699,0,null,1]
["SEC3-130","Bloomfield Park",5.13,"N:/2024/Projects/2024s0196 - Sandwell Metropolitan Borough Council - Sandwell L1 & L2 SFRA/1_WIP/HM/Graphical/Shapefiles/Development_sites/Sandwell EMP3 Allocations_region.shx|layername=Sandwell EMP3 Allocations_region",5.1470000000000002,152.01517276819601,0.29534679095497002,0,0,null,1,2.9534679095497003E-3,0,null,0.99704653209045035,2.9534679095497003E-3,0,null,1]
["SEC3-19","Brades Road, Oldbury (Pearsall Drive)",7,"N:/2024/Projects/2024s0196 - Sandwell Metropolitan Borough Council - Sandwell L1 & L2 SFRA/1_WIP/HM/Graphical/Shapefiles/Development_sites/Sandwell EMP3 Allocations_region.shx|layername=Sandwell EMP3 Allocations_region",7.03,0,0,0,0,null,1,0,0,null,1,0,0,null,1]
["SEC3-113","Brandon Way (east side)",0.47,"N:/2024/Projects/2024s0196 - Sandwell Metropolitan Borough Council - Sandwell L1 & L2 SFRA/1_WIP/HM/Graphical/Shapefiles/Development_sites/Sandwell EMP3 Allocations_region.shx|layername=Sandwell EMP3 Allocations_region",0.47,0,0,0,0,null,1,0,0,null,1,0,0,null,1]
["SEC3-154","Brandon Way / Albion Rd, WB (2385 / WBPr32)",6.2,"N:/2024/Projects/2024s0196 - Sandwell Metropolitan Borough Council - Sandwell L1 & L2 SFRA/1_WIP/HM/Graphical/Shapefiles/Development_sites/Sandwell EMP3 Allocations_region.shx|layername=Sandwell EMP3 Allocations_region",6.2249999999999996,0,0,0,0,null,1,0,0,null,1,0,0,null,1]
["SEC1-6","Brandon Way/ Albion Road, West Bromwich",3.07,"N:/2024/Projects/2024s0196 - Sandwell Metropolitan Borough Council - Sandwell L1 & L2 SFRA/1_WIP/HM/Graphical/Shapefiles/Development_sites/Sandwell EMP1 Sites_region.shx|layername=Sandwell EMP1 Sites_region",3.0859999999999999,0,0,0,0,null,1,0,0,null,1,0,0,null,1]
["SEC3-71","Brickhouse Lane",3.87,"N:/2024/Projects/2024s0196 - Sandwell Metropolitan Borough Council - Sandwell L1 & L2 SFRA/1_WIP/HM/Graphical/Shapefiles/Development_sites/Sandwell EMP3 Allocations_region.shx|layername=Sandwell EMP3 Allocations_region",3.883,0,0,0,0,null,1,0,0,null,1,0,0,null,1]
["SEC3-116","Bridge Street/ Potters Lane",3.68,"N:/2024/Projects/2024s0196 - Sandwell Metropolitan Borough Council - Sandwell L1 & L2 SFRA/1_WIP/HM/Graphical/Shapefiles/Development_sites/Sandwell EMP3 Allocations_region.shx|layername=Sandwell EMP3 Allocations_region",3.6949999999999998,0,0,0,0,null,1,0,0,null,1,0,0,null,1]
["SEC1-2","British Gas, Land off Dudley Rd, Oldbury (2949)",1.05,"N:/2024/Projects/2024s0196 - Sandwell Metropolitan Borough Council - Sandwell L1 & L2 SFRA/1_WIP/HM/Graphical/Shapefiles/Development_sites/Sandwell EMP1 Sites_region.shx|layername=Sandwell EMP1 Sites_region",1.056,0,0,0,0,null,1,0,0,null,1,0,0,null,1]
["SEC3-177","Broadcott Industrial Estate, Cradley Heath",1.36,"N:/2024/Projects/2024s0196 - Sandwell Metropolitan Borough Council - Sandwell L1 & L2 SFRA/1_WIP/HM/Graphical/Shapefiles/Development_sites/Sandwell EMP3 Allocations_region.shx|layername=Sandwell EMP3 Allocations_region",1.361,0,0,0,0,null,1,0,0,null,1,0,0,null,1]
["EMP2-12","Broadwell Road, Oldbury",23.68,"N:/2024/Projects/2024s0196 - Sandwell Metropolitan Borough Council - Sandwell L1 & L2 SFRA/1_WIP/HM/Graphical/Shapefiles/Development_sites/Sandwell EMP2 Allocations_region.shx|layername=Sandwell EMP2 Allocations_region",23.771000000000001,0,0,0,0,null,1,0,0,null,1,0,0,null,1]
["SEC3-100","Bromford Road Industrial Estate",7.85,"N:/2024/Projects/2024s0196 - Sandwell Metropolitan Borough Council - Sandwell L1 & L2 SFRA/1_WIP/HM/Graphical/Shapefiles/Development_sites/Sandwell EMP3 Allocations_region.shx|layername=Sandwell EMP3 Allocations_region",7.8810000000000002,0,0,0,0,null,1,0,0,null,1,0,0,null,1]
["SEC3-129","Brook St Bus Centre, Brook St Comm Centre, Tipton",1.53,"N:/2024/Projects/2024s0196 - Sandwell Metropolitan Borough Council - Sandwell L1 & L2 SFRA/1_WIP/HM/Graphical/Shapefiles/Development_sites/Sandwell EMP3 Allocations_region.shx|layername=Sandwell EMP3 Allocations_region",1.538,0,0,0,0,null,1,0,0,null,1,0,0,null,1]
["SEC3-133","Brymill Industrial Estate, Brown Lion St, Tipton",1.78,"N:/2024/Projects/2024s0196 - Sandwell Metropolitan Borough Council - Sandwell L1 & L2 SFRA/1_WIP/HM/Graphical/Shapefiles/Development_sites/Sandwell EMP3 Allocations_region.shx|layername=Sandwell EMP3 Allocations_region",1.7829999999999999,0,0,0,0,null,1,0,0,null,1,0,0,null,1]
["SEC3-123","Burnt Tree Industrial Estate",1.56,"N:/2024/Projects/2024s0196 - Sandwell Metropolitan Borough Council - Sandwell L1 & L2 SFRA/1_WIP/HM/Graphical/Shapefiles/Development_sites/Sandwell EMP3 Allocations_region.shx|layername=Sandwell EMP3 Allocations_region",1.57,0,0,0,0,null,1,0,0,null,1,0,0,null,1]
["SEC3-25","Cakemore Road, Rowley Regis",7.48,"N:/2024/Projects/2024s0196 - Sandwell Metropolitan Borough Council - Sandwell L1 & L2 SFRA/1_WIP/HM/Graphical/Shapefiles/Development_sites/Sandwell EMP3 Allocations_region.shx|layername=Sandwell EMP3 Allocations_region",7.5090000000000003,0,0,0,0,null,1,0,0,null,1,0,0,null,1]
["SEC3-50","Cakemore Road, Rowley Regis",0.6,"N:/2024/Projects/2024s0196 - Sandwell Metropolitan Borough Council - Sandwell L1 & L2 SFRA/1_WIP/HM/Graphical/Shapefiles/Development_sites/Sandwell EMP3 Allocations_region.shx|layername=Sandwell EMP3 Allocations_region",0.60299999999999998,0,0,0,0,null,1,0,0,null,1,0,0,null,1]
["EMP2-4","Car Craft, Darlaston Rd/ Old Park Rd, Kings Hill",5.17,"N:/2024/Projects/2024s0196 - Sandwell Metropolitan Borough Council - Sandwell L1 & L2 SFRA/1_WIP/HM/Graphical/Shapefiles/Development_sites/Sandwell EMP2 Allocations_region.shx|layername=Sandwell EMP2 Allocations_region",5.1859999999999999,0,0,0,0,null,1,0,0,null,1,0,0,null,1]
["SEC3-115","Carlyle Bus and Coach, Carlyle Business Park",0.39,"N:/2024/Projects/2024s0196 - Sandwell Metropolitan Borough Council - Sandwell L1 & L2 SFRA/1_WIP/HM/Graphical/Shapefiles/Development_sites/Sandwell EMP3 Allocations_region.shx|layername=Sandwell EMP3 Allocations_region",0.38700000000000001,0,0,0,0,null,1,0,0,null,1,0,0,null,1]
["SEC4-7","Castle St, High St Tipton (2942)",0.7,"N:/2024/Projects/2024s0196 - Sandwell Metropolitan Borough Council - Sandwell L1 & L2 SFRA/1_WIP/HM/Graphical/Shapefiles/Development_sites/Sandwell EMP4 Allocations_region.shx|layername=Sandwell EMP4 Allocations_region",0.70499999999999996,0,0,0,0,null,1,0,0,null,1,0,0,null,1]
["SEC3-148","Castle St, Tipton (2938)",1.49,"N:/2024/Projects/2024s0196 - Sandwell Metropolitan Borough Council - Sandwell L1 & L2 SFRA/1_WIP/HM/Graphical/Shapefiles/Development_sites/Sandwell EMP3 Allocations_region.shx|layername=Sandwell EMP3 Allocations_region",1.494,0,0,0,0,null,1,0,0,null,1,0,0,null,1]
["SEC3-51","Causeway Green Rd / Wolverhampton Road",0.84,"N:/2024/Projects/2024s0196 - Sandwell Metropolitan Borough Council - Sandwell L1 & L2 SFRA/1_WIP/HM/Graphical/Shapefiles/Development_sites/Sandwell EMP3 Allocations_region.shx|layername=Sandwell EMP3 Allocations_region",0.84799999999999998,0,0,0,0,null,1,0,0,null,1,0,0,null,1]
["SEC3-170","Charles Street, West Bromwich",9.02,"N:/2024/Projects/2024s0196 - Sandwell Metropolitan Borough Council - Sandwell L1 & L2 SFRA/1_WIP/HM/Graphical/Shapefiles/Development_sites/Sandwell EMP3 Allocations_region.shx|layername=Sandwell EMP3 Allocations_region",9.0559999999999992,0,0,0,0,null,1,0,0,null,1,0,0,null,1]
["SEC3-109","Chaters Close, Tipton",0.56999999999999995,"N:/2024/Projects/2024s0196 - Sandwell Metropolitan Borough Council - Sandwell L1 & L2 SFRA/1_WIP/HM/Graphical/Shapefiles/Development_sites/Sandwell EMP3 Allocations_region.shx|layername=Sandwell EMP3 Allocations_region",0.57799999999999996,0,0,0,0,null,1,0,0,null,1,0,0,null,1]
["SEC3-38","Church Lane / Gladstone Street, WB (2389 / WBPr38)",2.2000000000000002,"N:/2024/Projects/2024s0196 - Sandwell Metropolitan Borough Council - Sandwell L1 & L2 SFRA/1_WIP/HM/Graphical/Shapefiles/Development_sites/Sandwell EMP3 Allocations_region.shx|layername=Sandwell EMP3 Allocations_region",2.2050000000000001,0,0,0,0,null,1,0,0,null,1,0,0,null,1]
["EMP2-18","Churchbridge, Oldbury",13.98,"N:/2024/Projects/2024s0196 - Sandwell Metropolitan Borough Council - Sandwell L1 & L2 SFRA/1_WIP/HM/Graphical/Shapefiles/Development_sites/Sandwell EMP2 Allocations_region.shx|layername=Sandwell EMP2 Allocations_region",14.035,0,0,0,0,null,1,0,0,null,1,0,0,null,1]
["SEC3-89","Churchbridge, Oldbury (opposite Thurston Avenue)",0.75,"N:/2024/Projects/2024s0196 - Sandwell Metropolitan Borough Council - Sandwell L1 & L2 SFRA/1_WIP/HM/Graphical/Shapefiles/Development_sites/Sandwell EMP3 Allocations_region.shx|layername=Sandwell EMP3 Allocations_region",0.75700000000000001,0,0,0,0,null,1,0,0,null,1,0,0,null,1]
["SEC4-10","Clay Lane, Oldbury",0.23,"N:/2024/Projects/2024s0196 - Sandwell Metropolitan Borough Council - Sandwell L1 & L2 SFRA/1_WIP/HM/Graphical/Shapefiles/Development_sites/Sandwell EMP4 Allocations_region.shx|layername=Sandwell EMP4 Allocations_region",0.22700000000000001,0,0,0,0,null,1,0,0,null,1,0,0,null,1]
["SEC3-23","Cleton Street Business Park, Oldbury",2.0099999999999998,"N:/2024/Projects/2024s0196 - Sandwell Metropolitan Borough Council - Sandwell L1 & L2 SFRA/1_WIP/HM/Graphical/Shapefiles/Development_sites/Sandwell EMP3 Allocations_region.shx|layername=Sandwell EMP3 Allocations_region",2.0129999999999999,0,0,0,0,null,1,0,0,null,1,0,0,null,1]
["SEC1-5","Coneygre Business Park (open land)",7.22,"N:/2024/Projects/2024s0196 - Sandwell Metropolitan Borough Council - Sandwell L1 & L2 SFRA/1_WIP/HM/Graphical/Shapefiles/Development_sites/Sandwell EMP1 Sites_region.shx|layername=Sandwell EMP1 Sites_region",7.234,0,0,0,0,null,1,0,0,null,1,0,0,null,1]
["SEC3-20","Coneygre Business Park, Tipton",17.690000000000001,"N:/2024/Projects/2024s0196 - Sandwell Metropolitan Borough Council - Sandwell L1 & L2 SFRA/1_WIP/HM/Graphical/Shapefiles/Development_sites/Sandwell EMP3 Allocations_region.shx|layername=Sandwell EMP3 Allocations_region",17.754999999999999,0,0,0,0,null,1,0,0,null,1,0,0,null,1]
["SEC3-175","Coneygre Rd, Burnt Tree, Tipton",1.02,"N:/2024/Projects/2024s0196 - Sandwell Metropolitan Borough Council - Sandwell L1 & L2 SFRA/1_WIP/HM/Graphical/Shapefiles/Development_sites/Sandwell EMP3 Allocations_region.shx|layername=Sandwell EMP3 Allocations_region",1.02,0,0,0,0,null,1,0,0,null,1,0,0,null,1]
["SEC3-174","Corner of Bromford Lane / Brandon Way",3.94,"N:/2024/Projects/2024s0196 - Sandwell Metropolitan Borough Council - Sandwell L1 & L2 SFRA/1_WIP/HM/Graphical/Shapefiles/Development_sites/Sandwell EMP3 Allocations_region.shx|layername=Sandwell EMP3 Allocations_region",3.9529999999999998,0,0,0,0,null,1,0,0,null,1,0,0,null,1]
["SEC3-85","Corngreaves Rd (City Estate Hillcrest Ind Est) Pal",2.8,"N:/2024/Projects/2024s0196 - Sandwell Metropolitan Borough Council - Sandwell L1 & L2 SFRA/1_WIP/HM/Graphical/Shapefiles/Development_sites/Sandwell EMP3 Allocations_region.shx|layername=Sandwell EMP3 Allocations_region",2.8079999999999998,0,0,0,0,null,1,0,0,null,1,0,0,null,1]
["SEC3-24","Corngreaves Road, Cradley Heath",19.670000000000002,"N:/2024/Projects/2024s0196 - Sandwell Metropolitan Borough Council - Sandwell L1 & L2 SFRA/1_WIP/HM/Graphical/Shapefiles/Development_sites/Sandwell EMP3 Allocations_region.shx|layername=Sandwell EMP3 Allocations_region",19.739999999999998,0,0,9587.2109753068507,4.8567300394808699,null,1,0,4.85673003948087E-2,null,0.95143269960519128,0,4.85673003948087E-2,null,1]
["SEC3-80","Corngreaves Road, Cradley Heath",3.64,"N:/2024/Projects/2024s0196 - Sandwell Metropolitan Borough Council - Sandwell L1 & L2 SFRA/1_WIP/HM/Graphical/Shapefiles/Development_sites/Sandwell EMP3 Allocations_region.shx|layername=Sandwell EMP3 Allocations_region",3.6509999999999998,0,0,0,0,null,1,0,0,null,1,0,0,null,1]
["SEC3-96","Cornwall Road",4.0199999999999996,"N:/2024/Projects/2024s0196 - Sandwell Metropolitan Borough Council - Sandwell L1 & L2 SFRA/1_WIP/HM/Graphical/Shapefiles/Development_sites/Sandwell EMP3 Allocations_region.shx|layername=Sandwell EMP3 Allocations_region",4.0250000000000004,851.29537473372,2.11493011944924,851.29537473372,2.11493011944924,null,1,2.11493011944924E-2,2.11493011944924E-2,null,0.97885069880550757,2.11493011944924E-2,0,null,1]
["SEC3-11","Cornwall Road/Foundary Lane, Smethwick",0.35,"N:/2024/Projects/2024s0196 - Sandwell Metropolitan Borough Council - Sandwell L1 & L2 SFRA/1_WIP/HM/Graphical/Shapefiles/Development_sites/Sandwell EMP3 Allocations_region.shx|layername=Sandwell EMP3 Allocations_region",0.35499999999999998,0,0,20.022560249083501,0.56338975645207401,null,1,0,5.6338975645207397E-3,null,0.99436610243547929,0,5.6338975645207397E-3,null,1]
["SEC3-97","Cornwall Road/Foundary Lane, Smethwick",99.99,"N:/2024/Projects/2024s0196 - Sandwell Metropolitan Borough Council - Sandwell L1 & L2 SFRA/1_WIP/HM/Graphical/Shapefiles/Development_sites/Sandwell EMP3 Allocations_region.shx|layername=Sandwell EMP3 Allocations_region",2.8839999999999999,0,0,0,0,null,1,0,0,null,1,0,0,null,1]
["SEC3-28","Cornwall Road/Foundary Lane, Smethwick (north of Anne Road)",2.3199999999999998,"N:/2024/Projects/2024s0196 - Sandwell Metropolitan Borough Council - Sandwell L1 & L2 SFRA/1_WIP/HM/Graphical/Shapefiles/Development_sites/Sandwell EMP3 Allocations_region.shx|layername=Sandwell EMP3 Allocations_region",2.3319999999999999,4.7446196615501304,2.03417732952852E-2,774.13914294498898,3.3189937377717,null,1,2.0341773295285198E-4,3.3189937377716999E-2,null,0.96681006262228297,2.0341773295285198E-4,3.2986519644764151E-2,null,1]
["SEC3-79","Cradley Business Patrk, Cradley Heath",3.69,"N:/2024/Projects/2024s0196 - Sandwell Metropolitan Borough Council - Sandwell L1 & L2 SFRA/1_WIP/HM/Graphical/Shapefiles/Development_sites/Sandwell EMP3 Allocations_region.shx|layername=Sandwell EMP3 Allocations_region",3.706,0,0,0,0,null,1,0,0,null,1,0,0,null,1]
["SEC3-52","Crosswells Road / Hall Street, Oldbury",0.8,"N:/2024/Projects/2024s0196 - Sandwell Metropolitan Borough Council - Sandwell L1 & L2 SFRA/1_WIP/HM/Graphical/Shapefiles/Development_sites/Sandwell EMP3 Allocations_region.shx|layername=Sandwell EMP3 Allocations_region",0.8,0,0,0,0,null,1,0,0,null,1,0,0,null,1]
["SEC3-166","Crystal Drive, Smethwick",14.3,"N:/2024/Projects/2024s0196 - Sandwell Metropolitan Borough Council - Sandwell L1 & L2 SFRA/1_WIP/HM/Graphical/Shapefiles/Development_sites/Sandwell EMP3 Allocations_region.shx|layername=Sandwell EMP3 Allocations_region",14.358000000000001,0,0,0,0,null,1,0,0,null,1,0,0,null,1]
["SEC3-102","Cygnus Way, West Bromwich",12.53,"N:/2024/Projects/2024s0196 - Sandwell Metropolitan Borough Council - Sandwell L1 & L2 SFRA/1_WIP/HM/Graphical/Shapefiles/Development_sites/Sandwell EMP3 Allocations_region.shx|layername=Sandwell EMP3 Allocations_region",12.579000000000001,0,0,0,0,null,1,{"$f":"G67/100","v":0},{"$f":"I67/100","v":0},null,{"$f":"K67-(P67+Q67)","v":1},{"$f":"L67","v":0},{"$f":"M67-P67","v":0},null,{"$f":"SUM(O67:Q67)","v":1}]
["EMP2-2","Danks Way, Hill Top, West Bromwich",7.6,"N:/2024/Projects/2024s0196 - Sandwell Metropolitan Borough Council - Sandwell L1 & L2 SFRA/1_WIP/HM/Graphical/Shapefiles/Development_sites/Sandwell EMP2 Allocations_region.shx|layername=Sandwell EMP2 Allocations_region",7.6260000000000003,0,0,0,0,null,1,0,0,null,1,0,0,null,1]
["SEC3-178","Dart Products, Garratts Lane",7.82,"N:/2024/Projects/2024s0196 - Sandwell Metropolitan Borough Council - Sandwell L1 & L2 SFRA/1_WIP/HM/Graphical/Shapefiles/Development_sites/Sandwell EMP3 Allocations_region.shx|layername=Sandwell EMP3 Allocations_region",7.85,0,0,0,0,null,1,0,0,null,1,0,0,null,1]
["SEC3-183","Dartmouth Road, Smethwick",23.67,"N:/2024/Projects/2024s0196 - Sandwell Metropolitan Borough Council - Sandwell L1 & L2 SFRA/1_WIP/HM/Graphical/Shapefiles/Development_sites/Sandwell EMP3 Allocations_region.shx|layername=Sandwell EMP3 Allocations_region",23.757999999999999,0,0,0,0,null,1,0,0,null,1,0,0,null,1]
["EMP2-16","Dartmouth Road/ Piaro Way, Smethwick",6.93,"N:/2024/Projects/2024s0196 - Sandwell Metropolitan Borough Council - Sandwell L1 & L2 SFRA/1_WIP/HM/Graphical/Shapefiles/Development_sites/Sandwell EMP2 Allocations_region.shx|layername=Sandwell EMP2 Allocations_region",6.96,0,0,0,0,null,1,0,0,null,1,0,0,null,1]
["SEC3-56","Delta Point, Greets Green Road",8.15,"N:/2024/Projects/2024s0196 - Sandwell Metropolitan Borough Council - Sandwell L1 & L2 SFRA/1_WIP/HM/Graphical/Shapefiles/Development_sites/Sandwell EMP3 Allocations_region.shx|layername=Sandwell EMP3 Allocations_region",8.1829999999999998,0,0,0,0,null,1,0,0,null,1,0,0,null,1]
["EMP2-3","Direct 2, Roway Lane, Oldbury",8.15,"N:/2024/Projects/2024s0196 - Sandwell Metropolitan Borough Council - Sandwell L1 & L2 SFRA/1_WIP/HM/Graphical/Shapefiles/Development_sites/Sandwell EMP2 Allocations_region.shx|layername=Sandwell EMP2 Allocations_region",8.1809999999999992,0,0,0,0,null,1,0,0,null,1,0,0,null,1]
["EMP2-6","Doranda Way",13.91,"N:/2024/Projects/2024s0196 - Sandwell Metropolitan Borough Council - Sandwell L1 & L2 SFRA/1_WIP/HM/Graphical/Shapefiles/Development_sites/Sandwell EMP2 Allocations_region.shx|layername=Sandwell EMP2 Allocations_region",13.967000000000001,0,0,0,0,null,1,0,0,null,1,0,0,null,1]
["SEC3-160","Doulton Road, Rowley Regis (east of canal)",3.51,"N:/2024/Projects/2024s0196 - Sandwell Metropolitan Borough Council - Sandwell L1 & L2 SFRA/1_WIP/HM/Graphical/Shapefiles/Development_sites/Sandwell EMP3 Allocations_region.shx|layername=Sandwell EMP3 Allocations_region",3.52,0,0,0,0,null,1,0,0,null,1,0,0,null,1]
["EMP2-11","DPD, Roebuck Lane",8.9,"N:/2024/Projects/2024s0196 - Sandwell Metropolitan Borough Council - Sandwell L1 & L2 SFRA/1_WIP/HM/Graphical/Shapefiles/Development_sites/Sandwell EMP2 Allocations_region.shx|layername=Sandwell EMP2 Allocations_region",8.9339999999999993,0,0,0,0,null,1,0,0,null,1,0,0,null,1]
["SEC3-46","Droicon Ind Est, Portway Road",0.87,"N:/2024/Projects/2024s0196 - Sandwell Metropolitan Borough Council - Sandwell L1 & L2 SFRA/1_WIP/HM/Graphical/Shapefiles/Development_sites/Sandwell EMP3 Allocations_region.shx|layername=Sandwell EMP3 Allocations_region",0.872,0,0,0,0,null,1,0,0,null,1,0,0,null,1]
["SEC3-124","Dudley Rd, 28 Dudley Rd West (2957)",1.78,"N:/2024/Projects/2024s0196 - Sandwell Metropolitan Borough Council - Sandwell L1 & L2 SFRA/1_WIP/HM/Graphical/Shapefiles/Development_sites/Sandwell EMP3 Allocations_region.shx|layername=Sandwell EMP3 Allocations_region",1.786,0,0,0,0,null,1,0,0,null,1,0,0,null,1]
["SEC3-61","Dudley Road, Oldbury",4.9000000000000004,"N:/2024/Projects/2024s0196 - Sandwell Metropolitan Borough Council - Sandwell L1 & L2 SFRA/1_WIP/HM/Graphical/Shapefiles/Development_sites/Sandwell EMP3 Allocations_region.shx|layername=Sandwell EMP3 Allocations_region",4.915,0,0,0,0,null,1,0,0,null,1,0,0,null,1]
["SEC3-185","Eel Street, Oldbury",3.16,"N:/2024/Projects/2024s0196 - Sandwell Metropolitan Borough Council - Sandwell L1 & L2 SFRA/1_WIP/HM/Graphical/Shapefiles/Development_sites/Sandwell EMP3 Allocations_region.shx|layername=Sandwell EMP3 Allocations_region",3.1680000000000001,0,0,0,0,null,1,0,0,null,1,0,0,null,1]
["SEC3-143","EMR Oldbury",7.53,"N:/2024/Projects/2024s0196 - Sandwell Metropolitan Borough Council - Sandwell L1 & L2 SFRA/1_WIP/HM/Graphical/Shapefiles/Development_sites/Sandwell EMP3 Allocations_region.shx|layername=Sandwell EMP3 Allocations_region",7.5579999999999998,0,0,0,0,null,1,0,0,null,1,0,0,null,1]
["SEC3-14","Engine Street, Oldbury",1.64,"N:/2024/Projects/2024s0196 - Sandwell Metropolitan Borough Council - Sandwell L1 & L2 SFRA/1_WIP/HM/Graphical/Shapefiles/Development_sites/Sandwell EMP3 Allocations_region.shx|layername=Sandwell EMP3 Allocations_region",1.643,0,0,0,0,null,1,0,0,null,1,0,0,null,1]
["SEC3-163","Exchange Works, Kelvin Way, West Bromwich",1.49,"N:/2024/Projects/2024s0196 - Sandwell Metropolitan Borough Council - Sandwell L1 & L2 SFRA/1_WIP/HM/Graphical/Shapefiles/Development_sites/Sandwell EMP3 Allocations_region.shx|layername=Sandwell EMP3 Allocations_region",1.498,0,0,0,0,null,1,0,0,null,1,0,0,null,1]
["SEC3-155","Fisher St / Coneygre Rd, Tipton",1.74,"N:/2024/Projects/2024s0196 - Sandwell Metropolitan Borough Council - Sandwell L1 & L2 SFRA/1_WIP/HM/Graphical/Shapefiles/Development_sites/Sandwell EMP3 Allocations_region.shx|layername=Sandwell EMP3 Allocations_region",1.744,0,0,0,0,null,1,0,0,null,1,0,0,null,1]
["SEC3-149","Fitzgerald Lighting Ltd, Rood End Rd (2009)",1.39,"N:/2024/Projects/2024s0196 - Sandwell Metropolitan Borough Council - Sandwell L1 & L2 SFRA/1_WIP/HM/Graphical/Shapefiles/Development_sites/Sandwell EMP3 Allocations_region.shx|layername=Sandwell EMP3 Allocations_region",1.393,0,0,0,0,null,1,0,0,null,1,0,0,null,1]
["SEC3-132","Former Corus Premises, Bloomfield Rd, Tipton (5972",0.56999999999999995,"N:/2024/Projects/2024s0196 - Sandwell Metropolitan Borough Council - Sandwell L1 & L2 SFRA/1_WIP/HM/Graphical/Shapefiles/Development_sites/Sandwell EMP3 Allocations_region.shx|layername=Sandwell EMP3 Allocations_region",0.57599999999999996,0,0,0,0,null,1,0,0,null,1,0,0,null,1]
["SEC3-66","Foundry Lane (south)",11.75,"N:/2024/Projects/2024s0196 - Sandwell Metropolitan Borough Council - Sandwell L1 & L2 SFRA/1_WIP/HM/Graphical/Shapefiles/Development_sites/Sandwell EMP3 Allocations_region.shx|layername=Sandwell EMP3 Allocations_region",11.765000000000001,44785.297378285199,38.065286024370501,47090.933494613302,40.024962600699297,null,1,0.38065286024370498,0.40024962600699299,null,0.59975037399300701,0.38065286024370498,1.9596765763288004E-2,null,1]
["SEC3-73","Foundry Lane/ Anne Road",5.24,"N:/2024/Projects/2024s0196 - Sandwell Metropolitan Borough Council - Sandwell L1 & L2 SFRA/1_WIP/HM/Graphical/Shapefiles/Development_sites/Sandwell EMP3 Allocations_region.shx|layername=Sandwell EMP3 Allocations_region",5.2569999999999997,15707.9099592805,29.882189952344699,22003.740961406402,41.859163235300997,null,1,0.29882189952344701,0.41859163235300995,null,0.58140836764699011,0.29882189952344701,0.11976973282956294,null,1]
["SEC3-159","Fountain Lane",1.31,"N:/2024/Projects/2024s0196 - Sandwell Metropolitan Borough Council - Sandwell L1 & L2 SFRA/1_WIP/HM/Graphical/Shapefiles/Development_sites/Sandwell EMP3 Allocations_region.shx|layername=Sandwell EMP3 Allocations_region",1.3160000000000001,0,0,0,0,null,1,0,0,null,1,0,0,null,1]
["SEC3-139","Garratts Lane/ Powke Lane",9.35,"N:/2024/Projects/2024s0196 - Sandwell Metropolitan Borough Council - Sandwell L1 & L2 SFRA/1_WIP/HM/Graphical/Shapefiles/Development_sites/Sandwell EMP3 Allocations_region.shx|layername=Sandwell EMP3 Allocations_region",9.3840000000000003,0,0,0,0,null,1,0,0,null,1,0,0,null,1]
["SEC3-47","Garretts Lane, Cradley Heath",0.7,"N:/2024/Projects/2024s0196 - Sandwell Metropolitan Borough Council - Sandwell L1 & L2 SFRA/1_WIP/HM/Graphical/Shapefiles/Development_sites/Sandwell EMP3 Allocations_region.shx|layername=Sandwell EMP3 Allocations_region",0.70699999999999996,0,0,0,0,null,1,0,0,null,1,0,0,null,1]
["SEC3-68","George Henry Road",19.79,"N:/2024/Projects/2024s0196 - Sandwell Metropolitan Borough Council - Sandwell L1 & L2 SFRA/1_WIP/HM/Graphical/Shapefiles/Development_sites/Sandwell EMP3 Allocations_region.shx|layername=Sandwell EMP3 Allocations_region",19.87,0,0,0,0,null,1,0,0,null,1,0,0,null,1]
["SEC3-57","Great Bridge Ind Est / Harrold Street",4.57,"N:/2024/Projects/2024s0196 - Sandwell Metropolitan Borough Council - Sandwell L1 & L2 SFRA/1_WIP/HM/Graphical/Shapefiles/Development_sites/Sandwell EMP3 Allocations_region.shx|layername=Sandwell EMP3 Allocations_region",4.5919999999999996,0,0,0,0,null,1,0,0,null,1,0,0,null,1]
["SEC3-15","Great Western Street, Wednesbury",3.82,"N:/2024/Projects/2024s0196 - Sandwell Metropolitan Borough Council - Sandwell L1 & L2 SFRA/1_WIP/HM/Graphical/Shapefiles/Development_sites/Sandwell EMP3 Allocations_region.shx|layername=Sandwell EMP3 Allocations_region",3.8319999999999999,0,0,0,0,null,1,0,0,null,1,0,0,null,1]
["SEC3-60","Griffin Ind Est, Penncricket Lane",3.31,"N:/2024/Projects/2024s0196 - Sandwell Metropolitan Borough Council - Sandwell L1 & L2 SFRA/1_WIP/HM/Graphical/Shapefiles/Development_sites/Sandwell EMP3 Allocations_region.shx|layername=Sandwell EMP3 Allocations_region",3.323,0,0,0,0,null,1,0,0,null,1,0,0,null,1]
["SEC3-122","Groveland Rd (2963)",1.18,"N:/2024/Projects/2024s0196 - Sandwell Metropolitan Borough Council - Sandwell L1 & L2 SFRA/1_WIP/HM/Graphical/Shapefiles/Development_sites/Sandwell EMP3 Allocations_region.shx|layername=Sandwell EMP3 Allocations_region",1.1830000000000001,0,0,0,0,null,1,0,0,null,1,0,0,null,1]
["SEC3-21","Hainge Road, Oldbury",14.28,"N:/2024/Projects/2024s0196 - Sandwell Metropolitan Borough Council - Sandwell L1 & L2 SFRA/1_WIP/HM/Graphical/Shapefiles/Development_sites/Sandwell EMP3 Allocations_region.shx|layername=Sandwell EMP3 Allocations_region",14.332000000000001,0,0,0,0,null,1,0,0,null,1,0,0,null,1]
["SEC3-22","Hale Trading Estate, Tipton",2.73,"N:/2024/Projects/2024s0196 - Sandwell Metropolitan Borough Council - Sandwell L1 & L2 SFRA/1_WIP/HM/Graphical/Shapefiles/Development_sites/Sandwell EMP3 Allocations_region.shx|layername=Sandwell EMP3 Allocations_region",2.74,0,0,0,0,null,1,0,0,null,1,0,0,null,1]
["EMP2-8","Hales Way, Oldbury",1.51,"N:/2024/Projects/2024s0196 - Sandwell Metropolitan Borough Council - Sandwell L1 & L2 SFRA/1_WIP/HM/Graphical/Shapefiles/Development_sites/Sandwell EMP2 Allocations_region.shx|layername=Sandwell EMP2 Allocations_region",1.5169999999999999,0,0,0,0,null,1,0,0,null,1,0,0,null,1]
["SEC3-95","Halfords Lane",24.21,"N:/2024/Projects/2024s0196 - Sandwell Metropolitan Borough Council - Sandwell L1 & L2 SFRA/1_WIP/HM/Graphical/Shapefiles/Development_sites/Sandwell EMP3 Allocations_region.shx|layername=Sandwell EMP3 Allocations_region",24.248000000000001,236.47439899880001,9.7523290607515106E-2,274.694509778797,0.11328546607526201,null,1,9.7523290607515103E-4,1.1328546607526201E-3,null,0.99886714533924736,9.7523290607515103E-4,1.576217546774691E-4,null,1]
["SEC3-103","Hill Top, West Bromwich",15.13,"N:/2024/Projects/2024s0196 - Sandwell Metropolitan Borough Council - Sandwell L1 & L2 SFRA/1_WIP/HM/Graphical/Shapefiles/Development_sites/Sandwell EMP3 Allocations_region.shx|layername=Sandwell EMP3 Allocations_region",15.186999999999999,19143.491883777799,12.6052695581875,0,0,null,1,0.12605269558187499,0,null,0.87394730441812496,0.12605269558187499,0,null,1]
["SEC3-18","Holloway Bank",1.03,"N:/2024/Projects/2024s0196 - Sandwell Metropolitan Borough Council - Sandwell L1 & L2 SFRA/1_WIP/HM/Graphical/Shapefiles/Development_sites/Sandwell EMP3 Allocations_region.shx|layername=Sandwell EMP3 Allocations_region",1.034,0,0,0,0,null,1,0,0,null,1,0,0,null,1]
["SEC3-104","Holloway Bank, Wednesbury",5.29,"N:/2024/Projects/2024s0196 - Sandwell Metropolitan Borough Council - Sandwell L1 & L2 SFRA/1_WIP/HM/Graphical/Shapefiles/Development_sites/Sandwell EMP3 Allocations_region.shx|layername=Sandwell EMP3 Allocations_region",5.3079999999999998,147.330806969332,0.27757440263094602,0,0,null,1,2.7757440263094599E-3,0,null,0.99722425597369058,2.7757440263094599E-3,0,null,1]
["SEC3-67","Holloway Bank/ Bilport Lane",1.77,"N:/2024/Projects/2024s0196 - Sandwell Metropolitan Borough Council - Sandwell L1 & L2 SFRA/1_WIP/HM/Graphical/Shapefiles/Development_sites/Sandwell EMP3 Allocations_region.shx|layername=Sandwell EMP3 Allocations_region",1.776,300.91310955893499,1.6942504164883401,0,0,null,1,1.6942504164883399E-2,0,null,0.98305749583511659,1.6942504164883399E-2,0,null,1]
["SEC3-88","Houghton Street, Oldbury",1.43,"N:/2024/Projects/2024s0196 - Sandwell Metropolitan Borough Council - Sandwell L1 & L2 SFRA/1_WIP/HM/Graphical/Shapefiles/Development_sites/Sandwell EMP3 Allocations_region.shx|layername=Sandwell EMP3 Allocations_region",1.4390000000000001,0,0,0,0,null,1,0,0,null,1,0,0,null,1]
["SEC3-69","Howard Street",27.83,"N:/2024/Projects/2024s0196 - Sandwell Metropolitan Borough Council - Sandwell L1 & L2 SFRA/1_WIP/HM/Graphical/Shapefiles/Development_sites/Sandwell EMP3 Allocations_region.shx|layername=Sandwell EMP3 Allocations_region",27.937999999999999,0,0,0,0,null,1,0,0,null,1,0,0,null,1]
["SEC3-78","James Watt Industrial Park",3.63,"N:/2024/Projects/2024s0196 - Sandwell Metropolitan Borough Council - Sandwell L1 & L2 SFRA/1_WIP/HM/Graphical/Shapefiles/Development_sites/Sandwell EMP3 Allocations_region.shx|layername=Sandwell EMP3 Allocations_region",3.6389999999999998,32.069565672955399,8.8132394188672802E-2,32.069565672955399,8.8132394188672802E-2,null,1,8.8132394188672805E-4,8.8132394188672805E-4,null,0.99911867605811322,8.8132394188672805E-4,0,null,1]
["SEC3-136","JAS Ind Park, Titford Lane, Oldbury (3013)",0.94,"N:/2024/Projects/2024s0196 - Sandwell Metropolitan Borough Council - Sandwell L1 & L2 SFRA/1_WIP/HM/Graphical/Shapefiles/Development_sites/Sandwell EMP3 Allocations_region.shx|layername=Sandwell EMP3 Allocations_region",0.94,0,0,0,0,null,1,0,0,null,1,0,0,null,1]
["SEC3-146","JerseyTex Ltd, Upper Church Lane, Princes End",1.58,"N:/2024/Projects/2024s0196 - Sandwell Metropolitan Borough Council - Sandwell L1 & L2 SFRA/1_WIP/HM/Graphical/Shapefiles/Development_sites/Sandwell EMP3 Allocations_region.shx|layername=Sandwell EMP3 Allocations_region",1.5820000000000001,0,0,0,0,null,1,0,0,null,1,0,0,null,1]
["SEC3-169","JH Lavender & Co, Crankhall Lane, West Bromwich",1.31,"N:/2024/Projects/2024s0196 - Sandwell Metropolitan Borough Council - Sandwell L1 & L2 SFRA/1_WIP/HM/Graphical/Shapefiles/Development_sites/Sandwell EMP3 Allocations_region.shx|layername=Sandwell EMP3 Allocations_region",1.3140000000000001,0,0,0,0,null,1,0,0,null,1,0,0,null,1]
["SEC3-91","Joseph Street, Oldbury",2.95,"N:/2024/Projects/2024s0196 - Sandwell Metropolitan Borough Council - Sandwell L1 & L2 SFRA/1_WIP/HM/Graphical/Shapefiles/Development_sites/Sandwell EMP3 Allocations_region.shx|layername=Sandwell EMP3 Allocations_region",2.9660000000000002,0,0,0,0,null,1,0,0,null,1,0,0,null,1]
["EMP2-15","Junction 9 (Opus 9)",2.33,"N:/2024/Projects/2024s0196 - Sandwell Metropolitan Borough Council - Sandwell L1 & L2 SFRA/1_WIP/HM/Graphical/Shapefiles/Development_sites/Sandwell EMP2 Allocations_region.shx|layername=Sandwell EMP2 Allocations_region",2.343,175.962468624352,0.751102889848699,15982.215178483901,68.220729685089907,null,1,7.51102889848699E-3,0.68220729685089909,null,0.31779270314910091,7.51102889848699E-3,0.67469626795241211,null,1]
["SEC3-12","Junction One, Oldbury",4.7,"N:/2024/Projects/2024s0196 - Sandwell Metropolitan Borough Council - Sandwell L1 & L2 SFRA/1_WIP/HM/Graphical/Shapefiles/Development_sites/Sandwell EMP3 Allocations_region.shx|layername=Sandwell EMP3 Allocations_region",4.7169999999999996,0,0,0,0,null,1,0,0,null,1,0,0,null,1]
["SEC1-3","Junction Two, Oldbury",1.1200000000000001,"N:/2024/Projects/2024s0196 - Sandwell Metropolitan Borough Council - Sandwell L1 & L2 SFRA/1_WIP/HM/Graphical/Shapefiles/Development_sites/Sandwell EMP1 Sites_region.shx|layername=Sandwell EMP1 Sites_region",1.1279999999999999,0,0,0,0,null,1,0,0,null,1,0,0,null,1]
["SEC3-98","Kelvin Way WBPr35",33.770000000000003,"N:/2024/Projects/2024s0196 - Sandwell Metropolitan Borough Council - Sandwell L1 & L2 SFRA/1_WIP/HM/Graphical/Shapefiles/Development_sites/Sandwell EMP3 Allocations_region.shx|layername=Sandwell EMP3 Allocations_region",33.9,0,0,0,0,null,1,0,0,null,1,0,0,null,1]
["EMP2-5","Kings Hill Business Park",3.26,"N:/2024/Projects/2024s0196 - Sandwell Metropolitan Borough Council - Sandwell L1 & L2 SFRA/1_WIP/HM/Graphical/Shapefiles/Development_sites/Sandwell EMP2 Allocations_region.shx|layername=Sandwell EMP2 Allocations_region",3.2679999999999998,0,0,0,0,null,1,0,0,null,1,0,0,null,1]
["SEC3-193","Kitchener Street, Smethwick",1.39,"N:/2024/Projects/2024s0196 - Sandwell Metropolitan Borough Council - Sandwell L1 & L2 SFRA/1_WIP/HM/Graphical/Shapefiles/Development_sites/Sandwell EMP3 Allocations_region.shx|layername=Sandwell EMP3 Allocations_region",1.3939999999999999,258.99992136540499,1.8580266221130901,340.24182855316798,2.4408438893551998,null,1,1.85802662211309E-2,2.4408438893551997E-2,null,0.97559156110644796,1.85802662211309E-2,5.8281726724210975E-3,null,0.99999999999999989]
["SEC3-131","Land & premises Barnfield Rd, Brook St, Bloomfield",0.83,"N:/2024/Projects/2024s0196 - Sandwell Metropolitan Borough Council - Sandwell L1 & L2 SFRA/1_WIP/HM/Graphical/Shapefiles/Development_sites/Sandwell EMP3 Allocations_region.shx|layername=Sandwell EMP3 Allocations_region",0.83499999999999996,0,0,0,0,null,1,0,0,null,1,0,0,null,1]
["SEC3-43","Land at Birmingham Road / Roebuck Lane",6.78,"N:/2024/Projects/2024s0196 - Sandwell Metropolitan Borough Council - Sandwell L1 & L2 SFRA/1_WIP/HM/Graphical/Shapefiles/Development_sites/Sandwell EMP3 Allocations_region.shx|layername=Sandwell EMP3 Allocations_region",6.806,0,0,0,0,null,1,0,0,null,1,0,0,null,1]
["SEC3-156","Land at corner of Birmingham Road",0.48,"N:/2024/Projects/2024s0196 - Sandwell Metropolitan Borough Council - Sandwell L1 & L2 SFRA/1_WIP/HM/Graphical/Shapefiles/Development_sites/Sandwell EMP3 Allocations_region.shx|layername=Sandwell EMP3 Allocations_region",0.48,0,0,0,0,null,1,0,0,null,1,0,0,null,1]
["SEC3-127","Land at Doulton Way, bt Factory Rd, Bloomfield Rd, Tipton",2.75,"N:/2024/Projects/2024s0196 - Sandwell Metropolitan Borough Council - Sandwell L1 & L2 SFRA/1_WIP/HM/Graphical/Shapefiles/Development_sites/Sandwell EMP3 Allocations_region.shx|layername=Sandwell EMP3 Allocations_region",2.7589999999999999,0,0,0,0,null,1,0,0,null,1,0,0,null,1]
["SEC3-42","Land at Junction 1 / Kenrick Way",4.13,"N:/2024/Projects/2024s0196 - Sandwell Metropolitan Borough Council - Sandwell L1 & L2 SFRA/1_WIP/HM/Graphical/Shapefiles/Development_sites/Sandwell EMP3 Allocations_region.shx|layername=Sandwell EMP3 Allocations_region",4.1459999999999999,0,0,0,0,null,1,0,0,null,1,0,0,null,1]
["SEC4-15","Land at Potters Lane & Stafford St, Weds (5642)",0.85,"N:/2024/Projects/2024s0196 - Sandwell Metropolitan Borough Council - Sandwell L1 & L2 SFRA/1_WIP/HM/Graphical/Shapefiles/Development_sites/Sandwell EMP4 Allocations_region.shx|layername=Sandwell EMP4 Allocations_region",0.85599999999999998,0,0,0,0,null,1,0,0,null,1,0,0,null,1]
["SEC3-118","Land bt Great Bridge St & William St, Tipton (2965",1.06,"N:/2024/Projects/2024s0196 - Sandwell Metropolitan Borough Council - Sandwell L1 & L2 SFRA/1_WIP/HM/Graphical/Shapefiles/Development_sites/Sandwell EMP3 Allocations_region.shx|layername=Sandwell EMP3 Allocations_region",1.081,0,0,0,0,null,1,0,0,null,1,0,0,null,1]
["SEC3-117","Land by Whitehall Road and Walsall Canal",1.04,"N:/2024/Projects/2024s0196 - Sandwell Metropolitan Borough Council - Sandwell L1 & L2 SFRA/1_WIP/HM/Graphical/Shapefiles/Development_sites/Sandwell EMP3 Allocations_region.shx|layername=Sandwell EMP3 Allocations_region",1.04,0,0,0,0,null,1,0,0,null,1,0,0,null,1]
["SEC3-31","land off dudley rd, oldbury",0.98,"N:/2024/Projects/2024s0196 - Sandwell Metropolitan Borough Council - Sandwell L1 & L2 SFRA/1_WIP/HM/Graphical/Shapefiles/Development_sites/Sandwell EMP3 Allocations_region.shx|layername=Sandwell EMP3 Allocations_region",0.98099999999999998,0,0,0,0,null,1,0,0,null,1,0,0,null,1]
["SEC3-65","Land off Tipton Road, Oldbury",0.81,"N:/2024/Projects/2024s0196 - Sandwell Metropolitan Borough Council - Sandwell L1 & L2 SFRA/1_WIP/HM/Graphical/Shapefiles/Development_sites/Sandwell EMP3 Allocations_region.shx|layername=Sandwell EMP3 Allocations_region",0.81200000000000006,0,0,0,0,null,1,0,0,null,1,0,0,null,1]
["SEC3-17","Leabrook Road, Tipton",7.45,"N:/2024/Projects/2024s0196 - Sandwell Metropolitan Borough Council - Sandwell L1 & L2 SFRA/1_WIP/HM/Graphical/Shapefiles/Development_sites/Sandwell EMP3 Allocations_region.shx|layername=Sandwell EMP3 Allocations_region",7.4790000000000001,0,0,0,0,null,1,0,0,null,1,0,0,null,1]
["SEC1-8","Legacy 43, Ryder Street, West Bromwich",0.88,"N:/2024/Projects/2024s0196 - Sandwell Metropolitan Borough Council - Sandwell L1 & L2 SFRA/1_WIP/HM/Graphical/Shapefiles/Development_sites/Sandwell EMP1 Sites_region.shx|layername=Sandwell EMP1 Sites_region",0.88300000000000001,0,0,0,0,null,1,0,0,null,1,0,0,null,1]
["EMP2-14","Lidl, Junction 9 (Opus 9)",8.67,"N:/2024/Projects/2024s0196 - Sandwell Metropolitan Borough Council - Sandwell L1 & L2 SFRA/1_WIP/HM/Graphical/Shapefiles/Development_sites/Sandwell EMP2 Allocations_region.shx|layername=Sandwell EMP2 Allocations_region",8.7070000000000007,0,0,44454.672710602703,51.053746246773898,null,1,0,0.51053746246773901,null,0.48946253753226099,0,0.51053746246773901,null,1]
["SEC3-40","Newlyn Road, Cradley Heath",3.4,"N:/2024/Projects/2024s0196 - Sandwell Metropolitan Borough Council - Sandwell L1 & L2 SFRA/1_WIP/HM/Graphical/Shapefiles/Development_sites/Sandwell EMP3 Allocations_region.shx|layername=Sandwell EMP3 Allocations_region",3.411,0,0,0,0,null,1,{"$f":"G131/100","v":0},{"$f":"I131/100","v":0},null,{"$f":"K131-(P131+Q131)","v":1},{"$f":"L131","v":0},{"$f":"M131-P131","v":0},null,{"$f":"SUM(O131:Q131)","v":1}]
["SEC3-84","Old Park Trading Estate, Old Park Rd (2922)",2.63,"N:/2024/Projects/2024s0196 - Sandwell Metropolitan Borough Council - Sandwell L1 & L2 SFRA/1_WIP/HM/Graphical/Shapefiles/Development_sites/Sandwell EMP3 Allocations_region.shx|layername=Sandwell EMP3 Allocations_region",2.6419999999999999,0,0,0,0,null,1,0,0,null,1,0,0,null,1]
["SEC3-53","Oldbury Point Ind Est, Rood End Road",3.22,"N:/2024/Projects/2024s0196 - Sandwell Metropolitan Borough Council - Sandwell L1 & L2 SFRA/1_WIP/HM/Graphical/Shapefiles/Development_sites/Sandwell EMP3 Allocations_region.shx|layername=Sandwell EMP3 Allocations_region",3.2320000000000002,0,0,0,0,null,1,0,0,null,1,0,0,null,1]
["SEC3-150","Oldbury Rd Ind Est, Oldbury Rd (2994)",0.56999999999999995,"N:/2024/Projects/2024s0196 - Sandwell Metropolitan Borough Council - Sandwell L1 & L2 SFRA/1_WIP/HM/Graphical/Shapefiles/Development_sites/Sandwell EMP3 Allocations_region.shx|layername=Sandwell EMP3 Allocations_region",0.57399999999999995,0,0,0,0,null,1,0,0,null,1,0,0,null,1]
["SEC3-168","Oldbury Rd, Oldbury (3014)",2.41,"N:/2024/Projects/2024s0196 - Sandwell Metropolitan Borough Council - Sandwell L1 & L2 SFRA/1_WIP/HM/Graphical/Shapefiles/Development_sites/Sandwell EMP3 Allocations_region.shx|layername=Sandwell EMP3 Allocations_region",2.4159999999999999,0,0,0,0,null,1,0,0,null,1,0,0,null,1]
["SEC3-153","Oldbury Rd, WB (2384 / WBPr31)",18.87,"N:/2024/Projects/2024s0196 - Sandwell Metropolitan Borough Council - Sandwell L1 & L2 SFRA/1_WIP/HM/Graphical/Shapefiles/Development_sites/Sandwell EMP3 Allocations_region.shx|layername=Sandwell EMP3 Allocations_region",18.937999999999999,0,0,0,0,null,1,0,0,null,1,0,0,null,1]
["SEC3-191","Oldfield Trading Estate, Cradley Heath",1.76,"N:/2024/Projects/2024s0196 - Sandwell Metropolitan Borough Council - Sandwell L1 & L2 SFRA/1_WIP/HM/Graphical/Shapefiles/Development_sites/Sandwell EMP3 Allocations_region.shx|layername=Sandwell EMP3 Allocations_region",1.766,0,0,0,0,null,1,0,0,null,1,0,0,null,1]
["SEC3-176","Palmers Timber Site, Station Rd, Old Hill (3043)",3.14,"N:/2024/Projects/2024s0196 - Sandwell Metropolitan Borough Council - Sandwell L1 & L2 SFRA/1_WIP/HM/Graphical/Shapefiles/Development_sites/Sandwell EMP3 Allocations_region.shx|layername=Sandwell EMP3 Allocations_region",3.149,0,0,0,0,null,1,0,0,null,1,0,0,null,1]
["EMP2-7","Park Lane Trading Estate, Oldbury",2.17,"N:/2024/Projects/2024s0196 - Sandwell Metropolitan Borough Council - Sandwell L1 & L2 SFRA/1_WIP/HM/Graphical/Shapefiles/Development_sites/Sandwell EMP2 Allocations_region.shx|layername=Sandwell EMP2 Allocations_region",2.1819999999999999,0,0,0,0,null,1,0,0,null,1,0,0,null,1]
["SEC4-5","Park Lane West",2.94,"N:/2024/Projects/2024s0196 - Sandwell Metropolitan Borough Council - Sandwell L1 & L2 SFRA/1_WIP/HM/Graphical/Shapefiles/Development_sites/Sandwell EMP4 Allocations_region.shx|layername=Sandwell EMP4 Allocations_region",2.9529999999999998,0,0,0,0,null,1,0,0,null,1,0,0,null,1]
["SEC3-186","Park Lane, West Bromwich",10.220000000000001,"N:/2024/Projects/2024s0196 - Sandwell Metropolitan Borough Council - Sandwell L1 & L2 SFRA/1_WIP/HM/Graphical/Shapefiles/Development_sites/Sandwell EMP3 Allocations_region.shx|layername=Sandwell EMP3 Allocations_region",10.103999999999999,0,0,0,0,null,1,0,0,null,1,0,0,null,1]
["SEC3-187","Park Lane, West Bromwich",2.4500000000000002,"N:/2024/Projects/2024s0196 - Sandwell Metropolitan Borough Council - Sandwell L1 & L2 SFRA/1_WIP/HM/Graphical/Shapefiles/Development_sites/Sandwell EMP3 Allocations_region.shx|layername=Sandwell EMP3 Allocations_region",2.452,0,0,0,0,null,1,0,0,null,1,0,0,null,1]
["SEC3-184","Parkroase Estate, Rounds Green Road, Oldbury",2.58,"N:/2024/Projects/2024s0196 - Sandwell Metropolitan Borough Council - Sandwell L1 & L2 SFRA/1_WIP/HM/Graphical/Shapefiles/Development_sites/Sandwell EMP3 Allocations_region.shx|layername=Sandwell EMP3 Allocations_region",2.5880000000000001,0,0,0,0,null,1,0,0,null,1,0,0,null,1]
["SEC3-105","Parsonage Street, Oldbury",10.15,"N:/2024/Projects/2024s0196 - Sandwell Metropolitan Borough Council - Sandwell L1 & L2 SFRA/1_WIP/HM/Graphical/Shapefiles/Development_sites/Sandwell EMP3 Allocations_region.shx|layername=Sandwell EMP3 Allocations_region",10.189,0,0,0,0,null,1,0,0,null,1,0,0,null,1]
["SEC3-173","Pennington Close",4.2,"N:/2024/Projects/2024s0196 - Sandwell Metropolitan Borough Council - Sandwell L1 & L2 SFRA/1_WIP/HM/Graphical/Shapefiles/Development_sites/Sandwell EMP3 Allocations_region.shx|layername=Sandwell EMP3 Allocations_region",4.22,0,0,0,0,null,1,0,0,null,1,0,0,null,1]
["SEC4-13","Ph 9, The Parkway, bt Stafford St/ Victoria st/ Po",0.94,"N:/2024/Projects/2024s0196 - Sandwell Metropolitan Borough Council - Sandwell L1 & L2 SFRA/1_WIP/HM/Graphical/Shapefiles/Development_sites/Sandwell EMP4 Allocations_region.shx|layername=Sandwell EMP4 Allocations_region",0.94199999999999995,0,0,0,0,null,1,0,0,null,1,0,0,null,1]
["SEC3-171","Phoenix St / Belper Ind Est Greets Green Road, Wes",5.55,"N:/2024/Projects/2024s0196 - Sandwell Metropolitan Borough Council - Sandwell L1 & L2 SFRA/1_WIP/HM/Graphical/Shapefiles/Development_sites/Sandwell EMP3 Allocations_region.shx|layername=Sandwell EMP3 Allocations_region",5.5679999999999996,0,0,0,0,null,1,0,0,null,1,0,0,null,1]
["SEC3-172","Phoenix Street (west), West Bromwich",3.44,"N:/2024/Projects/2024s0196 - Sandwell Metropolitan Borough Council - Sandwell L1 & L2 SFRA/1_WIP/HM/Graphical/Shapefiles/Development_sites/Sandwell EMP3 Allocations_region.shx|layername=Sandwell EMP3 Allocations_region",3.4510000000000001,0,0,0,0,null,1,0,0,null,1,0,0,null,1]
["SEC3-70","Pikehelve Street, Hill Top, West Bromwich",5.91,"N:/2024/Projects/2024s0196 - Sandwell Metropolitan Borough Council - Sandwell L1 & L2 SFRA/1_WIP/HM/Graphical/Shapefiles/Development_sites/Sandwell EMP3 Allocations_region.shx|layername=Sandwell EMP3 Allocations_region",5.93,0,0,0,0,null,1,0,0,null,1,0,0,null,1]
["SEC3-74","Popes Lane, Oldbury",10.81,"N:/2024/Projects/2024s0196 - Sandwell Metropolitan Borough Council - Sandwell L1 & L2 SFRA/1_WIP/HM/Graphical/Shapefiles/Development_sites/Sandwell EMP3 Allocations_region.shx|layername=Sandwell EMP3 Allocations_region",10.856,0,0,0,0,null,1,0,0,null,1,0,0,null,1]
["SEC3-75","Popes Lane, Oldbury",2.91,"N:/2024/Projects/2024s0196 - Sandwell Metropolitan Borough Council - Sandwell L1 & L2 SFRA/1_WIP/HM/Graphical/Shapefiles/Development_sites/Sandwell EMP3 Allocations_region.shx|layername=Sandwell EMP3 Allocations_region",2.919,0,0,0,0,null,1,0,0,null,1,0,0,null,1]
["SEC3-10","Portway Rd, Weds (5129)",3.78,"N:/2024/Projects/2024s0196 - Sandwell Metropolitan Borough Council - Sandwell L1 & L2 SFRA/1_WIP/HM/Graphical/Shapefiles/Development_sites/Sandwell EMP3 Allocations_region.shx|layername=Sandwell EMP3 Allocations_region",3.782,0,0,0,0,null,1,0,0,null,1,0,0,null,1]
["SEC3-81","Portway Rd, Weds (5129)",4.51,"N:/2024/Projects/2024s0196 - Sandwell Metropolitan Borough Council - Sandwell L1 & L2 SFRA/1_WIP/HM/Graphical/Shapefiles/Development_sites/Sandwell EMP3 Allocations_region.shx|layername=Sandwell EMP3 Allocations_region",4.5259999999999998,0,0,0,0,null,1,0,0,null,1,0,0,null,1]
["SEC3-188","Portway Road",3.02,"N:/2024/Projects/2024s0196 - Sandwell Metropolitan Borough Council - Sandwell L1 & L2 SFRA/1_WIP/HM/Graphical/Shapefiles/Development_sites/Sandwell EMP3 Allocations_region.shx|layername=Sandwell EMP3 Allocations_region",3.028,0,0,0,0,null,1,0,0,null,1,0,0,null,1]
["SEC3-158","Portway Road Industrial Estate",2.12,"N:/2024/Projects/2024s0196 - Sandwell Metropolitan Borough Council - Sandwell L1 & L2 SFRA/1_WIP/HM/Graphical/Shapefiles/Development_sites/Sandwell EMP3 Allocations_region.shx|layername=Sandwell EMP3 Allocations_region",2.1280000000000001,0,0,0,0,null,1,0,0,null,1,0,0,null,1]
["SEC4-11","Potters Lane, Wednesbury (actually between Stafford St/ Albert St)",0.39,"N:/2024/Projects/2024s0196 - Sandwell Metropolitan Borough Council - Sandwell L1 & L2 SFRA/1_WIP/HM/Graphical/Shapefiles/Development_sites/Sandwell EMP4 Allocations_region.shx|layername=Sandwell EMP4 Allocations_region",0.39500000000000002,0,0,0,0,null,1,0,0,null,1,0,0,null,1]
["SEC3-141","Powke Lane (east side)",3.49,"N:/2024/Projects/2024s0196 - Sandwell Metropolitan Borough Council - Sandwell L1 & L2 SFRA/1_WIP/HM/Graphical/Shapefiles/Development_sites/Sandwell EMP3 Allocations_region.shx|layername=Sandwell EMP3 Allocations_region",3.5070000000000001,0,0,0,0,null,1,0,0,null,1,0,0,null,1]
["SEC3-140","Powke Lane (west side)",6.36,"N:/2024/Projects/2024s0196 - Sandwell Metropolitan Borough Council - Sandwell L1 & L2 SFRA/1_WIP/HM/Graphical/Shapefiles/Development_sites/Sandwell EMP3 Allocations_region.shx|layername=Sandwell EMP3 Allocations_region",6.3819999999999997,0,0,0,0,null,1,0,0,null,1,0,0,null,1]
["SEC3-179","Powke Lane Industrial Estate, Cradley Heath",2.17,"N:/2024/Projects/2024s0196 - Sandwell Metropolitan Borough Council - Sandwell L1 & L2 SFRA/1_WIP/HM/Graphical/Shapefiles/Development_sites/Sandwell EMP3 Allocations_region.shx|layername=Sandwell EMP3 Allocations_region",2.181,0,0,0,0,null,1,0,0,null,1,0,0,null,1]
["SEC3-142","Powke Lane/ Doulton Road",9.08,"N:/2024/Projects/2024s0196 - Sandwell Metropolitan Borough Council - Sandwell L1 & L2 SFRA/1_WIP/HM/Graphical/Shapefiles/Development_sites/Sandwell EMP3 Allocations_region.shx|layername=Sandwell EMP3 Allocations_region",9.1140000000000008,0,0,0,0,null,1,0,0,null,1,0,0,null,1]
["SEC-145","Princes End Garage",0.19,"N:/2024/Projects/2024s0196 - Sandwell Metropolitan Borough Council - Sandwell L1 & L2 SFRA/1_WIP/HM/Graphical/Shapefiles/Development_sites/Sandwell EMP3 Allocations_region.shx|layername=Sandwell EMP3 Allocations_region",0.191,0,0,0,0,null,1,0,0,null,1,0,0,null,1]
["SEC3-111","Purity Soft Drinks Limited, Mounts Road",0.35,"N:/2024/Projects/2024s0196 - Sandwell Metropolitan Borough Council - Sandwell L1 & L2 SFRA/1_WIP/HM/Graphical/Shapefiles/Development_sites/Sandwell EMP3 Allocations_region.shx|layername=Sandwell EMP3 Allocations_region",0.34699999999999998,0,0,0,0,null,1,0,0,null,1,0,0,null,1]
["SEC3-94","Rabone Lane, Smethwick (2372)",4.72,"N:/2024/Projects/2024s0196 - Sandwell Metropolitan Borough Council - Sandwell L1 & L2 SFRA/1_WIP/HM/Graphical/Shapefiles/Development_sites/Sandwell EMP3 Allocations_region.shx|layername=Sandwell EMP3 Allocations_region",4.7359999999999998,0,0,0,0,null,1,0,0,null,1,0,0,null,1]
["SEC3-72","Rabone Park",3.93,"N:/2024/Projects/2024s0196 - Sandwell Metropolitan Borough Council - Sandwell L1 & L2 SFRA/1_WIP/HM/Graphical/Shapefiles/Development_sites/Sandwell EMP3 Allocations_region.shx|layername=Sandwell EMP3 Allocations_region",3.948,0,0,0,0,null,1,0,0,null,1,0,0,null,1]
["SEC3-48","Reddal Hill Rd/ Newtown St, Cradley Heath",4.4400000000000004,"N:/2024/Projects/2024s0196 - Sandwell Metropolitan Borough Council - Sandwell L1 & L2 SFRA/1_WIP/HM/Graphical/Shapefiles/Development_sites/Sandwell EMP3 Allocations_region.shx|layername=Sandwell EMP3 Allocations_region",4.452,0,0,0,0,null,1,0,0,null,1,0,0,null,1]
["EMP2-1","Richmond Street, West Bromwich",10.199999999999999,"N:/2024/Projects/2024s0196 - Sandwell Metropolitan Borough Council - Sandwell L1 & L2 SFRA/1_WIP/HM/Graphical/Shapefiles/Development_sites/Sandwell EMP2 Allocations_region.shx|layername=Sandwell EMP2 Allocations_region",10.239000000000001,0,0,0,0,null,1,0,0,null,1,0,0,null,1]
["SEC3-2","Ridgacre Road (north)",0.8,"N:/2024/Projects/2024s0196 - Sandwell Metropolitan Borough Council - Sandwell L1 & L2 SFRA/1_WIP/HM/Graphical/Shapefiles/Development_sites/Sandwell EMP3 Allocations_region.shx|layername=Sandwell EMP3 Allocations_region",0.80200000000000005,0,0,0,0,null,1,0,0,null,1,0,0,null,1]
["SEC3-3","Ridgacre Road (south)",1.05,"N:/2024/Projects/2024s0196 - Sandwell Metropolitan Borough Council - Sandwell L1 & L2 SFRA/1_WIP/HM/Graphical/Shapefiles/Development_sites/Sandwell EMP3 Allocations_region.shx|layername=Sandwell EMP3 Allocations_region",1.052,0,0,0,0,null,1,0,0,null,1,0,0,null,1]
["SEC3-107","Ridgacre Road Church Lane, West Bromwich (New build) (former Express and Star)",1.42,"N:/2024/Projects/2024s0196 - Sandwell Metropolitan Borough Council - Sandwell L1 & L2 SFRA/1_WIP/HM/Graphical/Shapefiles/Development_sites/Sandwell EMP3 Allocations_region.shx|layername=Sandwell EMP3 Allocations_region",1.4219999999999999,0,0,0,0,null,1,0,0,null,1,0,0,null,1]
["SEC3-108","Ridgacre Road Church Lane, West Bromwich (old part)",0.92,"N:/2024/Projects/2024s0196 - Sandwell Metropolitan Borough Council - Sandwell L1 & L2 SFRA/1_WIP/HM/Graphical/Shapefiles/Development_sites/Sandwell EMP3 Allocations_region.shx|layername=Sandwell EMP3 Allocations_region",0.92400000000000004,0,0,0,0,null,1,0,0,null,1,0,0,null,1]
["SEC3-32","Ridgarce Road, West Bromwich",1.1399999999999999,"N:/2024/Projects/2024s0196 - Sandwell Metropolitan Borough Council - Sandwell L1 & L2 SFRA/1_WIP/HM/Graphical/Shapefiles/Development_sites/Sandwell EMP3 Allocations_region.shx|layername=Sandwell EMP3 Allocations_region",1.139,0,0,0,0,null,1,0,0,null,1,0,0,null,1]
["SEC3-33","Ridgarce Road, West Bromwich",1.64,"N:/2024/Projects/2024s0196 - Sandwell Metropolitan Borough Council - Sandwell L1 & L2 SFRA/1_WIP/HM/Graphical/Shapefiles/Development_sites/Sandwell EMP3 Allocations_region.shx|layername=Sandwell EMP3 Allocations_region",1.641,0,0,0,0,null,1,0,0,null,1,0,0,null,1]
["SEC3-34","Ridgarce Road, West Bromwich",0.75,"N:/2024/Projects/2024s0196 - Sandwell Metropolitan Borough Council - Sandwell L1 & L2 SFRA/1_WIP/HM/Graphical/Shapefiles/Development_sites/Sandwell EMP3 Allocations_region.shx|layername=Sandwell EMP3 Allocations_region",0.75600000000000001,0,0,0,0,null,1,0,0,null,1,0,0,null,1]
["EMP2-19","Rounds Green Road/Shidas Lane, Oldbury",2.78,"N:/2024/Projects/2024s0196 - Sandwell Metropolitan Borough Council - Sandwell L1 & L2 SFRA/1_WIP/HM/Graphical/Shapefiles/Development_sites/Sandwell EMP2 Allocations_region.shx|layername=Sandwell EMP2 Allocations_region",2.7879999999999998,0,0,0,0,null,1,0,0,null,1,0,0,null,1]
["SEC3-161","Roway Lane, Oldbury",6,"N:/2024/Projects/2024s0196 - Sandwell Metropolitan Borough Council - Sandwell L1 & L2 SFRA/1_WIP/HM/Graphical/Shapefiles/Development_sites/Sandwell EMP3 Allocations_region.shx|layername=Sandwell EMP3 Allocations_region",6.024,0,0,0,0,null,1,0,0,null,1,0,0,null,1]
["SEC1-4","Roway Lane, Oldbury (Call for Sites)",3.65,"N:/2024/Projects/2024s0196 - Sandwell Metropolitan Borough Council - Sandwell L1 & L2 SFRA/1_WIP/HM/Graphical/Shapefiles/Development_sites/Sandwell EMP1 Sites_region.shx|layername=Sandwell EMP1 Sites_region",3.6629999999999998,0,0,0,0,null,1,0,0,null,1,0,0,null,1]
["SEC3-167","Ryder, Euroway Park",2.2400000000000002,"N:/2024/Projects/2024s0196 - Sandwell Metropolitan Borough Council - Sandwell L1 & L2 SFRA/1_WIP/HM/Graphical/Shapefiles/Development_sites/Sandwell EMP3 Allocations_region.shx|layername=Sandwell EMP3 Allocations_region",2.2480000000000002,0,0,0,0,null,1,0,0,null,1,0,0,null,1]
["SEC3-54","Ryders Green Rd, Greets Green Ind Est, Greets Green",2.95,"N:/2024/Projects/2024s0196 - Sandwell Metropolitan Borough Council - Sandwell L1 & L2 SFRA/1_WIP/HM/Graphical/Shapefiles/Development_sites/Sandwell EMP3 Allocations_region.shx|layername=Sandwell EMP3 Allocations_region",2.9569999999999999,0,0,0,0,null,1,0,0,null,1,0,0,null,1]
["SEC3-164","Sandwell Business Dev Centre, Oldbury Road",0.67,"N:/2024/Projects/2024s0196 - Sandwell Metropolitan Borough Council - Sandwell L1 & L2 SFRA/1_WIP/HM/Graphical/Shapefiles/Development_sites/Sandwell EMP3 Allocations_region.shx|layername=Sandwell EMP3 Allocations_region",0.67200000000000004,0,0,0,0,null,1,0,0,null,1,0,0,null,1]
["SEC3-126","Sedgley Road West/Hurst Lane, Tipton",3.06,"N:/2024/Projects/2024s0196 - Sandwell Metropolitan Borough Council - Sandwell L1 & L2 SFRA/1_WIP/HM/Graphical/Shapefiles/Development_sites/Sandwell EMP3 Allocations_region.shx|layername=Sandwell EMP3 Allocations_region",3.073,0,0,0,0,null,1,0,0,null,1,0,0,null,1]
["SEC3-83","Seven Stars Rd, Oldbury (586)",2.5099999999999998,"N:/2024/Projects/2024s0196 - Sandwell Metropolitan Borough Council - Sandwell L1 & L2 SFRA/1_WIP/HM/Graphical/Shapefiles/Development_sites/Sandwell EMP3 Allocations_region.shx|layername=Sandwell EMP3 Allocations_region",2.5179999999999998,0,0,0,0,null,1,0,0,null,1,0,0,null,1]
["SEC3-45","Seven Stars Road, Oldbury",1.47,"N:/2024/Projects/2024s0196 - Sandwell Metropolitan Borough Council - Sandwell L1 & L2 SFRA/1_WIP/HM/Graphical/Shapefiles/Development_sites/Sandwell EMP3 Allocations_region.shx|layername=Sandwell EMP3 Allocations_region",1.472,0,0,0,0,null,1,0,0,null,1,0,0,null,1]
["SEC3-36","Silverthorne Lane",1.05,"N:/2024/Projects/2024s0196 - Sandwell Metropolitan Borough Council - Sandwell L1 & L2 SFRA/1_WIP/HM/Graphical/Shapefiles/Development_sites/Sandwell EMP3 Allocations_region.shx|layername=Sandwell EMP3 Allocations_region",1.0509999999999999,0,0,0,0,null,1,0,0,null,1,0,0,null,1]
["SEC3-135","Site at Bloomfield Rd, Fountaihn Lane & Bradleys Lane, Tipton",1.43,"N:/2024/Projects/2024s0196 - Sandwell Metropolitan Borough Council - Sandwell L1 & L2 SFRA/1_WIP/HM/Graphical/Shapefiles/Development_sites/Sandwell EMP3 Allocations_region.shx|layername=Sandwell EMP3 Allocations_region",1.4379999999999999,0,0,0,0,null,1,0,0,null,1,0,0,null,1]
["SEC4-14","Site at Great Wester St & Potters Lane, Weds (5641",2.14,"N:/2024/Projects/2024s0196 - Sandwell Metropolitan Borough Council - Sandwell L1 & L2 SFRA/1_WIP/HM/Graphical/Shapefiles/Development_sites/Sandwell EMP4 Allocations_region.shx|layername=Sandwell EMP4 Allocations_region",2.1469999999999998,0,0,0,0,null,1,0,0,null,1,0,0,null,1]
["SEC3-82","Site bt Charles St & Walsall Canal Great Bridge (2",2.17,"N:/2024/Projects/2024s0196 - Sandwell Metropolitan Borough Council - Sandwell L1 & L2 SFRA/1_WIP/HM/Graphical/Shapefiles/Development_sites/Sandwell EMP3 Allocations_region.shx|layername=Sandwell EMP3 Allocations_region",2.1829999999999998,0,0,0,0,null,1,0,0,null,1,0,0,null,1]
["SEC1-7","Site off Bilport Lane, Wednesbury",5.29,"N:/2024/Projects/2024s0196 - Sandwell Metropolitan Borough Council - Sandwell L1 & L2 SFRA/1_WIP/HM/Graphical/Shapefiles/Development_sites/Sandwell EMP1 Sites_region.shx|layername=Sandwell EMP1 Sites_region",5.31,115.976916509513,0.21842456755006601,0,0,null,1,2.1842456755006602E-3,0,null,0.99781575432449932,2.1842456755006602E-3,0,null,1]
["SEC3-29","Site off Richmond St, West Bromwich",1.1000000000000001,"N:/2024/Projects/2024s0196 - Sandwell Metropolitan Borough Council - Sandwell L1 & L2 SFRA/1_WIP/HM/Graphical/Shapefiles/Development_sites/Sandwell EMP3 Allocations_region.shx|layername=Sandwell EMP3 Allocations_region",1.109,0,0,0,0,null,1,0,0,null,1,0,0,null,1]
["EMP4-8","Site on Railway Street, Horseley Heath, Tipton",0.18,"N:/2024/Projects/2024s0196 - Sandwell Metropolitan Borough Council - Sandwell L1 & L2 SFRA/1_WIP/HM/Graphical/Shapefiles/Development_sites/Sandwell EMP4 Allocations_region.shx|layername=Sandwell EMP4 Allocations_region",0.18,0,0,0,0,null,1,0,0,null,1,0,0,null,1]
["SEC3-6","Site on Stafford St, Weds (5646)",1.45,"N:/2024/Projects/2024s0196 - Sandwell Metropolitan Borough Council - Sandwell L1 & L2 SFRA/1_WIP/HM/Graphical/Shapefiles/Development_sites/Sandwell EMP3 Allocations_region.shx|layername=Sandwell EMP3 Allocations_region",1.4590000000000001,0,0,0,0,null,1,0,0,null,1,0,0,null,1]
["SEC4-4","Soho Triangle",1.71,"N:/2024/Projects/2024s0196 - Sandwell Metropolitan Borough Council - Sandwell L1 & L2 SFRA/1_WIP/HM/Graphical/Shapefiles/Development_sites/Sandwell EMP4 Allocations_region.shx|layername=Sandwell EMP4 Allocations_region",1.7170000000000001,339.06139228023699,1.97512774377591,404.82520575499098,2.35822040925737,null,1,1.9751277437759101E-2,2.3582204092573701E-2,null,0.97641779590742628,1.9751277437759101E-2,3.8309266548146002E-3,null,0.99999999999999989]
["SEC3-37","Spinners End Industrial Estate, Cradley Heath",0.65,"N:/2024/Projects/2024s0196 - Sandwell Metropolitan Borough Council - Sandwell L1 & L2 SFRA/1_WIP/HM/Graphical/Shapefiles/Development_sites/Sandwell EMP3 Allocations_region.shx|layername=Sandwell EMP3 Allocations_region",0.65100000000000002,0,0,0,0,null,1,0,0,null,1,0,0,null,1]
["SEC4-12","Stafford Street/ Albert Street, Wednesbury",0.73,"N:/2024/Projects/2024s0196 - Sandwell Metropolitan Borough Council - Sandwell L1 & L2 SFRA/1_WIP/HM/Graphical/Shapefiles/Development_sites/Sandwell EMP4 Allocations_region.shx|layername=Sandwell EMP4 Allocations_region",0.73699999999999999,0,0,0,0,null,1,0,0,null,1,0,0,null,1]
["SEC3-44","Station Road / Avenue Road / Cardale Street Rowley",3.18,"N:/2024/Projects/2024s0196 - Sandwell Metropolitan Borough Council - Sandwell L1 & L2 SFRA/1_WIP/HM/Graphical/Shapefiles/Development_sites/Sandwell EMP3 Allocations_region.shx|layername=Sandwell EMP3 Allocations_region",3.1909999999999998,0,0,0,0,null,1,0,0,null,1,0,0,null,1]
["SEC3-49","Station Road Industrial Est, Rowley Regis",3.21,"N:/2024/Projects/2024s0196 - Sandwell Metropolitan Borough Council - Sandwell L1 & L2 SFRA/1_WIP/HM/Graphical/Shapefiles/Development_sites/Sandwell EMP3 Allocations_region.shx|layername=Sandwell EMP3 Allocations_region",3.2240000000000002,0,0,0,0,null,1,{"$f":"G195/100","v":0},{"$f":"I195/100","v":0},null,{"$f":"K195-(P195+Q195)","v":1},{"$f":"L195","v":0},{"$f":"M195-P195","v":0},null,{"$f":"SUM(O195:Q195)","v":1}]
["SEC3-147","Station St, Tipton (1448)",1.36,"N:/2024/Projects/2024s0196 - Sandwell Metropolitan Borough Council - Sandwell L1 & L2 SFRA/1_WIP/HM/Graphical/Shapefiles/Development_sites/Sandwell EMP3 Allocations_region.shx|layername=Sandwell EMP3 Allocations_region",1.37,0,0,0,0,null,1,0,0,null,1,0,0,null,1]
["SEC3-35","Station Street/Graingers Lane, Cradley Heath",2.27,"N:/2024/Projects/2024s0196 - Sandwell Metropolitan Borough Council - Sandwell L1 & L2 SFRA/1_WIP/HM/Graphical/Shapefiles/Development_sites/Sandwell EMP3 Allocations_region.shx|layername=Sandwell EMP3 Allocations_region",2.2810000000000001,0,0,0,0,null,1,0,0,null,1,0,0,null,1]
["SEC4-6","Summerton Rd, Oldbury (3223)",0.52,"N:/2024/Projects/2024s0196 - Sandwell Metropolitan Borough Council - Sandwell L1 & L2 SFRA/1_WIP/HM/Graphical/Shapefiles/Development_sites/Sandwell EMP4 Allocations_region.shx|layername=Sandwell EMP4 Allocations_region",0.56499999999999995,0,0,0,0,null,1,0,0,null,1,0,0,null,1]
["SEC3-63","Summit Crescent, Smethwick (east)",4.01,"N:/2024/Projects/2024s0196 - Sandwell Metropolitan Borough Council - Sandwell L1 & L2 SFRA/1_WIP/HM/Graphical/Shapefiles/Development_sites/Sandwell EMP3 Allocations_region.shx|layername=Sandwell EMP3 Allocations_region",4.03,0,0,0,0,null,1,0,0,null,1,0,0,null,1]
["SEC3-27","Summit Crescent, Smethwick (west)",5.96,"N:/2024/Projects/2024s0196 - Sandwell Metropolitan Borough Council - Sandwell L1 & L2 SFRA/1_WIP/HM/Graphical/Shapefiles/Development_sites/Sandwell EMP3 Allocations_region.shx|layername=Sandwell EMP3 Allocations_region",5.98,0,0,0,0,null,1,0,0,null,1,0,0,null,1]
["SEC3-39","Swan Lane, West Bromwich",0.83,"N:/2024/Projects/2024s0196 - Sandwell Metropolitan Borough Council - Sandwell L1 & L2 SFRA/1_WIP/HM/Graphical/Shapefiles/Development_sites/Sandwell EMP3 Allocations_region.shx|layername=Sandwell EMP3 Allocations_region",0.83399999999999996,0,0,0,0,null,1,0,0,null,1,0,0,null,1]
["SEC3-87","Swan Lane, West Bromwich",1.27,"N:/2024/Projects/2024s0196 - Sandwell Metropolitan Borough Council - Sandwell L1 & L2 SFRA/1_WIP/HM/Graphical/Shapefiles/Development_sites/Sandwell EMP3 Allocations_region.shx|layername=Sandwell EMP3 Allocations_region",1.28,0,0,0,0,null,1,0,0,null,1,0,0,null,1]
["SEC3-92","Tatbak Road",8.6199999999999992,"N:/2024/Projects/2024s0196 - Sandwell Metropolitan Borough Council - Sandwell L1 & L2 SFRA/1_WIP/HM/Graphical/Shapefiles/Development_sites/Sandwell EMP3 Allocations_region.shx|layername=Sandwell EMP3 Allocations_region",8.657,0,0,0,0,null,1,0,0,null,1,0,0,null,1]
["SEC3-162","Taylors Lane, Oldbury",4.17,"N:/2024/Projects/2024s0196 - Sandwell Metropolitan Borough Council - Sandwell L1 & L2 SFRA/1_WIP/HM/Graphical/Shapefiles/Development_sites/Sandwell EMP3 Allocations_region.shx|layername=Sandwell EMP3 Allocations_region",4.1909999999999998,0,0,0,0,null,1,0,0,null,1,0,0,null,1]
["SEC3-157","Tennants Ryders Green Rd / SCA Tasker St",1.02,"N:/2024/Projects/2024s0196 - Sandwell Metropolitan Borough Council - Sandwell L1 & L2 SFRA/1_WIP/HM/Graphical/Shapefiles/Development_sites/Sandwell EMP3 Allocations_region.shx|layername=Sandwell EMP3 Allocations_region",1.0249999999999999,0,0,0,0,null,1,0,0,null,1,0,0,null,1]
["SEC3-55","Tennants Ryders Green Rd, West Bromwich",2.9,"N:/2024/Projects/2024s0196 - Sandwell Metropolitan Borough Council - Sandwell L1 & L2 SFRA/1_WIP/HM/Graphical/Shapefiles/Development_sites/Sandwell EMP3 Allocations_region.shx|layername=Sandwell EMP3 Allocations_region",2.9159999999999999,0,0,0,0,null,1,0,0,null,1,0,0,null,1]
["SEC3-134","The Angle Ring Co. Ltd",1.7,"N:/2024/Projects/2024s0196 - Sandwell Metropolitan Borough Council - Sandwell L1 & L2 SFRA/1_WIP/HM/Graphical/Shapefiles/Development_sites/Sandwell EMP3 Allocations_region.shx|layername=Sandwell EMP3 Allocations_region",1.706,0,0,0,0,null,1,0,0,null,1,0,0,null,1]
["SEC3-13","The Bridge Trading Estate",3.33,"N:/2024/Projects/2024s0196 - Sandwell Metropolitan Borough Council - Sandwell L1 & L2 SFRA/1_WIP/HM/Graphical/Shapefiles/Development_sites/Sandwell EMP3 Allocations_region.shx|layername=Sandwell EMP3 Allocations_region",3.34,1.8169054341228699E-2,5.4403285049197998E-5,1.8169054341228699E-2,5.4403285049197998E-5,null,1,5.4403285049197997E-7,5.4403285049197997E-7,null,0.99999945596714945,5.4403285049197997E-7,0,null,1]
["SEC4-16","The Lyng Industrial Estate, West Bromwich",9.84,"N:/2024/Projects/2024s0196 - Sandwell Metropolitan Borough Council - Sandwell L1 & L2 SFRA/1_WIP/HM/Graphical/Shapefiles/Development_sites/Sandwell EMP4 Allocations_region.shx|layername=Sandwell EMP4 Allocations_region",9.8450000000000006,0,0,0,0,null,1,0,0,null,1,0,0,null,1]
["SEC3-120","Tipton Rd, Oldbury (2958)",1.76,"N:/2024/Projects/2024s0196 - Sandwell Metropolitan Borough Council - Sandwell L1 & L2 SFRA/1_WIP/HM/Graphical/Shapefiles/Development_sites/Sandwell EMP3 Allocations_region.shx|layername=Sandwell EMP3 Allocations_region",1.7629999999999999,0,0,0,0,null,1,0,0,null,1,0,0,null,1]
["SEC3-119","Tipton Road",3.17,"N:/2024/Projects/2024s0196 - Sandwell Metropolitan Borough Council - Sandwell L1 & L2 SFRA/1_WIP/HM/Graphical/Shapefiles/Development_sites/Sandwell EMP3 Allocations_region.shx|layername=Sandwell EMP3 Allocations_region",3.1850000000000001,0,0,0,0,null,1,0,0,null,1,0,0,null,1]
["SEC3-58","Toll End Road, Tipton 2",5.88,"N:/2024/Projects/2024s0196 - Sandwell Metropolitan Borough Council - Sandwell L1 & L2 SFRA/1_WIP/HM/Graphical/Shapefiles/Development_sites/Sandwell EMP3 Allocations_region.shx|layername=Sandwell EMP3 Allocations_region",5.9029999999999996,0,0,0,0,null,1,0,0,null,1,0,0,null,1]
["SEC3-180","Trinity Street, Oldbury",26.88,"N:/2024/Projects/2024s0196 - Sandwell Metropolitan Borough Council - Sandwell L1 & L2 SFRA/1_WIP/HM/Graphical/Shapefiles/Development_sites/Sandwell EMP3 Allocations_region.shx|layername=Sandwell EMP3 Allocations_region",26.986000000000001,0,0,0,0,null,1,0,0,null,1,0,0,null,1]
["SEC-144","Union Road",12.11,"N:/2024/Projects/2024s0196 - Sandwell Metropolitan Borough Council - Sandwell L1 & L2 SFRA/1_WIP/HM/Graphical/Shapefiles/Development_sites/Sandwell EMP3 Allocations_region.shx|layername=Sandwell EMP3 Allocations_region",12.159000000000001,0,0,0,0,null,1,0,0,null,1,0,0,null,1]
["SEC3-59","unit 7,8,9 Coneygree Ind Est, Coneygree Road",1.03,"N:/2024/Projects/2024s0196 - Sandwell Metropolitan Borough Council - Sandwell L1 & L2 SFRA/1_WIP/HM/Graphical/Shapefiles/Development_sites/Sandwell EMP3 Allocations_region.shx|layername=Sandwell EMP3 Allocations_region",1.0329999999999999,0,0,0,0,null,1,0,0,null,1,0,0,null,1]
["SEC3-121","Upper Chapel St, Bittania St, 70-74 Dudley Rd West",0.64,"N:/2024/Projects/2024s0196 - Sandwell Metropolitan Borough Council - Sandwell L1 & L2 SFRA/1_WIP/HM/Graphical/Shapefiles/Development_sites/Sandwell EMP3 Allocations_region.shx|layername=Sandwell EMP3 Allocations_region",0.64100000000000001,0,0,0,0,null,1,0,0,null,1,0,0,null,1]
["SEC3-99","various sites (3034, 3226, 1436)",6.33,"N:/2024/Projects/2024s0196 - Sandwell Metropolitan Borough Council - Sandwell L1 & L2 SFRA/1_WIP/HM/Graphical/Shapefiles/Development_sites/Sandwell EMP3 Allocations_region.shx|layername=Sandwell EMP3 Allocations_region",6.359,0,0,12.997776186468601,2.0440879259318201E-2,null,1,0,2.04408792593182E-4,null,0.9997955912074068,0,2.04408792593182E-4,null,1]
["SEC3-110","Various sites on Mounts Rd, (2926, 2911, 2927, 290",6.32,"N:/2024/Projects/2024s0196 - Sandwell Metropolitan Borough Council - Sandwell L1 & L2 SFRA/1_WIP/HM/Graphical/Shapefiles/Development_sites/Sandwell EMP3 Allocations_region.shx|layername=Sandwell EMP3 Allocations_region",6.3419999999999996,0,0,0,0,null,1,0,0,null,1,0,0,null,1]
["EMP3-181","Varney Business Park",0.73,"N:/2024/Projects/2024s0196 - Sandwell Metropolitan Borough Council - Sandwell L1 & L2 SFRA/1_WIP/HM/Graphical/Shapefiles/Development_sites/Sandwell EMP3 Allocations_region.shx|layername=Sandwell EMP3 Allocations_region",0.73099999999999998,0,0,0,0,null,1,0,0,null,1,0,0,null,1]
["EMP2-17","Vaughan Trading Estate, Dudley Road East",19.920000000000002,"N:/2024/Projects/2024s0196 - Sandwell Metropolitan Borough Council - Sandwell L1 & L2 SFRA/1_WIP/HM/Graphical/Shapefiles/Development_sites/Sandwell EMP2 Allocations_region.shx|layername=Sandwell EMP2 Allocations_region",19.998000000000001,0,0,0,0,null,1,0,0,null,1,0,0,null,1]
["SEC3-1","Vector Ind Park, Church Lane, WB (5556)",5.2,"N:/2024/Projects/2024s0196 - Sandwell Metropolitan Borough Council - Sandwell L1 & L2 SFRA/1_WIP/HM/Graphical/Shapefiles/Development_sites/Sandwell EMP3 Allocations_region.shx|layername=Sandwell EMP3 Allocations_region",5.2229999999999999,0,0,0,0,null,1,0,0,null,1,0,0,null,1]
["SEC3-125","Wade Building Services, Groveland Road, Tividale",1.42,"N:/2024/Projects/2024s0196 - Sandwell Metropolitan Borough Council - Sandwell L1 & L2 SFRA/1_WIP/HM/Graphical/Shapefiles/Development_sites/Sandwell EMP3 Allocations_region.shx|layername=Sandwell EMP3 Allocations_region",1.43,0,0,0,0,null,1,0,0,null,1,0,0,null,1]
["SEC3-189","Waterfall Lane",2.69,"N:/2024/Projects/2024s0196 - Sandwell Metropolitan Borough Council - Sandwell L1 & L2 SFRA/1_WIP/HM/Graphical/Shapefiles/Development_sites/Sandwell EMP3 Allocations_region.shx|layername=Sandwell EMP3 Allocations_region",2.7050000000000001,0,0,0,0,null,1,0,0,null,1,0,0,null,1]
["SEC3-190","Waterfall Lane Trading Estate, Cradley Heath",5.74,"N:/2024/Projects/2024s0196 - Sandwell Metropolitan Borough Council - Sandwell L1 & L2 SFRA/1_WIP/HM/Graphical/Shapefiles/Development_sites/Sandwell EMP3 Allocations_region.shx|layername=Sandwell EMP3 Allocations_region",5.7629999999999999,0,0,0,0,null,1,0,0,null,1,0,0,null,1]
["SEC3-77","Wednesbury Trading Estate, Wednesbury",8.6999999999999993,"N:/2024/Projects/2024s0196 - Sandwell Metropolitan Borough Council - Sandwell L1 & L2 SFRA/1_WIP/HM/Graphical/Shapefiles/Development_sites/Sandwell EMP3 Allocations_region.shx|layername=Sandwell EMP3 Allocations_region",8.734,0,0,0,0,null,1,0,0,null,1,0,0,null,1]
["SEC3-76","Wharfeside, Oldbury",6.17,"N:/2024/Projects/2024s0196 - Sandwell Metropolitan Borough Council - Sandwell L1 & L2 SFRA/1_WIP/HM/Graphical/Shapefiles/Development_sites/Sandwell EMP3 Allocations_region.shx|layername=Sandwell EMP3 Allocations_region",6.1970000000000001,0,0,0,0,null,1,0,0,null,1,0,0,null,1]
["SEC3-192","Whitehall Rd Ind Est, West Brom (2916)",2.58,"N:/2024/Projects/2024s0196 - Sandwell Metropolitan Borough Council - Sandwell L1 & L2 SFRA/1_WIP/HM/Graphical/Shapefiles/Development_sites/Sandwell EMP3 Allocations_region.shx|layername=Sandwell EMP3 Allocations_region",2.59,0,0,0,0,null,1,0,0,null,1,0,0,null,1]
["SEC1-1","Whitehall Road, Tipton",5.3,"N:/2024/Projects/2024s0196 - Sandwell Metropolitan Borough Council - Sandwell L1 & L2 SFRA/1_WIP/HM/Graphical/Shapefiles/Development_sites/Sandwell EMP1 Sites_region.shx|layername=Sandwell EMP1 Sites_region",5.319,0,0,0,0,null,1,0,0,null,1,0,0,null,1]
["SEC3-114","Wrights Plastics, Brandon Way/ Brandon Close",0.57999999999999996,"N:/2024/Projects/2024s0196 - Sandwell Metropolitan Borough Council - Sandwell L1 & L2 SFRA/1_WIP/HM/Graphical/Shapefiles/Development_sites/Sandwell EMP3 Allocations_region.shx|layername=Sandwell EMP3 Allocations_region",0.58699999999999997,0,0,0,0,null,1,0,0,null,{"$f":"K229-(P229+Q229)","v":1},0,0,null,1]
["SEC4-1","Zion Street, Tipton",2.4300000000000002,"N:/2024/Projects/2024s0196 - Sandwell Metropolitan Borough Council - Sandwell L1 & L2 SFRA/1_WIP/HM/Graphical/Shapefiles/Development_sites/Sandwell EMP4 Allocations_region.shx|layername=Sandwell EMP4 Allocations_region",2.4390000000000001,0,0,0,0,null,null,0,0,null,{"$f":"K230-(P230+Q230)","v":0},{"$f":"L230","v":0},{"$f":"M230-P230","v":0},null,0]
[null,null,null,null,null,null,null,null,null,null,null,null,null,null,null,null,null,null,null,null,"Dry Day","Wet day"]
["SH63","192-200 Dudley Road, Oldbury",0.57999999999999996,null,null,null,0,null,0,null,1,{"$f":"G232/100","v":0},0,null,{"$f":"K232-(P232+Q232)","v":1},{"$f":"L232","v":0},{"$f":"M232-P232","v":0},null,1,null,{"$f":"P232*100","v":0},{"$f":"Q232*100","v":0}]
["SH23","28-64 High Street, West Bromwich",0.97,null,null,null,0,null,0,null,1,0,0,null,1,{"$f":"L233","v":0},{"$f":"M233-P233","v":0},null,1,null,{"$f":"P233*100","v":0},{"$f":"Q233*100","v":0}]
["SH58","Abberley Street Grove Lane Master Plan",2.48,null,null,null,0,null,0,null,1,0,0,null,1,0,0,null,1,null,0,0]
["SH8","Alma Street, Wednesbury",0.54,null,null,null,0,null,0,null,1,0,0,null,1,0,0,null,1,null,0,0]
["SM4","Army Reserve, Carters Green",1.17,null,null,null,0,null,0,null,1,0,0,null,1,0,0,null,1,null,0,0]
["SH32","Bank Street (West), Hateley Heath",0.85,null,null,null,0,null,0,null,1,0,0,null,1,0,0,null,1,null,0,0]
["SH59","Beever Road",0.84,null,null,null,6.2806435349473704,null,0,null,1,6.2806435349473708E-2,0,null,0.93719356465052628,6.2806435349473708E-2,0,null,1,null,6.2806435349473704,0]
["SH38","Brades Road, Oldbury",1.2,null,null,null,0,null,0,null,1,0,0,null,1,0,0,null,1,null,0,0]
["SH25","Bradleys Lane / High Street, Tipton",5.32,null,null,null,0,null,0,null,1,0,0,null,1,0,0,null,1,null,0,0]
["SH34","Brandhall Golf Course",5.19,null,null,null,0,null,0,null,1,0,0,null,1,0,0,null,1,null,0,0]
["SH1","Brown Lion Street",0.47,null,null,null,0,null,0,null,1,0,0,null,1,0,0,null,1,null,0,0]
["SH55","Cape Arm Cranford Street",2.14,null,null,null,0,null,0,null,1,0,0,null,1,0,0,null,1,null,0,0]
["SM1","Chances Glass Works",3.39,null,null,null,0,null,0,null,1,0,0,null,1,0,0,null,1,null,0,0]
["SH24","Cokeland Place / Graingers Lane, Cradley Heath",0.37,null,null,null,0,null,0,null,1,0,0,null,1,0,0,null,1,null,0,0]
["SH16","Cradley Heath Factory Centre, Woods Lane, Cradley",5.57,null,null,null,5.36686411163587,null,10.302260761567601,null,1,5.3668641116358697E-2,0.103022607615676,null,0.89697739238432406,5.3668641116358697E-2,4.9353966499317302E-2,null,1,null,5.36686411163587,4.9353966499317306]
["SH54","Cranford Street / Heath Street / Canal",5.01,null,null,null,12.922342669871201,null,13.050209274466701,null,1,0.12922342669871201,0.13050209274466701,null,0.86949790725533305,0.12922342669871201,1.2786660459550014E-3,null,1,null,12.922342669871201,0.12786660459550014]
["SM5","cultural quarter, west brom",1.0900000000000001,null,null,null,0,null,0,null,1,0,0,null,1,0,0,null,1,null,0,0]
["SH21","Dudley Road East",2.66,null,null,null,0,null,0,null,1,0,0,null,1,0,0,null,1,null,0,0]
["SH37","Edwin Richards Quarry, Portway Road, Rowley Regis",51.26,null,null,null,0,null,0,null,1,0,0,null,1,0,0,null,1,null,0,0]
["SH20","Elbow Street, Old Hill",0.72,null,null,null,0,null,0,null,1,0,0,null,1,0,0,null,1,null,0,0]
["SM3","Evans Halshaw car showroom",0.89,null,null,null,0,null,0,null,1,0,0,null,1,0,0,null,1,null,0,0]
["SH28","Friar Street, Wednesbury",1.02,null,null,null,0,null,0,null,1,0,0,null,1,0,0,null,1,null,0,0]
["SM8","George Street Living",2.36,null,null,null,0,null,0,null,1,0,0,null,1,0,0,null,1,null,0,0]
["SH53","Grove Lane/ Cranford Street/ London Street",2.09,null,null,null,0,null,0,null,1,0,0,null,1,0,0,null,1,null,0,0]
["SH57","Grove Street / MMUH / School - Grove Lane MP",2.19,null,null,null,0,null,0,null,1,0,0,null,1,0,0,null,1,null,0,0]
["SH17","Land adj to Droicon Estate, Portway Road, Rowley R",0.66,null,null,null,0,null,0,null,1,0,0,null,1,0,0,null,1,null,0,0]
["SH2","Land adjacent To Asda Wolverhampton Road, Oldbury",1.61,null,null,null,0,null,0,null,1,0,0,null,1,0,0,null,1,null,0,0]
["SH19","Land at Horseley Heath, Alexandra Road, and Lower",2.27,null,null,null,0,null,0,null,1,0,{"$f":"I259/100","v":0},null,1,0,0,null,{"$f":"SUM(O259:Q259)","v":1},null,0,0]
["SH36","Land between Addington Way and River Tame, Temple",0.89,null,null,null,0,null,0,null,1,0,0,null,1,0,0,null,1,null,0,0]
["SH43","Land of Tanhouse Avenue, Great Barr",1.66,null,null,null,0,null,0,null,1,0,0,null,1,0,0,null,1,null,0,0]
["SH30","Land to east of Black Lake, west Bromwich",2.46,null,null,null,0,null,0,null,1,0,0,null,1,0,0,null,1,null,0,0]
["SH14","Langley Maltings, Western Road, Langly",2.73,null,null,null,0,null,0,null,1,0,0,null,1,0,0,null,1,null,0,0]
["SH40","Langley Swimming Centre, Vicarage Road, Oldbury",0.49,null,null,null,0,null,0,null,1,0,0,null,1,0,0,null,1,null,0,0]
["SM2","Lion Farm",21,null,null,null,0,null,0,null,1,0,0,null,1,0,0,null,1,null,0,0]
["SH26","Lower City Road,Oldbury",2.33,null,null,null,0,null,0,null,1,0,0,null,1,0,0,null,1,null,0,0]
["SH4","Lower High Street (Station hotel & Dunns Site).",0.28000000000000003,null,null,null,0,null,0,null,1,0,0,null,1,0,0,null,1,null,0,0]
["SH15","Macarthur Road Industrial Estate Cradley Heath",0.3,null,null,null,0,null,0,null,1,0,0,null,1,0,0,null,1,null,0,0]
["SH5","Mill Street, Great Bridge",0.88,null,null,null,57.753669358632798,null,0,null,1,0.57753669358632798,0,null,0.42246330641367202,0.57753669358632798,0,null,1,null,57.753669358632798,0]
["SH56","Moilliett Street Park - Grove Lane masterplan",0.78,null,null,null,0,null,0,null,1,0,0,null,1,0,0,null,1,null,0,0]
["SH41","North Smethwick Canalside",8.81,null,null,null,6.27999064140121E-3,null,6.27999064140121E-3,null,1,6.2799906414012105E-5,6.2799906414012105E-5,null,0.999937200093586,6.2799906414012105E-5,0,null,1,null,6.2799906414012108E-3,0]
["SH52","overend street, west bromwich",0.71,null,null,null,0,null,0,null,1,0,0,null,1,0,0,null,1,null,0,0]
["SH51","Providence Place / Bratt St",0.74,null,null,null,0,null,0,null,1,0,0,null,1,0,0,null,1,null,0,0]
["SM6","queens square living",3.07,null,null,null,0,null,0,null,1,0,0,null,1,0,0,null,1,null,0,0]
["SH35","Rattlechain Site Land to the north of Temple Way,",14.86,null,null,null,0,null,0,null,1,0,0,null,1,0,0,null,1,null,0,0]
["SH11","Sandwell District & General Hospital,",0.82,null,null,null,0,null,0,null,1,0,0,null,1,0,0,null,1,null,0,0]
["SH13","Silverthorne Lane/ Forge Lane Cradley Heath",2.41,null,null,null,0,null,0,null,1,0,0,null,1,0,0,null,1,null,0,0]
["SH45","Site of 30-144 Mounts Road, Wednesbury",1.07,null,null,null,0,null,0,null,1,0,0,null,1,0,0,null,1,null,0,0]
["SH47","Site Of Former Stone Cross Neighbourhood Office",0.28000000000000003,null,null,null,0,null,0,null,1,0,0,null,1,0,0,null,1,null,0,0]
["SH27","Site surrounding former Post office and Telephone",1.17,null,null,null,0,null,0,null,1,0,0,null,1,0,0,null,1,null,0,0]
["SH65","Smethwick Police Station, Piddock Road, Smethwick",0.22,null,null,null,0,null,0,null,1,0,0,null,1,0,0,null,1,null,0,0]
["SH49","St Johns St, Carters Green",0.82,null,null,null,0,null,0,null,1,0,0,null,1,0,0,null,1,null,0,0]
["SH62","Star and Garter, 252 Duchess Parade, West Bromwich",0.05,null,null,null,0,null,0,null,1,0,0,null,1,0,0,null,1,null,0,0]
["SH18","STW/SMBC Land",28.18,null,null,null,0,null,2.3901903731926901,null,1,0,2.39019037319269E-2,null,0.97609809626807309,0,2.39019037319269E-2,null,1,null,0,2.3901903731926901]
["SH31","Summerton Road, Oldbury",0.89,null,null,null,0,null,0,null,1,0,0,null,1,0,0,null,1,null,0,0]
["SH6","Swan Lane",3.79,null,null,null,0,null,0,null,1,0,0,null,1,0,0,null,1,null,0,0]
["SH22","Tatbank Road Oldbury",1.1499999999999999,null,null,null,0,null,0,null,1,0,0,null,1,0,0,null,1,null,0,0]
["SH50","tentec, guns lane",0.6,null,null,null,0,null,0,null,1,0,0,null,1,0,0,null,1,null,0,0]
["SH61","Thandi Coach Station",0.45,null,null,null,0,null,0,null,1,0,0,null,1,0,0,null,1,null,0,0]
["SH7","The Boat Gauging House & Adjoining Land, Factory R",0.56999999999999995,null,null,null,0,null,0,null,1,0,0,null,1,0,0,null,1,null,0,0]
["SH42","The Forge Tavern, junction Franchise Street and B",0.14000000000000001,null,null,null,0,null,0,null,1,0,0,null,1,0,0,null,1,null,0,0]
["SH9","The Phoenix Collegiate, Friar Park Road, Wednesbur",4.82,null,null,null,0,null,0,null,1,0,0,null,1,0,0,null,1,null,0,0]
["SH10","Tipton Conservative And Unionist Club, 64 Union St",0.14000000000000001,null,null,null,0,null,0,null,1,0,0,null,1,0,0,null,1,null,0,0]
["SH29","Used Car Sales site on corner of Lower Church Lane",0.56999999999999995,null,null,null,0,null,0,null,1,0,0,null,1,0,0,null,1,null,0,0]
["SH66","Wednesbury Police Station, Albert St, Wednesbury",0.33,null,null,null,0,null,0,null,1,{"$f":"G295/100","v":0},0,null,{"$f":"K295-(P295+Q295)","v":1},0,0,null,1,null,0,0]
["SH33","Wellington Road, Tipton",0.86,null,null,null,0,null,0,null,1,0,0,null,1,0,0,null,1,null,0,0]
["SM7","west bromwich central",3.84,null,null,null,0,null,0,null,1,0,0,null,1,{"$f":"L297","v":0},{"$f":"M297-P297","v":0},null,1,null,{"$f":"P297*100","v":0},{"$f":"Q297*100","v":0}]
["SH64","Windmill House, Windmill Lane, Smethwick",0.21,null,null,null,0,null,0,null,1,0,0,null,1,0,0,null,1,null,0,0]
["SH44","Wyndmill crescent, West Bromwich",0.19,null,null,null,0,null,0,null,1,0,0,null,1,0,0,null,1,null,0,0]
["SG1","Brierley Lane, Tipton",0.626,null,null,null,0,null,0,null,1,0,0,null,1,0,0,null,1,null,0,0]
["SG2","Brierley Lane, Tipton",0.75700000000000001,null,null,null,0,null,0,null,1,0,0,null,1,0,0,null,1,null,0,0]

{"sheet":"JBA Groundwater","index":9,"n_rows":301,"n_cols":19,"rows_kept":301,"cut":false,"hidden":true,"merged":[]}
["Sandwell_R","SiteNameAd","SiteAreaHa","path","Area_Ha","0.025m_FG_","0.025m_F_1","0.025m_to_0.5","0.025m_to_0.5_1",null,"Site_area","Area_not_Flooded","0.025m%","0.025m_to_0.5m",null,"Check"]
["SEC3-86",null,4.0999999999999996,"N:/2024/Projects/2024s0196 - Sandwell Metropolitan Borough Council - Sandwell L1 & L2 SFRA/1_WIP/HM/Graphical/Shapefiles/Development_sites/Sandwell EMP3 Allocations_region.shx|layername=Sandwell EMP3 Allocations_region",4.1029999999999998,0,0,0,0,null,1,{"$f":"1-SUM(M2+N2)","v":1},{"$f":"G2/100","v":0},{"$f":"I2/100","v":0},null,{"$f":"SUM(L2+M2+N2)","v":1}]
["SCE4-9",null,99.99,"N:/2024/Projects/2024s0196 - Sandwell Metropolitan Borough Council - Sandwell L1 & L2 SFRA/1_WIP/HM/Graphical/Shapefiles/Development_sites/Sandwell EMP4 Allocations_region.shx|layername=Sandwell EMP4 Allocations_region",0.35899999999999999,0,0,0,0,null,1,{"$f":"1-SUM(M3+N3)","v":1},{"$f":"G3/100","v":0},{"$f":"I3/100","v":0},null,{"$f":"SUM(L3+M3+N3)","v":1}]
["SEC4-2","10-60 Dudley Rd East, Oldbury (3224)",2.0499999999999998,"N:/2024/Projects/2024s0196 - Sandwell Metropolitan Borough Council - Sandwell L1 & L2 SFRA/1_WIP/HM/Graphical/Shapefiles/Development_sites/Sandwell EMP4 Allocations_region.shx|layername=Sandwell EMP4 Allocations_region",2.0590000000000002,0,0,0,0,null,1,1,0,0,null,1]
["SEC3-165","230 Oldbury Rd (3016)",1.52,"N:/2024/Projects/2024s0196 - Sandwell Metropolitan Borough Council - Sandwell L1 & L2 SFRA/1_WIP/HM/Graphical/Shapefiles/Development_sites/Sandwell EMP3 Allocations_region.shx|layername=Sandwell EMP3 Allocations_region",1.5269999999999999,0,0,0,0,null,1,1,0,0,null,1]
["SEC4-3","70-74 Crankhall Lane",1.78,"N:/2024/Projects/2024s0196 - Sandwell Metropolitan Borough Council - Sandwell L1 & L2 SFRA/1_WIP/HM/Graphical/Shapefiles/Development_sites/Sandwell EMP4 Allocations_region.shx|layername=Sandwell EMP4 Allocations_region",1.7589999999999999,0,0,0,0,null,1,1,0,0,null,1]
["SEC3-106","Aeroplas and Olympus Distribution, Great Western Way, Great Bridge",4.7699999999999996,"N:/2024/Projects/2024s0196 - Sandwell Metropolitan Borough Council - Sandwell L1 & L2 SFRA/1_WIP/HM/Graphical/Shapefiles/Development_sites/Sandwell EMP3 Allocations_region.shx|layername=Sandwell EMP3 Allocations_region",4.7839999999999998,0,0,0,0,null,1,1,0,0,null,1]
["SEC3-41","Albion Industrial Estate",9.02,"N:/2024/Projects/2024s0196 - Sandwell Metropolitan Borough Council - Sandwell L1 & L2 SFRA/1_WIP/HM/Graphical/Shapefiles/Development_sites/Sandwell EMP3 Allocations_region.shx|layername=Sandwell EMP3 Allocations_region",9.0500000000000007,0,0,0,0,null,1,1,0,0,null,1]
["SEC3-182","Albion Road",0.91,"N:/2024/Projects/2024s0196 - Sandwell Metropolitan Borough Council - Sandwell L1 & L2 SFRA/1_WIP/HM/Graphical/Shapefiles/Development_sites/Sandwell EMP3 Allocations_region.shx|layername=Sandwell EMP3 Allocations_region",0.91300000000000003,0,0,0,0,null,1,1,0,0,null,1]
["SEC3-9","Alexandra Ind Est, Locarno Rd/ Alexandra Rd, Tipto",1.87,"N:/2024/Projects/2024s0196 - Sandwell Metropolitan Borough Council - Sandwell L1 & L2 SFRA/1_WIP/HM/Graphical/Shapefiles/Development_sites/Sandwell EMP3 Allocations_region.shx|layername=Sandwell EMP3 Allocations_region",1.875,0,0,0,0,null,1,1,0,0,null,1]
["SEC3-64","Alexandra Ind Est/Locarno Road, Tipton",2.56,"N:/2024/Projects/2024s0196 - Sandwell Metropolitan Borough Council - Sandwell L1 & L2 SFRA/1_WIP/HM/Graphical/Shapefiles/Development_sites/Sandwell EMP3 Allocations_region.shx|layername=Sandwell EMP3 Allocations_region",2.5680000000000001,0,0,0,0,null,1,1,0,0,null,1]
["SEC3-93","Alma Street, Smethwick",4.71,"N:/2024/Projects/2024s0196 - Sandwell Metropolitan Borough Council - Sandwell L1 & L2 SFRA/1_WIP/HM/Graphical/Shapefiles/Development_sites/Sandwell EMP3 Allocations_region.shx|layername=Sandwell EMP3 Allocations_region",4.726,14477.6409807945,30.634275013733902,21220.803174746601,44.902613715168101,null,1,0.24463111271097993,0.30634275013733903,0.44902613715168099,null,1]
["SEC3-137","Alutrade, Tat Bank Road",2.69,"N:/2024/Projects/2024s0196 - Sandwell Metropolitan Borough Council - Sandwell L1 & L2 SFRA/1_WIP/HM/Graphical/Shapefiles/Development_sites/Sandwell EMP3 Allocations_region.shx|layername=Sandwell EMP3 Allocations_region",2.7050000000000001,0,0,0,0,null,1,1,0,0,null,1]
["SEC3-30","Arnold Laver, Dudley Rd East, Oldbury (2944",1,"N:/2024/Projects/2024s0196 - Sandwell Metropolitan Borough Council - Sandwell L1 & L2 SFRA/1_WIP/HM/Graphical/Shapefiles/Development_sites/Sandwell EMP3 Allocations_region.shx|layername=Sandwell EMP3 Allocations_region",1.0049999999999999,0,0,0,0,null,1,1,0,0,null,1]
["SEC3-62","Autobase, Dudley Road, Oldbury",16.54,"N:/2024/Projects/2024s0196 - Sandwell Metropolitan Borough Council - Sandwell L1 & L2 SFRA/1_WIP/HM/Graphical/Shapefiles/Development_sites/Sandwell EMP3 Allocations_region.shx|layername=Sandwell EMP3 Allocations_region",16.605,0,0,0,0,null,1,1,0,0,null,1]
["SEC3-128","Barnfield Trading Est Tipton (5450)",2.2599999999999998,"N:/2024/Projects/2024s0196 - Sandwell Metropolitan Borough Council - Sandwell L1 & L2 SFRA/1_WIP/HM/Graphical/Shapefiles/Development_sites/Sandwell EMP3 Allocations_region.shx|layername=Sandwell EMP3 Allocations_region",2.2690000000000001,0,0,0,0,null,1,1,0,0,null,1]
["SEC3-151","Beakes Road, Bearwood (825)",0.69,"N:/2024/Projects/2024s0196 - Sandwell Metropolitan Borough Council - Sandwell L1 & L2 SFRA/1_WIP/HM/Graphical/Shapefiles/Development_sites/Sandwell EMP3 Allocations_region.shx|layername=Sandwell EMP3 Allocations_region",0.69699999999999995,0,0,6969.3531831282298,100,null,1,0,0,1,null,1]
["SEC3-152","Beakes Road, Bearwood (826)",0.92,"N:/2024/Projects/2024s0196 - Sandwell Metropolitan Borough Council - Sandwell L1 & L2 SFRA/1_WIP/HM/Graphical/Shapefiles/Development_sites/Sandwell EMP3 Allocations_region.shx|layername=Sandwell EMP3 Allocations_region",0.92600000000000005,0,0,9256.07604193119,100,null,1,0,0,1,null,1]
["SEC3-16","Bescot Industrial Estate, Wednesbury",7.89,"N:/2024/Projects/2024s0196 - Sandwell Metropolitan Borough Council - Sandwell L1 & L2 SFRA/1_WIP/HM/Graphical/Shapefiles/Development_sites/Sandwell EMP3 Allocations_region.shx|layername=Sandwell EMP3 Allocations_region",7.9219999999999997,0,0,0,0,null,1,1,0,0,null,1]
["SEC3-138","Bevan Motor Bodies, Blakeley Hall Road",0.91,"N:/2024/Projects/2024s0196 - Sandwell Metropolitan Borough Council - Sandwell L1 & L2 SFRA/1_WIP/HM/Graphical/Shapefiles/Development_sites/Sandwell EMP3 Allocations_region.shx|layername=Sandwell EMP3 Allocations_region",0.91200000000000003,0,0,0,0,null,1,1,0,0,null,1]
["SEC3-90","Birchley, Oldbury",7,"N:/2024/Projects/2024s0196 - Sandwell Metropolitan Borough Council - Sandwell L1 & L2 SFRA/1_WIP/HM/Graphical/Shapefiles/Development_sites/Sandwell EMP3 Allocations_region.shx|layername=Sandwell EMP3 Allocations_region",7.03,0,0,0,0,null,1,1,0,0,null,1]
["EMP2-9","Black Country New Road, Wednesbury (Hallens Drive)",43.88,"N:/2024/Projects/2024s0196 - Sandwell Metropolitan Borough Council - Sandwell L1 & L2 SFRA/1_WIP/HM/Graphical/Shapefiles/Development_sites/Sandwell EMP2 Allocations_region.shx|layername=Sandwell EMP2 Allocations_region",44.042999999999999,39979.712554806101,9.0773579528023092,0,0,null,1,0.90922642047197688,9.0773579528023091E-2,0,null,1]
["EMP2-10","Black Country New Road/ Pacific Avenue",23.03,"N:/2024/Projects/2024s0196 - Sandwell Metropolitan Borough Council - Sandwell L1 & L2 SFRA/1_WIP/HM/Graphical/Shapefiles/Development_sites/Sandwell EMP2 Allocations_region.shx|layername=Sandwell EMP2 Allocations_region",23.117999999999999,0,0,0,0,null,1,1,0,0,null,1]
["EMP2-13","Black Country New Road/Golds Hill, Tipton",15.08,"N:/2024/Projects/2024s0196 - Sandwell Metropolitan Borough Council - Sandwell L1 & L2 SFRA/1_WIP/HM/Graphical/Shapefiles/Development_sites/Sandwell EMP2 Allocations_region.shx|layername=Sandwell EMP2 Allocations_region",15.132999999999999,0,0,0,0,null,1,1,0,0,null,1]
["SEC3-130","Bloomfield Park",5.13,"N:/2024/Projects/2024s0196 - Sandwell Metropolitan Borough Council - Sandwell L1 & L2 SFRA/1_WIP/HM/Graphical/Shapefiles/Development_sites/Sandwell EMP3 Allocations_region.shx|layername=Sandwell EMP3 Allocations_region",5.1470000000000002,0,0,0,0,null,1,1,0,0,null,1]
["SEC3-19","Brades Road, Oldbury (Pearsall Drive)",7,"N:/2024/Projects/2024s0196 - Sandwell Metropolitan Borough Council - Sandwell L1 & L2 SFRA/1_WIP/HM/Graphical/Shapefiles/Development_sites/Sandwell EMP3 Allocations_region.shx|layername=Sandwell EMP3 Allocations_region",7.03,0,0,0,0,null,1,1,0,0,null,1]
["SEC3-113","Brandon Way (east side)",0.47,"N:/2024/Projects/2024s0196 - Sandwell Metropolitan Borough Council - Sandwell L1 & L2 SFRA/1_WIP/HM/Graphical/Shapefiles/Development_sites/Sandwell EMP3 Allocations_region.shx|layername=Sandwell EMP3 Allocations_region",0.47,0,0,0,0,null,1,1,0,0,null,1]
["SEC3-154","Brandon Way / Albion Rd, WB (2385 / WBPr32)",6.2,"N:/2024/Projects/2024s0196 - Sandwell Metropolitan Borough Council - Sandwell L1 & L2 SFRA/1_WIP/HM/Graphical/Shapefiles/Development_sites/Sandwell EMP3 Allocations_region.shx|layername=Sandwell EMP3 Allocations_region",6.2249999999999996,0,0,0,0,null,1,1,0,0,null,1]
["SEC1-6","Brandon Way/ Albion Road, West Bromwich",3.07,"N:/2024/Projects/2024s0196 - Sandwell Metropolitan Borough Council - Sandwell L1 & L2 SFRA/1_WIP/HM/Graphical/Shapefiles/Development_sites/Sandwell EMP1 Sites_region.shx|layername=Sandwell EMP1 Sites_region",3.0859999999999999,0,0,0,0,null,1,1,0,0,null,1]
["SEC3-71","Brickhouse Lane",3.87,"N:/2024/Projects/2024s0196 - Sandwell Metropolitan Borough Council - Sandwell L1 & L2 SFRA/1_WIP/HM/Graphical/Shapefiles/Development_sites/Sandwell EMP3 Allocations_region.shx|layername=Sandwell EMP3 Allocations_region",3.883,0,0,0,0,null,1,1,0,0,null,1]
["SEC3-116","Bridge Street/ Potters Lane",3.68,"N:/2024/Projects/2024s0196 - Sandwell Metropolitan Borough Council - Sandwell L1 & L2 SFRA/1_WIP/HM/Graphical/Shapefiles/Development_sites/Sandwell EMP3 Allocations_region.shx|layername=Sandwell EMP3 Allocations_region",3.6949999999999998,0,0,0,0,null,1,1,0,0,null,1]
["SEC1-2","British Gas, Land off Dudley Rd, Oldbury (2949)",1.05,"N:/2024/Projects/2024s0196 - Sandwell Metropolitan Borough Council - Sandwell L1 & L2 SFRA/1_WIP/HM/Graphical/Shapefiles/Development_sites/Sandwell EMP1 Sites_region.shx|layername=Sandwell EMP1 Sites_region",1.056,0,0,0,0,null,1,1,0,0,null,1]
["SEC3-177","Broadcott Industrial Estate, Cradley Heath",1.36,"N:/2024/Projects/2024s0196 - Sandwell Metropolitan Borough Council - Sandwell L1 & L2 SFRA/1_WIP/HM/Graphical/Shapefiles/Development_sites/Sandwell EMP3 Allocations_region.shx|layername=Sandwell EMP3 Allocations_region",1.361,0,0,0,0,null,1,1,0,0,null,1]
["EMP2-12","Broadwell Road, Oldbury",23.68,"N:/2024/Projects/2024s0196 - Sandwell Metropolitan Borough Council - Sandwell L1 & L2 SFRA/1_WIP/HM/Graphical/Shapefiles/Development_sites/Sandwell EMP2 Allocations_region.shx|layername=Sandwell EMP2 Allocations_region",23.771000000000001,0,0,0,0,null,1,1,0,0,null,1]
["SEC3-100","Bromford Road Industrial Estate",7.85,"N:/2024/Projects/2024s0196 - Sandwell Metropolitan Borough Council - Sandwell L1 & L2 SFRA/1_WIP/HM/Graphical/Shapefiles/Development_sites/Sandwell EMP3 Allocations_region.shx|layername=Sandwell EMP3 Allocations_region",7.8810000000000002,0,0,0,0,null,1,1,0,0,null,1]
["SEC3-129","Brook St Bus Centre, Brook St Comm Centre, Tipton",1.53,"N:/2024/Projects/2024s0196 - Sandwell Metropolitan Borough Council - Sandwell L1 & L2 SFRA/1_WIP/HM/Graphical/Shapefiles/Development_sites/Sandwell EMP3 Allocations_region.shx|layername=Sandwell EMP3 Allocations_region",1.538,0,0,0,0,null,1,1,0,0,null,1]
["SEC3-133","Brymill Industrial Estate, Brown Lion St, Tipton",1.78,"N:/2024/Projects/2024s0196 - Sandwell Metropolitan Borough Council - Sandwell L1 & L2 SFRA/1_WIP/HM/Graphical/Shapefiles/Development_sites/Sandwell EMP3 Allocations_region.shx|layername=Sandwell EMP3 Allocations_region",1.7829999999999999,0,0,0,0,null,1,1,0,0,null,1]
["SEC3-123","Burnt Tree Industrial Estate",1.56,"N:/2024/Projects/2024s0196 - Sandwell Metropolitan Borough Council - Sandwell L1 & L2 SFRA/1_WIP/HM/Graphical/Shapefiles/Development_sites/Sandwell EMP3 Allocations_region.shx|layername=Sandwell EMP3 Allocations_region",1.57,0,0,0,0,null,1,1,0,0,null,1]
["SEC3-25","Cakemore Road, Rowley Regis",7.48,"N:/2024/Projects/2024s0196 - Sandwell Metropolitan Borough Council - Sandwell L1 & L2 SFRA/1_WIP/HM/Graphical/Shapefiles/Development_sites/Sandwell EMP3 Allocations_region.shx|layername=Sandwell EMP3 Allocations_region",7.5090000000000003,0,0,45537.900837827299,60.642443447881,null,1,0.39357556552119,0,0.60642443447881,null,1]
["SEC3-50","Cakemore Road, Rowley Regis",0.6,"N:/2024/Projects/2024s0196 - Sandwell Metropolitan Borough Council - Sandwell L1 & L2 SFRA/1_WIP/HM/Graphical/Shapefiles/Development_sites/Sandwell EMP3 Allocations_region.shx|layername=Sandwell EMP3 Allocations_region",0.60299999999999998,0,0,0,0,null,1,1,0,0,null,1]
["EMP2-4","Car Craft, Darlaston Rd/ Old Park Rd, Kings Hill",5.17,"N:/2024/Projects/2024s0196 - Sandwell Metropolitan Borough Council - Sandwell L1 & L2 SFRA/1_WIP/HM/Graphical/Shapefiles/Development_sites/Sandwell EMP2 Allocations_region.shx|layername=Sandwell EMP2 Allocations_region",5.1859999999999999,0,0,0,0,null,1,1,0,0,null,1]
["SEC3-115","Carlyle Bus and Coach, Carlyle Business Park",0.39,"N:/2024/Projects/2024s0196 - Sandwell Metropolitan Borough Council - Sandwell L1 & L2 SFRA/1_WIP/HM/Graphical/Shapefiles/Development_sites/Sandwell EMP3 Allocations_region.shx|layername=Sandwell EMP3 Allocations_region",0.38700000000000001,0,0,0,0,null,1,1,0,0,null,1]
["SEC4-7","Castle St, High St Tipton (2942)",0.7,"N:/2024/Projects/2024s0196 - Sandwell Metropolitan Borough Council - Sandwell L1 & L2 SFRA/1_WIP/HM/Graphical/Shapefiles/Development_sites/Sandwell EMP4 Allocations_region.shx|layername=Sandwell EMP4 Allocations_region",0.70499999999999996,0,0,0,0,null,1,1,0,0,null,1]
["SEC3-148","Castle St, Tipton (2938)",1.49,"N:/2024/Projects/2024s0196 - Sandwell Metropolitan Borough Council - Sandwell L1 & L2 SFRA/1_WIP/HM/Graphical/Shapefiles/Development_sites/Sandwell EMP3 Allocations_region.shx|layername=Sandwell EMP3 Allocations_region",1.494,0,0,0,0,null,1,1,0,0,null,1]
["SEC3-51","Causeway Green Rd / Wolverhampton Road",0.84,"N:/2024/Projects/2024s0196 - Sandwell Metropolitan Borough Council - Sandwell L1 & L2 SFRA/1_WIP/HM/Graphical/Shapefiles/Development_sites/Sandwell EMP3 Allocations_region.shx|layername=Sandwell EMP3 Allocations_region",0.84799999999999998,0,0,0,0,null,1,1,0,0,null,1]
["SEC3-170","Charles Street, West Bromwich",9.02,"N:/2024/Projects/2024s0196 - Sandwell Metropolitan Borough Council - Sandwell L1 & L2 SFRA/1_WIP/HM/Graphical/Shapefiles/Development_sites/Sandwell EMP3 Allocations_region.shx|layername=Sandwell EMP3 Allocations_region",9.0559999999999992,0,0,0,0,null,1,1,0,0,null,1]
["SEC3-109","Chaters Close, Tipton",0.56999999999999995,"N:/2024/Projects/2024s0196 - Sandwell Metropolitan Borough Council - Sandwell L1 & L2 SFRA/1_WIP/HM/Graphical/Shapefiles/Development_sites/Sandwell EMP3 Allocations_region.shx|layername=Sandwell EMP3 Allocations_region",0.57799999999999996,0,0,0,0,null,1,1,0,0,null,1]
["SEC3-38","Church Lane / Gladstone Street, WB (2389 / WBPr38)",2.2000000000000002,"N:/2024/Projects/2024s0196 - Sandwell Metropolitan Borough Council - Sandwell L1 & L2 SFRA/1_WIP/HM/Graphical/Shapefiles/Development_sites/Sandwell EMP3 Allocations_region.shx|layername=Sandwell EMP3 Allocations_region",2.2050000000000001,0,0,0,0,null,1,1,0,0,null,1]
["EMP2-18","Churchbridge, Oldbury",13.98,"N:/2024/Projects/2024s0196 - Sandwell Metropolitan Borough Council - Sandwell L1 & L2 SFRA/1_WIP/HM/Graphical/Shapefiles/Development_sites/Sandwell EMP2 Allocations_region.shx|layername=Sandwell EMP2 Allocations_region",14.035,0,0,13081.242003711001,9.3205643082048208,null,1,0.90679435691795174,0,9.3205643082048206E-2,null,1]
["SEC3-89","Churchbridge, Oldbury (opposite Thurston Avenue)",0.75,"N:/2024/Projects/2024s0196 - Sandwell Metropolitan Borough Council - Sandwell L1 & L2 SFRA/1_WIP/HM/Graphical/Shapefiles/Development_sites/Sandwell EMP3 Allocations_region.shx|layername=Sandwell EMP3 Allocations_region",0.75700000000000001,0,0,0,0,null,1,1,0,0,null,1]
["SEC4-10","Clay Lane, Oldbury",0.23,"N:/2024/Projects/2024s0196 - Sandwell Metropolitan Borough Council - Sandwell L1 & L2 SFRA/1_WIP/HM/Graphical/Shapefiles/Development_sites/Sandwell EMP4 Allocations_region.shx|layername=Sandwell EMP4 Allocations_region",0.22700000000000001,0,0,0,0,null,1,1,0,0,null,1]
["SEC3-23","Cleton Street Business Park, Oldbury",2.0099999999999998,"N:/2024/Projects/2024s0196 - Sandwell Metropolitan Borough Council - Sandwell L1 & L2 SFRA/1_WIP/HM/Graphical/Shapefiles/Development_sites/Sandwell EMP3 Allocations_region.shx|layername=Sandwell EMP3 Allocations_region",2.0129999999999999,0,0,0,0,null,1,1,0,0,null,1]
["SEC1-5","Coneygre Business Park (open land)",7.22,"N:/2024/Projects/2024s0196 - Sandwell Metropolitan Borough Council - Sandwell L1 & L2 SFRA/1_WIP/HM/Graphical/Shapefiles/Development_sites/Sandwell EMP1 Sites_region.shx|layername=Sandwell EMP1 Sites_region",7.234,0,0,0,0,null,1,1,0,0,null,1]
["SEC3-20","Coneygre Business Park, Tipton",17.690000000000001,"N:/2024/Projects/2024s0196 - Sandwell Metropolitan Borough Council - Sandwell L1 & L2 SFRA/1_WIP/HM/Graphical/Shapefiles/Development_sites/Sandwell EMP3 Allocations_region.shx|layername=Sandwell EMP3 Allocations_region",17.754999999999999,0,0,0,0,null,1,1,0,0,null,1]
["SEC3-175","Coneygre Rd, Burnt Tree, Tipton",1.02,"N:/2024/Projects/2024s0196 - Sandwell Metropolitan Borough Council - Sandwell L1 & L2 SFRA/1_WIP/HM/Graphical/Shapefiles/Development_sites/Sandwell EMP3 Allocations_region.shx|layername=Sandwell EMP3 Allocations_region",1.02,0,0,0,0,null,1,1,0,0,null,1]
["SEC3-174","Corner of Bromford Lane / Brandon Way",3.94,"N:/2024/Projects/2024s0196 - Sandwell Metropolitan Borough Council - Sandwell L1 & L2 SFRA/1_WIP/HM/Graphical/Shapefiles/Development_sites/Sandwell EMP3 Allocations_region.shx|layername=Sandwell EMP3 Allocations_region",3.9529999999999998,0,0,0,0,null,1,1,0,0,null,1]
["SEC3-85","Corngreaves Rd (City Estate Hillcrest Ind Est) Pal",2.8,"N:/2024/Projects/2024s0196 - Sandwell Metropolitan Borough Council - Sandwell L1 & L2 SFRA/1_WIP/HM/Graphical/Shapefiles/Development_sites/Sandwell EMP3 Allocations_region.shx|layername=Sandwell EMP3 Allocations_region",2.8079999999999998,0,0,0,0,null,1,1,0,0,null,1]
["SEC3-24","Corngreaves Road, Cradley Heath",19.670000000000002,"N:/2024/Projects/2024s0196 - Sandwell Metropolitan Borough Council - Sandwell L1 & L2 SFRA/1_WIP/HM/Graphical/Shapefiles/Development_sites/Sandwell EMP3 Allocations_region.shx|layername=Sandwell EMP3 Allocations_region",19.739999999999998,0,0,0,0,null,1,1,0,0,null,1]
["SEC3-80","Corngreaves Road, Cradley Heath",3.64,"N:/2024/Projects/2024s0196 - Sandwell Metropolitan Borough Council - Sandwell L1 & L2 SFRA/1_WIP/HM/Graphical/Shapefiles/Development_sites/Sandwell EMP3 Allocations_region.shx|layername=Sandwell EMP3 Allocations_region",3.6509999999999998,0,0,0,0,null,1,1,0,0,null,1]
["SEC3-96","Cornwall Road",4.0199999999999996,"N:/2024/Projects/2024s0196 - Sandwell Metropolitan Borough Council - Sandwell L1 & L2 SFRA/1_WIP/HM/Graphical/Shapefiles/Development_sites/Sandwell EMP3 Allocations_region.shx|layername=Sandwell EMP3 Allocations_region",4.0250000000000004,0,0,0,0,null,1,1,0,0,null,1]
["SEC3-11","Cornwall Road/Foundary Lane, Smethwick",0.35,"N:/2024/Projects/2024s0196 - Sandwell Metropolitan Borough Council - Sandwell L1 & L2 SFRA/1_WIP/HM/Graphical/Shapefiles/Development_sites/Sandwell EMP3 Allocations_region.shx|layername=Sandwell EMP3 Allocations_region",0.35499999999999998,628.22032782139195,17.676705330714899,0,0,null,1,0.82323294669285096,0.17676705330714898,0,null,1]
["SEC3-97","Cornwall Road/Foundary Lane, Smethwick",99.99,"N:/2024/Projects/2024s0196 - Sandwell Metropolitan Borough Council - Sandwell L1 & L2 SFRA/1_WIP/HM/Graphical/Shapefiles/Development_sites/Sandwell EMP3 Allocations_region.shx|layername=Sandwell EMP3 Allocations_region",2.8839999999999999,0,0,22619.604669168399,78.420090728688606,null,1,0.21579909271311393,0,0.78420090728688607,null,1]
["SEC3-28","Cornwall Road/Foundary Lane, Smethwick (north of Anne Road)",2.3199999999999998,"N:/2024/Projects/2024s0196 - Sandwell Metropolitan Borough Council - Sandwell L1 & L2 SFRA/1_WIP/HM/Graphical/Shapefiles/Development_sites/Sandwell EMP3 Allocations_region.shx|layername=Sandwell EMP3 Allocations_region",2.3319999999999999,21635.726157106001,92.759603079108402,950.59371898006304,4.0755135936643097,null,1,3.1648833272272858E-2,0.92759603079108399,4.0755135936643094E-2,null,1]
["SEC3-79","Cradley Business Patrk, Cradley Heath",3.69,"N:/2024/Projects/2024s0196 - Sandwell Metropolitan Borough Council - Sandwell L1 & L2 SFRA/1_WIP/HM/Graphical/Shapefiles/Development_sites/Sandwell EMP3 Allocations_region.shx|layername=Sandwell EMP3 Allocations_region",3.706,0,0,0,0,null,1,1,0,0,null,1]
["SEC3-52","Crosswells Road / Hall Street, Oldbury",0.8,"N:/2024/Projects/2024s0196 - Sandwell Metropolitan Borough Council - Sandwell L1 & L2 SFRA/1_WIP/HM/Graphical/Shapefiles/Development_sites/Sandwell EMP3 Allocations_region.shx|layername=Sandwell EMP3 Allocations_region",0.8,0,0,0,0,null,1,1,0,0,null,1]
["SEC3-166","Crystal Drive, Smethwick",14.3,"N:/2024/Projects/2024s0196 - Sandwell Metropolitan Borough Council - Sandwell L1 & L2 SFRA/1_WIP/HM/Graphical/Shapefiles/Development_sites/Sandwell EMP3 Allocations_region.shx|layername=Sandwell EMP3 Allocations_region",14.358000000000001,0,0,35063.313422634397,24.4204811972632,null,1,0.755795188027368,0,0.244204811972632,null,1]
["SEC3-102","Cygnus Way, West Bromwich",12.53,"N:/2024/Projects/2024s0196 - Sandwell Metropolitan Borough Council - Sandwell L1 & L2 SFRA/1_WIP/HM/Graphical/Shapefiles/Development_sites/Sandwell EMP3 Allocations_region.shx|layername=Sandwell EMP3 Allocations_region",12.579000000000001,0,0,0,0,null,1,{"$f":"1-SUM(M67+N67)","v":1},{"$f":"G67/100","v":0},{"$f":"I67/100","v":0},null,{"$f":"SUM(L67+M67+N67)","v":1}]
["EMP2-2","Danks Way, Hill Top, West Bromwich",7.6,"N:/2024/Projects/2024s0196 - Sandwell Metropolitan Borough Council - Sandwell L1 & L2 SFRA/1_WIP/HM/Graphical/Shapefiles/Development_sites/Sandwell EMP2 Allocations_region.shx|layername=Sandwell EMP2 Allocations_region",7.6260000000000003,0,0,0,0,null,1,1,0,0,null,1]
["SEC3-178","Dart Products, Garratts Lane",7.82,"N:/2024/Projects/2024s0196 - Sandwell Metropolitan Borough Council - Sandwell L1 & L2 SFRA/1_WIP/HM/Graphical/Shapefiles/Development_sites/Sandwell EMP3 Allocations_region.shx|layername=Sandwell EMP3 Allocations_region",7.85,0,0,0,0,null,1,1,0,0,null,1]
["SEC3-183","Dartmouth Road, Smethwick",23.67,"N:/2024/Projects/2024s0196 - Sandwell Metropolitan Borough Council - Sandwell L1 & L2 SFRA/1_WIP/HM/Graphical/Shapefiles/Development_sites/Sandwell EMP3 Allocations_region.shx|layername=Sandwell EMP3 Allocations_region",23.757999999999999,0,0,231545.37933444901,97.458687675202398,null,1,2.5413123247976066E-2,0,0.97458687675202393,null,1]
["EMP2-16","Dartmouth Road/ Piaro Way, Smethwick",6.93,"N:/2024/Projects/2024s0196 - Sandwell Metropolitan Borough Council - Sandwell L1 & L2 SFRA/1_WIP/HM/Graphical/Shapefiles/Development_sites/Sandwell EMP2 Allocations_region.shx|layername=Sandwell EMP2 Allocations_region",6.96,0,0,11707.83436282,16.8223340402741,null,1,0.83177665959725899,0,0.16822334040274101,null,1]
["SEC3-56","Delta Point, Greets Green Road",8.15,"N:/2024/Projects/2024s0196 - Sandwell Metropolitan Borough Council - Sandwell L1 & L2 SFRA/1_WIP/HM/Graphical/Shapefiles/Development_sites/Sandwell EMP3 Allocations_region.shx|layername=Sandwell EMP3 Allocations_region",8.1829999999999998,0,0,0,0,null,1,1,0,0,null,1]
["EMP2-3","Direct 2, Roway Lane, Oldbury",8.15,"N:/2024/Projects/2024s0196 - Sandwell Metropolitan Borough Council - Sandwell L1 & L2 SFRA/1_WIP/HM/Graphical/Shapefiles/Development_sites/Sandwell EMP2 Allocations_region.shx|layername=Sandwell EMP2 Allocations_region",8.1809999999999992,0,0,0,0,null,1,1,0,0,null,1]
["EMP2-6","Doranda Way",13.91,"N:/2024/Projects/2024s0196 - Sandwell Metropolitan Borough Council - Sandwell L1 & L2 SFRA/1_WIP/HM/Graphical/Shapefiles/Development_sites/Sandwell EMP2 Allocations_region.shx|layername=Sandwell EMP2 Allocations_region",13.967000000000001,0,0,124617.965717889,89.223424167187403,null,1,0.10776575832812596,0,0.89223424167187404,null,1]
["SEC3-160","Doulton Road, Rowley Regis (east of canal)",3.51,"N:/2024/Projects/2024s0196 - Sandwell Metropolitan Borough Council - Sandwell L1 & L2 SFRA/1_WIP/HM/Graphical/Shapefiles/Development_sites/Sandwell EMP3 Allocations_region.shx|layername=Sandwell EMP3 Allocations_region",3.52,0,0,9063.8739930487991,25.749747977575101,null,1,0.74250252022424901,0,0.25749747977575099,null,1]
["EMP2-11","DPD, Roebuck Lane",8.9,"N:/2024/Projects/2024s0196 - Sandwell Metropolitan Borough Council - Sandwell L1 & L2 SFRA/1_WIP/HM/Graphical/Shapefiles/Development_sites/Sandwell EMP2 Allocations_region.shx|layername=Sandwell EMP2 Allocations_region",8.9339999999999993,0,0,89335.1443199934,99.995595554967593,null,1,4.4044450324021156E-5,0,0.99995595554967598,null,1]
["SEC3-46","Droicon Ind Est, Portway Road",0.87,"N:/2024/Projects/2024s0196 - Sandwell Metropolitan Borough Council - Sandwell L1 & L2 SFRA/1_WIP/HM/Graphical/Shapefiles/Development_sites/Sandwell EMP3 Allocations_region.shx|layername=Sandwell EMP3 Allocations_region",0.872,0,0,0,0,null,1,1,0,0,null,1]
["SEC3-124","Dudley Rd, 28 Dudley Rd West (2957)",1.78,"N:/2024/Projects/2024s0196 - Sandwell Metropolitan Borough Council - Sandwell L1 & L2 SFRA/1_WIP/HM/Graphical/Shapefiles/Development_sites/Sandwell EMP3 Allocations_region.shx|layername=Sandwell EMP3 Allocations_region",1.786,0,0,0,0,null,1,1,0,0,null,1]
["SEC3-61","Dudley Road, Oldbury",4.9000000000000004,"N:/2024/Projects/2024s0196 - Sandwell Metropolitan Borough Council - Sandwell L1 & L2 SFRA/1_WIP/HM/Graphical/Shapefiles/Development_sites/Sandwell EMP3 Allocations_region.shx|layername=Sandwell EMP3 Allocations_region",4.915,0,0,0,0,null,1,1,0,0,null,1]
["SEC3-185","Eel Street, Oldbury",3.16,"N:/2024/Projects/2024s0196 - Sandwell Metropolitan Borough Council - Sandwell L1 & L2 SFRA/1_WIP/HM/Graphical/Shapefiles/Development_sites/Sandwell EMP3 Allocations_region.shx|layername=Sandwell EMP3 Allocations_region",3.1680000000000001,0,0,0,0,null,1,1,0,0,null,1]
["SEC3-143","EMR Oldbury",7.53,"N:/2024/Projects/2024s0196 - Sandwell Metropolitan Borough Council - Sandwell L1 & L2 SFRA/1_WIP/HM/Graphical/Shapefiles/Development_sites/Sandwell EMP3 Allocations_region.shx|layername=Sandwell EMP3 Allocations_region",7.5579999999999998,0,0,0,0,null,1,1,0,0,null,1]
["SEC3-14","Engine Street, Oldbury",1.64,"N:/2024/Projects/2024s0196 - Sandwell Metropolitan Borough Council - Sandwell L1 & L2 SFRA/1_WIP/HM/Graphical/Shapefiles/Development_sites/Sandwell EMP3 Allocations_region.shx|layername=Sandwell EMP3 Allocations_region",1.643,0,0,0,0,null,1,1,0,0,null,1]
["SEC3-163","Exchange Works, Kelvin Way, West Bromwich",1.49,"N:/2024/Projects/2024s0196 - Sandwell Metropolitan Borough Council - Sandwell L1 & L2 SFRA/1_WIP/HM/Graphical/Shapefiles/Development_sites/Sandwell EMP3 Allocations_region.shx|layername=Sandwell EMP3 Allocations_region",1.498,0,0,0,0,null,1,1,0,0,null,1]
["SEC3-155","Fisher St / Coneygre Rd, Tipton",1.74,"N:/2024/Projects/2024s0196 - Sandwell Metropolitan Borough Council - Sandwell L1 & L2 SFRA/1_WIP/HM/Graphical/Shapefiles/Development_sites/Sandwell EMP3 Allocations_region.shx|layername=Sandwell EMP3 Allocations_region",1.744,0,0,0,0,null,1,1,0,0,null,1]
["SEC3-149","Fitzgerald Lighting Ltd, Rood End Rd (2009)",1.39,"N:/2024/Projects/2024s0196 - Sandwell Metropolitan Borough Council - Sandwell L1 & L2 SFRA/1_WIP/HM/Graphical/Shapefiles/Development_sites/Sandwell EMP3 Allocations_region.shx|layername=Sandwell EMP3 Allocations_region",1.393,0,0,9535.6676633423594,68.4528989608296,null,1,0.315471010391704,0,0.684528989608296,null,1]
["SEC3-132","Former Corus Premises, Bloomfield Rd, Tipton (5972",0.56999999999999995,"N:/2024/Projects/2024s0196 - Sandwell Metropolitan Borough Council - Sandwell L1 & L2 SFRA/1_WIP/HM/Graphical/Shapefiles/Development_sites/Sandwell EMP3 Allocations_region.shx|layername=Sandwell EMP3 Allocations_region",0.57599999999999996,0,0,0,0,null,1,1,0,0,null,1]
["SEC3-66","Foundry Lane (south)",11.75,"N:/2024/Projects/2024s0196 - Sandwell Metropolitan Borough Council - Sandwell L1 & L2 SFRA/1_WIP/HM/Graphical/Shapefiles/Development_sites/Sandwell EMP3 Allocations_region.shx|layername=Sandwell EMP3 Allocations_region",11.765000000000001,115140.544569445,97.863763748564693,2538.3854377851699,2.1575019791258301,null,1,-2.1265727690522596E-4,0.97863763748564692,2.1575019791258299E-2,null,1]
["SEC3-73","Foundry Lane/ Anne Road",5.24,"N:/2024/Projects/2024s0196 - Sandwell Metropolitan Borough Council - Sandwell L1 & L2 SFRA/1_WIP/HM/Graphical/Shapefiles/Development_sites/Sandwell EMP3 Allocations_region.shx|layername=Sandwell EMP3 Allocations_region",5.2569999999999997,13359.2625557682,25.4142035668375,75.059824192230707,0.14279123894370499,null,1,0.74443005194218792,0.25414203566837501,1.4279123894370498E-3,null,1]
["SEC3-159","Fountain Lane",1.31,"N:/2024/Projects/2024s0196 - Sandwell Metropolitan Borough Council - Sandwell L1 & L2 SFRA/1_WIP/HM/Graphical/Shapefiles/Development_sites/Sandwell EMP3 Allocations_region.shx|layername=Sandwell EMP3 Allocations_region",1.3160000000000001,0,0,0,0,null,1,1,0,0,null,1]
["SEC3-139","Garratts Lane/ Powke Lane",9.35,"N:/2024/Projects/2024s0196 - Sandwell Metropolitan Borough Council - Sandwell L1 & L2 SFRA/1_WIP/HM/Graphical/Shapefiles/Development_sites/Sandwell EMP3 Allocations_region.shx|layername=Sandwell EMP3 Allocations_region",9.3840000000000003,0,0,0,0,null,1,1,0,0,null,1]
["SEC3-47","Garretts Lane, Cradley Heath",0.7,"N:/2024/Projects/2024s0196 - Sandwell Metropolitan Borough Council - Sandwell L1 & L2 SFRA/1_WIP/HM/Graphical/Shapefiles/Development_sites/Sandwell EMP3 Allocations_region.shx|layername=Sandwell EMP3 Allocations_region",0.70699999999999996,0,0,0,0,null,1,1,0,0,null,1]
["SEC3-68","George Henry Road",19.79,"N:/2024/Projects/2024s0196 - Sandwell Metropolitan Borough Council - Sandwell L1 & L2 SFRA/1_WIP/HM/Graphical/Shapefiles/Development_sites/Sandwell EMP3 Allocations_region.shx|layername=Sandwell EMP3 Allocations_region",19.87,0,0,0,0,null,1,1,0,0,null,1]
["SEC3-57","Great Bridge Ind Est / Harrold Street",4.57,"N:/2024/Projects/2024s0196 - Sandwell Metropolitan Borough Council - Sandwell L1 & L2 SFRA/1_WIP/HM/Graphical/Shapefiles/Development_sites/Sandwell EMP3 Allocations_region.shx|layername=Sandwell EMP3 Allocations_region",4.5919999999999996,0,0,0,0,null,1,1,0,0,null,1]
["SEC3-15","Great Western Street, Wednesbury",3.82,"N:/2024/Projects/2024s0196 - Sandwell Metropolitan Borough Council - Sandwell L1 & L2 SFRA/1_WIP/HM/Graphical/Shapefiles/Development_sites/Sandwell EMP3 Allocations_region.shx|layername=Sandwell EMP3 Allocations_region",3.8319999999999999,4504.7003008211605,11.7539803569688,0,0,null,1,0.88246019643031204,0.117539803569688,0,null,1]
["SEC3-60","Griffin Ind Est, Penncricket Lane",3.31,"N:/2024/Projects/2024s0196 - Sandwell Metropolitan Borough Council - Sandwell L1 & L2 SFRA/1_WIP/HM/Graphical/Shapefiles/Development_sites/Sandwell EMP3 Allocations_region.shx|layername=Sandwell EMP3 Allocations_region",3.323,0,0,0,0,null,1,1,0,0,null,1]
["SEC3-122","Groveland Rd (2963)",1.18,"N:/2024/Projects/2024s0196 - Sandwell Metropolitan Borough Council - Sandwell L1 & L2 SFRA/1_WIP/HM/Graphical/Shapefiles/Development_sites/Sandwell EMP3 Allocations_region.shx|layername=Sandwell EMP3 Allocations_region",1.1830000000000001,0,0,0,0,null,1,1,0,0,null,1]
["SEC3-21","Hainge Road, Oldbury",14.28,"N:/2024/Projects/2024s0196 - Sandwell Metropolitan Borough Council - Sandwell L1 & L2 SFRA/1_WIP/HM/Graphical/Shapefiles/Development_sites/Sandwell EMP3 Allocations_region.shx|layername=Sandwell EMP3 Allocations_region",14.332000000000001,0,0,0,0,null,1,1,0,0,null,1]
["SEC3-22","Hale Trading Estate, Tipton",2.73,"N:/2024/Projects/2024s0196 - Sandwell Metropolitan Borough Council - Sandwell L1 & L2 SFRA/1_WIP/HM/Graphical/Shapefiles/Development_sites/Sandwell EMP3 Allocations_region.shx|layername=Sandwell EMP3 Allocations_region",2.74,0,0,0,0,null,1,1,0,0,null,1]
["EMP2-8","Hales Way, Oldbury",1.51,"N:/2024/Projects/2024s0196 - Sandwell Metropolitan Borough Council - Sandwell L1 & L2 SFRA/1_WIP/HM/Graphical/Shapefiles/Development_sites/Sandwell EMP2 Allocations_region.shx|layername=Sandwell EMP2 Allocations_region",1.5169999999999999,0,0,0,0,null,1,1,0,0,null,1]
["SEC3-95","Halfords Lane",24.21,"N:/2024/Projects/2024s0196 - Sandwell Metropolitan Borough Council - Sandwell L1 & L2 SFRA/1_WIP/HM/Graphical/Shapefiles/Development_sites/Sandwell EMP3 Allocations_region.shx|layername=Sandwell EMP3 Allocations_region",24.248000000000001,35984.330849671198,14.8401280207387,69505.999958684493,28.664641338071799,null,1,0.56495230641189498,0.14840128020738699,0.286646413380718,null,1]
["SEC3-103","Hill Top, West Bromwich",15.13,"N:/2024/Projects/2024s0196 - Sandwell Metropolitan Borough Council - Sandwell L1 & L2 SFRA/1_WIP/HM/Graphical/Shapefiles/Development_sites/Sandwell EMP3 Allocations_region.shx|layername=Sandwell EMP3 Allocations_region",15.186999999999999,0,0,221.83665320229201,0.14607109447313801,null,1,0.99853928905526868,0,1.4607109447313802E-3,null,1]
["SEC3-18","Holloway Bank",1.03,"N:/2024/Projects/2024s0196 - Sandwell Metropolitan Borough Council - Sandwell L1 & L2 SFRA/1_WIP/HM/Graphical/Shapefiles/Development_sites/Sandwell EMP3 Allocations_region.shx|layername=Sandwell EMP3 Allocations_region",1.034,2158.9230184109902,20.875408633963101,4726.2661974641996,45.699979732288,null,1,0.33424611633748902,0.208754086339631,0.45699979732287999,null,1]
["SEC3-104","Holloway Bank, Wednesbury",5.29,"N:/2024/Projects/2024s0196 - Sandwell Metropolitan Borough Council - Sandwell L1 & L2 SFRA/1_WIP/HM/Graphical/Shapefiles/Development_sites/Sandwell EMP3 Allocations_region.shx|layername=Sandwell EMP3 Allocations_region",5.3079999999999998,33207.2162355525,62.563108145731199,9437.3636049728702,17.780195594847001,null,1,0.19656696259421802,0.62563108145731194,0.17780195594847001,null,1]
["SEC3-67","Holloway Bank/ Bilport Lane",1.77,"N:/2024/Projects/2024s0196 - Sandwell Metropolitan Borough Council - Sandwell L1 & L2 SFRA/1_WIP/HM/Graphical/Shapefiles/Development_sites/Sandwell EMP3 Allocations_region.shx|layername=Sandwell EMP3 Allocations_region",1.776,17051.1705548604,96.004301230113001,276.040373507364,1.5542078524526699,null,1,2.4414909174343302E-2,0.96004301230112998,1.5542078524526699E-2,null,1]
["SEC3-88","Houghton Street, Oldbury",1.43,"N:/2024/Projects/2024s0196 - Sandwell Metropolitan Borough Council - Sandwell L1 & L2 SFRA/1_WIP/HM/Graphical/Shapefiles/Development_sites/Sandwell EMP3 Allocations_region.shx|layername=Sandwell EMP3 Allocations_region",1.4390000000000001,0,0,0,0,null,1,1,0,0,null,1]
["SEC3-69","Howard Street",27.83,"N:/2024/Projects/2024s0196 - Sandwell Metropolitan Borough Council - Sandwell L1 & L2 SFRA/1_WIP/HM/Graphical/Shapefiles/Development_sites/Sandwell EMP3 Allocations_region.shx|layername=Sandwell EMP3 Allocations_region",27.937999999999999,0,0,0,0,null,1,1,0,0,null,1]
["SEC3-78","James Watt Industrial Park",3.63,"N:/2024/Projects/2024s0196 - Sandwell Metropolitan Borough Council - Sandwell L1 & L2 SFRA/1_WIP/HM/Graphical/Shapefiles/Development_sites/Sandwell EMP3 Allocations_region.shx|layername=Sandwell EMP3 Allocations_region",3.6389999999999998,6665.3612680169099,18.317499297415399,29922.741514871999,82.232571444471205,null,1,-5.500707418865991E-3,0.18317499297415399,0.82232571444471203,null,1]
["SEC3-136","JAS Ind Park, Titford Lane, Oldbury (3013)",0.94,"N:/2024/Projects/2024s0196 - Sandwell Metropolitan Borough Council - Sandwell L1 & L2 SFRA/1_WIP/HM/Graphical/Shapefiles/Development_sites/Sandwell EMP3 Allocations_region.shx|layername=Sandwell EMP3 Allocations_region",0.94,0,0,0,0,null,1,1,0,0,null,1]
["SEC3-146","JerseyTex Ltd, Upper Church Lane, Princes End",1.58,"N:/2024/Projects/2024s0196 - Sandwell Metropolitan Borough Council - Sandwell L1 & L2 SFRA/1_WIP/HM/Graphical/Shapefiles/Development_sites/Sandwell EMP3 Allocations_region.shx|layername=Sandwell EMP3 Allocations_region",1.5820000000000001,0,0,0,0,null,1,1,0,0,null,1]
["SEC3-169","JH Lavender & Co, Crankhall Lane, West Bromwich",1.31,"N:/2024/Projects/2024s0196 - Sandwell Metropolitan Borough Council - Sandwell L1 & L2 SFRA/1_WIP/HM/Graphical/Shapefiles/Development_sites/Sandwell EMP3 Allocations_region.shx|layername=Sandwell EMP3 Allocations_region",1.3140000000000001,0,0,0,0,null,1,1,0,0,null,1]
["SEC3-91","Joseph Street, Oldbury",2.95,"N:/2024/Projects/2024s0196 - Sandwell Metropolitan Borough Council - Sandwell L1 & L2 SFRA/1_WIP/HM/Graphical/Shapefiles/Development_sites/Sandwell EMP3 Allocations_region.shx|layername=Sandwell EMP3 Allocations_region",2.9660000000000002,0,0,0,0,null,1,1,0,0,null,1]
["EMP2-15","Junction 9 (Opus 9)",2.33,"N:/2024/Projects/2024s0196 - Sandwell Metropolitan Borough Council - Sandwell L1 & L2 SFRA/1_WIP/HM/Graphical/Shapefiles/Development_sites/Sandwell EMP2 Allocations_region.shx|layername=Sandwell EMP2 Allocations_region",2.343,0,0,0,0,null,1,1,0,0,null,1]
["SEC3-12","Junction One, Oldbury",4.7,"N:/2024/Projects/2024s0196 - Sandwell Metropolitan Borough Council - Sandwell L1 & L2 SFRA/1_WIP/HM/Graphical/Shapefiles/Development_sites/Sandwell EMP3 Allocations_region.shx|layername=Sandwell EMP3 Allocations_region",4.7169999999999996,0,0,0,0,null,1,1,0,0,null,1]
["SEC1-3","Junction Two, Oldbury",1.1200000000000001,"N:/2024/Projects/2024s0196 - Sandwell Metropolitan Borough Council - Sandwell L1 & L2 SFRA/1_WIP/HM/Graphical/Shapefiles/Development_sites/Sandwell EMP1 Sites_region.shx|layername=Sandwell EMP1 Sites_region",1.1279999999999999,0,0,7830.3680712855403,69.435650097020797,null,1,0.30564349902979204,0,0.69435650097020796,null,1]
["SEC3-98","Kelvin Way WBPr35",33.770000000000003,"N:/2024/Projects/2024s0196 - Sandwell Metropolitan Borough Council - Sandwell L1 & L2 SFRA/1_WIP/HM/Graphical/Shapefiles/Development_sites/Sandwell EMP3 Allocations_region.shx|layername=Sandwell EMP3 Allocations_region",33.9,0,0,50053.808558309902,14.7651660825082,null,1,0.85234833917491803,0,0.14765166082508199,null,1]
["EMP2-5","Kings Hill Business Park",3.26,"N:/2024/Projects/2024s0196 - Sandwell Metropolitan Borough Council - Sandwell L1 & L2 SFRA/1_WIP/HM/Graphical/Shapefiles/Development_sites/Sandwell EMP2 Allocations_region.shx|layername=Sandwell EMP2 Allocations_region",3.2679999999999998,0,0,0,0,null,1,1,0,0,null,1]
["SEC3-193","Kitchener Street, Smethwick",1.39,"N:/2024/Projects/2024s0196 - Sandwell Metropolitan Borough Council - Sandwell L1 & L2 SFRA/1_WIP/HM/Graphical/Shapefiles/Development_sites/Sandwell EMP3 Allocations_region.shx|layername=Sandwell EMP3 Allocations_region",1.3939999999999999,13774.669717823301,98.817416281847002,54.359922145660597,0.38996993508788003,null,1,7.9261378306512142E-3,0.98817416281847004,3.8996993508788004E-3,null,1]
["SEC3-131","Land & premises Barnfield Rd, Brook St, Bloomfield",0.83,"N:/2024/Projects/2024s0196 - Sandwell Metropolitan Borough Council - Sandwell L1 & L2 SFRA/1_WIP/HM/Graphical/Shapefiles/Development_sites/Sandwell EMP3 Allocations_region.shx|layername=Sandwell EMP3 Allocations_region",0.83499999999999996,0,0,0,0,null,1,1,0,0,null,1]
["SEC3-43","Land at Birmingham Road / Roebuck Lane",6.78,"N:/2024/Projects/2024s0196 - Sandwell Metropolitan Borough Council - Sandwell L1 & L2 SFRA/1_WIP/HM/Graphical/Shapefiles/Development_sites/Sandwell EMP3 Allocations_region.shx|layername=Sandwell EMP3 Allocations_region",6.806,250.19946921373901,0.36761884894924501,33495.004294081999,49.214312735497401,null,1,0.50418068415553352,3.67618848949245E-3,0.49214312735497401,null,1]
["SEC3-156","Land at corner of Birmingham Road",0.48,"N:/2024/Projects/2024s0196 - Sandwell Metropolitan Borough Council - Sandwell L1 & L2 SFRA/1_WIP/HM/Graphical/Shapefiles/Development_sites/Sandwell EMP3 Allocations_region.shx|layername=Sandwell EMP3 Allocations_region",0.48,0,0,0,0,null,1,1,0,0,null,1]
["SEC3-127","Land at Doulton Way, bt Factory Rd, Bloomfield Rd, Tipton",2.75,"N:/2024/Projects/2024s0196 - Sandwell Metropolitan Borough Council - Sandwell L1 & L2 SFRA/1_WIP/HM/Graphical/Shapefiles/Development_sites/Sandwell EMP3 Allocations_region.shx|layername=Sandwell EMP3 Allocations_region",2.7589999999999999,0,0,0,0,null,1,1,0,0,null,1]
["SEC3-42","Land at Junction 1 / Kenrick Way",4.13,"N:/2024/Projects/2024s0196 - Sandwell Metropolitan Borough Council - Sandwell L1 & L2 SFRA/1_WIP/HM/Graphical/Shapefiles/Development_sites/Sandwell EMP3 Allocations_region.shx|layername=Sandwell EMP3 Allocations_region",4.1459999999999999,0,0,35801.390769778402,86.361140637406706,null,1,0.13638859362593292,0,0.86361140637406708,null,1]
["SEC4-15","Land at Potters Lane & Stafford St, Weds (5642)",0.85,"N:/2024/Projects/2024s0196 - Sandwell Metropolitan Borough Council - Sandwell L1 & L2 SFRA/1_WIP/HM/Graphical/Shapefiles/Development_sites/Sandwell EMP4 Allocations_region.shx|layername=Sandwell EMP4 Allocations_region",0.85599999999999998,0,0,0,0,null,1,1,0,0,null,1]
["SEC3-118","Land bt Great Bridge St & William St, Tipton (2965",1.06,"N:/2024/Projects/2024s0196 - Sandwell Metropolitan Borough Council - Sandwell L1 & L2 SFRA/1_WIP/HM/Graphical/Shapefiles/Development_sites/Sandwell EMP3 Allocations_region.shx|layername=Sandwell EMP3 Allocations_region",1.081,0,0,0,0,null,1,1,0,0,null,1]
["SEC3-117","Land by Whitehall Road and Walsall Canal",1.04,"N:/2024/Projects/2024s0196 - Sandwell Metropolitan Borough Council - Sandwell L1 & L2 SFRA/1_WIP/HM/Graphical/Shapefiles/Development_sites/Sandwell EMP3 Allocations_region.shx|layername=Sandwell EMP3 Allocations_region",1.04,0,0,0,0,null,1,1,0,0,null,1]
["SEC3-31","land off dudley rd, oldbury",0.98,"N:/2024/Projects/2024s0196 - Sandwell Metropolitan Borough Council - Sandwell L1 & L2 SFRA/1_WIP/HM/Graphical/Shapefiles/Development_sites/Sandwell EMP3 Allocations_region.shx|layername=Sandwell EMP3 Allocations_region",0.98099999999999998,0,0,0,0,null,1,1,0,0,null,1]
["SEC3-65","Land off Tipton Road, Oldbury",0.81,"N:/2024/Projects/2024s0196 - Sandwell Metropolitan Borough Council - Sandwell L1 & L2 SFRA/1_WIP/HM/Graphical/Shapefiles/Development_sites/Sandwell EMP3 Allocations_region.shx|layername=Sandwell EMP3 Allocations_region",0.81200000000000006,0,0,0,0,null,1,1,0,0,null,1]
["SEC3-17","Leabrook Road, Tipton",7.45,"N:/2024/Projects/2024s0196 - Sandwell Metropolitan Borough Council - Sandwell L1 & L2 SFRA/1_WIP/HM/Graphical/Shapefiles/Development_sites/Sandwell EMP3 Allocations_region.shx|layername=Sandwell EMP3 Allocations_region",7.4790000000000001,0,0,0,0,null,1,1,0,0,null,1]
["SEC1-8","Legacy 43, Ryder Street, West Bromwich",0.88,"N:/2024/Projects/2024s0196 - Sandwell Metropolitan Borough Council - Sandwell L1 & L2 SFRA/1_WIP/HM/Graphical/Shapefiles/Development_sites/Sandwell EMP1 Sites_region.shx|layername=Sandwell EMP1 Sites_region",0.88300000000000001,0,0,0,0,null,1,1,0,0,null,1]
["EMP2-14","Lidl, Junction 9 (Opus 9)",8.67,"N:/2024/Projects/2024s0196 - Sandwell Metropolitan Borough Council - Sandwell L1 & L2 SFRA/1_WIP/HM/Graphical/Shapefiles/Development_sites/Sandwell EMP2 Allocations_region.shx|layername=Sandwell EMP2 Allocations_region",8.7070000000000007,0,0,0,0,null,1,1,0,0,null,1]
["SEC3-40","Newlyn Road, Cradley Heath",3.4,"N:/2024/Projects/2024s0196 - Sandwell Metropolitan Borough Council - Sandwell L1 & L2 SFRA/1_WIP/HM/Graphical/Shapefiles/Development_sites/Sandwell EMP3 Allocations_region.shx|layername=Sandwell EMP3 Allocations_region",3.411,0,0,0,0,null,1,{"$f":"1-SUM(M131+N131)","v":1},{"$f":"G131/100","v":0},{"$f":"I131/100","v":0},null,{"$f":"SUM(L131+M131+N131)","v":1}]
["SEC3-84","Old Park Trading Estate, Old Park Rd (2922)",2.63,"N:/2024/Projects/2024s0196 - Sandwell Metropolitan Borough Council - Sandwell L1 & L2 SFRA/1_WIP/HM/Graphical/Shapefiles/Development_sites/Sandwell EMP3 Allocations_region.shx|layername=Sandwell EMP3 Allocations_region",2.6419999999999999,0,0,0,0,null,1,1,0,0,null,1]
["SEC3-53","Oldbury Point Ind Est, Rood End Road",3.22,"N:/2024/Projects/2024s0196 - Sandwell Metropolitan Borough Council - Sandwell L1 & L2 SFRA/1_WIP/HM/Graphical/Shapefiles/Development_sites/Sandwell EMP3 Allocations_region.shx|layername=Sandwell EMP3 Allocations_region",3.2320000000000002,0,0,0,0,null,1,1,0,0,null,1]
["SEC3-150","Oldbury Rd Ind Est, Oldbury Rd (2994)",0.56999999999999995,"N:/2024/Projects/2024s0196 - Sandwell Metropolitan Borough Council - Sandwell L1 & L2 SFRA/1_WIP/HM/Graphical/Shapefiles/Development_sites/Sandwell EMP3 Allocations_region.shx|layername=Sandwell EMP3 Allocations_region",0.57399999999999995,0,0,5742.7611247145696,100,null,1,0,0,1,null,1]
["SEC3-168","Oldbury Rd, Oldbury (3014)",2.41,"N:/2024/Projects/2024s0196 - Sandwell Metropolitan Borough Council - Sandwell L1 & L2 SFRA/1_WIP/HM/Graphical/Shapefiles/Development_sites/Sandwell EMP3 Allocations_region.shx|layername=Sandwell EMP3 Allocations_region",2.4159999999999999,0,0,9633.5111709058601,39.867045825855897,null,1,0.60132954174144104,0,0.39867045825855896,null,1]
["SEC3-153","Oldbury Rd, WB (2384 / WBPr31)",18.87,"N:/2024/Projects/2024s0196 - Sandwell Metropolitan Borough Council - Sandwell L1 & L2 SFRA/1_WIP/HM/Graphical/Shapefiles/Development_sites/Sandwell EMP3 Allocations_region.shx|layername=Sandwell EMP3 Allocations_region",18.937999999999999,0,0,0,0,null,1,1,0,0,null,1]
["SEC3-191","Oldfield Trading Estate, Cradley Heath",1.76,"N:/2024/Projects/2024s0196 - Sandwell Metropolitan Borough Council - Sandwell L1 & L2 SFRA/1_WIP/HM/Graphical/Shapefiles/Development_sites/Sandwell EMP3 Allocations_region.shx|layername=Sandwell EMP3 Allocations_region",1.766,0,0,0,0,null,1,1,0,0,null,1]
["SEC3-176","Palmers Timber Site, Station Rd, Old Hill (3043)",3.14,"N:/2024/Projects/2024s0196 - Sandwell Metropolitan Borough Council - Sandwell L1 & L2 SFRA/1_WIP/HM/Graphical/Shapefiles/Development_sites/Sandwell EMP3 Allocations_region.shx|layername=Sandwell EMP3 Allocations_region",3.149,0,0,1652.5625824435599,5.2473390845639898,null,1,0.94752660915436016,0,5.24733908456399E-2,null,1]
["EMP2-7","Park Lane Trading Estate, Oldbury",2.17,"N:/2024/Projects/2024s0196 - Sandwell Metropolitan Borough Council - Sandwell L1 & L2 SFRA/1_WIP/HM/Graphical/Shapefiles/Development_sites/Sandwell EMP2 Allocations_region.shx|layername=Sandwell EMP2 Allocations_region",2.1819999999999999,0,0,0,0,null,1,1,0,0,null,1]
["SEC4-5","Park Lane West",2.94,"N:/2024/Projects/2024s0196 - Sandwell Metropolitan Borough Council - Sandwell L1 & L2 SFRA/1_WIP/HM/Graphical/Shapefiles/Development_sites/Sandwell EMP4 Allocations_region.shx|layername=Sandwell EMP4 Allocations_region",2.9529999999999998,0,0,0,0,null,1,1,0,0,null,1]
["SEC3-186","Park Lane, West Bromwich",10.220000000000001,"N:/2024/Projects/2024s0196 - Sandwell Metropolitan Borough Council - Sandwell L1 & L2 SFRA/1_WIP/HM/Graphical/Shapefiles/Development_sites/Sandwell EMP3 Allocations_region.shx|layername=Sandwell EMP3 Allocations_region",10.103999999999999,0,0,100662.849962122,99.631024989947605,null,1,3.6897501005239697E-3,0,0.99631024989947603,null,1]
["SEC3-187","Park Lane, West Bromwich",2.4500000000000002,"N:/2024/Projects/2024s0196 - Sandwell Metropolitan Borough Council - Sandwell L1 & L2 SFRA/1_WIP/HM/Graphical/Shapefiles/Development_sites/Sandwell EMP3 Allocations_region.shx|layername=Sandwell EMP3 Allocations_region",2.452,0,0,24523.328133068,100,null,1,0,0,1,null,1]
["SEC3-184","Parkroase Estate, Rounds Green Road, Oldbury",2.58,"N:/2024/Projects/2024s0196 - Sandwell Metropolitan Borough Council - Sandwell L1 & L2 SFRA/1_WIP/HM/Graphical/Shapefiles/Development_sites/Sandwell EMP3 Allocations_region.shx|layername=Sandwell EMP3 Allocations_region",2.5880000000000001,0,0,0,0,null,1,1,0,0,null,1]
["SEC3-105","Parsonage Street, Oldbury",10.15,"N:/2024/Projects/2024s0196 - Sandwell Metropolitan Borough Council - Sandwell L1 & L2 SFRA/1_WIP/HM/Graphical/Shapefiles/Development_sites/Sandwell EMP3 Allocations_region.shx|layername=Sandwell EMP3 Allocations_region",10.189,0,0,27474.431439518801,26.963524981109401,null,1,0.73036475018890601,0,0.26963524981109399,null,1]
["SEC3-173","Pennington Close",4.2,"N:/2024/Projects/2024s0196 - Sandwell Metropolitan Borough Council - Sandwell L1 & L2 SFRA/1_WIP/HM/Graphical/Shapefiles/Development_sites/Sandwell EMP3 Allocations_region.shx|layername=Sandwell EMP3 Allocations_region",4.22,0,0,0,0,null,1,1,0,0,null,1]
["SEC4-13","Ph 9, The Parkway, bt Stafford St/ Victoria st/ Po",0.94,"N:/2024/Projects/2024s0196 - Sandwell Metropolitan Borough Council - Sandwell L1 & L2 SFRA/1_WIP/HM/Graphical/Shapefiles/Development_sites/Sandwell EMP4 Allocations_region.shx|layername=Sandwell EMP4 Allocations_region",0.94199999999999995,0,0,0,0,null,1,1,0,0,null,1]
["SEC3-171","Phoenix St / Belper Ind Est Greets Green Road, Wes",5.55,"N:/2024/Projects/2024s0196 - Sandwell Metropolitan Borough Council - Sandwell L1 & L2 SFRA/1_WIP/HM/Graphical/Shapefiles/Development_sites/Sandwell EMP3 Allocations_region.shx|layername=Sandwell EMP3 Allocations_region",5.5679999999999996,0,0,0,0,null,1,1,0,0,null,1]
["SEC3-172","Phoenix Street (west), West Bromwich",3.44,"N:/2024/Projects/2024s0196 - Sandwell Metropolitan Borough Council - Sandwell L1 & L2 SFRA/1_WIP/HM/Graphical/Shapefiles/Development_sites/Sandwell EMP3 Allocations_region.shx|layername=Sandwell EMP3 Allocations_region",3.4510000000000001,0,0,0,0,null,1,1,0,0,null,1]
["SEC3-70","Pikehelve Street, Hill Top, West Bromwich",5.91,"N:/2024/Projects/2024s0196 - Sandwell Metropolitan Borough Council - Sandwell L1 & L2 SFRA/1_WIP/HM/Graphical/Shapefiles/Development_sites/Sandwell EMP3 Allocations_region.shx|layername=Sandwell EMP3 Allocations_region",5.93,0,0,0,0,null,1,1,0,0,null,1]
["SEC3-74","Popes Lane, Oldbury",10.81,"N:/2024/Projects/2024s0196 - Sandwell Metropolitan Borough Council - Sandwell L1 & L2 SFRA/1_WIP/HM/Graphical/Shapefiles/Development_sites/Sandwell EMP3 Allocations_region.shx|layername=Sandwell EMP3 Allocations_region",10.856,0,0,0,0,null,1,1,0,0,null,1]
["SEC3-75","Popes Lane, Oldbury",2.91,"N:/2024/Projects/2024s0196 - Sandwell Metropolitan Borough Council - Sandwell L1 & L2 SFRA/1_WIP/HM/Graphical/Shapefiles/Development_sites/Sandwell EMP3 Allocations_region.shx|layername=Sandwell EMP3 Allocations_region",2.919,0,0,2027.5323468344,6.9451448394415198,null,1,0.93054855160558481,0,6.9451448394415194E-2,null,1]
["SEC3-10","Portway Rd, Weds (5129)",3.78,"N:/2024/Projects/2024s0196 - Sandwell Metropolitan Borough Council - Sandwell L1 & L2 SFRA/1_WIP/HM/Graphical/Shapefiles/Development_sites/Sandwell EMP3 Allocations_region.shx|layername=Sandwell EMP3 Allocations_region",3.782,0,0,0,0,null,1,1,0,0,null,1]
["SEC3-81","Portway Rd, Weds (5129)",4.51,"N:/2024/Projects/2024s0196 - Sandwell Metropolitan Borough Council - Sandwell L1 & L2 SFRA/1_WIP/HM/Graphical/Shapefiles/Development_sites/Sandwell EMP3 Allocations_region.shx|layername=Sandwell EMP3 Allocations_region",4.5259999999999998,0,0,0,0,null,1,1,0,0,null,1]
["SEC3-188","Portway Road",3.02,"N:/2024/Projects/2024s0196 - Sandwell Metropolitan Borough Council - Sandwell L1 & L2 SFRA/1_WIP/HM/Graphical/Shapefiles/Development_sites/Sandwell EMP3 Allocations_region.shx|layername=Sandwell EMP3 Allocations_region",3.028,0,0,0,0,null,1,1,0,0,null,1]
["SEC3-158","Portway Road Industrial Estate",2.12,"N:/2024/Projects/2024s0196 - Sandwell Metropolitan Borough Council - Sandwell L1 & L2 SFRA/1_WIP/HM/Graphical/Shapefiles/Development_sites/Sandwell EMP3 Allocations_region.shx|layername=Sandwell EMP3 Allocations_region",2.1280000000000001,0,0,0,0,null,1,1,0,0,null,1]
["SEC4-11","Potters Lane, Wednesbury (actually between Stafford St/ Albert St)",0.39,"N:/2024/Projects/2024s0196 - Sandwell Metropolitan Borough Council - Sandwell L1 & L2 SFRA/1_WIP/HM/Graphical/Shapefiles/Development_sites/Sandwell EMP4 Allocations_region.shx|layername=Sandwell EMP4 Allocations_region",0.39500000000000002,0,0,0,0,null,1,1,0,0,null,1]
["SEC3-141","Powke Lane (east side)",3.49,"N:/2024/Projects/2024s0196 - Sandwell Metropolitan Borough Council - Sandwell L1 & L2 SFRA/1_WIP/HM/Graphical/Shapefiles/Development_sites/Sandwell EMP3 Allocations_region.shx|layername=Sandwell EMP3 Allocations_region",3.5070000000000001,0,0,0,0,null,1,1,0,0,null,1]
["SEC3-140","Powke Lane (west side)",6.36,"N:/2024/Projects/2024s0196 - Sandwell Metropolitan Borough Council - Sandwell L1 & L2 SFRA/1_WIP/HM/Graphical/Shapefiles/Development_sites/Sandwell EMP3 Allocations_region.shx|layername=Sandwell EMP3 Allocations_region",6.3819999999999997,0,0,0,0,null,1,1,0,0,null,1]
["SEC3-179","Powke Lane Industrial Estate, Cradley Heath",2.17,"N:/2024/Projects/2024s0196 - Sandwell Metropolitan Borough Council - Sandwell L1 & L2 SFRA/1_WIP/HM/Graphical/Shapefiles/Development_sites/Sandwell EMP3 Allocations_region.shx|layername=Sandwell EMP3 Allocations_region",2.181,0,0,0,0,null,1,1,0,0,null,1]
["SEC3-142","Powke Lane/ Doulton Road",9.08,"N:/2024/Projects/2024s0196 - Sandwell Metropolitan Borough Council - Sandwell L1 & L2 SFRA/1_WIP/HM/Graphical/Shapefiles/Development_sites/Sandwell EMP3 Allocations_region.shx|layername=Sandwell EMP3 Allocations_region",9.1140000000000008,0,0,0,0,null,1,1,0,0,null,1]
["SEC-145","Princes End Garage",0.19,"N:/2024/Projects/2024s0196 - Sandwell Metropolitan Borough Council - Sandwell L1 & L2 SFRA/1_WIP/HM/Graphical/Shapefiles/Development_sites/Sandwell EMP3 Allocations_region.shx|layername=Sandwell EMP3 Allocations_region",0.191,0,0,0,0,null,1,1,0,0,null,1]
["SEC3-111","Purity Soft Drinks Limited, Mounts Road",0.35,"N:/2024/Projects/2024s0196 - Sandwell Metropolitan Borough Council - Sandwell L1 & L2 SFRA/1_WIP/HM/Graphical/Shapefiles/Development_sites/Sandwell EMP3 Allocations_region.shx|layername=Sandwell EMP3 Allocations_region",0.34699999999999998,0,0,0,0,null,1,1,0,0,null,1]
["SEC3-94","Rabone Lane, Smethwick (2372)",4.72,"N:/2024/Projects/2024s0196 - Sandwell Metropolitan Borough Council - Sandwell L1 & L2 SFRA/1_WIP/HM/Graphical/Shapefiles/Development_sites/Sandwell EMP3 Allocations_region.shx|layername=Sandwell EMP3 Allocations_region",4.7359999999999998,50.607423083310998,0.106866577392997,13495.983711643201,28.4991706738485,null,1,0.7139396274875851,1.0686657739299699E-3,0.28499170673848501,null,1]
["SEC3-72","Rabone Park",3.93,"N:/2024/Projects/2024s0196 - Sandwell Metropolitan Borough Council - Sandwell L1 & L2 SFRA/1_WIP/HM/Graphical/Shapefiles/Development_sites/Sandwell EMP3 Allocations_region.shx|layername=Sandwell EMP3 Allocations_region",3.948,583.74352405393699,1.4787210640367201,34144.065662769703,86.492692470067297,null,1,0.12028586465895974,1.4787210640367201E-2,0.86492692470067301,null,1]
["SEC3-48","Reddal Hill Rd/ Newtown St, Cradley Heath",4.4400000000000004,"N:/2024/Projects/2024s0196 - Sandwell Metropolitan Borough Council - Sandwell L1 & L2 SFRA/1_WIP/HM/Graphical/Shapefiles/Development_sites/Sandwell EMP3 Allocations_region.shx|layername=Sandwell EMP3 Allocations_region",4.452,16973.975830201602,38.123206594397097,0,0,null,1,0.61876793405602903,0.38123206594397097,0,null,1]
["EMP2-1","Richmond Street, West Bromwich",10.199999999999999,"N:/2024/Projects/2024s0196 - Sandwell Metropolitan Borough Council - Sandwell L1 & L2 SFRA/1_WIP/HM/Graphical/Shapefiles/Development_sites/Sandwell EMP2 Allocations_region.shx|layername=Sandwell EMP2 Allocations_region",10.239000000000001,0,0,0,0,null,1,1,0,0,null,1]
["SEC3-2","Ridgacre Road (north)",0.8,"N:/2024/Projects/2024s0196 - Sandwell Metropolitan Borough Council - Sandwell L1 & L2 SFRA/1_WIP/HM/Graphical/Shapefiles/Development_sites/Sandwell EMP3 Allocations_region.shx|layername=Sandwell EMP3 Allocations_region",0.80200000000000005,0,0,0,0,null,1,1,0,0,null,1]
["SEC3-3","Ridgacre Road (south)",1.05,"N:/2024/Projects/2024s0196 - Sandwell Metropolitan Borough Council - Sandwell L1 & L2 SFRA/1_WIP/HM/Graphical/Shapefiles/Development_sites/Sandwell EMP3 Allocations_region.shx|layername=Sandwell EMP3 Allocations_region",1.052,0,0,0,0,null,1,1,0,0,null,1]
["SEC3-107","Ridgacre Road Church Lane, West Bromwich (New build) (former Express and Star)",1.42,"N:/2024/Projects/2024s0196 - Sandwell Metropolitan Borough Council - Sandwell L1 & L2 SFRA/1_WIP/HM/Graphical/Shapefiles/Development_sites/Sandwell EMP3 Allocations_region.shx|layername=Sandwell EMP3 Allocations_region",1.4219999999999999,0,0,0,0,null,1,1,0,0,null,1]
["SEC3-108","Ridgacre Road Church Lane, West Bromwich (old part)",0.92,"N:/2024/Projects/2024s0196 - Sandwell Metropolitan Borough Council - Sandwell L1 & L2 SFRA/1_WIP/HM/Graphical/Shapefiles/Development_sites/Sandwell EMP3 Allocations_region.shx|layername=Sandwell EMP3 Allocations_region",0.92400000000000004,0,0,0,0,null,1,1,0,0,null,1]
["SEC3-32","Ridgarce Road, West Bromwich",1.1399999999999999,"N:/2024/Projects/2024s0196 - Sandwell Metropolitan Borough Council - Sandwell L1 & L2 SFRA/1_WIP/HM/Graphical/Shapefiles/Development_sites/Sandwell EMP3 Allocations_region.shx|layername=Sandwell EMP3 Allocations_region",1.139,0,0,0,0,null,1,1,0,0,null,1]
["SEC3-33","Ridgarce Road, West Bromwich",1.64,"N:/2024/Projects/2024s0196 - Sandwell Metropolitan Borough Council - Sandwell L1 & L2 SFRA/1_WIP/HM/Graphical/Shapefiles/Development_sites/Sandwell EMP3 Allocations_region.shx|layername=Sandwell EMP3 Allocations_region",1.641,0,0,0,0,null,1,1,0,0,null,1]
["SEC3-34","Ridgarce Road, West Bromwich",0.75,"N:/2024/Projects/2024s0196 - Sandwell Metropolitan Borough Council - Sandwell L1 & L2 SFRA/1_WIP/HM/Graphical/Shapefiles/Development_sites/Sandwell EMP3 Allocations_region.shx|layername=Sandwell EMP3 Allocations_region",0.75600000000000001,0,0,0,0,null,1,1,0,0,null,1]
["EMP2-19","Rounds Green Road/Shidas Lane, Oldbury",2.78,"N:/2024/Projects/2024s0196 - Sandwell Metropolitan Borough Council - Sandwell L1 & L2 SFRA/1_WIP/HM/Graphical/Shapefiles/Development_sites/Sandwell EMP2 Allocations_region.shx|layername=Sandwell EMP2 Allocations_region",2.7879999999999998,0,0,0,0,null,1,1,0,0,null,1]
["SEC3-161","Roway Lane, Oldbury",6,"N:/2024/Projects/2024s0196 - Sandwell Metropolitan Borough Council - Sandwell L1 & L2 SFRA/1_WIP/HM/Graphical/Shapefiles/Development_sites/Sandwell EMP3 Allocations_region.shx|layername=Sandwell EMP3 Allocations_region",6.024,0,0,0,0,null,1,1,0,0,null,1]
["SEC1-4","Roway Lane, Oldbury (Call for Sites)",3.65,"N:/2024/Projects/2024s0196 - Sandwell Metropolitan Borough Council - Sandwell L1 & L2 SFRA/1_WIP/HM/Graphical/Shapefiles/Development_sites/Sandwell EMP1 Sites_region.shx|layername=Sandwell EMP1 Sites_region",3.6629999999999998,0,0,0,0,null,1,1,0,0,null,1]
["SEC3-167","Ryder, Euroway Park",2.2400000000000002,"N:/2024/Projects/2024s0196 - Sandwell Metropolitan Borough Council - Sandwell L1 & L2 SFRA/1_WIP/HM/Graphical/Shapefiles/Development_sites/Sandwell EMP3 Allocations_region.shx|layername=Sandwell EMP3 Allocations_region",2.2480000000000002,0,0,0,0,null,1,1,0,0,null,1]
["SEC3-54","Ryders Green Rd, Greets Green Ind Est, Greets Green",2.95,"N:/2024/Projects/2024s0196 - Sandwell Metropolitan Borough Council - Sandwell L1 & L2 SFRA/1_WIP/HM/Graphical/Shapefiles/Development_sites/Sandwell EMP3 Allocations_region.shx|layername=Sandwell EMP3 Allocations_region",2.9569999999999999,0,0,0,0,null,1,1,0,0,null,1]
["SEC3-164","Sandwell Business Dev Centre, Oldbury Road",0.67,"N:/2024/Projects/2024s0196 - Sandwell Metropolitan Borough Council - Sandwell L1 & L2 SFRA/1_WIP/HM/Graphical/Shapefiles/Development_sites/Sandwell EMP3 Allocations_region.shx|layername=Sandwell EMP3 Allocations_region",0.67200000000000004,0,0,0,0,null,1,1,0,0,null,1]
["SEC3-126","Sedgley Road West/Hurst Lane, Tipton",3.06,"N:/2024/Projects/2024s0196 - Sandwell Metropolitan Borough Council - Sandwell L1 & L2 SFRA/1_WIP/HM/Graphical/Shapefiles/Development_sites/Sandwell EMP3 Allocations_region.shx|layername=Sandwell EMP3 Allocations_region",3.073,0,0,0,0,null,1,1,0,0,null,1]
["SEC3-83","Seven Stars Rd, Oldbury (586)",2.5099999999999998,"N:/2024/Projects/2024s0196 - Sandwell Metropolitan Borough Council - Sandwell L1 & L2 SFRA/1_WIP/HM/Graphical/Shapefiles/Development_sites/Sandwell EMP3 Allocations_region.shx|layername=Sandwell EMP3 Allocations_region",2.5179999999999998,0,0,0,0,null,1,1,0,0,null,1]
["SEC3-45","Seven Stars Road, Oldbury",1.47,"N:/2024/Projects/2024s0196 - Sandwell Metropolitan Borough Council - Sandwell L1 & L2 SFRA/1_WIP/HM/Graphical/Shapefiles/Development_sites/Sandwell EMP3 Allocations_region.shx|layername=Sandwell EMP3 Allocations_region",1.472,0,0,0,0,null,1,1,0,0,null,1]
["SEC3-36","Silverthorne Lane",1.05,"N:/2024/Projects/2024s0196 - Sandwell Metropolitan Borough Council - Sandwell L1 & L2 SFRA/1_WIP/HM/Graphical/Shapefiles/Development_sites/Sandwell EMP3 Allocations_region.shx|layername=Sandwell EMP3 Allocations_region",1.0509999999999999,0,0,0,0,null,1,1,0,0,null,1]
["SEC3-135","Site at Bloomfield Rd, Fountaihn Lane & Bradleys Lane, Tipton",1.43,"N:/2024/Projects/2024s0196 - Sandwell Metropolitan Borough Council - Sandwell L1 & L2 SFRA/1_WIP/HM/Graphical/Shapefiles/Development_sites/Sandwell EMP3 Allocations_region.shx|layername=Sandwell EMP3 Allocations_region",1.4379999999999999,0,0,0,0,null,1,1,0,0,null,1]
["SEC4-14","Site at Great Wester St & Potters Lane, Weds (5641",2.14,"N:/2024/Projects/2024s0196 - Sandwell Metropolitan Borough Council - Sandwell L1 & L2 SFRA/1_WIP/HM/Graphical/Shapefiles/Development_sites/Sandwell EMP4 Allocations_region.shx|layername=Sandwell EMP4 Allocations_region",2.1469999999999998,0,0,0,0,null,1,1,0,0,null,1]
["SEC3-82","Site bt Charles St & Walsall Canal Great Bridge (2",2.17,"N:/2024/Projects/2024s0196 - Sandwell Metropolitan Borough Council - Sandwell L1 & L2 SFRA/1_WIP/HM/Graphical/Shapefiles/Development_sites/Sandwell EMP3 Allocations_region.shx|layername=Sandwell EMP3 Allocations_region",2.1829999999999998,0,0,0,0,null,1,1,0,0,null,1]
["SEC1-7","Site off Bilport Lane, Wednesbury",5.29,"N:/2024/Projects/2024s0196 - Sandwell Metropolitan Borough Council - Sandwell L1 & L2 SFRA/1_WIP/HM/Graphical/Shapefiles/Development_sites/Sandwell EMP1 Sites_region.shx|layername=Sandwell EMP1 Sites_region",5.31,0,0,2.0848143283988398,3.926425031876E-3,null,1,0.99996073574968125,0,3.9264250318759998E-5,null,1]
["SEC3-29","Site off Richmond St, West Bromwich",1.1000000000000001,"N:/2024/Projects/2024s0196 - Sandwell Metropolitan Borough Council - Sandwell L1 & L2 SFRA/1_WIP/HM/Graphical/Shapefiles/Development_sites/Sandwell EMP3 Allocations_region.shx|layername=Sandwell EMP3 Allocations_region",1.109,0,0,0,0,null,1,1,0,0,null,1]
["EMP4-8","Site on Railway Street, Horseley Heath, Tipton",0.18,"N:/2024/Projects/2024s0196 - Sandwell Metropolitan Borough Council - Sandwell L1 & L2 SFRA/1_WIP/HM/Graphical/Shapefiles/Development_sites/Sandwell EMP4 Allocations_region.shx|layername=Sandwell EMP4 Allocations_region",0.18,0,0,0,0,null,1,1,0,0,null,1]
["SEC3-6","Site on Stafford St, Weds (5646)",1.45,"N:/2024/Projects/2024s0196 - Sandwell Metropolitan Borough Council - Sandwell L1 & L2 SFRA/1_WIP/HM/Graphical/Shapefiles/Development_sites/Sandwell EMP3 Allocations_region.shx|layername=Sandwell EMP3 Allocations_region",1.4590000000000001,0,0,0,0,null,1,1,0,0,null,1]
["SEC4-4","Soho Triangle",1.71,"N:/2024/Projects/2024s0196 - Sandwell Metropolitan Borough Council - Sandwell L1 & L2 SFRA/1_WIP/HM/Graphical/Shapefiles/Development_sites/Sandwell EMP4 Allocations_region.shx|layername=Sandwell EMP4 Allocations_region",1.7170000000000001,7905.86712222804,46.053894212799101,8094.1562727893297,47.150731344931998,null,1,6.7953744422688978E-2,0.46053894212799101,0.47150731344931995,null,1]
["SEC3-37","Spinners End Industrial Estate, Cradley Heath",0.65,"N:/2024/Projects/2024s0196 - Sandwell Metropolitan Borough Council - Sandwell L1 & L2 SFRA/1_WIP/HM/Graphical/Shapefiles/Development_sites/Sandwell EMP3 Allocations_region.shx|layername=Sandwell EMP3 Allocations_region",0.65100000000000002,0,0,0,0,null,1,1,0,0,null,1]
["SEC4-12","Stafford Street/ Albert Street, Wednesbury",0.73,"N:/2024/Projects/2024s0196 - Sandwell Metropolitan Borough Council - Sandwell L1 & L2 SFRA/1_WIP/HM/Graphical/Shapefiles/Development_sites/Sandwell EMP4 Allocations_region.shx|layername=Sandwell EMP4 Allocations_region",0.73699999999999999,0,0,0,0,null,1,1,0,0,null,1]
["SEC3-44","Station Road / Avenue Road / Cardale Street Rowley",3.18,"N:/2024/Projects/2024s0196 - Sandwell Metropolitan Borough Council - Sandwell L1 & L2 SFRA/1_WIP/HM/Graphical/Shapefiles/Development_sites/Sandwell EMP3 Allocations_region.shx|layername=Sandwell EMP3 Allocations_region",3.1909999999999998,0,0,17496.196600649699,54.825939070258897,null,1,0.451740609297411,0,0.548259390702589,null,1]
["SEC3-49","Station Road Industrial Est, Rowley Regis",3.21,"N:/2024/Projects/2024s0196 - Sandwell Metropolitan Borough Council - Sandwell L1 & L2 SFRA/1_WIP/HM/Graphical/Shapefiles/Development_sites/Sandwell EMP3 Allocations_region.shx|layername=Sandwell EMP3 Allocations_region",3.2240000000000002,0,0,21483.122578055601,66.630099528616697,null,1,{"$f":"1-SUM(M195+N195)","v":0.33369900471383307},{"$f":"G195/100","v":0},{"$f":"I195/100","v":0.66630099528616693},null,{"$f":"SUM(L195+M195+N195)","v":1}]
["SEC3-147","Station St, Tipton (1448)",1.36,"N:/2024/Projects/2024s0196 - Sandwell Metropolitan Borough Council - Sandwell L1 & L2 SFRA/1_WIP/HM/Graphical/Shapefiles/Development_sites/Sandwell EMP3 Allocations_region.shx|layername=Sandwell EMP3 Allocations_region",1.37,0,0,0,0,null,1,1,0,0,null,1]
["SEC3-35","Station Street/Graingers Lane, Cradley Heath",2.27,"N:/2024/Projects/2024s0196 - Sandwell Metropolitan Borough Council - Sandwell L1 & L2 SFRA/1_WIP/HM/Graphical/Shapefiles/Development_sites/Sandwell EMP3 Allocations_region.shx|layername=Sandwell EMP3 Allocations_region",2.2810000000000001,0,0,0,0,null,1,1,0,0,null,1]
["SEC4-6","Summerton Rd, Oldbury (3223)",0.52,"N:/2024/Projects/2024s0196 - Sandwell Metropolitan Borough Council - Sandwell L1 & L2 SFRA/1_WIP/HM/Graphical/Shapefiles/Development_sites/Sandwell EMP4 Allocations_region.shx|layername=Sandwell EMP4 Allocations_region",0.56499999999999995,0,0,0,0,null,1,1,0,0,null,1]
["SEC3-63","Summit Crescent, Smethwick (east)",4.01,"N:/2024/Projects/2024s0196 - Sandwell Metropolitan Borough Council - Sandwell L1 & L2 SFRA/1_WIP/HM/Graphical/Shapefiles/Development_sites/Sandwell EMP3 Allocations_region.shx|layername=Sandwell EMP3 Allocations_region",4.03,0,0,9285.7440648024294,23.0430278368516,null,1,0.76956972163148396,0,0.23043027836851601,null,1]
["SEC3-27","Summit Crescent, Smethwick (west)",5.96,"N:/2024/Projects/2024s0196 - Sandwell Metropolitan Borough Council - Sandwell L1 & L2 SFRA/1_WIP/HM/Graphical/Shapefiles/Development_sites/Sandwell EMP3 Allocations_region.shx|layername=Sandwell EMP3 Allocations_region",5.98,0,0,31671.6443158197,52.958444863884999,null,1,0.47041555136114999,0,0.52958444863885001,null,1]
["SEC3-39","Swan Lane, West Bromwich",0.83,"N:/2024/Projects/2024s0196 - Sandwell Metropolitan Borough Council - Sandwell L1 & L2 SFRA/1_WIP/HM/Graphical/Shapefiles/Development_sites/Sandwell EMP3 Allocations_region.shx|layername=Sandwell EMP3 Allocations_region",0.83399999999999996,0,0,0,0,null,1,1,0,0,null,1]
["SEC3-87","Swan Lane, West Bromwich",1.27,"N:/2024/Projects/2024s0196 - Sandwell Metropolitan Borough Council - Sandwell L1 & L2 SFRA/1_WIP/HM/Graphical/Shapefiles/Development_sites/Sandwell EMP3 Allocations_region.shx|layername=Sandwell EMP3 Allocations_region",1.28,0,0,0,0,null,1,1,0,0,null,1]
["SEC3-92","Tatbak Road",8.6199999999999992,"N:/2024/Projects/2024s0196 - Sandwell Metropolitan Borough Council - Sandwell L1 & L2 SFRA/1_WIP/HM/Graphical/Shapefiles/Development_sites/Sandwell EMP3 Allocations_region.shx|layername=Sandwell EMP3 Allocations_region",8.657,0,0,0,0,null,1,1,0,0,null,1]
["SEC3-162","Taylors Lane, Oldbury",4.17,"N:/2024/Projects/2024s0196 - Sandwell Metropolitan Borough Council - Sandwell L1 & L2 SFRA/1_WIP/HM/Graphical/Shapefiles/Development_sites/Sandwell EMP3 Allocations_region.shx|layername=Sandwell EMP3 Allocations_region",4.1909999999999998,0,0,0,0,null,1,1,0,0,null,1]
["SEC3-157","Tennants Ryders Green Rd / SCA Tasker St",1.02,"N:/2024/Projects/2024s0196 - Sandwell Metropolitan Borough Council - Sandwell L1 & L2 SFRA/1_WIP/HM/Graphical/Shapefiles/Development_sites/Sandwell EMP3 Allocations_region.shx|layername=Sandwell EMP3 Allocations_region",1.0249999999999999,0,0,0,0,null,1,1,0,0,null,1]
["SEC3-55","Tennants Ryders Green Rd, West Bromwich",2.9,"N:/2024/Projects/2024s0196 - Sandwell Metropolitan Borough Council - Sandwell L1 & L2 SFRA/1_WIP/HM/Graphical/Shapefiles/Development_sites/Sandwell EMP3 Allocations_region.shx|layername=Sandwell EMP3 Allocations_region",2.9159999999999999,0,0,0,0,null,1,1,0,0,null,1]
["SEC3-134","The Angle Ring Co. Ltd",1.7,"N:/2024/Projects/2024s0196 - Sandwell Metropolitan Borough Council - Sandwell L1 & L2 SFRA/1_WIP/HM/Graphical/Shapefiles/Development_sites/Sandwell EMP3 Allocations_region.shx|layername=Sandwell EMP3 Allocations_region",1.706,0,0,0,0,null,1,1,0,0,null,1]
["SEC3-13","The Bridge Trading Estate",3.33,"N:/2024/Projects/2024s0196 - Sandwell Metropolitan Borough Council - Sandwell L1 & L2 SFRA/1_WIP/HM/Graphical/Shapefiles/Development_sites/Sandwell EMP3 Allocations_region.shx|layername=Sandwell EMP3 Allocations_region",3.34,14268.1486930923,42.722870761261099,8481.5774686120494,25.396240664254101,null,1,0.318808885744848,0.427228707612611,0.25396240664254099,null,1]
["SEC4-16","The Lyng Industrial Estate, West Bromwich",9.84,"N:/2024/Projects/2024s0196 - Sandwell Metropolitan Borough Council - Sandwell L1 & L2 SFRA/1_WIP/HM/Graphical/Shapefiles/Development_sites/Sandwell EMP4 Allocations_region.shx|layername=Sandwell EMP4 Allocations_region",9.8450000000000006,0,0,0,0,null,1,1,0,0,null,1]
["SEC3-120","Tipton Rd, Oldbury (2958)",1.76,"N:/2024/Projects/2024s0196 - Sandwell Metropolitan Borough Council - Sandwell L1 & L2 SFRA/1_WIP/HM/Graphical/Shapefiles/Development_sites/Sandwell EMP3 Allocations_region.shx|layername=Sandwell EMP3 Allocations_region",1.7629999999999999,0,0,0,0,null,1,1,0,0,null,1]
["SEC3-119","Tipton Road",3.17,"N:/2024/Projects/2024s0196 - Sandwell Metropolitan Borough Council - Sandwell L1 & L2 SFRA/1_WIP/HM/Graphical/Shapefiles/Development_sites/Sandwell EMP3 Allocations_region.shx|layername=Sandwell EMP3 Allocations_region",3.1850000000000001,0,0,0,0,null,1,1,0,0,null,1]
["SEC3-58","Toll End Road, Tipton 2",5.88,"N:/2024/Projects/2024s0196 - Sandwell Metropolitan Borough Council - Sandwell L1 & L2 SFRA/1_WIP/HM/Graphical/Shapefiles/Development_sites/Sandwell EMP3 Allocations_region.shx|layername=Sandwell EMP3 Allocations_region",5.9029999999999996,0,0,0,0,null,1,1,0,0,null,1]
["SEC3-180","Trinity Street, Oldbury",26.88,"N:/2024/Projects/2024s0196 - Sandwell Metropolitan Borough Council - Sandwell L1 & L2 SFRA/1_WIP/HM/Graphical/Shapefiles/Development_sites/Sandwell EMP3 Allocations_region.shx|layername=Sandwell EMP3 Allocations_region",26.986000000000001,0,0,0,0,null,1,1,0,0,null,1]
["SEC-144","Union Road",12.11,"N:/2024/Projects/2024s0196 - Sandwell Metropolitan Borough Council - Sandwell L1 & L2 SFRA/1_WIP/HM/Graphical/Shapefiles/Development_sites/Sandwell EMP3 Allocations_region.shx|layername=Sandwell EMP3 Allocations_region",12.159000000000001,0,0,0,0,null,1,1,0,0,null,1]
["SEC3-59","unit 7,8,9 Coneygree Ind Est, Coneygree Road",1.03,"N:/2024/Projects/2024s0196 - Sandwell Metropolitan Borough Council - Sandwell L1 & L2 SFRA/1_WIP/HM/Graphical/Shapefiles/Development_sites/Sandwell EMP3 Allocations_region.shx|layername=Sandwell EMP3 Allocations_region",1.0329999999999999,0,0,0,0,null,1,1,0,0,null,1]
["SEC3-121","Upper Chapel St, Bittania St, 70-74 Dudley Rd West",0.64,"N:/2024/Projects/2024s0196 - Sandwell Metropolitan Borough Council - Sandwell L1 & L2 SFRA/1_WIP/HM/Graphical/Shapefiles/Development_sites/Sandwell EMP3 Allocations_region.shx|layername=Sandwell EMP3 Allocations_region",0.64100000000000001,0,0,0,0,null,1,1,0,0,null,1]
["SEC3-99","various sites (3034, 3226, 1436)",6.33,"N:/2024/Projects/2024s0196 - Sandwell Metropolitan Borough Council - Sandwell L1 & L2 SFRA/1_WIP/HM/Graphical/Shapefiles/Development_sites/Sandwell EMP3 Allocations_region.shx|layername=Sandwell EMP3 Allocations_region",6.359,2710.7612319944901,4.2630633309200503,0,0,null,1,0.95736936669079953,4.26306333092005E-2,0,null,1]
["SEC3-110","Various sites on Mounts Rd, (2926, 2911, 2927, 290",6.32,"N:/2024/Projects/2024s0196 - Sandwell Metropolitan Borough Council - Sandwell L1 & L2 SFRA/1_WIP/HM/Graphical/Shapefiles/Development_sites/Sandwell EMP3 Allocations_region.shx|layername=Sandwell EMP3 Allocations_region",6.3419999999999996,4644.9945385864003,7.3244513735241004,0,0,null,1,0.92675548626475901,7.3244513735241004E-2,0,null,1]
["EMP3-181","Varney Business Park",0.73,"N:/2024/Projects/2024s0196 - Sandwell Metropolitan Borough Council - Sandwell L1 & L2 SFRA/1_WIP/HM/Graphical/Shapefiles/Development_sites/Sandwell EMP3 Allocations_region.shx|layername=Sandwell EMP3 Allocations_region",0.73099999999999998,0,0,0,0,null,1,1,0,0,null,1]
["EMP2-17","Vaughan Trading Estate, Dudley Road East",19.920000000000002,"N:/2024/Projects/2024s0196 - Sandwell Metropolitan Borough Council - Sandwell L1 & L2 SFRA/1_WIP/HM/Graphical/Shapefiles/Development_sites/Sandwell EMP2 Allocations_region.shx|layername=Sandwell EMP2 Allocations_region",19.998000000000001,0,0,0,0,null,1,1,0,0,null,1]
["SEC3-1","Vector Ind Park, Church Lane, WB (5556)",5.2,"N:/2024/Projects/2024s0196 - Sandwell Metropolitan Borough Council - Sandwell L1 & L2 SFRA/1_WIP/HM/Graphical/Shapefiles/Development_sites/Sandwell EMP3 Allocations_region.shx|layername=Sandwell EMP3 Allocations_region",5.2229999999999999,0,0,0,0,null,1,1,0,0,null,1]
["SEC3-125","Wade Building Services, Groveland Road, Tividale",1.42,"N:/2024/Projects/2024s0196 - Sandwell Metropolitan Borough Council - Sandwell L1 & L2 SFRA/1_WIP/HM/Graphical/Shapefiles/Development_sites/Sandwell EMP3 Allocations_region.shx|layername=Sandwell EMP3 Allocations_region",1.43,0,0,0,0,null,1,1,0,0,null,1]
["SEC3-189","Waterfall Lane",2.69,"N:/2024/Projects/2024s0196 - Sandwell Metropolitan Borough Council - Sandwell L1 & L2 SFRA/1_WIP/HM/Graphical/Shapefiles/Development_sites/Sandwell EMP3 Allocations_region.shx|layername=Sandwell EMP3 Allocations_region",2.7050000000000001,0,0,67.734861075412397,0.25039895052184402,null,1,0.99749601049478154,0,2.5039895052184403E-3,null,1]
["SEC3-190","Waterfall Lane Trading Estate, Cradley Heath",5.74,"N:/2024/Projects/2024s0196 - Sandwell Metropolitan Borough Council - Sandwell L1 & L2 SFRA/1_WIP/HM/Graphical/Shapefiles/Development_sites/Sandwell EMP3 Allocations_region.shx|layername=Sandwell EMP3 Allocations_region",5.7629999999999999,0,0,0,0,null,1,1,0,0,null,1]
["SEC3-77","Wednesbury Trading Estate, Wednesbury",8.6999999999999993,"N:/2024/Projects/2024s0196 - Sandwell Metropolitan Borough Council - Sandwell L1 & L2 SFRA/1_WIP/HM/Graphical/Shapefiles/Development_sites/Sandwell EMP3 Allocations_region.shx|layername=Sandwell EMP3 Allocations_region",8.734,0,0,0,0,null,1,1,0,0,null,1]
["SEC3-76","Wharfeside, Oldbury",6.17,"N:/2024/Projects/2024s0196 - Sandwell Metropolitan Borough Council - Sandwell L1 & L2 SFRA/1_WIP/HM/Graphical/Shapefiles/Development_sites/Sandwell EMP3 Allocations_region.shx|layername=Sandwell EMP3 Allocations_region",6.1970000000000001,0,0,0,0,null,1,1,0,0,null,1]
["SEC3-192","Whitehall Rd Ind Est, West Brom (2916)",2.58,"N:/2024/Projects/2024s0196 - Sandwell Metropolitan Borough Council - Sandwell L1 & L2 SFRA/1_WIP/HM/Graphical/Shapefiles/Development_sites/Sandwell EMP3 Allocations_region.shx|layername=Sandwell EMP3 Allocations_region",2.59,0,0,0,0,null,1,1,0,0,null,1]
["SEC1-1","Whitehall Road, Tipton",5.3,"N:/2024/Projects/2024s0196 - Sandwell Metropolitan Borough Council - Sandwell L1 & L2 SFRA/1_WIP/HM/Graphical/Shapefiles/Development_sites/Sandwell EMP1 Sites_region.shx|layername=Sandwell EMP1 Sites_region",5.319,0,0,0,0,null,1,1,0,0,null,1]
["SEC3-114","Wrights Plastics, Brandon Way/ Brandon Close",0.57999999999999996,"N:/2024/Projects/2024s0196 - Sandwell Metropolitan Borough Council - Sandwell L1 & L2 SFRA/1_WIP/HM/Graphical/Shapefiles/Development_sites/Sandwell EMP3 Allocations_region.shx|layername=Sandwell EMP3 Allocations_region",0.58699999999999997,0,0,0,0,null,1,1,0,0,null,1]
["SEC4-1","Zion Street, Tipton",2.4300000000000002,"N:/2024/Projects/2024s0196 - Sandwell Metropolitan Borough Council - Sandwell L1 & L2 SFRA/1_WIP/HM/Graphical/Shapefiles/Development_sites/Sandwell EMP4 Allocations_region.shx|layername=Sandwell EMP4 Allocations_region",2.4390000000000001,0,0,0,0,null,1,{"$f":"1-SUM(M230+N230)","v":1},{"$f":"G230/100","v":0},0,null,1]
[null,null,null,null,null,null,null,null,null,null,null,null,null,null,null,null,null,"0.025m%","0.025m_to_0.5m"]
["SH63","192-200 Dudley Road, Oldbury",0.57999999999999996,null,null,null,0,null,0,null,1,{"$f":"1-SUM(M232+N232)","v":1},{"$f":"G232/100","v":0},{"$f":"I232/100","v":0},null,1,null,{"$f":"M232*100","v":0},{"$f":"N232*100","v":0}]
["SH23","28-64 High Street, West Bromwich",0.97,null,null,null,0,null,0,null,1,{"$f":"1-SUM(M233+N233)","v":1},{"$f":"G233/100","v":0},0,null,1,null,{"$f":"M233*100","v":0},{"$f":"N233*100","v":0}]
["SH58","Abberley Street Grove Lane Master Plan",2.48,null,null,null,1.6363359481638999,null,0,null,1,0.98363664051836097,1.6363359481639E-2,0,null,1,null,1.6363359481639002,0]
["SH8","Alma Street, Wednesbury",0.54,null,null,null,0,null,0,null,1,1,0,0,null,1,null,0,0]
["SM4","Army Reserve, Carters Green",1.17,null,null,null,0,null,0,null,1,1,0,0,null,1,null,0,0]
["SH32","Bank Street (West), Hateley Heath",0.85,null,null,null,0,null,0,null,1,1,0,0,null,1,null,0,0]
["SH59","Beever Road",0.84,null,null,null,0,null,0,null,1,1,0,0,null,1,null,0,0]
["SH38","Brades Road, Oldbury",1.2,null,null,null,0,null,0,null,1,1,0,0,null,1,null,0,0]
["SH25","Bradleys Lane / High Street, Tipton",5.32,null,null,null,0,null,0,null,1,1,0,0,null,1,null,0,0]
["SH34","Brandhall Golf Course",5.19,null,null,null,0,null,0,null,1,1,0,0,null,1,null,0,0]
["SH1","Brown Lion Street",0.47,null,null,null,0,null,0,null,1,1,0,0,null,1,null,0,0]
["SH55","Cape Arm Cranford Street",2.14,null,null,null,6.1937833438250802,null,0,null,1,0.93806216656174923,6.1937833438250801E-2,0,null,1,null,6.1937833438250802,0]
["SM1","Chances Glass Works",3.39,null,null,null,0,null,50.362656299855502,null,1,0.49637343700144498,0,0.50362656299855502,null,1,null,0,50.362656299855502]
["SH24","Cokeland Place / Graingers Lane, Cradley Heath",0.37,null,null,null,0,null,0,null,1,1,0,0,null,1,null,0,0]
["SH16","Cradley Heath Factory Centre, Woods Lane, Cradley",5.57,null,null,null,0,null,0,null,1,1,0,0,null,1,null,0,0]
["SH54","Cranford Street / Heath Street / Canal",5.01,null,null,null,78.3707835189348,null,0.299687359421967,null,1,0.21329529121643231,0.78370783518934806,2.9968735942196702E-3,null,1,null,78.3707835189348,0.299687359421967]
["SM5","cultural quarter, west brom",1.0900000000000001,null,null,null,0,null,0,null,1,1,0,0,null,1,null,0,0]
["SH21","Dudley Road East",2.66,null,null,null,0,null,0,null,1,1,0,0,null,1,null,0,0]
["SH37","Edwin Richards Quarry, Portway Road, Rowley Regis",51.26,null,null,null,0,null,0,null,1,1,0,0,null,1,null,0,0]
["SH20","Elbow Street, Old Hill",0.72,null,null,null,19.767240242197801,null,0,null,1,0.80232759757802197,0.19767240242197801,0,null,1,null,19.767240242197801,0]
["SM3","Evans Halshaw car showroom",0.89,null,null,null,0,null,0,null,1,1,0,0,null,1,null,0,0]
["SH28","Friar Street, Wednesbury",1.02,null,null,null,0,null,0,null,1,1,0,0,null,1,null,0,0]
["SM8","George Street Living",2.36,null,null,null,0,null,0,null,1,1,0,0,null,1,null,0,0]
["SH53","Grove Lane/ Cranford Street/ London Street",2.09,null,null,null,0,null,0,null,1,1,0,0,null,1,null,0,0]
["SH57","Grove Street / MMUH / School - Grove Lane MP",2.19,null,null,null,0,null,0,null,1,1,0,0,null,1,null,0,0]
["SH17","Land adj to Droicon Estate, Portway Road, Rowley R",0.66,null,null,null,0,null,0,null,1,1,0,0,null,1,null,0,0]
["SH2","Land adjacent To Asda Wolverhampton Road, Oldbury",1.61,null,null,null,0,null,0,null,1,1,0,0,null,1,null,0,0]
["SH19","Land at Horseley Heath, Alexandra Road, and Lower",2.27,null,null,null,0,null,0,null,1,1,0,{"$f":"I259/100","v":0},null,{"$f":"SUM(L259+M259+N259)","v":1},null,0,0]
["SH36","Land between Addington Way and River Tame, Temple",0.89,null,null,null,0,null,0,null,1,1,0,0,null,1,null,0,0]
["SH43","Land of Tanhouse Avenue, Great Barr",1.66,null,null,null,0,null,0,null,1,1,0,0,null,1,null,0,0]
["SH30","Land to east of Black Lake, west Bromwich",2.46,null,null,null,0,null,0,null,1,1,0,0,null,1,null,0,0]
["SH14","Langley Maltings, Western Road, Langly",2.73,null,null,null,0,null,0,null,1,1,0,0,null,1,null,0,0]
["SH40","Langley Swimming Centre, Vicarage Road, Oldbury",0.49,null,null,null,0,null,0,null,1,1,0,0,null,1,null,0,0]
["SM2","Lion Farm",21,null,null,null,0,null,0,null,1,1,0,0,null,1,null,0,0]
["SH26","Lower City Road,Oldbury",2.33,null,null,null,0,null,0,null,1,1,0,0,null,1,null,0,0]
["SH4","Lower High Street (Station hotel & Dunns Site).",0.28000000000000003,null,null,null,0,null,0,null,1,1,0,0,null,1,null,0,0]
["SH15","Macarthur Road Industrial Estate Cradley Heath",0.3,null,null,null,0,null,0,null,1,1,0,0,null,1,null,0,0]
["SH5","Mill Street, Great Bridge",0.88,null,null,null,0.67573323169278598,null,57.826880277660599,null,1,0.41497386490646615,6.7573323169278603E-3,0.57826880277660597,null,1,null,0.67573323169278598,57.826880277660599]
["SH56","Moilliett Street Park - Grove Lane masterplan",0.78,null,null,null,0,null,0,null,1,1,0,0,null,1,null,0,0]
["SH41","North Smethwick Canalside",8.81,null,null,null,0.74393034294445703,null,76.044499770694799,null,1,0.2321156988636075,7.4393034294445706E-3,0.76044499770694796,null,1,null,0.74393034294445703,76.044499770694799]
["SH52","overend street, west bromwich",0.71,null,null,null,0,null,0,null,1,1,0,0,null,1,null,0,0]
["SH51","Providence Place / Bratt St",0.74,null,null,null,0,null,0,null,1,1,0,0,null,1,null,0,0]
["SM6","queens square living",3.07,null,null,null,0,null,0,null,1,1,0,0,null,1,null,0,0]
["SH35","Rattlechain Site Land to the north of Temple Way,",14.86,null,null,null,0,null,0,null,1,1,0,0,null,1,null,0,0]
["SH11","Sandwell District & General Hospital,",0.82,null,null,null,0,null,0,null,1,1,0,0,null,1,null,0,0]
["SH13","Silverthorne Lane/ Forge Lane Cradley Heath",2.41,null,null,null,0,null,0,null,1,1,0,0,null,1,null,0,0]
["SH45","Site of 30-144 Mounts Road, Wednesbury",1.07,null,null,null,0,null,0,null,1,1,0,0,null,1,null,0,0]
["SH47","Site Of Former Stone Cross Neighbourhood Office",0.28000000000000003,null,null,null,0,null,0,null,1,1,0,0,null,1,null,0,0]
["SH27","Site surrounding former Post office and Telephone",1.17,null,null,null,0,null,0,null,1,1,0,0,null,1,null,0,0]
["SH65","Smethwick Police Station, Piddock Road, Smethwick",0.22,null,null,null,0,null,100,null,1,0,0,1,null,1,null,0,100]
["SH49","St Johns St, Carters Green",0.82,null,null,null,0,null,0,null,1,1,0,0,null,1,null,0,0]
["SH62","Star and Garter, 252 Duchess Parade, West Bromwich",0.05,null,null,null,0,null,0,null,1,1,0,0,null,1,null,0,0]
["SH18","STW/SMBC Land",28.18,null,null,null,4.0905917894430202,null,16.230927965457099,null,1,0.79678480245099881,4.0905917894430203E-2,0.16230927965457098,null,1,null,4.0905917894430202,16.230927965457099]
["SH31","Summerton Road, Oldbury",0.89,null,null,null,0,null,0,null,1,1,0,0,null,1,null,0,0]
["SH6","Swan Lane",3.79,null,null,null,0,null,0,null,1,1,0,0,null,1,null,0,0]
["SH22","Tatbank Road Oldbury",1.1499999999999999,null,null,null,0,null,0,null,1,1,0,0,null,1,null,0,0]
["SH50","tentec, guns lane",0.6,null,null,null,0,null,0,null,1,1,0,0,null,1,null,0,0]
["SH61","Thandi Coach Station",0.45,null,null,null,0,null,22.253841969559801,null,1,0.77746158030440204,0,0.22253841969559801,null,1,null,0,22.253841969559801]
["SH7","The Boat Gauging House & Adjoining Land, Factory R",0.56999999999999995,null,null,null,0,null,0,null,1,1,0,0,null,1,null,0,0]
["SH42","The Forge Tavern, junction Franchise Street and B",0.14000000000000001,null,null,null,0,null,0,null,1,1,0,0,null,1,null,0,0]
["SH9","The Phoenix Collegiate, Friar Park Road, Wednesbur",4.82,null,null,null,0,null,0,null,1,1,0,0,null,1,null,0,0]
["SH10","Tipton Conservative And Unionist Club, 64 Union St",0.14000000000000001,null,null,null,0,null,0,null,1,1,0,0,null,1,null,0,0]
["SH29","Used Car Sales site on corner of Lower Church Lane",0.56999999999999995,null,null,null,0,null,0,null,1,1,0,0,null,1,null,0,0]
["SH66","Wednesbury Police Station, Albert St, Wednesbury",0.33,null,null,null,0,null,0,null,1,{"$f":"1-SUM(M295+N295)","v":1},{"$f":"G295/100","v":0},0,null,1,null,0,0]
["SH33","Wellington Road, Tipton",0.86,null,null,null,0,null,0,null,1,1,0,0,null,1,null,0,0]
["SM7","west bromwich central",3.84,null,null,null,0,null,0,null,1,1,0,0,null,1,null,{"$f":"M297*100","v":0},{"$f":"N297*100","v":0}]
["SH64","Windmill House, Windmill Lane, Smethwick",0.21,null,null,null,0,null,0,null,1,1,0,0,null,1,null,0,0]
["SH44","Wyndmill crescent, West Bromwich",0.19,null,null,null,0,null,0,null,1,1,0,0,null,1,null,0,0]
["SG1","Brierley Lane, Tipton",0.626,null,null,null,0,null,0,null,1,1,0,0,null,1,null,0,{"$f":"N300*100","v":0}]
["SG2","Brierley Lane, Tipton",0.75700000000000001,null,null,null,0,null,0,null,1,1,0,0,null,1,null,0,{"$f":"N301*100","v":0}]

{"sheet":"Calculations","index":10,"n_rows":75,"n_cols":44,"rows_kept":75,"cut":false,"hidden":true,"merged":[[0,30,0,31],[0,32,0,33]]}
["Name","SHLAA REF","HELAA ref","Achieveable ","Site (ha)",null,"FZ3b (ha)",null,"FZ3b (%)","FZ3a (ha)",null,null,"FZ3a (%)","FZ2 (ha)",null,null,"FZ2 (%)","FZ1 (%)","FZ2(proxy)","HFM","HFM","HF Instances (within 50m)","SW30",null,"SW100",null,null,"SW1000",null,null,"GW High Risk",null,"GW Moderate Risk",null,"Fluvial CC 25%",null,"Fluvial CC 35%",null,"Fluvial CC 70%",null,"Surface Water +20%",null,"Surface Water +40%"]
[" Gatwick Airport","N/A",null,null,693.76347093100003,{"$f":"ROUND(E2,2)","v":693.76},40.286493974782701,{"$f":"ROUND(G2,2)","v":40.29},{"$f":"H2/F2","v":5.8074838560885605E-2},195.44081511168699,{"$f":"ROUND(J2,2)","v":195.44},{"$f":"K2/F2","v":0.28171125461254615},{"$f":"L2-I2","v":0.22363641605166054},351.43053553878002,{"$f":"ROUND(N2,2)","v":351.43},{"$f":"O2/F2","v":0.50655846402214022},{"$f":"P2-L2","v":0.22484720940959407},{"$f":"1-P2","v":0.49344153597785978},0,22.962637054615101,{"$f":"T2/E2","v":3.3098653960261487E-2},0,25.642205365977301,{"$f":"W2/E2","v":3.6961019771719304E-2},60.7567238769387,{"$f":"Y2/E2","v":8.7575559138917833E-2},{"$f":"Y2/E2","v":8.7575559138917833E-2},202.16259748975,{"$f":"AB2/E2","v":0.29139988765689362},{"$f":"AB2/E2","v":0.29139988765689362},0,{"$f":"AE2/E2","v":0},242.186768905875,{"$f":"AG2/E2","v":0.34909126676974073},256.258545868201,{"$f":"AI2/E2","v":0.36937451538679789},276.01701542919,{"$f":"AK2/E2","v":0.39785463921700476},326.54034680169002,{"$f":"AM2/E2","v":0.47067964873314422},90.680277632724795,{"$f":"AO2/E2","v":0.1307077720754537},121.30526037937901,{"$f":"AQ2/E2","v":0.17485103419554893}]
[" Town Centre","N/A",null,null,63.732532557500001,63.73,0,0,0,0,0,0,0,0,0,0,0,1,0,0,0,0,2.5217730616761602,3.9568066111306595E-2,6.86444892854652,0.10770714191144623,0.10770714191144623,16.910272894138,0.26533188334986402,0.26533188334986402,0,0,0,0,0,0,0,0,0,0,9.2494554454024893,0.14512926246979996,11.249052884863399,0.1765040934896854]
[" Area Action Plan","N/A",null,null,603.68752746400003,603.69000000000005,29.897403423564999,29.9,4.9528731633785544E-2,47.664350872844601,47.66,7.8947804336662847E-2,2.9419072702877302E-2,83.050544294767505,83.05,0.13757060743096622,5.8622803094303372E-2,0.86242939256903384,0,32.576071807591902,5.3961810250476853E-2,0,23.7827707392889,3.9395829228403512E-2,44.111309117061801,7.3069770552270208E-2,7.3069770552270208E-2,137.61410956268099,0.22795586011322289,0.22795586011322289,0,0,120.597214019292,0.19976760912371777,58.275790947143498,9.6533037864723295E-2,61.394355937484299,0.10169889743356583,71.358163015300093,0.11820380539426571,62.606901145616597,0.10370746172050087,82.265161405424294,0.13627109665658954]
[" Area Action Plan","N/A",null,null,6.0845750302499999,6.08,0.72893366189733599,0.73,0.12006578947368421,0.95118383138853901,0.95,0.15625,3.6184210526315791E-2,1.44214209558912,1.44,0.23684210526315788,8.0592105263157882E-2,0.76315789473684215,0,0,0,0,0.13813232188531599,2.2702049230813821E-2,0.196365741513294,3.2272712644193631E-2,3.2272712644193631E-2,1.2041329649954899,0.19789927135568827,0.19789927135568827,0,0,0.19985764609418499,3.2846607215881986E-2,1.13033871321553,0.18577118493829917,1.1894051525231999,0.19547875514887525,1.41603902064579,0.23272603486781368,0.32274500842183501,5.3043147108430715E-2,0.49583574030591199,8.1490611561336829E-2]
[" Land at Jersey Farm (Site A)","N/A",null,null,0.66438541001999996,0.66,0,0,0,0,0,0,0,0,0,0,0,1,0,0,0,0,0,0,0,0,0,0.217153033784273,0.32684798689022393,0.32684798689022393,0,0,0,0,0,0,0,0,0,0,0,0,0,0]
[" Space Gatwick, Faraday Road","N/A",null,null,1.55550452886,1.56,0,0,0,0,0,0,0,0,0,0,0,1,0,0,0,0,0,0,0,0,0,3.7839602115102202E-3,2.4326256473733402E-3,2.4326256473733402E-3,0,0,0,0,0,0,0,0,0,0,6.6941348370143803E-7,4.303513562844067E-7,3.6552880101322099E-6,2.3499050901581764E-6]
[" Southways, London Road","N/A",null,null,2.87416329701,2.87,0,0,0,0,0,0,0,0,0,0,0,1,0,0,0,0,2.8460236550829701E-3,9.902094491442766E-4,2.98301392759821E-2,1.0378721107118192E-2,1.0378721107118192E-2,0.35794339514092399,0.12453829450584575,0.12453829450584575,0,0,4.2212904440118203E-3,1.4687023692784751E-3,0,0,0,0,0,0,8.3328711349656803E-2,2.899233715646703E-2,0.170765889854957,5.9414122375233594E-2]
[" Gatwick Park (Site G1), Gatwick Road","N/A",null,null,0.79687919737400004,0.8,0,0,0,0,0,0,0,0,0,0,0,1,0,0,0,0,0,0,1.12E-2,1.405482792988947E-2,1.405482792988947E-2,9.1313528822081394E-2,0.11458892279154971,0.11458892279154971,0,0,0,0,0,0,0,0,0,0,3.9600000000000003E-2,4.9693855894966346E-2,5.6139872935987503E-2,7.0449665546532425E-2]
[" Gatwick Park (Site G2), BCL House, Gatwick Road\r\n","N/A",null,null,0.44394294431300002,0.44,0,0,0,0,0,0,0,0,0,0,0,1,0,0,0,0,0,0,0,0,0,2.7500204595661201E-2,6.1945357951836942E-2,6.1945357951836942E-2,0,0,0,0,0,0,0,0,0,0,0,0,3.0559718985168802E-5,6.8837041733954907E-5]
[" Manor Royal","N/A",null,null,241.42064488899999,241.42,5.1180497180121698,5.12,2.1207853533261538E-2,14.1497161186394,14.15,5.861154833899429E-2,3.7403694805732753E-2,29.123478437715701,29.12,0.12061966697042499,6.20081186314307E-2,0.87938033302957497,0,2.4492526799993102,1.0145166670089146E-2,0,6.1120258777289003,2.531691471762524E-2,16.9777079972562,7.0324176315004816E-2,7.0324176315004816E-2,50.447918064777603,0.20896273426811726,0.20896273426811726,0,0,1.27023726375602,5.2615105238412721E-3,19.023323882373301,7.8797419711639893E-2,20.2456761578654,8.3860583535322455E-2,23.8982766352505,9.8990194671372919E-2,23.4239255005409,9.7025362148753749E-2,30.3037517390377,0.12552261946351237]
[" Land West of Bewbush","SA289",null,null,134.34006202,{"$f":"ROUND(E12,2)","v":134.34},0,{"$f":"ROUND(G12,2)","v":0},0,2.19559822349995,{"$f":"ROUND(J12,2)","v":2.2000000000000002},{"$f":"K12/F12","v":1.6376358493375019E-2},1.6376358493375019E-2,3.4072231017274102,{"$f":"ROUND(N12,2)","v":3.41},{"$f":"O12/F12","v":2.538335566473128E-2},9.0069971713562617E-3,0.97461664433526873,{"$f":"Q12+M12","v":2.538335566473128E-2},0,{"$f":"T12/E12","v":0},0,6.9608823616522804,{"$f":"W12/E12","v":5.181538743532791E-2},10.5231240023077,{"$f":"Y12/E12","v":7.8331987078739479E-2},{"$f":"Y12/E12","v":7.8331987078739479E-2},22.6029621030271,{"$f":"AB12/E12","v":0.16825183614744843},{"$f":"AB12/E12","v":0.16825183614744843},0,{"$f":"AE12/E12","v":0},0,{"$f":"AG12/E12","v":0},0,{"$f":"AI12/E12","v":0},0,{"$f":"AK12/E12","v":0},0,{"$f":"AM12/E12","v":0},13.553014881629201,{"$f":"AO12/E12","v":0.10088587631894559},16.2736119205127,{"$f":"AQ12/E12","v":0.12113744534441223}]
["Land West of Kilnwood Vale","SA291",null,null,35.135471601699997,{"$f":"ROUND(E13,2)","v":35.14},0,{"$f":"ROUND(G13,2)","v":0},0,0,{"$f":"ROUND(J13,2)","v":0},{"$f":"K13/F13","v":0},0,0,{"$f":"ROUND(N13,2)","v":0},{"$f":"O13/F13","v":0},0,1,0,0,{"$f":"T13/E13","v":0},0,1.93627379092041,{"$f":"W13/E13","v":5.5108803230827424E-2},2.9783313249905001,{"$f":"Y13/E13","v":8.4767079797682193E-2},{"$f":"Y13/E13","v":8.4767079797682193E-2},9.8663492939756203,{"$f":"AB13/E13","v":0.28080879078048993},{"$f":"AB13/E13","v":0.28080879078048993},0,{"$f":"AE13/E13","v":0},0,{"$f":"AG13/E13","v":0},0,{"$f":"AI13/E13","v":0},0,{"$f":"AK13/E13","v":0},0,{"$f":"AM13/E13","v":0},3.7781525268874199,{"$f":"AO13/E13","v":0.10753100370238428},4.7577267991763401,{"$f":"AQ13/E13","v":0.13541092754099085}]
["Land off Rusper Road, Ifield","SA468",null,null,4.5456317408800002,{"$f":"ROUND(E14,2)","v":4.55},5.3826782455341698E-2,{"$f":"ROUND(G14,2)","v":0.05},1.098901098901099E-2,5.3826782455341698E-2,{"$f":"ROUND(J14,2)","v":0.05},{"$f":"K14/F14","v":1.098901098901099E-2},0,5.9836017036746E-2,{"$f":"ROUND(N14,2)","v":0.06},{"$f":"O14/F14","v":1.3186813186813187E-2},2.1978021978021969E-3,0.98681318681318686,0,0,{"$f":"T14/E14","v":0},0,7.0704240250198405E-2,{"$f":"W14/E14","v":1.5554326500833214E-2},0.16664623099933701,{"$f":"Y14/E14","v":3.6660741674396077E-2},{"$f":"Y14/E14","v":3.6660741674396077E-2},0.58725963923957003,{"$f":"AB14/E14","v":0.12919208433850846},{"$f":"AB14/E14","v":0.12919208433850846},0,{"$f":"AE14/E14","v":0},0,{"$f":"AG14/E14","v":0},5.4046942404054901E-2,{"$f":"AI14/E14","v":1.1889863826406628E-2},5.5703891434387698E-2,{"$f":"AK14/E14","v":1.2254378403210428E-2},5.79488288502302E-2,{"$f":"AM14/E14","v":1.2748245382282494E-2},0.22016532099969099,{"$f":"AO14/E14","v":4.8434482498810744E-2},0.32850573099959102,{"$f":"AQ14/E14","v":7.2268443579636479E-2}]
["2 - 12 Friston Walk","N/A",null,null,0.53271091729599995,0.53,0,0,0,0,0,0,0,0,0,0,0,1,0,0,0,0,0,0,3.9212632487519203E-2,7.3609590519675361E-2,7.3609590519675361E-2,0.294671617104174,0.55315483039075808,0.55315483039075808,0,0,0,0,0,0,0,0,0,0,0.101351828666955,0.1902567140568644,0.164613201115027,0.30901037649198382]
["Parkside Car Park","N/A",null,null,0.24278223874099999,0.24,0,0,0,0,0,0,0,0,0,0,0,1,0,0,0,0,1.2316259999200699E-2,5.0729658244644829E-2,2.7229869999922801E-2,0.1121575867375192,0.1121575867375192,6.99289630301098E-2,0.2880316261714268,0.2880316261714268,0,0,0,0,0,0,0,0,0,0,3.5214472500077698E-2,0.14504550531657501,4.4012060135699499E-2,0.18128204255769942]
["Crawley College Car Park","N/A",null,null,0.36109727675999997,0.36,0,0,0,0,0,0,0,0,0,0,0,1,0,0,0,0,9.6905211556190599E-2,0.2683631746705134,0.129719683303015,0.35923750094972889,0.35923750094972889,0.193569527776179,0.53605922900613079,0.53605922900613079,0,0,0,0,0,0,0,0,0,0,0.143213213003825,0.39660563017485828,0.15537648798982701,0.43028983597983922]
["Zurich House","N/A",null,null,0.30616611043300002,0.31,0,0,0,0,0,0,0,0,0,0,0,1,0,0,0,0,8.4968970165080399E-2,0.27752571976340479,0.103148643002846,0.33690418203688999,0.33690418203688999,0.13779425830483699,0.45006371903787584,0.45006371903787584,0,0,0,0,0,0,0,0,0,0,0.110838721731808,0.36202152346336658,0.116424320082656,0.3802652093597203]
["138 - 144 London Road","N/A",null,null,0.27963510505799999,0.28000000000000003,0,0,0,0,0,0,0,0,0,0,0,1,0,0,0,0,0,0,0,0,0,0,0,0,0,0,0,0,0,0,0,0,0,0,0,0,0,0]
["8 - 9 Queens Square","N/A",null,null,4.1707624998200001E-2,0.04,0,0,0,0,0,0,0,0,0,0,0,1,0,0,0,0,0,0,0,0,0,7.97984499797818E-4,1.9132820433488049E-2,1.9132820433488049E-2,0,0,0,0,0,0,0,0,0,0,3.1031499980666699E-4,7.4402462336337644E-3,4.7509149975782201E-4,1.1390998643013737E-2]
["15 - 29 The Broadway","N/A",null,null,0.109998100365,0.11,0,0,0,0,0,0,0,0,0,0,0,1,0,0,0,0,1.40517868862052E-3,1.2774572324047424E-2,3.4833513091067302E-3,3.1667376959676009E-2,3.1667376959676009E-2,4.87131362926373E-3,4.4285434140221937E-2,4.4285434140221937E-2,0,0,0,0,0,0,0,0,0,0,3.4833513091067302E-3,3.1667376959676009E-2,3.9791524691669003E-3,3.6174738072413261E-2]
["Former EDF Building","N/A",null,null,0.33373833675199999,0.33,0,0,0,0,0,0,0,0,0,0,0,1,0,0,0,0,0,0,0,0,0,1.3599999999999999E-2,4.0750487739459551E-2,4.0750487739459551E-2,0,0,0,0,0,0,0,0,0,0,0,0,0,0]
["County Buildings","N/A",null,null,1.04831972717,1.05,0,0,0,0,0,0,0,0,0,0,0,1,0,0,0,0,0,0,0,0,0,2.6800000000000001E-2,2.5564719718046476E-2,2.5564719718046476E-2,0,0,0,0,0,0,0,0,0,0,0,0,0,0]
["Shaw House","N/A",null,null,0.19972388058400001,0.2,0,0,0,0,0,0,0,0,0,0,0,1,0,0,0,0,0,0,1.7965188259936099E-4,8.9950126181231936E-4,8.9950126181231936E-4,1.9029079591995799E-3,9.5276937021021562E-3,9.5276937021021562E-3,0,0,0,0,0,0,0,0,0,0,4.8370312811039299E-4,2.4218592523639493E-3,4.8370312811039299E-4,2.4218592523639493E-3]
["Oak Tree Filling Station, 114 London Road","N/A",null,null,0.19753521294699999,0.2,0,0,0,0,0,0,0,0,0,0,0,1,0,0,0,0,0,0,5.0423951010420204E-7,2.5526563217844753E-6,2.5526563217844753E-6,1.2902920933186301E-2,6.5319599177733639E-2,6.5319599177733639E-2,0,0,0,0,0,0,0,0,0,0,8.8353866340790406E-5,4.4728160120239592E-4,1.9275051904231301E-3,9.7577802036758511E-3]
["Oakhurst Grange","N/A",null,null,1.4849629619,1.48,0,0,0,0,0,0,0,0,0,0,0,1,0,0,0,0,0,0,0,0,0,7.1999999999999995E-2,4.8486057798961181E-2,4.8486057798961181E-2,0,0,0,0,0,0,0,0,0,0,0,0,2.1600000000000001E-2,1.4545817339688356E-2]
["Rear Gardens, Snell Hatch/Ifield Road","N/A",null,null,0.48713011504999998,0.49,0,0,0,0,0,0,0,0,0,0,0,1,0,0,0,0,0,0,7.0011524499659899E-3,1.4372243131072646E-2,1.4372243131072646E-2,3.6072127466246599E-2,7.4050292420422589E-2,7.4050292420422589E-2,0,0,0,0,0,0,0,0,0,0,9.3391977999635698E-3,1.9171875257609512E-2,1.0738992192091699E-2,2.2045428644848673E-2]
["Sutherland House (Eastern Section)","N/A",null,null,0.90864929973800002,0.91,0,0,0,0,0,0,0,0,0,0,0,1,0,0,0,0,0,0,0,0,0,7.2377151749934795E-2,7.9653560257850892E-2,7.9653560257850892E-2,0,0,0,0,0,0,0,0,0,0,1.5182000007480401E-4,1.670831641190719E-4,1.04680717498994E-2,1.1520475229461757E-2]
["Land to the southeast of Heathy Farm","N/A",null,null,2.2209722115399999,2.2200000000000002,0,0,0,0,0,0,0,0,0,0,0,1,0,0,0,0,0,0,1.007237007627E-6,4.5351175597491693E-7,4.5351175597491693E-7,1.67304437530808E-2,7.5329370021609042E-3,7.5329370021609042E-3,0,0,0,0,0,0,0,0,0,0,1.007237007627E-6,4.5351175597491693E-7,3.44747609000642E-3,1.552237381491583E-3]
["21, 25, 27 & 29 Tushmore Lane","N/A",null,null,0.60015344549600003,0.6,0,0,0,0,0,0,0,0.37882093435360198,0.38,0.63333333333333341,0.63333333333333341,0.36666666666666659,0,0,0,0,0,0,4.11556073720062E-2,6.8575141375707555E-2,6.8575141375707555E-2,0.350289334374282,0.58366628901844175,0.58366628901844175,0,0,0,0,0,0,0,0,3.2599025000119602E-2,5.4317816959591002E-2,9.0214864156429805E-2,0.15031966380176531,0.132301644155883,0.22044636275734716]
["Brittingham House","N/A",null,null,0.131032236054,0.13,0,0,0,0,0,0,0,0,0,0,0,1,0,0,0,0,0,0,0,0,0,6.9325375007792795E-4,5.2907114383076662E-3,5.2907114383076662E-3,0,0,0,0,0,0,0,0,0,0,0,0,0,0]
["Crawley College","N/A",null,null,3.41391614566,3.41,0,0,0,0,0,0,0,0,0,0,0,1,0,0,0,0,0.29150300474255703,8.5386691501821238E-2,0.66174892310746802,0.19383865768019165,0.19383865768019165,1.4776933750763901,0.43284407467211322,0.43284407467211322,0,0,0,0,0,0,0,0,0,0,0.86500591505906399,0.25337643871502752,1.0022525580746,0.29357855181906883]
["Telford Place","N/A",null,null,1.73808379902,1.74,0,0,0,0,0,0,0,0,0,0,0,1,0,0,0,0,4.2459158298091097E-2,2.4428717603852727E-2,0.114154537910264,6.5678385573025203E-2,6.5678385573025203E-2,0.34158385897819499,0.19652899311920025,0.19652899311920025,0,0,0,0,0,0,0,0,0,0,0.17111728227720499,9.8451687066922575E-2,0.21112353347211199,0.12146913376164702]
["Former TSB Site","N/A",null,null,0.49411884870200001,0.49,0,0,0,0,0,0,0,0,0,0,0,1,0,0,0,0,0,0,5.28E-2,0.10685688299221985,0.10685688299221985,0.18873396089944799,0.38196065864565359,0.38196065864565359,0,0,0,0,0,{"$f":"AI34/E34","v":0},0,{"$f":"AK34/E34","v":0},0,{"$f":"AM34/E34","v":0},7.0400000000000004E-2,{"$f":"AO34/E34","v":0.14247584398962648},8.2940080000087596E-2,{"$f":"AQ34/E34","v":0.16785451560482414}]
["7 - 13 The Broadway & 1 - 3 Queens Square","N/A",null,null,9.0799073520499998E-2,0.09,0,0,0,0,0,0,0,0,0,0,0,1,0,0,0,0,0,0,0,0,0,2.6166784944105801E-3,2.8818339141090509E-2,2.8818339141090509E-2,0,0,0,0,0,0,0,0,0,0,0,0,0,0]
["Breezehurst Drive Playing Fields","N/A",null,null,2.7372661915899998,2.74,1.2711912606706901E-2,0.01,3.6496350364963502E-3,1.2711912606706901E-2,0.01,3.6496350364963502E-3,0,1.2711912606706901E-2,0.01,3.6496350364963502E-3,0,0.9963503649635036,0,0,0,0,0,0,0,0,0,0,0,0,0,0,0,0,1.2711912606706901E-2,4.6440176866112222E-3,1.2711912606706901E-2,4.6440176866112222E-3,1.27117813327704E-2,4.6439697285657446E-3,0,0,0,0]
["Land to the southeast of Heathy Farm","N/A",null,null,2.10841042775,2.11,0,0,0,0,0,0,0,0,0,0,0,1,0,0,0,0,0,0,4.6847999999299601E-4,2.2219582763728627E-4,2.2219582763728627E-4,7.6820537098160599E-2,3.6435286074799011E-2,3.6435286074799011E-2,0,0,0,0,0,0,0,0,0,0,4.0727378188364204E-3,1.9316627186209952E-3,5.1527215376678103E-3,2.4438892304125821E-3]
["Land Adjacent to Desmond Anderson","N/A",null,null,3.5151634173400002,3.52,0.108476148361628,0.11,3.125E-2,0.64259990945382806,0.64,0.18181818181818182,0.15056818181818182,0.76469755468283995,0.76,0.21590909090909091,3.4090909090909088E-2,0.78409090909090906,0,0,0,0,5.6548475388552399E-2,1.6087011804231808E-2,0.119589753686743,3.402110783721092E-2,3.402110783721092E-2,0.52058386380303001,0.14809663221773259,0.14809663221773259,0,0,0,0,0.72607746446812105,0.20655582067292891,0.73811393064937103,0.20997997618213657,0.75406914209428699,0.21451894337956764,0.18700649401787101,5.3199943164913464E-2,0.22740600113571199,6.4692867482045835E-2]
["Henty Close","N/A",null,null,0.35182774594600003,0.35,4.09315729533479E-2,0.04,0.1142857142857143,4.09315729533479E-2,0.04,0.1142857142857143,0,4.09315729533479E-2,0.04,0.1142857142857143,0,0.88571428571428568,0,0,0,0,3.0553849781437799E-3,8.6843207033840165E-3,3.3238050866015302E-3,9.4472511758969726E-3,9.4472511758969726E-3,1.8536454079858E-2,5.2686163309880199E-2,5.2686163309880199E-2,0,0,0,0,4.09315729533479E-2,0.11633980953744974,4.09315729533479E-2,0.11633980953744974,4.09315771873697E-2,0.11633982157180987,4.1297077162986296E-3,1.1737868215011315E-2,5.3683505763465903E-3,1.5258462808020113E-2]
["257 - 259 Ifield Road","N/A",null,null,0.11551717782900001,0.12,0,0,0,0,0,0,0,0,0,0,0,1,0,0,0,0,5.7541322616545598E-2,0.49811918623673423,7.0757584644813201E-2,0.61252868166114305,0.61252868166114305,9.6791404011509402E-2,0.83789619717674935,0.83789619717674935,0,0,0,0,0,0,0,0,0,0,8.2759468767717698E-2,0.7164256461513151,8.7135065438920703E-2,0.75430396653133858]
["Tinsley Lane Playing Fields","N/A",null,null,5.9747306996200003,5.97,0,0,0,0,0,0,0,0,0,0,0,1,0,0,0,0,0,0,0,0,0,0,0,0,0,0,0,0,0,0,0,0,0,0,0,0,0,0]
["Stoner House","N/A",null,null,0.42345709074999999,0.42,0,0,0,0,0,0,0,0,0,0,0,1,0,0,0,0,5.2481374615491398E-2,0.12393551970647075,6.7250070994456096E-2,0.15881200826120798,0.15881200826120798,0.22909343205051,0.5410074292173368,0.5410074292173368,0,0,0,0,0,0,0,0,0,0,9.0631250849560294E-2,0.21402700020689239,0.108238309523326,0.25560632207532824]
["1 - 7 Pegler Way","N/A",null,null,0.124046057977,0.12,0,0,0,0,0,0,0,0,0,0,0,1,0,0,0,0,1.0800000000000001E-2,8.7064435389010777E-2,1.42297508494006E-2,0.11471344661382959,0.11471344661382959,2.0431494772427901E-2,0.16470894041805187,0.16470894041805187,0,0,0,0,0,0,0,0,0,0,1.47256996038896E-2,0.11871154830748402,1.55256996038896E-2,0.12516076574370705]
["Longley Building","N/A",null,null,0.48647243500199999,0.49,0,0,0,0,0,0,0,0,0,0,0,1,0,0,0,0,0,0,7.16308000013232E-3,1.472453418681959E-2,1.472453418681959E-2,2.4916760000213999E-2,5.1219263841971972E-2,5.1219263841971972E-2,0,0,0,0,0,0,0,0,0,0,1.0363080000132301E-2,2.1302501960033349E-2,1.19630800001323E-2,2.4591485846640247E-2]
["Land North of the Boulevard","N/A",null,null,1.2892385845300001,1.29,0,0,0,0,0,0,0,0,0,0,0,1,0,0,0,0,0,0,2.6997979999519899E-2,2.0941026993356843E-2,2.0941026993356843E-2,7.2805792617988599E-2,5.6471931178301182E-2,5.6471931178301182E-2,0,0,0,0,0,0,0,0,0,0,3.8322939999587802E-2,2.9725250593208602E-2,4.3142739999853102E-2,3.3463736283987383E-2]
["Crawley Station and Car Parks","N/A",null,null,2.0443354641,2.04,0,0,0,0,0,0,0,0,0,0,0,1,0,0,0,0,0.12739609492060899,6.2316629123632582E-2,0.389820570881732,0.19068326980931524,0.19068326980931524,0.99415519634865401,0.48629748581225229,0.48629748581225229,0,0,0,0,0,0,0,0,0,0,0.50392933547613705,0.24650031480913889,0.61192503255701902,0.29932711304130971]
["Ocean House","N/A",null,null,0.1675561975,0.17,0.161301018212195,0.16,0.94117647058823528,0.16755619750002099,0.17,1,5.8823529411764719E-2,0.16755619750002099,0.17,1,0,0,0,0.16755619750002099,1.0000000000001252,0,0,0,0,0,0,8.5709359802089796E-2,0.51152604965322035,0.51152604965322035,0,0,0,0,0.16755619750002099,1.0000000000001252,0.16755619750002099,1.0000000000001252,0.16755619750002099,1.0000000000001252,0,0,1.3875550919516901E-2,8.2811326149346998E-2]
["Land East of Balcombe Road/Street Hill","N/A",null,null,1.75450579751,1.75,2.3669007238005701E-2,0.02,1.1428571428571429E-2,2.46040847629167E-2,0.02,1.1428571428571429E-2,0,3.9176821428807997E-2,0.04,2.2857142857142857E-2,1.1428571428571429E-2,0.97714285714285709,0,0,0,0,7.7815387565272703E-2,4.4351741485099988E-2,0.100251905778758,5.7139683391776656E-2,5.7139683391776656E-2,0.18669431070428899,0.10640848891422652,0.10640848891422652,0,0,0,0,2.8018858473814301E-2,1.5969658529244389E-2,2.9177887858045801E-2,1.663026015613921E-2,3.6536180946012402E-2,2.0824200750926364E-2,0.119928842795508,6.8354771449436857E-2,0.13325813662451599,7.5951950009875341E-2]
["Rear Gardens, Dingle Close/Ifield Road","N/A",null,null,0.71629540150600002,0.72,0,0,0,0,0,0,0,0,0,0,0,1,0,0,0,0,0,0,6.1996824996707204E-4,8.6552035467992448E-4,8.6552035467992448E-4,1.04724905892536E-2,1.4620351557800525E-2,1.4620351557800525E-2,0,0,0,0,0,0,0,0,0,0,2.4348382499457602E-3,3.399209662419374E-3,3.9182812499925501E-3,5.4702029941200575E-3]
["The Imperial","N/A",null,null,0.104702495002,0.1,0,0,0,0,0,0,0,0,0,0,0,1,0,0,0,0,0,0,3.8980049991932499E-5,3.7229342043079212E-4,3.7229342043079212E-4,2.8581566250090101E-2,0.27297884591522048,0.27297884591522048,0,0,0,0,0,0,0,0,0,0,1.2824720050001501E-2,0.12248724397404785,1.9062839550127299E-2,0.18206671722353096]
["9 Woolborough Road","N/A",null,null,0.13908572911100001,0.14000000000000001,0,0,0,0,0,0,0,0,0,0,0,1,0,0,0,0,0,0,3.43984345190604E-5,2.4731821689346776E-4,2.4731821689346776E-4,7.3311160999826996E-3,5.2709333637903019E-2,5.2709333637903019E-2,0,0,0,0,0,0,0,0,0,0,6.7929947193798399E-4,4.884034302296076E-3,1.93436487123217E-3,1.3907716367424104E-2]
["Ambulance Station","N/A",null,null,0.43019915999699998,0.43,0,0,0,0,0,0,0,0,0,0,0,1,0,0,0,0,0,0,0,0,0,9.9286469504614004E-5,2.3079187208386548E-4,2.3079187208386548E-4,0,0,0,0,0,0,0,0,0,0,0,0,9.9564424975299093E-6,2.3143798090166754E-5]
["Fire Station","N/A",null,null,0.44543231154599999,0.45,0,0,0,0,0,0,0,0,0,0,0,1,0,0,0,0,7.1765853720058406E-2,0.16111506026802261,0.216911406840751,0.48696828051808372,0.48696828051808372,0.37663327119590001,0.84554546545733678,0.84554546545733678,0,0,0,0,0,0,0,0,0,0,0.28552515737694401,0.64100683757302523,0.33046727109117702,0.74190233291382934]
["Goffs Park Depot","N/A",null,null,0.93892169452499996,0.94,0,0,0,0,0,0,0,0,0,0,0,1,0,0,0,0,0,0,1.1599999999999999E-2,1.2354597904853432E-2,1.2354597904853432E-2,1.9599999999999999E-2,2.0875010253028216E-2,2.0875010253028216E-2,0,0,0,0,0,0,0,0,0,0,1.2800000000000001E-2,1.3632659757079651E-2,1.44E-2,1.5336742226714606E-2]
["Forge Wood","N/A",null,null,172.79160841699999,172.79,5.7123138304901397,5.71,3.3045893859598358E-2,17.660564954045501,17.66,0.10220498871462469,6.9159094855026332E-2,23.369119560260899,23.37,0.13525088257422305,3.3045893859598358E-2,0.86474911742577698,0,5.6140308369225904,3.2490182181614889E-2,0,3.5415075392291202,2.0495830623223084E-2,6.14191745150986,3.5545229932043343E-2,3.5545229932043343E-2,19.698055838207399,0.11399891475441246,0.11399891475441246,0,0,3.2019225000171E-2,1.8530543985040428E-4,19.603930949466701,0.11345418408373344,20.315352657421499,0.11757140779889162,21.718757261080299,0.12569335663955492,8.2185836458386508,4.756355775104916E-2,10.5843887080401,6.1255224168622079E-2]
["St. Catherine's Hospice","N/A",null,null,0.72920696769500004,0.73,0,0,0,0,0,0,0,0,0,0,0,1,0,0,0,0,1.1599999999999999E-2,1.5907692210713822E-2,1.6E-2,2.1941644428570793E-2,2.1941644428570793E-2,3.82716700000688E-2,5.2483960926819347E-2,5.2483960926819347E-2,0,0,0,0,0,0,0,0,0,0,1.6400000000000001E-2,2.2490185539285064E-2,1.6400000000000001E-2,2.2490185539285064E-2]
["Rushetts Road Play Area","N/A",null,null,0.41633629409900003,0.42,0,0,0,0,0,0,0,0,0,0,0,1,0,0,0,0,0,0,0,0,0,2.7134586434968001E-2,6.5174684070458927E-2,6.5174684070458927E-2,0,0,0,0,0,0,0,0,0,0,0,0,1.6407991203917199E-2,3.9410427187055584E-2]
["Land S/O and R/O 24 Brighton Road","N/A",null,null,0.26917773196200001,0.27,0,0,0,0,0,0,0,0,0,0,0,1,0,0,0,0,0,0,0,0,0,5.9484349993359795E-4,2.2098540454957558E-3,2.2098540454957558E-3,0,0,0,0,0,0,0,0,0,0,0,0,0,0]
["Moka","N/A",null,null,0.37878637395499998,0.38,0,0,0,0,0,0,0,0,0,0,0,1,0,0,0,0,0,0,1.1273257556554601E-4,2.9761518184637416E-4,2.9761518184637416E-4,3.52389260922318E-3,9.3031134473750103E-3,9.3031134473750103E-3,0,0,0,0,0,0,0,0,0,0,1.1273257556554601E-4,2.9761518184637416E-4,2.9559089869655297E-4,7.8036307275316434E-4]
["Kilnmead Car Park","N/A",null,null,0.50389553831199996,0.5,0,0,0,0,0,0,0,0,0,0,0,1,0,0,0,0,0,0,0,0,0,0,0,0,0,0,0,0,0,0,0,0,0,0,0,0,0,0]
["The Old Vicarage, Church Walk (Cross Keys)","N/A",null,null,0.24982290799000001,0.25,0,0,0,0,0,0,0,0,0,0,0,1,0,0,0,0,0,0,2.4900439999438799E-2,9.9672364715390802E-2,9.9672364715390802E-2,0.119270422608695,0.47741987941902109,0.47741987941902109,0,0,0,0,0,0,0,0,0,0,5.2127549739390502E-2,0.20865800562003337,7.3119504187857898E-2,0.29268534569609905]
["Harwood. Blaxley and Forest Way, Balcombe Road","N/A",null,null,0.730935094999,0.73,0,0,0,0,0,0,0,0,0,0,0,1,0,0,0,0,0,0,2.71213610002803E-2,3.7105019564449025E-2,3.7105019564449025E-2,0.122905468859864,0.1681482661056686,0.1681482661056686,0,0,0,0,0,0,0,0,0,0,4.7594970500469298E-2,6.5115180302752346E-2,8.1292233668022199E-2,0.11121676086456543]
["96 – 102 North Road","N/A",null,null,0.360545775003,0.36,0,0,0,0,0,0,0,0,0,0,0,1,0,0,0,0,0,0,7.5110085998639003E-3,2.0832330096785638E-2,2.0832330096785638E-2,2.0975494949937799E-2,5.8177064894917349E-2,5.8177064894917349E-2,0,0,0,0,0,0,0,0,0,0,9.9166630998844506E-3,2.7504588286471909E-2,1.10541940998882E-2,3.0659613470151524E-2]
["46 – 48 Goffs Park Road","N/A",null,null,0.27830506499800001,0.28000000000000003,0,0,0,0,0,0,0,0,0,0,0,1,0,0,0,0,0,0,0,0,0,0,0,0,0,0,0,0,0,0,0,0,0,0,0,0,0,0]
["40 Springfield Road","N/A",null,null,6.1910376274599999E-2,0.06,0,0,0,0,0,0,0,0,0,0,0,1,0,0,0,0,0,0,0,0,0,0,0,0,0,0,0,0,0,0,0,0,0,0,0,0,0,0]
["34-38 & 40, the Broadway","N/A",null,null,0.114929567522,0.11,0,0,0,0,0,0,{"$f":"L66-I66","v":0},0,0,0,0,1,0,0,{"$f":"T66/E66","v":0},0,0,{"$f":"W66/E66","v":0},0,{"$f":"Y66/E66","v":0},{"$f":"Y66/E66","v":0},4.2590236000594403E-2,{"$f":"AB66/E66","v":0.37057684039785249},{"$f":"AB66/E66","v":0.37057684039785249},0,0,0,0,0,{"$f":"AI66/E66","v":0},0,{"$f":"AK66/E66","v":0},0,{"$f":"AM66/E66","v":0},0,{"$f":"AO66/E66","v":0},0,{"$f":"AQ66/E66","v":0}]
["48 the Broadway","N/A",null,null,3.10037223066E-2,{"$f":"ROUND(E67,2)","v":0.03},0,{"$f":"ROUND(G67,2)","v":0},{"$f":"H67/F67","v":0},0,{"$f":"ROUND(J67,2)","v":0},{"$f":"K67/F67","v":0},0,0,{"$f":"ROUND(N67,2)","v":0},{"$f":"O67/F67","v":0},{"$f":"P67-L67","v":0},{"$f":"1-P67","v":1},0,0,0,0,0,0,0,0,0,2.74338074985887E-3,8.8485528373954805E-2,8.8485528373954805E-2,0,{"$f":"AE67/E67","v":0},0,{"$f":"AG67/E67","v":0},0,0,0,0,0,0,0,0,4.0135050005260699E-4,1.2945235932756642E-2]
["Land R/O the George Hotel","N/A",null,null,0.30702771079899999,0.31,0,0,0,0,0,0,0,0,0,0,0,1,0,0,0,0,0,0,1.715825664999E-2,5.5885042445640659E-2,5.5885042445640659E-2,3.30820269000082E-2,0.10774931947971893,0.10774931947971893,0,0,0,0,0,0,0,0,0,0,1.9158256649990001E-2,6.2399112445365633E-2,2.5482026900008201E-2,8.2995853480764048E-2]
["Belgrave House, Station Way","N/A",null,null,0.15269119499600001,0.15,0,0,0,0,0,0,0,0,0,0,0,1,0,0,0,0,0,0,0,0,0,0,0,0,0,0,0,0,0,0,0,0,0,0,0,0,0,0]
["Pacific House, Hazelwick Avenue","N/A",null,null,0.191143621372,0.19,0,0,0,4.6887259920442303E-6,0,0,0,8.9723179219677197E-3,0.01,5.2631578947368418E-2,5.2631578947368418E-2,0.94736842105263164,0,6.7717658614246307E-2,0.35427631917915542,0,1.1585200009867501E-3,6.0609922144985468E-3,1.5327000003308099E-3,8.0185778072494451E-3,8.0185778072494451E-3,2.4276784748807002E-2,0.12700808206181255,0.12700808206181255,0,0,0,0,1.8113820144273899E-4,9.4765496301972508E-4,1.15091765287556E-3,6.0212192518612302E-3,4.2026685029974203E-3,2.1986967039921611E-2,6.6569144992578199E-3,3.4826767702084406E-2,1.13194117484007E-2,5.9219406157274175E-2]
["Energy House, Hazelwick Avenue","N/A",null,null,0.43286810526899999,0.43,5.2703116551479703E-4,0,0,0.10902817596716299,0.11,0.2558139534883721,0.2558139534883721,0.17158781335322201,0.17,0.39534883720930236,0.13953488372093026,0.60465116279069764,0,0.405313666289219,0.93634449236527217,0,0,0,1.2500486257746899E-4,2.8878279793746048E-4,2.8878279793746048E-4,9.9762490246942698E-2,0.23046856313182662,0.23046856313182662,0,0,0,0,0.12277166043639801,0.28362371572768852,0.13948890574255199,0.32224343638316461,0.14724944772285101,0.34017162717808658,1.1050378858999101E-2,2.5528281535392848E-2,2.9547149692960201E-2,6.8259013157364712E-2]
["Land at Gales Place and West Way","N/A",null,null,0.77749154107100005,0.78,0,0,0,0,0,0,0,0,0,0,0,1,0,0,0,0,0,0,1.5208999998867501E-4,1.9561627613230359E-4,1.9561627613230359E-4,3.4288055536203003E-2,4.4100872774732659E-2,4.4100872774732659E-2,0,0,0,0,0,0,0,0,0,0,1.5088457249605501E-2,1.9406587020639538E-2,2.0250747249030199E-2,2.604626054340688E-2]
["Furnace Green Community Centre","N/A",null,null,0.25659350000800002,0.26,0,0,0,0,0,0,0,0,0,0,0,1,0,0,0,0,0,0,0,0,0,4.81451999992132E-3,1.8763218864746044E-2,1.8763218864746044E-2,0,0,0,0,0,0,0,0,0,0,2.2145227944528801E-5,8.630471131902547E-5,2.2145227944528801E-5,8.630471131902547E-5]
["Land at Peterborough Road","N/A",null,null,0.26097370576599999,0.26,0,0,0,0,0,0,0,0,0,0,0,1,0,0,0,0,0,0,0,0,0,0,0,0,0,0,0,0,0,0,0,0,0,0,0,0,0,0]
["Former Age Concern Building, Shackleton Road","N/A",null,null,0.147978603559,0.15,0,0,0,3.0735779764695802E-3,0,0,0,8.6076357975610807E-2,0.09,0.6,0.6,0.4,0,0,0,0,5.1592921230233998E-2,0.34865122382144642,9.3622580632935395E-2,0.63267647066021593,0.63267647066021593,0.112141909730173,0.75782516548388235,0.75782516548388235,0,0,0,0,3.6002763121649801E-2,0.24329708657708257,5.39817041789546E-2,0.36479398291815718,8.0063848778613098E-2,0.54105017112620024,0.10255155774767,0.69301612044731886,0.109726989252458,0.74150577592597133]

{"sheet":"Sites","index":11,"n_rows":75,"n_cols":3,"rows_kept":75,"cut":false,"hidden":true,"merged":[[1,0,71,0],[72,0,75,0],[6,5,7,5]]}
[null,null,"SHLAA ID"]
["Crawley "," Gatwick Airport"]
[null," Town Centre"]
[null," Area Action Plan"]
[null," Area Action Plan"]
[null," Land at Jersey Farm (Site A)"]
[null," Space Gatwick, Faraday Road"]
[null," Southways, London Road"]
[null," Gatwick Park (Site G1), Gatwick Road"]
[null," Gatwick Park (Site G2), BCL House, Gatwick Road\r\n"]
[null," Manor Royal"]
[null,"2 - 12 Friston Walk"]
[null,"Parkside Car Park"]
[null,"Crawley College Car Park"]
[null,"Zurich House"]
[null,"138 - 144 London Road"]
[null,"8 - 9 Queens Square"]
[null,"15 - 29 The Broadway"]
[null,"Former EDF Building"]
[null,"County Buildings"]
[null,"Shaw House"]
[null,"Oak Tree Filling Station, 114 London Road"]
[null,"Oakhurst Grange"]
[null,"Rear Gardens, Snell Hatch/Ifield Road"]
[null,"Sutherland House (Eastern Section)"]
[null,"Land to the southeast of Heathy Farm"]
[null,"21, 25, 27 & 29 Tushmore Lane"]
[null,"Brittingham House"]
[null,"Crawley College"]
[null,"Telford Place"]
[null,"Former TSB Site"]
[null,"7 - 13 The Broadway & 1 - 3 Queens Square"]
[null,"Breezehurst Drive Playing Fields"]
[null,"Land to the southeast of Heathy Farm"]
[null,"Land Adjacent to Desmond Anderson"]
[null,"Henty Close"]
[null,"257 - 259 Ifield Road"]
[null,"Tinsley Lane Playing Fields"]
[null,"Stoner House"]
[null,"1 - 7 Pegler Way"]
[null,"Longley Building"]
[null,"Land North of the Boulevard"]
[null,"Crawley Station and Car Parks"]
[null,"Ocean House"]
[null,"Land East of Balcombe Road/Street Hill"]
[null,"Rear Gardens, Dingle Close/Ifield Road"]
[null,"The Imperial"]
[null,"9 Woolborough Road"]
[null,"Ambulance Station"]
[null,"Fire Station"]
[null,"Goffs Park Depot"]
[null,"Forge Wood"]
[null,"St. Catherine's Hospice"]
[null,"Rushetts Road Play Area"]
[null,"Land S/O and R/O 24 Brighton Road"]
[null,"Moka"]
[null,"Kilnmead Car Park"]
[null,"The Old Vicarage, Church Walk (Cross Keys)"]
[null,"Harwood. Blaxley and Forest Way, Balcombe Road"]
[null,"96 – 102 North Road"]
[null,"46 – 48 Goffs Park Road"]
[null,"40 Springfield Road"]
[null,"34-38 & 40, the Broadway"]
[null,"48 the Broadway"]
[null,"Land R/O the George Hotel"]
[null,"Belgrave House, Station Way"]
[null,"Pacific House, Hazelwick Avenue"]
[null,"Energy House, Hazelwick Avenue"]
[null,"Land at Gales Place and West Way"]
[null,"Furnace Green Community Centre"]
[null,"Land at Peterborough Road"]
[null,"Former Age Concern Building, Shackleton Road"]
["Horsham "," Land West of Bewbush","SA289"]
[null,"Land West of Kilnwood Vale","SA291"]
[null,"Land off Rusper Road, Ifield","SA468"]